{"text_format":"1","workbook":"xlsx","n_sheets":7,"sheets":["PLAN Rekapitulacija","Plan unos i pregled","Cenovnik 2","Cenovnik","Radovi po RACUNU","liste","UPUTSTVO"],"not_rendered":{"charts":0,"images":1,"macros":1,"external_links":0,"defined_names":27,"comments":1,"pivot_tables":0},"unopened":[],"bounds":{"document_bytes":16777216,"sheet_cells":100000,"rows_first":2000,"rows_last":500,"rows_between":2000,"halvings":0,"cell_chars":16384,"cell_head_chars":4096},"cells_cut":0,"cells_raw":0,"read":"whole","date_system":"1900"}

{"sheet":"PLAN Rekapitulacija","index":0,"n_rows":404,"n_cols":16,"rows_kept":404,"cut":false,"hidden":false,"merged":[[2,9,2,10],[2,1,2,2],[2,6,2,7]]}
["штампа","ПРИКАЖИ РАДОВЕ ОДОБРЕНЕ ОД СТРАНЕ НАДЗОРНОГ ОГРАНА:",null,null,null,null,null,null,"ДА"]
["штампа"]
["штампа","АВГУСТ",null,"2025.","За период","од",{"$f":"VLOOKUP($B$3,MeseciDaniStartKraj,2,FALSE)&$D$3","v":"01.08.2025."},null,"до",{"$f":"VLOOKUP($B$3,MeseciDaniStartKraj,3,FALSE)&$D$3","v":"31.08.2025."}]
["штампа","Број позиције","ОПИС ПОЗИЦИЈЕ РАДОВА","Једин. мере","Јединична цена","Општински путеви","Улице","Јавне зелене површине","Фудбалски терени","Количина","Вредност",null,null,"formule gađaju linkove naniže",null,"ćelije za premeštanje"]
["штампа",1,2,3,4,5,6,7,8,"9 = Σ(5:8)","10 = 4 x 9"]
[{"$f":"IF(OR(J8:K8),\"штампа\",\"не\")","v":"не"},"1","Послови јавних овлашћења из заштите путева",null,null,null,null,null,null,null,null,null,null,{"$f":"$I$1","v":"ДА"}]
[{"$f":"IF(OR(J7:K7),\"штампа\",\"не\")","v":"не"},"1.1","Послови на утврђивању штетних радњи на трупу пута и узурпацији земљишта у заштитном појасу пута, идентификацији прекршиоца, вођењу управног поступка и евиденције. \nЦена обухвата: рад грађевинског инжењера и путничког возила и то 70% у вожњи и 30% по цени за чекање.","час",2094.41,{"$f":"SUMIFS('Plan unos i pregled'!$I$7:$I$788,'Plan unos i pregled'!$B$7:$B$788,'PLAN Rekapitulacija'!$N$7,'Plan unos i pregled'!$M$7:$M$788,'PLAN Rekapitulacija'!$N$6, 'Plan unos i pregled'!$E$7:$E$788,'PLAN Rekapitulacija'!$B7, 'Plan unos i pregled'!$C$7:$C$788,'PLAN Rekapitulacija'!F$4, 'Plan unos i pregled'!$A$7:$A$788,$D$3)","v":0},{"$f":"SUMIFS('Plan unos i pregled'!$I$7:$I$788,'Plan unos i pregled'!$B$7:$B$788,'PLAN Rekapitulacija'!$N$7,'Plan unos i pregled'!$M$7:$M$788,'PLAN Rekapitulacija'!$N$6, 'Plan unos i pregled'!$E$7:$E$788,'PLAN Rekapitulacija'!$B7, 'Plan unos i pregled'!$C$7:$C$788,'PLAN Rekapitulacija'!G$4, 'Plan unos i pregled'!$A$7:$A$788,$D$3)","v":0},{"$f":"SUMIFS('Plan unos i pregled'!$I$7:$I$788,'Plan unos i pregled'!$B$7:$B$788,'PLAN Rekapitulacija'!$N$7,'Plan unos i pregled'!$M$7:$M$788,'PLAN Rekapitulacija'!$N$6, 'Plan unos i pregled'!$E$7:$E$788,'PLAN Rekapitulacija'!$B7, 'Plan unos i pregled'!$C$7:$C$788,'PLAN Rekapitulacija'!H$4, 'Plan unos i pregled'!$A$7:$A$788,$D$3)","v":0},{"$f":"SUMIFS('Plan unos i pregled'!$I$7:$I$788,'Plan unos i pregled'!$B$7:$B$788,'PLAN Rekapitulacija'!$N$7,'Plan unos i pregled'!$M$7:$M$788,'PLAN Rekapitulacija'!$N$6, 'Plan unos i pregled'!$E$7:$E$788,'PLAN Rekapitulacija'!$B7, 'Plan unos i pregled'!$C$7:$C$788,'PLAN Rekapitulacija'!I$4, 'Plan unos i pregled'!$A$7:$A$788,$D$3)","v":0},{"$f":"SUM(F7:I7)","v":0},{"$f":"ROUND(E7*J7,2)","v":0},null,null,{"$f":"$B$3","v":"АВГУСТ"}]
[{"$f":"IF(OR(J8:K8),\"штампа\",\"не\")","v":"не"},null,"УКУПНО:",null,null,{"$f":"SUMPRODUCT($E$7:$E$7,F7:F7)","v":0},{"$f":"SUMPRODUCT($E$7:$E$7,G7:G7)","v":0},{"$f":"SUMPRODUCT($E$7:$E$7,H7:H7)","v":0},{"$f":"SUMPRODUCT($E$7:$E$7,I7:I7)","v":0},null,{"$f":"SUM(K6:K7)","v":0}]
[{"$f":"IF(OR(J17:K17),\"штампа\",\"не\")","v":"не"},"2","Преглед јавних путева"]
[{"$f":"IF(OR(J10:K10),\"штампа\",\"не\")","v":"не"},"2.1","Редовни прегледи јавних путева","km",83.78,{"$f":"SUMIFS('Plan unos i pregled'!$I$7:$I$788,'Plan unos i pregled'!$B$7:$B$788,'PLAN Rekapitulacija'!$N$7,'Plan unos i pregled'!$M$7:$M$788,'PLAN Rekapitulacija'!$N$6, 'Plan unos i pregled'!$E$7:$E$788,'PLAN Rekapitulacija'!$B10, 'Plan unos i pregled'!$C$7:$C$788,'PLAN Rekapitulacija'!F$4, 'Plan unos i pregled'!$A$7:$A$788,$D$3)","v":0},{"$f":"SUMIFS('Plan unos i pregled'!$I$7:$I$788,'Plan unos i pregled'!$B$7:$B$788,'PLAN Rekapitulacija'!$N$7,'Plan unos i pregled'!$M$7:$M$788,'PLAN Rekapitulacija'!$N$6, 'Plan unos i pregled'!$E$7:$E$788,'PLAN Rekapitulacija'!$B10, 'Plan unos i pregled'!$C$7:$C$788,'PLAN Rekapitulacija'!G$4, 'Plan unos i pregled'!$A$7:$A$788,$D$3)","v":0},{"$f":"SUMIFS('Plan unos i pregled'!$I$7:$I$788,'Plan unos i pregled'!$B$7:$B$788,'PLAN Rekapitulacija'!$N$7,'Plan unos i pregled'!$M$7:$M$788,'PLAN Rekapitulacija'!$N$6, 'Plan unos i pregled'!$E$7:$E$788,'PLAN Rekapitulacija'!$B10, 'Plan unos i pregled'!$C$7:$C$788,'PLAN Rekapitulacija'!H$4, 'Plan unos i pregled'!$A$7:$A$788,$D$3)","v":0},{"$f":"SUMIFS('Plan unos i pregled'!$I$7:$I$788,'Plan unos i pregled'!$B$7:$B$788,'PLAN Rekapitulacija'!$N$7,'Plan unos i pregled'!$M$7:$M$788,'PLAN Rekapitulacija'!$N$6, 'Plan unos i pregled'!$E$7:$E$788,'PLAN Rekapitulacija'!$B10, 'Plan unos i pregled'!$C$7:$C$788,'PLAN Rekapitulacija'!I$4, 'Plan unos i pregled'!$A$7:$A$788,$D$3)","v":0},{"$f":"SUM(F10:I10)","v":0},{"$f":"ROUND(E10*J10,2)","v":0}]
["не","2.2","Сезонски прегледи јавних путева, два пута годишње","km",363.6,{"$f":"SUMIFS('Plan unos i pregled'!$I$7:$I$788,'Plan unos i pregled'!$B$7:$B$788,'PLAN Rekapitulacija'!$N$7,'Plan unos i pregled'!$M$7:$M$788,'PLAN Rekapitulacija'!$N$6, 'Plan unos i pregled'!$E$7:$E$788,'PLAN Rekapitulacija'!$B11, 'Plan unos i pregled'!$C$7:$C$788,'PLAN Rekapitulacija'!F$4, 'Plan unos i pregled'!$A$7:$A$788,$D$3)","v":0},{"$f":"SUMIFS('Plan unos i pregled'!$I$7:$I$788,'Plan unos i pregled'!$B$7:$B$788,'PLAN Rekapitulacija'!$N$7,'Plan unos i pregled'!$M$7:$M$788,'PLAN Rekapitulacija'!$N$6, 'Plan unos i pregled'!$E$7:$E$788,'PLAN Rekapitulacija'!$B11, 'Plan unos i pregled'!$C$7:$C$788,'PLAN Rekapitulacija'!G$4, 'Plan unos i pregled'!$A$7:$A$788,$D$3)","v":0},{"$f":"SUMIFS('Plan unos i pregled'!$I$7:$I$788,'Plan unos i pregled'!$B$7:$B$788,'PLAN Rekapitulacija'!$N$7,'Plan unos i pregled'!$M$7:$M$788,'PLAN Rekapitulacija'!$N$6, 'Plan unos i pregled'!$E$7:$E$788,'PLAN Rekapitulacija'!$B11, 'Plan unos i pregled'!$C$7:$C$788,'PLAN Rekapitulacija'!H$4, 'Plan unos i pregled'!$A$7:$A$788,$D$3)","v":0},{"$f":"SUMIFS('Plan unos i pregled'!$I$7:$I$788,'Plan unos i pregled'!$B$7:$B$788,'PLAN Rekapitulacija'!$N$7,'Plan unos i pregled'!$M$7:$M$788,'PLAN Rekapitulacija'!$N$6, 'Plan unos i pregled'!$E$7:$E$788,'PLAN Rekapitulacija'!$B11, 'Plan unos i pregled'!$C$7:$C$788,'PLAN Rekapitulacija'!I$4, 'Plan unos i pregled'!$A$7:$A$788,$D$3)","v":0},0,0]
[{"$f":"IF(OR(J13:K16),\"штампа\",\"не\")","v":"не"},"2.3","Викенд служба - дежурство суботом, недељом и празником (искључује се период зимске службе). Екипу сачињавају: техничар и два радника путара са полутеретним камионом-путарцем."]
[{"$f":"IF(OR(J13:K13),\"штампа\",\"не\")","v":"не"},"2.3.1","Техничар","час",694.81,{"$f":"SUMIFS('Plan unos i pregled'!$I$7:$I$788,'Plan unos i pregled'!$B$7:$B$788,'PLAN Rekapitulacija'!$N$7,'Plan unos i pregled'!$M$7:$M$788,'PLAN Rekapitulacija'!$N$6, 'Plan unos i pregled'!$E$7:$E$788,'PLAN Rekapitulacija'!$B13, 'Plan unos i pregled'!$C$7:$C$788,'PLAN Rekapitulacija'!F$4, 'Plan unos i pregled'!$A$7:$A$788,$D$3)","v":0},{"$f":"SUMIFS('Plan unos i pregled'!$I$7:$I$788,'Plan unos i pregled'!$B$7:$B$788,'PLAN Rekapitulacija'!$N$7,'Plan unos i pregled'!$M$7:$M$788,'PLAN Rekapitulacija'!$N$6, 'Plan unos i pregled'!$E$7:$E$788,'PLAN Rekapitulacija'!$B13, 'Plan unos i pregled'!$C$7:$C$788,'PLAN Rekapitulacija'!G$4, 'Plan unos i pregled'!$A$7:$A$788,$D$3)","v":0},{"$f":"SUMIFS('Plan unos i pregled'!$I$7:$I$788,'Plan unos i pregled'!$B$7:$B$788,'PLAN Rekapitulacija'!$N$7,'Plan unos i pregled'!$M$7:$M$788,'PLAN Rekapitulacija'!$N$6, 'Plan unos i pregled'!$E$7:$E$788,'PLAN Rekapitulacija'!$B13, 'Plan unos i pregled'!$C$7:$C$788,'PLAN Rekapitulacija'!H$4, 'Plan unos i pregled'!$A$7:$A$788,$D$3)","v":0},{"$f":"SUMIFS('Plan unos i pregled'!$I$7:$I$788,'Plan unos i pregled'!$B$7:$B$788,'PLAN Rekapitulacija'!$N$7,'Plan unos i pregled'!$M$7:$M$788,'PLAN Rekapitulacija'!$N$6, 'Plan unos i pregled'!$E$7:$E$788,'PLAN Rekapitulacija'!$B13, 'Plan unos i pregled'!$C$7:$C$788,'PLAN Rekapitulacija'!I$4, 'Plan unos i pregled'!$A$7:$A$788,$D$3)","v":0},{"$f":"SUM(F13:I13)","v":0},{"$f":"ROUND(E13*J13,2)","v":0}]
["не","2.3.2","Радник путар (за једног радника)","час",518.27,{"$f":"SUMIFS('Plan unos i pregled'!$I$7:$I$788,'Plan unos i pregled'!$B$7:$B$788,'PLAN Rekapitulacija'!$N$7,'Plan unos i pregled'!$M$7:$M$788,'PLAN Rekapitulacija'!$N$6, 'Plan unos i pregled'!$E$7:$E$788,'PLAN Rekapitulacija'!$B14, 'Plan unos i pregled'!$C$7:$C$788,'PLAN Rekapitulacija'!F$4, 'Plan unos i pregled'!$A$7:$A$788,$D$3)","v":0},{"$f":"SUMIFS('Plan unos i pregled'!$I$7:$I$788,'Plan unos i pregled'!$B$7:$B$788,'PLAN Rekapitulacija'!$N$7,'Plan unos i pregled'!$M$7:$M$788,'PLAN Rekapitulacija'!$N$6, 'Plan unos i pregled'!$E$7:$E$788,'PLAN Rekapitulacija'!$B14, 'Plan unos i pregled'!$C$7:$C$788,'PLAN Rekapitulacija'!G$4, 'Plan unos i pregled'!$A$7:$A$788,$D$3)","v":0},{"$f":"SUMIFS('Plan unos i pregled'!$I$7:$I$788,'Plan unos i pregled'!$B$7:$B$788,'PLAN Rekapitulacija'!$N$7,'Plan unos i pregled'!$M$7:$M$788,'PLAN Rekapitulacija'!$N$6, 'Plan unos i pregled'!$E$7:$E$788,'PLAN Rekapitulacija'!$B14, 'Plan unos i pregled'!$C$7:$C$788,'PLAN Rekapitulacija'!H$4, 'Plan unos i pregled'!$A$7:$A$788,$D$3)","v":0},{"$f":"SUMIFS('Plan unos i pregled'!$I$7:$I$788,'Plan unos i pregled'!$B$7:$B$788,'PLAN Rekapitulacija'!$N$7,'Plan unos i pregled'!$M$7:$M$788,'PLAN Rekapitulacija'!$N$6, 'Plan unos i pregled'!$E$7:$E$788,'PLAN Rekapitulacija'!$B14, 'Plan unos i pregled'!$C$7:$C$788,'PLAN Rekapitulacija'!I$4, 'Plan unos i pregled'!$A$7:$A$788,$D$3)","v":0},0,0]
["не","2.3.3","Камион путарац - ефективан рад","час",1692.88,{"$f":"SUMIFS('Plan unos i pregled'!$I$7:$I$788,'Plan unos i pregled'!$B$7:$B$788,'PLAN Rekapitulacija'!$N$7,'Plan unos i pregled'!$M$7:$M$788,'PLAN Rekapitulacija'!$N$6, 'Plan unos i pregled'!$E$7:$E$788,'PLAN Rekapitulacija'!$B15, 'Plan unos i pregled'!$C$7:$C$788,'PLAN Rekapitulacija'!F$4, 'Plan unos i pregled'!$A$7:$A$788,$D$3)","v":0},{"$f":"SUMIFS('Plan unos i pregled'!$I$7:$I$788,'Plan unos i pregled'!$B$7:$B$788,'PLAN Rekapitulacija'!$N$7,'Plan unos i pregled'!$M$7:$M$788,'PLAN Rekapitulacija'!$N$6, 'Plan unos i pregled'!$E$7:$E$788,'PLAN Rekapitulacija'!$B15, 'Plan unos i pregled'!$C$7:$C$788,'PLAN Rekapitulacija'!G$4, 'Plan unos i pregled'!$A$7:$A$788,$D$3)","v":0},{"$f":"SUMIFS('Plan unos i pregled'!$I$7:$I$788,'Plan unos i pregled'!$B$7:$B$788,'PLAN Rekapitulacija'!$N$7,'Plan unos i pregled'!$M$7:$M$788,'PLAN Rekapitulacija'!$N$6, 'Plan unos i pregled'!$E$7:$E$788,'PLAN Rekapitulacija'!$B15, 'Plan unos i pregled'!$C$7:$C$788,'PLAN Rekapitulacija'!H$4, 'Plan unos i pregled'!$A$7:$A$788,$D$3)","v":0},{"$f":"SUMIFS('Plan unos i pregled'!$I$7:$I$788,'Plan unos i pregled'!$B$7:$B$788,'PLAN Rekapitulacija'!$N$7,'Plan unos i pregled'!$M$7:$M$788,'PLAN Rekapitulacija'!$N$6, 'Plan unos i pregled'!$E$7:$E$788,'PLAN Rekapitulacija'!$B15, 'Plan unos i pregled'!$C$7:$C$788,'PLAN Rekapitulacija'!I$4, 'Plan unos i pregled'!$A$7:$A$788,$D$3)","v":0},0,0]
["не","2.3.4","Камион путарац - дежурство","час",540,{"$f":"SUMIFS('Plan unos i pregled'!$I$7:$I$788,'Plan unos i pregled'!$B$7:$B$788,'PLAN Rekapitulacija'!$N$7,'Plan unos i pregled'!$M$7:$M$788,'PLAN Rekapitulacija'!$N$6, 'Plan unos i pregled'!$E$7:$E$788,'PLAN Rekapitulacija'!$B16, 'Plan unos i pregled'!$C$7:$C$788,'PLAN Rekapitulacija'!F$4, 'Plan unos i pregled'!$A$7:$A$788,$D$3)","v":0},{"$f":"SUMIFS('Plan unos i pregled'!$I$7:$I$788,'Plan unos i pregled'!$B$7:$B$788,'PLAN Rekapitulacija'!$N$7,'Plan unos i pregled'!$M$7:$M$788,'PLAN Rekapitulacija'!$N$6, 'Plan unos i pregled'!$E$7:$E$788,'PLAN Rekapitulacija'!$B16, 'Plan unos i pregled'!$C$7:$C$788,'PLAN Rekapitulacija'!G$4, 'Plan unos i pregled'!$A$7:$A$788,$D$3)","v":0},{"$f":"SUMIFS('Plan unos i pregled'!$I$7:$I$788,'Plan unos i pregled'!$B$7:$B$788,'PLAN Rekapitulacija'!$N$7,'Plan unos i pregled'!$M$7:$M$788,'PLAN Rekapitulacija'!$N$6, 'Plan unos i pregled'!$E$7:$E$788,'PLAN Rekapitulacija'!$B16, 'Plan unos i pregled'!$C$7:$C$788,'PLAN Rekapitulacija'!H$4, 'Plan unos i pregled'!$A$7:$A$788,$D$3)","v":0},{"$f":"SUMIFS('Plan unos i pregled'!$I$7:$I$788,'Plan unos i pregled'!$B$7:$B$788,'PLAN Rekapitulacija'!$N$7,'Plan unos i pregled'!$M$7:$M$788,'PLAN Rekapitulacija'!$N$6, 'Plan unos i pregled'!$E$7:$E$788,'PLAN Rekapitulacija'!$B16, 'Plan unos i pregled'!$C$7:$C$788,'PLAN Rekapitulacija'!I$4, 'Plan unos i pregled'!$A$7:$A$788,$D$3)","v":0},0,0]
["не",null,"УКУПНО:",null,null,{"$f":"SUMPRODUCT($E$10:$E$16,F10:F16)","v":0},{"$f":"SUMPRODUCT($E$10:$E$16,G10:G16)","v":0},{"$f":"SUMPRODUCT($E$10:$E$16,H10:H16)","v":0},{"$f":"SUMPRODUCT($E$10:$E$16,I10:I16)","v":0},null,{"$f":"SUM(K9:K16)","v":0}]
[{"$f":"IF(OR(J30:K30),\"штампа\",\"не\")","v":"не"},3,"Одржавање саобраћајне сигнализације"]
[{"$f":"IF(OR(J19:K21),\"штампа\",\"не\")","v":"не"},"3.1","Постављање саобраћајног знака на једном стубу и бетонском темељу МБ 20. Обрачун  по комаду комплет изведене позиције са ископом земље за темељ"]
["не","3.1.1","Само рад без материјала","ком",881,{"$f":"SUMIFS('Plan unos i pregled'!$I$7:$I$788,'Plan unos i pregled'!$B$7:$B$788,'PLAN Rekapitulacija'!$N$7,'Plan unos i pregled'!$M$7:$M$788,'PLAN Rekapitulacija'!$N$6, 'Plan unos i pregled'!$E$7:$E$788,'PLAN Rekapitulacija'!$B20, 'Plan unos i pregled'!$C$7:$C$788,'PLAN Rekapitulacija'!F$4, 'Plan unos i pregled'!$A$7:$A$788,$D$3)","v":0},{"$f":"SUMIFS('Plan unos i pregled'!$I$7:$I$788,'Plan unos i pregled'!$B$7:$B$788,'PLAN Rekapitulacija'!$N$7,'Plan unos i pregled'!$M$7:$M$788,'PLAN Rekapitulacija'!$N$6, 'Plan unos i pregled'!$E$7:$E$788,'PLAN Rekapitulacija'!$B20, 'Plan unos i pregled'!$C$7:$C$788,'PLAN Rekapitulacija'!G$4, 'Plan unos i pregled'!$A$7:$A$788,$D$3)","v":0},{"$f":"SUMIFS('Plan unos i pregled'!$I$7:$I$788,'Plan unos i pregled'!$B$7:$B$788,'PLAN Rekapitulacija'!$N$7,'Plan unos i pregled'!$M$7:$M$788,'PLAN Rekapitulacija'!$N$6, 'Plan unos i pregled'!$E$7:$E$788,'PLAN Rekapitulacija'!$B20, 'Plan unos i pregled'!$C$7:$C$788,'PLAN Rekapitulacija'!H$4, 'Plan unos i pregled'!$A$7:$A$788,$D$3)","v":0},{"$f":"SUMIFS('Plan unos i pregled'!$I$7:$I$788,'Plan unos i pregled'!$B$7:$B$788,'PLAN Rekapitulacija'!$N$7,'Plan unos i pregled'!$M$7:$M$788,'PLAN Rekapitulacija'!$N$6, 'Plan unos i pregled'!$E$7:$E$788,'PLAN Rekapitulacija'!$B20, 'Plan unos i pregled'!$C$7:$C$788,'PLAN Rekapitulacija'!I$4, 'Plan unos i pregled'!$A$7:$A$788,$D$3)","v":0},{"$f":"SUM(F20:I20)","v":0},{"$f":"ROUND(E20*J20,2)","v":0}]
["не","3.1.2","Рад са материјалом, без табле саобраћајног знака","ком",3117,{"$f":"SUMIFS('Plan unos i pregled'!$I$7:$I$788,'Plan unos i pregled'!$B$7:$B$788,'PLAN Rekapitulacija'!$N$7,'Plan unos i pregled'!$M$7:$M$788,'PLAN Rekapitulacija'!$N$6, 'Plan unos i pregled'!$E$7:$E$788,'PLAN Rekapitulacija'!$B21, 'Plan unos i pregled'!$C$7:$C$788,'PLAN Rekapitulacija'!F$4, 'Plan unos i pregled'!$A$7:$A$788,$D$3)","v":0},{"$f":"SUMIFS('Plan unos i pregled'!$I$7:$I$788,'Plan unos i pregled'!$B$7:$B$788,'PLAN Rekapitulacija'!$N$7,'Plan unos i pregled'!$M$7:$M$788,'PLAN Rekapitulacija'!$N$6, 'Plan unos i pregled'!$E$7:$E$788,'PLAN Rekapitulacija'!$B21, 'Plan unos i pregled'!$C$7:$C$788,'PLAN Rekapitulacija'!G$4, 'Plan unos i pregled'!$A$7:$A$788,$D$3)","v":0},{"$f":"SUMIFS('Plan unos i pregled'!$I$7:$I$788,'Plan unos i pregled'!$B$7:$B$788,'PLAN Rekapitulacija'!$N$7,'Plan unos i pregled'!$M$7:$M$788,'PLAN Rekapitulacija'!$N$6, 'Plan unos i pregled'!$E$7:$E$788,'PLAN Rekapitulacija'!$B21, 'Plan unos i pregled'!$C$7:$C$788,'PLAN Rekapitulacija'!H$4, 'Plan unos i pregled'!$A$7:$A$788,$D$3)","v":0},{"$f":"SUMIFS('Plan unos i pregled'!$I$7:$I$788,'Plan unos i pregled'!$B$7:$B$788,'PLAN Rekapitulacija'!$N$7,'Plan unos i pregled'!$M$7:$M$788,'PLAN Rekapitulacija'!$N$6, 'Plan unos i pregled'!$E$7:$E$788,'PLAN Rekapitulacija'!$B21, 'Plan unos i pregled'!$C$7:$C$788,'PLAN Rekapitulacija'!I$4, 'Plan unos i pregled'!$A$7:$A$788,$D$3)","v":0},0,0]
["не","3.2","Демонтажа постојећег и поновна монтажа табле саобраћајног знака на постојећем стубу и темељу. Обрачун по комаду демонтираног и поново монтираног знака само рад без материјала","ком",730,{"$f":"SUMIFS('Plan unos i pregled'!$I$7:$I$788,'Plan unos i pregled'!$B$7:$B$788,'PLAN Rekapitulacija'!$N$7,'Plan unos i pregled'!$M$7:$M$788,'PLAN Rekapitulacija'!$N$6, 'Plan unos i pregled'!$E$7:$E$788,'PLAN Rekapitulacija'!$B22, 'Plan unos i pregled'!$C$7:$C$788,'PLAN Rekapitulacija'!F$4, 'Plan unos i pregled'!$A$7:$A$788,$D$3)","v":0},{"$f":"SUMIFS('Plan unos i pregled'!$I$7:$I$788,'Plan unos i pregled'!$B$7:$B$788,'PLAN Rekapitulacija'!$N$7,'Plan unos i pregled'!$M$7:$M$788,'PLAN Rekapitulacija'!$N$6, 'Plan unos i pregled'!$E$7:$E$788,'PLAN Rekapitulacija'!$B22, 'Plan unos i pregled'!$C$7:$C$788,'PLAN Rekapitulacija'!G$4, 'Plan unos i pregled'!$A$7:$A$788,$D$3)","v":0},{"$f":"SUMIFS('Plan unos i pregled'!$I$7:$I$788,'Plan unos i pregled'!$B$7:$B$788,'PLAN Rekapitulacija'!$N$7,'Plan unos i pregled'!$M$7:$M$788,'PLAN Rekapitulacija'!$N$6, 'Plan unos i pregled'!$E$7:$E$788,'PLAN Rekapitulacija'!$B22, 'Plan unos i pregled'!$C$7:$C$788,'PLAN Rekapitulacija'!H$4, 'Plan unos i pregled'!$A$7:$A$788,$D$3)","v":0},{"$f":"SUMIFS('Plan unos i pregled'!$I$7:$I$788,'Plan unos i pregled'!$B$7:$B$788,'PLAN Rekapitulacija'!$N$7,'Plan unos i pregled'!$M$7:$M$788,'PLAN Rekapitulacija'!$N$6, 'Plan unos i pregled'!$E$7:$E$788,'PLAN Rekapitulacija'!$B22, 'Plan unos i pregled'!$C$7:$C$788,'PLAN Rekapitulacija'!I$4, 'Plan unos i pregled'!$A$7:$A$788,$D$3)","v":0},0,0]
[{"$f":"IF(OR(J23:K25),\"штампа\",\"не\")","v":"не"},"3.3","Монтажа табле саобраћајног знака са једним стубом. Обрачун по комаду намонтиране табле на постојећем стубу комплет са спојним материјалом."]
["не","3.3.1","Само мотажа, за више од 10 комада","ком",475,{"$f":"SUMIFS('Plan unos i pregled'!$I$7:$I$788,'Plan unos i pregled'!$B$7:$B$788,'PLAN Rekapitulacija'!$N$7,'Plan unos i pregled'!$M$7:$M$788,'PLAN Rekapitulacija'!$N$6, 'Plan unos i pregled'!$E$7:$E$788,'PLAN Rekapitulacija'!$B24, 'Plan unos i pregled'!$C$7:$C$788,'PLAN Rekapitulacija'!F$4, 'Plan unos i pregled'!$A$7:$A$788,$D$3)","v":0},{"$f":"SUMIFS('Plan unos i pregled'!$I$7:$I$788,'Plan unos i pregled'!$B$7:$B$788,'PLAN Rekapitulacija'!$N$7,'Plan unos i pregled'!$M$7:$M$788,'PLAN Rekapitulacija'!$N$6, 'Plan unos i pregled'!$E$7:$E$788,'PLAN Rekapitulacija'!$B24, 'Plan unos i pregled'!$C$7:$C$788,'PLAN Rekapitulacija'!G$4, 'Plan unos i pregled'!$A$7:$A$788,$D$3)","v":0},{"$f":"SUMIFS('Plan unos i pregled'!$I$7:$I$788,'Plan unos i pregled'!$B$7:$B$788,'PLAN Rekapitulacija'!$N$7,'Plan unos i pregled'!$M$7:$M$788,'PLAN Rekapitulacija'!$N$6, 'Plan unos i pregled'!$E$7:$E$788,'PLAN Rekapitulacija'!$B24, 'Plan unos i pregled'!$C$7:$C$788,'PLAN Rekapitulacija'!H$4, 'Plan unos i pregled'!$A$7:$A$788,$D$3)","v":0},{"$f":"SUMIFS('Plan unos i pregled'!$I$7:$I$788,'Plan unos i pregled'!$B$7:$B$788,'PLAN Rekapitulacija'!$N$7,'Plan unos i pregled'!$M$7:$M$788,'PLAN Rekapitulacija'!$N$6, 'Plan unos i pregled'!$E$7:$E$788,'PLAN Rekapitulacija'!$B24, 'Plan unos i pregled'!$C$7:$C$788,'PLAN Rekapitulacija'!I$4, 'Plan unos i pregled'!$A$7:$A$788,$D$3)","v":0},{"$f":"SUM(F24:I24)","v":0},{"$f":"ROUND(E24*J24,2)","v":0}]
["не","3.3.2","Само монтажа, за 10 комада или мање","ком",582,{"$f":"SUMIFS('Plan unos i pregled'!$I$7:$I$788,'Plan unos i pregled'!$B$7:$B$788,'PLAN Rekapitulacija'!$N$7,'Plan unos i pregled'!$M$7:$M$788,'PLAN Rekapitulacija'!$N$6, 'Plan unos i pregled'!$E$7:$E$788,'PLAN Rekapitulacija'!$B25, 'Plan unos i pregled'!$C$7:$C$788,'PLAN Rekapitulacija'!F$4, 'Plan unos i pregled'!$A$7:$A$788,$D$3)","v":0},{"$f":"SUMIFS('Plan unos i pregled'!$I$7:$I$788,'Plan unos i pregled'!$B$7:$B$788,'PLAN Rekapitulacija'!$N$7,'Plan unos i pregled'!$M$7:$M$788,'PLAN Rekapitulacija'!$N$6, 'Plan unos i pregled'!$E$7:$E$788,'PLAN Rekapitulacija'!$B25, 'Plan unos i pregled'!$C$7:$C$788,'PLAN Rekapitulacija'!G$4, 'Plan unos i pregled'!$A$7:$A$788,$D$3)","v":0},{"$f":"SUMIFS('Plan unos i pregled'!$I$7:$I$788,'Plan unos i pregled'!$B$7:$B$788,'PLAN Rekapitulacija'!$N$7,'Plan unos i pregled'!$M$7:$M$788,'PLAN Rekapitulacija'!$N$6, 'Plan unos i pregled'!$E$7:$E$788,'PLAN Rekapitulacija'!$B25, 'Plan unos i pregled'!$C$7:$C$788,'PLAN Rekapitulacija'!H$4, 'Plan unos i pregled'!$A$7:$A$788,$D$3)","v":0},{"$f":"SUMIFS('Plan unos i pregled'!$I$7:$I$788,'Plan unos i pregled'!$B$7:$B$788,'PLAN Rekapitulacija'!$N$7,'Plan unos i pregled'!$M$7:$M$788,'PLAN Rekapitulacija'!$N$6, 'Plan unos i pregled'!$E$7:$E$788,'PLAN Rekapitulacija'!$B25, 'Plan unos i pregled'!$C$7:$C$788,'PLAN Rekapitulacija'!I$4, 'Plan unos i pregled'!$A$7:$A$788,$D$3)","v":0},0,0]
["не","3.4","Монтажа саобраћајне табле са два стуба. Обрачун по комаду монтиране табле без материјала","ком",621,{"$f":"SUMIFS('Plan unos i pregled'!$I$7:$I$788,'Plan unos i pregled'!$B$7:$B$788,'PLAN Rekapitulacija'!$N$7,'Plan unos i pregled'!$M$7:$M$788,'PLAN Rekapitulacija'!$N$6, 'Plan unos i pregled'!$E$7:$E$788,'PLAN Rekapitulacija'!$B26, 'Plan unos i pregled'!$C$7:$C$788,'PLAN Rekapitulacija'!F$4, 'Plan unos i pregled'!$A$7:$A$788,$D$3)","v":0},{"$f":"SUMIFS('Plan unos i pregled'!$I$7:$I$788,'Plan unos i pregled'!$B$7:$B$788,'PLAN Rekapitulacija'!$N$7,'Plan unos i pregled'!$M$7:$M$788,'PLAN Rekapitulacija'!$N$6, 'Plan unos i pregled'!$E$7:$E$788,'PLAN Rekapitulacija'!$B26, 'Plan unos i pregled'!$C$7:$C$788,'PLAN Rekapitulacija'!G$4, 'Plan unos i pregled'!$A$7:$A$788,$D$3)","v":0},{"$f":"SUMIFS('Plan unos i pregled'!$I$7:$I$788,'Plan unos i pregled'!$B$7:$B$788,'PLAN Rekapitulacija'!$N$7,'Plan unos i pregled'!$M$7:$M$788,'PLAN Rekapitulacija'!$N$6, 'Plan unos i pregled'!$E$7:$E$788,'PLAN Rekapitulacija'!$B26, 'Plan unos i pregled'!$C$7:$C$788,'PLAN Rekapitulacija'!H$4, 'Plan unos i pregled'!$A$7:$A$788,$D$3)","v":0},{"$f":"SUMIFS('Plan unos i pregled'!$I$7:$I$788,'Plan unos i pregled'!$B$7:$B$788,'PLAN Rekapitulacija'!$N$7,'Plan unos i pregled'!$M$7:$M$788,'PLAN Rekapitulacija'!$N$6, 'Plan unos i pregled'!$E$7:$E$788,'PLAN Rekapitulacija'!$B26, 'Plan unos i pregled'!$C$7:$C$788,'PLAN Rekapitulacija'!I$4, 'Plan unos i pregled'!$A$7:$A$788,$D$3)","v":0},0,0]
[{"$f":"IF(OR(J27:K29),\"штампа\",\"не\")","v":"не"},"3.5","Постављање комплет саобраћајног знака са два носећа стуба и темељима од бетона МБ 20. Обрачун по комаду монтираног знака без цене табле која се наплаћује по фактури добављача"]
["не","3.5.1","Комплет са материјалом (без табле)","ком",4636,{"$f":"SUMIFS('Plan unos i pregled'!$I$7:$I$788,'Plan unos i pregled'!$B$7:$B$788,'PLAN Rekapitulacija'!$N$7,'Plan unos i pregled'!$M$7:$M$788,'PLAN Rekapitulacija'!$N$6, 'Plan unos i pregled'!$E$7:$E$788,'PLAN Rekapitulacija'!$B28, 'Plan unos i pregled'!$C$7:$C$788,'PLAN Rekapitulacija'!F$4, 'Plan unos i pregled'!$A$7:$A$788,$D$3)","v":0},{"$f":"SUMIFS('Plan unos i pregled'!$I$7:$I$788,'Plan unos i pregled'!$B$7:$B$788,'PLAN Rekapitulacija'!$N$7,'Plan unos i pregled'!$M$7:$M$788,'PLAN Rekapitulacija'!$N$6, 'Plan unos i pregled'!$E$7:$E$788,'PLAN Rekapitulacija'!$B28, 'Plan unos i pregled'!$C$7:$C$788,'PLAN Rekapitulacija'!G$4, 'Plan unos i pregled'!$A$7:$A$788,$D$3)","v":0},{"$f":"SUMIFS('Plan unos i pregled'!$I$7:$I$788,'Plan unos i pregled'!$B$7:$B$788,'PLAN Rekapitulacija'!$N$7,'Plan unos i pregled'!$M$7:$M$788,'PLAN Rekapitulacija'!$N$6, 'Plan unos i pregled'!$E$7:$E$788,'PLAN Rekapitulacija'!$B28, 'Plan unos i pregled'!$C$7:$C$788,'PLAN Rekapitulacija'!H$4, 'Plan unos i pregled'!$A$7:$A$788,$D$3)","v":0},{"$f":"SUMIFS('Plan unos i pregled'!$I$7:$I$788,'Plan unos i pregled'!$B$7:$B$788,'PLAN Rekapitulacija'!$N$7,'Plan unos i pregled'!$M$7:$M$788,'PLAN Rekapitulacija'!$N$6, 'Plan unos i pregled'!$E$7:$E$788,'PLAN Rekapitulacija'!$B28, 'Plan unos i pregled'!$C$7:$C$788,'PLAN Rekapitulacija'!I$4, 'Plan unos i pregled'!$A$7:$A$788,$D$3)","v":0},{"$f":"SUM(F28:I28)","v":0},{"$f":"ROUND(E28*J28,2)","v":0}]
["не","3.5.2","Само монтажа на постојећим стубовима (без табле)","ком",730,{"$f":"SUMIFS('Plan unos i pregled'!$I$7:$I$788,'Plan unos i pregled'!$B$7:$B$788,'PLAN Rekapitulacija'!$N$7,'Plan unos i pregled'!$M$7:$M$788,'PLAN Rekapitulacija'!$N$6, 'Plan unos i pregled'!$E$7:$E$788,'PLAN Rekapitulacija'!$B29, 'Plan unos i pregled'!$C$7:$C$788,'PLAN Rekapitulacija'!F$4, 'Plan unos i pregled'!$A$7:$A$788,$D$3)","v":0},{"$f":"SUMIFS('Plan unos i pregled'!$I$7:$I$788,'Plan unos i pregled'!$B$7:$B$788,'PLAN Rekapitulacija'!$N$7,'Plan unos i pregled'!$M$7:$M$788,'PLAN Rekapitulacija'!$N$6, 'Plan unos i pregled'!$E$7:$E$788,'PLAN Rekapitulacija'!$B29, 'Plan unos i pregled'!$C$7:$C$788,'PLAN Rekapitulacija'!G$4, 'Plan unos i pregled'!$A$7:$A$788,$D$3)","v":0},{"$f":"SUMIFS('Plan unos i pregled'!$I$7:$I$788,'Plan unos i pregled'!$B$7:$B$788,'PLAN Rekapitulacija'!$N$7,'Plan unos i pregled'!$M$7:$M$788,'PLAN Rekapitulacija'!$N$6, 'Plan unos i pregled'!$E$7:$E$788,'PLAN Rekapitulacija'!$B29, 'Plan unos i pregled'!$C$7:$C$788,'PLAN Rekapitulacija'!H$4, 'Plan unos i pregled'!$A$7:$A$788,$D$3)","v":0},{"$f":"SUMIFS('Plan unos i pregled'!$I$7:$I$788,'Plan unos i pregled'!$B$7:$B$788,'PLAN Rekapitulacija'!$N$7,'Plan unos i pregled'!$M$7:$M$788,'PLAN Rekapitulacija'!$N$6, 'Plan unos i pregled'!$E$7:$E$788,'PLAN Rekapitulacija'!$B29, 'Plan unos i pregled'!$C$7:$C$788,'PLAN Rekapitulacija'!I$4, 'Plan unos i pregled'!$A$7:$A$788,$D$3)","v":0},0,0]
["не",null,"УКУПНО:",null,null,{"$f":"SUMPRODUCT($E$19:$E$29,F19:F29)","v":0},{"$f":"SUMPRODUCT($E$19:$E$29,G19:G29)","v":0},{"$f":"SUMPRODUCT($E$19:$E$29,H19:H29)","v":0},{"$f":"SUMPRODUCT($E$19:$E$29,I19:I29)","v":0},null,{"$f":"SUM(K18:K29)","v":0}]
[{"$f":"IF(OR(J74:K74),\"штампа\",\"не\")","v":"штампа"},4,"Одржавање зелених површина и спортских терена"]
["не","4.1","Грабуљање паркова од лишћа и отпадака са одвозом.","m2",5.2,{"$f":"SUMIFS('Plan unos i pregled'!$I$7:$I$788,'Plan unos i pregled'!$B$7:$B$788,'PLAN Rekapitulacija'!$N$7,'Plan unos i pregled'!$M$7:$M$788,'PLAN Rekapitulacija'!$N$6, 'Plan unos i pregled'!$E$7:$E$788,'PLAN Rekapitulacija'!$B32, 'Plan unos i pregled'!$C$7:$C$788,'PLAN Rekapitulacija'!F$4, 'Plan unos i pregled'!$A$7:$A$788,$D$3)","v":0},{"$f":"SUMIFS('Plan unos i pregled'!$I$7:$I$788,'Plan unos i pregled'!$B$7:$B$788,'PLAN Rekapitulacija'!$N$7,'Plan unos i pregled'!$M$7:$M$788,'PLAN Rekapitulacija'!$N$6, 'Plan unos i pregled'!$E$7:$E$788,'PLAN Rekapitulacija'!$B32, 'Plan unos i pregled'!$C$7:$C$788,'PLAN Rekapitulacija'!G$4, 'Plan unos i pregled'!$A$7:$A$788,$D$3)","v":0},{"$f":"SUMIFS('Plan unos i pregled'!$I$7:$I$788,'Plan unos i pregled'!$B$7:$B$788,'PLAN Rekapitulacija'!$N$7,'Plan unos i pregled'!$M$7:$M$788,'PLAN Rekapitulacija'!$N$6, 'Plan unos i pregled'!$E$7:$E$788,'PLAN Rekapitulacija'!$B32, 'Plan unos i pregled'!$C$7:$C$788,'PLAN Rekapitulacija'!H$4, 'Plan unos i pregled'!$A$7:$A$788,$D$3)","v":0},{"$f":"SUMIFS('Plan unos i pregled'!$I$7:$I$788,'Plan unos i pregled'!$B$7:$B$788,'PLAN Rekapitulacija'!$N$7,'Plan unos i pregled'!$M$7:$M$788,'PLAN Rekapitulacija'!$N$6, 'Plan unos i pregled'!$E$7:$E$788,'PLAN Rekapitulacija'!$B32, 'Plan unos i pregled'!$C$7:$C$788,'PLAN Rekapitulacija'!I$4, 'Plan unos i pregled'!$A$7:$A$788,$D$3)","v":0},{"$f":"SUM(F32:I32)","v":0},{"$f":"ROUND(E32*J32,2)","v":0}]
["не","4.2","Ручно сакупљање отпадака са парковских површина.","m2",4,{"$f":"SUMIFS('Plan unos i pregled'!$I$7:$I$788,'Plan unos i pregled'!$B$7:$B$788,'PLAN Rekapitulacija'!$N$7,'Plan unos i pregled'!$M$7:$M$788,'PLAN Rekapitulacija'!$N$6, 'Plan unos i pregled'!$E$7:$E$788,'PLAN Rekapitulacija'!$B33, 'Plan unos i pregled'!$C$7:$C$788,'PLAN Rekapitulacija'!F$4, 'Plan unos i pregled'!$A$7:$A$788,$D$3)","v":0},{"$f":"SUMIFS('Plan unos i pregled'!$I$7:$I$788,'Plan unos i pregled'!$B$7:$B$788,'PLAN Rekapitulacija'!$N$7,'Plan unos i pregled'!$M$7:$M$788,'PLAN Rekapitulacija'!$N$6, 'Plan unos i pregled'!$E$7:$E$788,'PLAN Rekapitulacija'!$B33, 'Plan unos i pregled'!$C$7:$C$788,'PLAN Rekapitulacija'!G$4, 'Plan unos i pregled'!$A$7:$A$788,$D$3)","v":0},{"$f":"SUMIFS('Plan unos i pregled'!$I$7:$I$788,'Plan unos i pregled'!$B$7:$B$788,'PLAN Rekapitulacija'!$N$7,'Plan unos i pregled'!$M$7:$M$788,'PLAN Rekapitulacija'!$N$6, 'Plan unos i pregled'!$E$7:$E$788,'PLAN Rekapitulacija'!$B33, 'Plan unos i pregled'!$C$7:$C$788,'PLAN Rekapitulacija'!H$4, 'Plan unos i pregled'!$A$7:$A$788,$D$3)","v":0},{"$f":"SUMIFS('Plan unos i pregled'!$I$7:$I$788,'Plan unos i pregled'!$B$7:$B$788,'PLAN Rekapitulacija'!$N$7,'Plan unos i pregled'!$M$7:$M$788,'PLAN Rekapitulacija'!$N$6, 'Plan unos i pregled'!$E$7:$E$788,'PLAN Rekapitulacija'!$B33, 'Plan unos i pregled'!$C$7:$C$788,'PLAN Rekapitulacija'!I$4, 'Plan unos i pregled'!$A$7:$A$788,$D$3)","v":0},0,0]
["не","4.3","Кошење парковског травњака косачицом са ручном поправком.","m2",10,{"$f":"SUMIFS('Plan unos i pregled'!$I$7:$I$788,'Plan unos i pregled'!$B$7:$B$788,'PLAN Rekapitulacija'!$N$7,'Plan unos i pregled'!$M$7:$M$788,'PLAN Rekapitulacija'!$N$6, 'Plan unos i pregled'!$E$7:$E$788,'PLAN Rekapitulacija'!$B34, 'Plan unos i pregled'!$C$7:$C$788,'PLAN Rekapitulacija'!F$4, 'Plan unos i pregled'!$A$7:$A$788,$D$3)","v":0},{"$f":"SUMIFS('Plan unos i pregled'!$I$7:$I$788,'Plan unos i pregled'!$B$7:$B$788,'PLAN Rekapitulacija'!$N$7,'Plan unos i pregled'!$M$7:$M$788,'PLAN Rekapitulacija'!$N$6, 'Plan unos i pregled'!$E$7:$E$788,'PLAN Rekapitulacija'!$B34, 'Plan unos i pregled'!$C$7:$C$788,'PLAN Rekapitulacija'!G$4, 'Plan unos i pregled'!$A$7:$A$788,$D$3)","v":0},{"$f":"SUMIFS('Plan unos i pregled'!$I$7:$I$788,'Plan unos i pregled'!$B$7:$B$788,'PLAN Rekapitulacija'!$N$7,'Plan unos i pregled'!$M$7:$M$788,'PLAN Rekapitulacija'!$N$6, 'Plan unos i pregled'!$E$7:$E$788,'PLAN Rekapitulacija'!$B34, 'Plan unos i pregled'!$C$7:$C$788,'PLAN Rekapitulacija'!H$4, 'Plan unos i pregled'!$A$7:$A$788,$D$3)","v":0},{"$f":"SUMIFS('Plan unos i pregled'!$I$7:$I$788,'Plan unos i pregled'!$B$7:$B$788,'PLAN Rekapitulacija'!$N$7,'Plan unos i pregled'!$M$7:$M$788,'PLAN Rekapitulacija'!$N$6, 'Plan unos i pregled'!$E$7:$E$788,'PLAN Rekapitulacija'!$B34, 'Plan unos i pregled'!$C$7:$C$788,'PLAN Rekapitulacija'!I$4, 'Plan unos i pregled'!$A$7:$A$788,$D$3)","v":0},0,0]
["не","4.4","Грабуљање травњака од отпадака са одвозом.","m2",8,{"$f":"SUMIFS('Plan unos i pregled'!$I$7:$I$788,'Plan unos i pregled'!$B$7:$B$788,'PLAN Rekapitulacija'!$N$7,'Plan unos i pregled'!$M$7:$M$788,'PLAN Rekapitulacija'!$N$6, 'Plan unos i pregled'!$E$7:$E$788,'PLAN Rekapitulacija'!$B35, 'Plan unos i pregled'!$C$7:$C$788,'PLAN Rekapitulacija'!F$4, 'Plan unos i pregled'!$A$7:$A$788,$D$3)","v":0},{"$f":"SUMIFS('Plan unos i pregled'!$I$7:$I$788,'Plan unos i pregled'!$B$7:$B$788,'PLAN Rekapitulacija'!$N$7,'Plan unos i pregled'!$M$7:$M$788,'PLAN Rekapitulacija'!$N$6, 'Plan unos i pregled'!$E$7:$E$788,'PLAN Rekapitulacija'!$B35, 'Plan unos i pregled'!$C$7:$C$788,'PLAN Rekapitulacija'!G$4, 'Plan unos i pregled'!$A$7:$A$788,$D$3)","v":0},{"$f":"SUMIFS('Plan unos i pregled'!$I$7:$I$788,'Plan unos i pregled'!$B$7:$B$788,'PLAN Rekapitulacija'!$N$7,'Plan unos i pregled'!$M$7:$M$788,'PLAN Rekapitulacija'!$N$6, 'Plan unos i pregled'!$E$7:$E$788,'PLAN Rekapitulacija'!$B35, 'Plan unos i pregled'!$C$7:$C$788,'PLAN Rekapitulacija'!H$4, 'Plan unos i pregled'!$A$7:$A$788,$D$3)","v":0},{"$f":"SUMIFS('Plan unos i pregled'!$I$7:$I$788,'Plan unos i pregled'!$B$7:$B$788,'PLAN Rekapitulacija'!$N$7,'Plan unos i pregled'!$M$7:$M$788,'PLAN Rekapitulacija'!$N$6, 'Plan unos i pregled'!$E$7:$E$788,'PLAN Rekapitulacija'!$B35, 'Plan unos i pregled'!$C$7:$C$788,'PLAN Rekapitulacija'!I$4, 'Plan unos i pregled'!$A$7:$A$788,$D$3)","v":0},0,0]
["не","4.5","Заливање","m2",31,{"$f":"SUMIFS('Plan unos i pregled'!$I$7:$I$788,'Plan unos i pregled'!$B$7:$B$788,'PLAN Rekapitulacija'!$N$7,'Plan unos i pregled'!$M$7:$M$788,'PLAN Rekapitulacija'!$N$6, 'Plan unos i pregled'!$E$7:$E$788,'PLAN Rekapitulacija'!$B36, 'Plan unos i pregled'!$C$7:$C$788,'PLAN Rekapitulacija'!F$4, 'Plan unos i pregled'!$A$7:$A$788,$D$3)","v":0},{"$f":"SUMIFS('Plan unos i pregled'!$I$7:$I$788,'Plan unos i pregled'!$B$7:$B$788,'PLAN Rekapitulacija'!$N$7,'Plan unos i pregled'!$M$7:$M$788,'PLAN Rekapitulacija'!$N$6, 'Plan unos i pregled'!$E$7:$E$788,'PLAN Rekapitulacija'!$B36, 'Plan unos i pregled'!$C$7:$C$788,'PLAN Rekapitulacija'!G$4, 'Plan unos i pregled'!$A$7:$A$788,$D$3)","v":0},{"$f":"SUMIFS('Plan unos i pregled'!$I$7:$I$788,'Plan unos i pregled'!$B$7:$B$788,'PLAN Rekapitulacija'!$N$7,'Plan unos i pregled'!$M$7:$M$788,'PLAN Rekapitulacija'!$N$6, 'Plan unos i pregled'!$E$7:$E$788,'PLAN Rekapitulacija'!$B36, 'Plan unos i pregled'!$C$7:$C$788,'PLAN Rekapitulacija'!H$4, 'Plan unos i pregled'!$A$7:$A$788,$D$3)","v":0},{"$f":"SUMIFS('Plan unos i pregled'!$I$7:$I$788,'Plan unos i pregled'!$B$7:$B$788,'PLAN Rekapitulacija'!$N$7,'Plan unos i pregled'!$M$7:$M$788,'PLAN Rekapitulacija'!$N$6, 'Plan unos i pregled'!$E$7:$E$788,'PLAN Rekapitulacija'!$B36, 'Plan unos i pregled'!$C$7:$C$788,'PLAN Rekapitulacija'!I$4, 'Plan unos i pregled'!$A$7:$A$788,$D$3)","v":0},0,0]
["штампа","4.6","Кошење парковског травњака тримером","m2",6.5,{"$f":"SUMIFS('Plan unos i pregled'!$I$7:$I$788,'Plan unos i pregled'!$B$7:$B$788,'PLAN Rekapitulacija'!$N$7,'Plan unos i pregled'!$M$7:$M$788,'PLAN Rekapitulacija'!$N$6, 'Plan unos i pregled'!$E$7:$E$788,'PLAN Rekapitulacija'!$B37, 'Plan unos i pregled'!$C$7:$C$788,'PLAN Rekapitulacija'!F$4, 'Plan unos i pregled'!$A$7:$A$788,$D$3)","v":0},{"$f":"SUMIFS('Plan unos i pregled'!$I$7:$I$788,'Plan unos i pregled'!$B$7:$B$788,'PLAN Rekapitulacija'!$N$7,'Plan unos i pregled'!$M$7:$M$788,'PLAN Rekapitulacija'!$N$6, 'Plan unos i pregled'!$E$7:$E$788,'PLAN Rekapitulacija'!$B37, 'Plan unos i pregled'!$C$7:$C$788,'PLAN Rekapitulacija'!G$4, 'Plan unos i pregled'!$A$7:$A$788,$D$3)","v":0},{"$f":"SUMIFS('Plan unos i pregled'!$I$7:$I$788,'Plan unos i pregled'!$B$7:$B$788,'PLAN Rekapitulacija'!$N$7,'Plan unos i pregled'!$M$7:$M$788,'PLAN Rekapitulacija'!$N$6, 'Plan unos i pregled'!$E$7:$E$788,'PLAN Rekapitulacija'!$B37, 'Plan unos i pregled'!$C$7:$C$788,'PLAN Rekapitulacija'!H$4, 'Plan unos i pregled'!$A$7:$A$788,$D$3)","v":37977},{"$f":"SUMIFS('Plan unos i pregled'!$I$7:$I$788,'Plan unos i pregled'!$B$7:$B$788,'PLAN Rekapitulacija'!$N$7,'Plan unos i pregled'!$M$7:$M$788,'PLAN Rekapitulacija'!$N$6, 'Plan unos i pregled'!$E$7:$E$788,'PLAN Rekapitulacija'!$B37, 'Plan unos i pregled'!$C$7:$C$788,'PLAN Rekapitulacija'!I$4, 'Plan unos i pregled'!$A$7:$A$788,$D$3)","v":0},37977,246850.5]
["штампа","4.7","Кошење траве са банкина самоходном моторном косачицом","m2",3.99,{"$f":"SUMIFS('Plan unos i pregled'!$I$7:$I$788,'Plan unos i pregled'!$B$7:$B$788,'PLAN Rekapitulacija'!$N$7,'Plan unos i pregled'!$M$7:$M$788,'PLAN Rekapitulacija'!$N$6, 'Plan unos i pregled'!$E$7:$E$788,'PLAN Rekapitulacija'!$B38, 'Plan unos i pregled'!$C$7:$C$788,'PLAN Rekapitulacija'!F$4, 'Plan unos i pregled'!$A$7:$A$788,$D$3)","v":86680},{"$f":"SUMIFS('Plan unos i pregled'!$I$7:$I$788,'Plan unos i pregled'!$B$7:$B$788,'PLAN Rekapitulacija'!$N$7,'Plan unos i pregled'!$M$7:$M$788,'PLAN Rekapitulacija'!$N$6, 'Plan unos i pregled'!$E$7:$E$788,'PLAN Rekapitulacija'!$B38, 'Plan unos i pregled'!$C$7:$C$788,'PLAN Rekapitulacija'!G$4, 'Plan unos i pregled'!$A$7:$A$788,$D$3)","v":12050},{"$f":"SUMIFS('Plan unos i pregled'!$I$7:$I$788,'Plan unos i pregled'!$B$7:$B$788,'PLAN Rekapitulacija'!$N$7,'Plan unos i pregled'!$M$7:$M$788,'PLAN Rekapitulacija'!$N$6, 'Plan unos i pregled'!$E$7:$E$788,'PLAN Rekapitulacija'!$B38, 'Plan unos i pregled'!$C$7:$C$788,'PLAN Rekapitulacija'!H$4, 'Plan unos i pregled'!$A$7:$A$788,$D$3)","v":0},{"$f":"SUMIFS('Plan unos i pregled'!$I$7:$I$788,'Plan unos i pregled'!$B$7:$B$788,'PLAN Rekapitulacija'!$N$7,'Plan unos i pregled'!$M$7:$M$788,'PLAN Rekapitulacija'!$N$6, 'Plan unos i pregled'!$E$7:$E$788,'PLAN Rekapitulacija'!$B38, 'Plan unos i pregled'!$C$7:$C$788,'PLAN Rekapitulacija'!I$4, 'Plan unos i pregled'!$A$7:$A$788,$D$3)","v":0},98730,393932.7]
["не","4.8","Утовар траве у камион и превоз на депонију на 5 km","m2",3.61,{"$f":"SUMIFS('Plan unos i pregled'!$I$7:$I$788,'Plan unos i pregled'!$B$7:$B$788,'PLAN Rekapitulacija'!$N$7,'Plan unos i pregled'!$M$7:$M$788,'PLAN Rekapitulacija'!$N$6, 'Plan unos i pregled'!$E$7:$E$788,'PLAN Rekapitulacija'!$B39, 'Plan unos i pregled'!$C$7:$C$788,'PLAN Rekapitulacija'!F$4, 'Plan unos i pregled'!$A$7:$A$788,$D$3)","v":0},{"$f":"SUMIFS('Plan unos i pregled'!$I$7:$I$788,'Plan unos i pregled'!$B$7:$B$788,'PLAN Rekapitulacija'!$N$7,'Plan unos i pregled'!$M$7:$M$788,'PLAN Rekapitulacija'!$N$6, 'Plan unos i pregled'!$E$7:$E$788,'PLAN Rekapitulacija'!$B39, 'Plan unos i pregled'!$C$7:$C$788,'PLAN Rekapitulacija'!G$4, 'Plan unos i pregled'!$A$7:$A$788,$D$3)","v":0},{"$f":"SUMIFS('Plan unos i pregled'!$I$7:$I$788,'Plan unos i pregled'!$B$7:$B$788,'PLAN Rekapitulacija'!$N$7,'Plan unos i pregled'!$M$7:$M$788,'PLAN Rekapitulacija'!$N$6, 'Plan unos i pregled'!$E$7:$E$788,'PLAN Rekapitulacija'!$B39, 'Plan unos i pregled'!$C$7:$C$788,'PLAN Rekapitulacija'!H$4, 'Plan unos i pregled'!$A$7:$A$788,$D$3)","v":0},{"$f":"SUMIFS('Plan unos i pregled'!$I$7:$I$788,'Plan unos i pregled'!$B$7:$B$788,'PLAN Rekapitulacija'!$N$7,'Plan unos i pregled'!$M$7:$M$788,'PLAN Rekapitulacija'!$N$6, 'Plan unos i pregled'!$E$7:$E$788,'PLAN Rekapitulacija'!$B39, 'Plan unos i pregled'!$C$7:$C$788,'PLAN Rekapitulacija'!I$4, 'Plan unos i pregled'!$A$7:$A$788,$D$3)","v":0},0,0]
["не","4.9","Разастирање ђубрива","m2",15.6,{"$f":"SUMIFS('Plan unos i pregled'!$I$7:$I$788,'Plan unos i pregled'!$B$7:$B$788,'PLAN Rekapitulacija'!$N$7,'Plan unos i pregled'!$M$7:$M$788,'PLAN Rekapitulacija'!$N$6, 'Plan unos i pregled'!$E$7:$E$788,'PLAN Rekapitulacija'!$B40, 'Plan unos i pregled'!$C$7:$C$788,'PLAN Rekapitulacija'!F$4, 'Plan unos i pregled'!$A$7:$A$788,$D$3)","v":0},{"$f":"SUMIFS('Plan unos i pregled'!$I$7:$I$788,'Plan unos i pregled'!$B$7:$B$788,'PLAN Rekapitulacija'!$N$7,'Plan unos i pregled'!$M$7:$M$788,'PLAN Rekapitulacija'!$N$6, 'Plan unos i pregled'!$E$7:$E$788,'PLAN Rekapitulacija'!$B40, 'Plan unos i pregled'!$C$7:$C$788,'PLAN Rekapitulacija'!G$4, 'Plan unos i pregled'!$A$7:$A$788,$D$3)","v":0},{"$f":"SUMIFS('Plan unos i pregled'!$I$7:$I$788,'Plan unos i pregled'!$B$7:$B$788,'PLAN Rekapitulacija'!$N$7,'Plan unos i pregled'!$M$7:$M$788,'PLAN Rekapitulacija'!$N$6, 'Plan unos i pregled'!$E$7:$E$788,'PLAN Rekapitulacija'!$B40, 'Plan unos i pregled'!$C$7:$C$788,'PLAN Rekapitulacija'!H$4, 'Plan unos i pregled'!$A$7:$A$788,$D$3)","v":0},{"$f":"SUMIFS('Plan unos i pregled'!$I$7:$I$788,'Plan unos i pregled'!$B$7:$B$788,'PLAN Rekapitulacija'!$N$7,'Plan unos i pregled'!$M$7:$M$788,'PLAN Rekapitulacija'!$N$6, 'Plan unos i pregled'!$E$7:$E$788,'PLAN Rekapitulacija'!$B40, 'Plan unos i pregled'!$C$7:$C$788,'PLAN Rekapitulacija'!I$4, 'Plan unos i pregled'!$A$7:$A$788,$D$3)","v":0},0,0]
["не","4.10","Набавка ђубрива","по рачуну",1,{"$f":"SUMIFS('Plan unos i pregled'!$I$7:$I$788,'Plan unos i pregled'!$B$7:$B$788,'PLAN Rekapitulacija'!$N$7,'Plan unos i pregled'!$M$7:$M$788,'PLAN Rekapitulacija'!$N$6, 'Plan unos i pregled'!$E$7:$E$788,'PLAN Rekapitulacija'!$B41, 'Plan unos i pregled'!$C$7:$C$788,'PLAN Rekapitulacija'!F$4, 'Plan unos i pregled'!$A$7:$A$788,$D$3)","v":0},{"$f":"SUMIFS('Plan unos i pregled'!$I$7:$I$788,'Plan unos i pregled'!$B$7:$B$788,'PLAN Rekapitulacija'!$N$7,'Plan unos i pregled'!$M$7:$M$788,'PLAN Rekapitulacija'!$N$6, 'Plan unos i pregled'!$E$7:$E$788,'PLAN Rekapitulacija'!$B41, 'Plan unos i pregled'!$C$7:$C$788,'PLAN Rekapitulacija'!G$4, 'Plan unos i pregled'!$A$7:$A$788,$D$3)","v":0},{"$f":"SUMIFS('Plan unos i pregled'!$I$7:$I$788,'Plan unos i pregled'!$B$7:$B$788,'PLAN Rekapitulacija'!$N$7,'Plan unos i pregled'!$M$7:$M$788,'PLAN Rekapitulacija'!$N$6, 'Plan unos i pregled'!$E$7:$E$788,'PLAN Rekapitulacija'!$B41, 'Plan unos i pregled'!$C$7:$C$788,'PLAN Rekapitulacija'!H$4, 'Plan unos i pregled'!$A$7:$A$788,$D$3)","v":0},{"$f":"SUMIFS('Plan unos i pregled'!$I$7:$I$788,'Plan unos i pregled'!$B$7:$B$788,'PLAN Rekapitulacija'!$N$7,'Plan unos i pregled'!$M$7:$M$788,'PLAN Rekapitulacija'!$N$6, 'Plan unos i pregled'!$E$7:$E$788,'PLAN Rekapitulacija'!$B41, 'Plan unos i pregled'!$C$7:$C$788,'PLAN Rekapitulacija'!I$4, 'Plan unos i pregled'!$A$7:$A$788,$D$3)","v":0},0,0]
["штампа","4.11","Обележавање фудбалског терена (по фактури добављача), ценом није обухваћен превоз и рад радника","m2",26.8,{"$f":"SUMIFS('Plan unos i pregled'!$I$7:$I$788,'Plan unos i pregled'!$B$7:$B$788,'PLAN Rekapitulacija'!$N$7,'Plan unos i pregled'!$M$7:$M$788,'PLAN Rekapitulacija'!$N$6, 'Plan unos i pregled'!$E$7:$E$788,'PLAN Rekapitulacija'!$B42, 'Plan unos i pregled'!$C$7:$C$788,'PLAN Rekapitulacija'!F$4, 'Plan unos i pregled'!$A$7:$A$788,$D$3)","v":0},{"$f":"SUMIFS('Plan unos i pregled'!$I$7:$I$788,'Plan unos i pregled'!$B$7:$B$788,'PLAN Rekapitulacija'!$N$7,'Plan unos i pregled'!$M$7:$M$788,'PLAN Rekapitulacija'!$N$6, 'Plan unos i pregled'!$E$7:$E$788,'PLAN Rekapitulacija'!$B42, 'Plan unos i pregled'!$C$7:$C$788,'PLAN Rekapitulacija'!G$4, 'Plan unos i pregled'!$A$7:$A$788,$D$3)","v":0},{"$f":"SUMIFS('Plan unos i pregled'!$I$7:$I$788,'Plan unos i pregled'!$B$7:$B$788,'PLAN Rekapitulacija'!$N$7,'Plan unos i pregled'!$M$7:$M$788,'PLAN Rekapitulacija'!$N$6, 'Plan unos i pregled'!$E$7:$E$788,'PLAN Rekapitulacija'!$B42, 'Plan unos i pregled'!$C$7:$C$788,'PLAN Rekapitulacija'!H$4, 'Plan unos i pregled'!$A$7:$A$788,$D$3)","v":0},{"$f":"SUMIFS('Plan unos i pregled'!$I$7:$I$788,'Plan unos i pregled'!$B$7:$B$788,'PLAN Rekapitulacija'!$N$7,'Plan unos i pregled'!$M$7:$M$788,'PLAN Rekapitulacija'!$N$6, 'Plan unos i pregled'!$E$7:$E$788,'PLAN Rekapitulacija'!$B42, 'Plan unos i pregled'!$C$7:$C$788,'PLAN Rekapitulacija'!I$4, 'Plan unos i pregled'!$A$7:$A$788,$D$3)","v":8420},8420,225656]
["штампа","4.12","Поливање травњака (ценом није обухваћен рад радника)","m2",3.1,{"$f":"SUMIFS('Plan unos i pregled'!$I$7:$I$788,'Plan unos i pregled'!$B$7:$B$788,'PLAN Rekapitulacija'!$N$7,'Plan unos i pregled'!$M$7:$M$788,'PLAN Rekapitulacija'!$N$6, 'Plan unos i pregled'!$E$7:$E$788,'PLAN Rekapitulacija'!$B43, 'Plan unos i pregled'!$C$7:$C$788,'PLAN Rekapitulacija'!F$4, 'Plan unos i pregled'!$A$7:$A$788,$D$3)","v":0},{"$f":"SUMIFS('Plan unos i pregled'!$I$7:$I$788,'Plan unos i pregled'!$B$7:$B$788,'PLAN Rekapitulacija'!$N$7,'Plan unos i pregled'!$M$7:$M$788,'PLAN Rekapitulacija'!$N$6, 'Plan unos i pregled'!$E$7:$E$788,'PLAN Rekapitulacija'!$B43, 'Plan unos i pregled'!$C$7:$C$788,'PLAN Rekapitulacija'!G$4, 'Plan unos i pregled'!$A$7:$A$788,$D$3)","v":0},{"$f":"SUMIFS('Plan unos i pregled'!$I$7:$I$788,'Plan unos i pregled'!$B$7:$B$788,'PLAN Rekapitulacija'!$N$7,'Plan unos i pregled'!$M$7:$M$788,'PLAN Rekapitulacija'!$N$6, 'Plan unos i pregled'!$E$7:$E$788,'PLAN Rekapitulacija'!$B43, 'Plan unos i pregled'!$C$7:$C$788,'PLAN Rekapitulacija'!H$4, 'Plan unos i pregled'!$A$7:$A$788,$D$3)","v":0},{"$f":"SUMIFS('Plan unos i pregled'!$I$7:$I$788,'Plan unos i pregled'!$B$7:$B$788,'PLAN Rekapitulacija'!$N$7,'Plan unos i pregled'!$M$7:$M$788,'PLAN Rekapitulacija'!$N$6, 'Plan unos i pregled'!$E$7:$E$788,'PLAN Rekapitulacija'!$B43, 'Plan unos i pregled'!$C$7:$C$788,'PLAN Rekapitulacija'!I$4, 'Plan unos i pregled'!$A$7:$A$788,$D$3)","v":272700},272700,845370]
["не","4.13","Сејање траве  (ценом није обухваћен рад радника и семе траве по фактури добављача)","m2",15.6,{"$f":"SUMIFS('Plan unos i pregled'!$I$7:$I$788,'Plan unos i pregled'!$B$7:$B$788,'PLAN Rekapitulacija'!$N$7,'Plan unos i pregled'!$M$7:$M$788,'PLAN Rekapitulacija'!$N$6, 'Plan unos i pregled'!$E$7:$E$788,'PLAN Rekapitulacija'!$B44, 'Plan unos i pregled'!$C$7:$C$788,'PLAN Rekapitulacija'!F$4, 'Plan unos i pregled'!$A$7:$A$788,$D$3)","v":0},{"$f":"SUMIFS('Plan unos i pregled'!$I$7:$I$788,'Plan unos i pregled'!$B$7:$B$788,'PLAN Rekapitulacija'!$N$7,'Plan unos i pregled'!$M$7:$M$788,'PLAN Rekapitulacija'!$N$6, 'Plan unos i pregled'!$E$7:$E$788,'PLAN Rekapitulacija'!$B44, 'Plan unos i pregled'!$C$7:$C$788,'PLAN Rekapitulacija'!G$4, 'Plan unos i pregled'!$A$7:$A$788,$D$3)","v":0},{"$f":"SUMIFS('Plan unos i pregled'!$I$7:$I$788,'Plan unos i pregled'!$B$7:$B$788,'PLAN Rekapitulacija'!$N$7,'Plan unos i pregled'!$M$7:$M$788,'PLAN Rekapitulacija'!$N$6, 'Plan unos i pregled'!$E$7:$E$788,'PLAN Rekapitulacija'!$B44, 'Plan unos i pregled'!$C$7:$C$788,'PLAN Rekapitulacija'!H$4, 'Plan unos i pregled'!$A$7:$A$788,$D$3)","v":0},{"$f":"SUMIFS('Plan unos i pregled'!$I$7:$I$788,'Plan unos i pregled'!$B$7:$B$788,'PLAN Rekapitulacija'!$N$7,'Plan unos i pregled'!$M$7:$M$788,'PLAN Rekapitulacija'!$N$6, 'Plan unos i pregled'!$E$7:$E$788,'PLAN Rekapitulacija'!$B44, 'Plan unos i pregled'!$C$7:$C$788,'PLAN Rekapitulacija'!I$4, 'Plan unos i pregled'!$A$7:$A$788,$D$3)","v":0},0,0]
["не","4.14","Отклањање дотрајалог стабла у дрвореду са вађењем пања после сечења","ком",4145,{"$f":"SUMIFS('Plan unos i pregled'!$I$7:$I$788,'Plan unos i pregled'!$B$7:$B$788,'PLAN Rekapitulacija'!$N$7,'Plan unos i pregled'!$M$7:$M$788,'PLAN Rekapitulacija'!$N$6, 'Plan unos i pregled'!$E$7:$E$788,'PLAN Rekapitulacija'!$B45, 'Plan unos i pregled'!$C$7:$C$788,'PLAN Rekapitulacija'!F$4, 'Plan unos i pregled'!$A$7:$A$788,$D$3)","v":0},{"$f":"SUMIFS('Plan unos i pregled'!$I$7:$I$788,'Plan unos i pregled'!$B$7:$B$788,'PLAN Rekapitulacija'!$N$7,'Plan unos i pregled'!$M$7:$M$788,'PLAN Rekapitulacija'!$N$6, 'Plan unos i pregled'!$E$7:$E$788,'PLAN Rekapitulacija'!$B45, 'Plan unos i pregled'!$C$7:$C$788,'PLAN Rekapitulacija'!G$4, 'Plan unos i pregled'!$A$7:$A$788,$D$3)","v":0},{"$f":"SUMIFS('Plan unos i pregled'!$I$7:$I$788,'Plan unos i pregled'!$B$7:$B$788,'PLAN Rekapitulacija'!$N$7,'Plan unos i pregled'!$M$7:$M$788,'PLAN Rekapitulacija'!$N$6, 'Plan unos i pregled'!$E$7:$E$788,'PLAN Rekapitulacija'!$B45, 'Plan unos i pregled'!$C$7:$C$788,'PLAN Rekapitulacija'!H$4, 'Plan unos i pregled'!$A$7:$A$788,$D$3)","v":0},{"$f":"SUMIFS('Plan unos i pregled'!$I$7:$I$788,'Plan unos i pregled'!$B$7:$B$788,'PLAN Rekapitulacija'!$N$7,'Plan unos i pregled'!$M$7:$M$788,'PLAN Rekapitulacija'!$N$6, 'Plan unos i pregled'!$E$7:$E$788,'PLAN Rekapitulacija'!$B45, 'Plan unos i pregled'!$C$7:$C$788,'PLAN Rekapitulacija'!I$4, 'Plan unos i pregled'!$A$7:$A$788,$D$3)","v":0},0,0]
["не","4.15","Орезивање дрвореда са прикупљањем грана и корективно орезивање. Обрачун по комаду стабла","ком",800,{"$f":"SUMIFS('Plan unos i pregled'!$I$7:$I$788,'Plan unos i pregled'!$B$7:$B$788,'PLAN Rekapitulacija'!$N$7,'Plan unos i pregled'!$M$7:$M$788,'PLAN Rekapitulacija'!$N$6, 'Plan unos i pregled'!$E$7:$E$788,'PLAN Rekapitulacija'!$B46, 'Plan unos i pregled'!$C$7:$C$788,'PLAN Rekapitulacija'!F$4, 'Plan unos i pregled'!$A$7:$A$788,$D$3)","v":0},{"$f":"SUMIFS('Plan unos i pregled'!$I$7:$I$788,'Plan unos i pregled'!$B$7:$B$788,'PLAN Rekapitulacija'!$N$7,'Plan unos i pregled'!$M$7:$M$788,'PLAN Rekapitulacija'!$N$6, 'Plan unos i pregled'!$E$7:$E$788,'PLAN Rekapitulacija'!$B46, 'Plan unos i pregled'!$C$7:$C$788,'PLAN Rekapitulacija'!G$4, 'Plan unos i pregled'!$A$7:$A$788,$D$3)","v":0},{"$f":"SUMIFS('Plan unos i pregled'!$I$7:$I$788,'Plan unos i pregled'!$B$7:$B$788,'PLAN Rekapitulacija'!$N$7,'Plan unos i pregled'!$M$7:$M$788,'PLAN Rekapitulacija'!$N$6, 'Plan unos i pregled'!$E$7:$E$788,'PLAN Rekapitulacija'!$B46, 'Plan unos i pregled'!$C$7:$C$788,'PLAN Rekapitulacija'!H$4, 'Plan unos i pregled'!$A$7:$A$788,$D$3)","v":0},{"$f":"SUMIFS('Plan unos i pregled'!$I$7:$I$788,'Plan unos i pregled'!$B$7:$B$788,'PLAN Rekapitulacija'!$N$7,'Plan unos i pregled'!$M$7:$M$788,'PLAN Rekapitulacija'!$N$6, 'Plan unos i pregled'!$E$7:$E$788,'PLAN Rekapitulacija'!$B46, 'Plan unos i pregled'!$C$7:$C$788,'PLAN Rekapitulacija'!I$4, 'Plan unos i pregled'!$A$7:$A$788,$D$3)","v":0},0,0]
["не","4.16","Окопавање земље око стабла и плевљење корова","ком",311,{"$f":"SUMIFS('Plan unos i pregled'!$I$7:$I$788,'Plan unos i pregled'!$B$7:$B$788,'PLAN Rekapitulacija'!$N$7,'Plan unos i pregled'!$M$7:$M$788,'PLAN Rekapitulacija'!$N$6, 'Plan unos i pregled'!$E$7:$E$788,'PLAN Rekapitulacija'!$B47, 'Plan unos i pregled'!$C$7:$C$788,'PLAN Rekapitulacija'!F$4, 'Plan unos i pregled'!$A$7:$A$788,$D$3)","v":0},{"$f":"SUMIFS('Plan unos i pregled'!$I$7:$I$788,'Plan unos i pregled'!$B$7:$B$788,'PLAN Rekapitulacija'!$N$7,'Plan unos i pregled'!$M$7:$M$788,'PLAN Rekapitulacija'!$N$6, 'Plan unos i pregled'!$E$7:$E$788,'PLAN Rekapitulacija'!$B47, 'Plan unos i pregled'!$C$7:$C$788,'PLAN Rekapitulacija'!G$4, 'Plan unos i pregled'!$A$7:$A$788,$D$3)","v":0},{"$f":"SUMIFS('Plan unos i pregled'!$I$7:$I$788,'Plan unos i pregled'!$B$7:$B$788,'PLAN Rekapitulacija'!$N$7,'Plan unos i pregled'!$M$7:$M$788,'PLAN Rekapitulacija'!$N$6, 'Plan unos i pregled'!$E$7:$E$788,'PLAN Rekapitulacija'!$B47, 'Plan unos i pregled'!$C$7:$C$788,'PLAN Rekapitulacija'!H$4, 'Plan unos i pregled'!$A$7:$A$788,$D$3)","v":0},{"$f":"SUMIFS('Plan unos i pregled'!$I$7:$I$788,'Plan unos i pregled'!$B$7:$B$788,'PLAN Rekapitulacija'!$N$7,'Plan unos i pregled'!$M$7:$M$788,'PLAN Rekapitulacija'!$N$6, 'Plan unos i pregled'!$E$7:$E$788,'PLAN Rekapitulacija'!$B47, 'Plan unos i pregled'!$C$7:$C$788,'PLAN Rekapitulacija'!I$4, 'Plan unos i pregled'!$A$7:$A$788,$D$3)","v":0},0,0]
[{"$f":"IF(OR(J48:K50),\"штампа\",\"не\")","v":"не"},"4.17","Садња новог стабла са ископом јаме у постојећу фризу","ком",1295,{"$f":"SUMIFS('Plan unos i pregled'!$I$7:$I$788,'Plan unos i pregled'!$B$7:$B$788,'PLAN Rekapitulacija'!$N$7,'Plan unos i pregled'!$M$7:$M$788,'PLAN Rekapitulacija'!$N$6, 'Plan unos i pregled'!$E$7:$E$788,'PLAN Rekapitulacija'!$B48, 'Plan unos i pregled'!$C$7:$C$788,'PLAN Rekapitulacija'!F$4, 'Plan unos i pregled'!$A$7:$A$788,$D$3)","v":0},{"$f":"SUMIFS('Plan unos i pregled'!$I$7:$I$788,'Plan unos i pregled'!$B$7:$B$788,'PLAN Rekapitulacija'!$N$7,'Plan unos i pregled'!$M$7:$M$788,'PLAN Rekapitulacija'!$N$6, 'Plan unos i pregled'!$E$7:$E$788,'PLAN Rekapitulacija'!$B48, 'Plan unos i pregled'!$C$7:$C$788,'PLAN Rekapitulacija'!G$4, 'Plan unos i pregled'!$A$7:$A$788,$D$3)","v":0},{"$f":"SUMIFS('Plan unos i pregled'!$I$7:$I$788,'Plan unos i pregled'!$B$7:$B$788,'PLAN Rekapitulacija'!$N$7,'Plan unos i pregled'!$M$7:$M$788,'PLAN Rekapitulacija'!$N$6, 'Plan unos i pregled'!$E$7:$E$788,'PLAN Rekapitulacija'!$B48, 'Plan unos i pregled'!$C$7:$C$788,'PLAN Rekapitulacija'!H$4, 'Plan unos i pregled'!$A$7:$A$788,$D$3)","v":0},{"$f":"SUMIFS('Plan unos i pregled'!$I$7:$I$788,'Plan unos i pregled'!$B$7:$B$788,'PLAN Rekapitulacija'!$N$7,'Plan unos i pregled'!$M$7:$M$788,'PLAN Rekapitulacija'!$N$6, 'Plan unos i pregled'!$E$7:$E$788,'PLAN Rekapitulacija'!$B48, 'Plan unos i pregled'!$C$7:$C$788,'PLAN Rekapitulacija'!I$4, 'Plan unos i pregled'!$A$7:$A$788,$D$3)","v":0},0,0]
["не","4.17.1","Набавка саднице ","по рачуну",1,{"$f":"SUMIFS('Plan unos i pregled'!$I$7:$I$788,'Plan unos i pregled'!$B$7:$B$788,'PLAN Rekapitulacija'!$N$7,'Plan unos i pregled'!$M$7:$M$788,'PLAN Rekapitulacija'!$N$6, 'Plan unos i pregled'!$E$7:$E$788,'PLAN Rekapitulacija'!$B49, 'Plan unos i pregled'!$C$7:$C$788,'PLAN Rekapitulacija'!F$4, 'Plan unos i pregled'!$A$7:$A$788,$D$3)","v":0},{"$f":"SUMIFS('Plan unos i pregled'!$I$7:$I$788,'Plan unos i pregled'!$B$7:$B$788,'PLAN Rekapitulacija'!$N$7,'Plan unos i pregled'!$M$7:$M$788,'PLAN Rekapitulacija'!$N$6, 'Plan unos i pregled'!$E$7:$E$788,'PLAN Rekapitulacija'!$B49, 'Plan unos i pregled'!$C$7:$C$788,'PLAN Rekapitulacija'!G$4, 'Plan unos i pregled'!$A$7:$A$788,$D$3)","v":0},{"$f":"SUMIFS('Plan unos i pregled'!$I$7:$I$788,'Plan unos i pregled'!$B$7:$B$788,'PLAN Rekapitulacija'!$N$7,'Plan unos i pregled'!$M$7:$M$788,'PLAN Rekapitulacija'!$N$6, 'Plan unos i pregled'!$E$7:$E$788,'PLAN Rekapitulacija'!$B49, 'Plan unos i pregled'!$C$7:$C$788,'PLAN Rekapitulacija'!H$4, 'Plan unos i pregled'!$A$7:$A$788,$D$3)","v":0},{"$f":"SUMIFS('Plan unos i pregled'!$I$7:$I$788,'Plan unos i pregled'!$B$7:$B$788,'PLAN Rekapitulacija'!$N$7,'Plan unos i pregled'!$M$7:$M$788,'PLAN Rekapitulacija'!$N$6, 'Plan unos i pregled'!$E$7:$E$788,'PLAN Rekapitulacija'!$B49, 'Plan unos i pregled'!$C$7:$C$788,'PLAN Rekapitulacija'!I$4, 'Plan unos i pregled'!$A$7:$A$788,$D$3)","v":0},0,0]
["не","4.17.2","Заливанње","ком",31,{"$f":"SUMIFS('Plan unos i pregled'!$I$7:$I$788,'Plan unos i pregled'!$B$7:$B$788,'PLAN Rekapitulacija'!$N$7,'Plan unos i pregled'!$M$7:$M$788,'PLAN Rekapitulacija'!$N$6, 'Plan unos i pregled'!$E$7:$E$788,'PLAN Rekapitulacija'!$B50, 'Plan unos i pregled'!$C$7:$C$788,'PLAN Rekapitulacija'!F$4, 'Plan unos i pregled'!$A$7:$A$788,$D$3)","v":0},{"$f":"SUMIFS('Plan unos i pregled'!$I$7:$I$788,'Plan unos i pregled'!$B$7:$B$788,'PLAN Rekapitulacija'!$N$7,'Plan unos i pregled'!$M$7:$M$788,'PLAN Rekapitulacija'!$N$6, 'Plan unos i pregled'!$E$7:$E$788,'PLAN Rekapitulacija'!$B50, 'Plan unos i pregled'!$C$7:$C$788,'PLAN Rekapitulacija'!G$4, 'Plan unos i pregled'!$A$7:$A$788,$D$3)","v":0},{"$f":"SUMIFS('Plan unos i pregled'!$I$7:$I$788,'Plan unos i pregled'!$B$7:$B$788,'PLAN Rekapitulacija'!$N$7,'Plan unos i pregled'!$M$7:$M$788,'PLAN Rekapitulacija'!$N$6, 'Plan unos i pregled'!$E$7:$E$788,'PLAN Rekapitulacija'!$B50, 'Plan unos i pregled'!$C$7:$C$788,'PLAN Rekapitulacija'!H$4, 'Plan unos i pregled'!$A$7:$A$788,$D$3)","v":0},{"$f":"SUMIFS('Plan unos i pregled'!$I$7:$I$788,'Plan unos i pregled'!$B$7:$B$788,'PLAN Rekapitulacija'!$N$7,'Plan unos i pregled'!$M$7:$M$788,'PLAN Rekapitulacija'!$N$6, 'Plan unos i pregled'!$E$7:$E$788,'PLAN Rekapitulacija'!$B50, 'Plan unos i pregled'!$C$7:$C$788,'PLAN Rekapitulacija'!I$4, 'Plan unos i pregled'!$A$7:$A$788,$D$3)","v":0},0,0]
[{"$f":"IF(OR(J51:K54),\"штампа\",\"не\")","v":"не"},"4.18","Ручно сечење дрвећа.\nЦена обухвата: сечење стабла изнад корена, кресање грана, резање стабла и дебљих грана на погодну дужину и остављање на страну."]
["не","4.18.1","Пречник стабла од 10-20 cm","ком",518.54,{"$f":"SUMIFS('Plan unos i pregled'!$I$7:$I$788,'Plan unos i pregled'!$B$7:$B$788,'PLAN Rekapitulacija'!$N$7,'Plan unos i pregled'!$M$7:$M$788,'PLAN Rekapitulacija'!$N$6, 'Plan unos i pregled'!$E$7:$E$788,'PLAN Rekapitulacija'!$B52, 'Plan unos i pregled'!$C$7:$C$788,'PLAN Rekapitulacija'!F$4, 'Plan unos i pregled'!$A$7:$A$788,$D$3)","v":0},{"$f":"SUMIFS('Plan unos i pregled'!$I$7:$I$788,'Plan unos i pregled'!$B$7:$B$788,'PLAN Rekapitulacija'!$N$7,'Plan unos i pregled'!$M$7:$M$788,'PLAN Rekapitulacija'!$N$6, 'Plan unos i pregled'!$E$7:$E$788,'PLAN Rekapitulacija'!$B52, 'Plan unos i pregled'!$C$7:$C$788,'PLAN Rekapitulacija'!G$4, 'Plan unos i pregled'!$A$7:$A$788,$D$3)","v":0},{"$f":"SUMIFS('Plan unos i pregled'!$I$7:$I$788,'Plan unos i pregled'!$B$7:$B$788,'PLAN Rekapitulacija'!$N$7,'Plan unos i pregled'!$M$7:$M$788,'PLAN Rekapitulacija'!$N$6, 'Plan unos i pregled'!$E$7:$E$788,'PLAN Rekapitulacija'!$B52, 'Plan unos i pregled'!$C$7:$C$788,'PLAN Rekapitulacija'!H$4, 'Plan unos i pregled'!$A$7:$A$788,$D$3)","v":0},{"$f":"SUMIFS('Plan unos i pregled'!$I$7:$I$788,'Plan unos i pregled'!$B$7:$B$788,'PLAN Rekapitulacija'!$N$7,'Plan unos i pregled'!$M$7:$M$788,'PLAN Rekapitulacija'!$N$6, 'Plan unos i pregled'!$E$7:$E$788,'PLAN Rekapitulacija'!$B52, 'Plan unos i pregled'!$C$7:$C$788,'PLAN Rekapitulacija'!I$4, 'Plan unos i pregled'!$A$7:$A$788,$D$3)","v":0},{"$f":"SUM(F52:I52)","v":0},{"$f":"ROUND(E52*J52,2)","v":0}]
["не","4.18.2","Пречник стабла од 20-30 cm","ком",1337.28,{"$f":"SUMIFS('Plan unos i pregled'!$I$7:$I$788,'Plan unos i pregled'!$B$7:$B$788,'PLAN Rekapitulacija'!$N$7,'Plan unos i pregled'!$M$7:$M$788,'PLAN Rekapitulacija'!$N$6, 'Plan unos i pregled'!$E$7:$E$788,'PLAN Rekapitulacija'!$B53, 'Plan unos i pregled'!$C$7:$C$788,'PLAN Rekapitulacija'!F$4, 'Plan unos i pregled'!$A$7:$A$788,$D$3)","v":0},{"$f":"SUMIFS('Plan unos i pregled'!$I$7:$I$788,'Plan unos i pregled'!$B$7:$B$788,'PLAN Rekapitulacija'!$N$7,'Plan unos i pregled'!$M$7:$M$788,'PLAN Rekapitulacija'!$N$6, 'Plan unos i pregled'!$E$7:$E$788,'PLAN Rekapitulacija'!$B53, 'Plan unos i pregled'!$C$7:$C$788,'PLAN Rekapitulacija'!G$4, 'Plan unos i pregled'!$A$7:$A$788,$D$3)","v":0},{"$f":"SUMIFS('Plan unos i pregled'!$I$7:$I$788,'Plan unos i pregled'!$B$7:$B$788,'PLAN Rekapitulacija'!$N$7,'Plan unos i pregled'!$M$7:$M$788,'PLAN Rekapitulacija'!$N$6, 'Plan unos i pregled'!$E$7:$E$788,'PLAN Rekapitulacija'!$B53, 'Plan unos i pregled'!$C$7:$C$788,'PLAN Rekapitulacija'!H$4, 'Plan unos i pregled'!$A$7:$A$788,$D$3)","v":0},{"$f":"SUMIFS('Plan unos i pregled'!$I$7:$I$788,'Plan unos i pregled'!$B$7:$B$788,'PLAN Rekapitulacija'!$N$7,'Plan unos i pregled'!$M$7:$M$788,'PLAN Rekapitulacija'!$N$6, 'Plan unos i pregled'!$E$7:$E$788,'PLAN Rekapitulacija'!$B53, 'Plan unos i pregled'!$C$7:$C$788,'PLAN Rekapitulacija'!I$4, 'Plan unos i pregled'!$A$7:$A$788,$D$3)","v":0},0,0]
["не","4.18.3","Пречник стабла од 30-50 cm","ком",3493.31,{"$f":"SUMIFS('Plan unos i pregled'!$I$7:$I$788,'Plan unos i pregled'!$B$7:$B$788,'PLAN Rekapitulacija'!$N$7,'Plan unos i pregled'!$M$7:$M$788,'PLAN Rekapitulacija'!$N$6, 'Plan unos i pregled'!$E$7:$E$788,'PLAN Rekapitulacija'!$B54, 'Plan unos i pregled'!$C$7:$C$788,'PLAN Rekapitulacija'!F$4, 'Plan unos i pregled'!$A$7:$A$788,$D$3)","v":0},{"$f":"SUMIFS('Plan unos i pregled'!$I$7:$I$788,'Plan unos i pregled'!$B$7:$B$788,'PLAN Rekapitulacija'!$N$7,'Plan unos i pregled'!$M$7:$M$788,'PLAN Rekapitulacija'!$N$6, 'Plan unos i pregled'!$E$7:$E$788,'PLAN Rekapitulacija'!$B54, 'Plan unos i pregled'!$C$7:$C$788,'PLAN Rekapitulacija'!G$4, 'Plan unos i pregled'!$A$7:$A$788,$D$3)","v":0},{"$f":"SUMIFS('Plan unos i pregled'!$I$7:$I$788,'Plan unos i pregled'!$B$7:$B$788,'PLAN Rekapitulacija'!$N$7,'Plan unos i pregled'!$M$7:$M$788,'PLAN Rekapitulacija'!$N$6, 'Plan unos i pregled'!$E$7:$E$788,'PLAN Rekapitulacija'!$B54, 'Plan unos i pregled'!$C$7:$C$788,'PLAN Rekapitulacija'!H$4, 'Plan unos i pregled'!$A$7:$A$788,$D$3)","v":0},{"$f":"SUMIFS('Plan unos i pregled'!$I$7:$I$788,'Plan unos i pregled'!$B$7:$B$788,'PLAN Rekapitulacija'!$N$7,'Plan unos i pregled'!$M$7:$M$788,'PLAN Rekapitulacija'!$N$6, 'Plan unos i pregled'!$E$7:$E$788,'PLAN Rekapitulacija'!$B54, 'Plan unos i pregled'!$C$7:$C$788,'PLAN Rekapitulacija'!I$4, 'Plan unos i pregled'!$A$7:$A$788,$D$3)","v":0},{"$f":"SUM(F54:I54)","v":0},{"$f":"ROUND(E54*J54,2)","v":0}]
[{"$f":"IF(OR(J55:K57),\"штампа\",\"не\")","v":"штампа"},"4.19","Кресање грана са одлагањем на страну моторном тестером. Пречник грана"]
["штампа","4.19.1","Пречник грана од 0 - 10 cm","ком",256.38,{"$f":"SUMIFS('Plan unos i pregled'!$I$7:$I$788,'Plan unos i pregled'!$B$7:$B$788,'PLAN Rekapitulacija'!$N$7,'Plan unos i pregled'!$M$7:$M$788,'PLAN Rekapitulacija'!$N$6, 'Plan unos i pregled'!$E$7:$E$788,'PLAN Rekapitulacija'!$B56, 'Plan unos i pregled'!$C$7:$C$788,'PLAN Rekapitulacija'!F$4, 'Plan unos i pregled'!$A$7:$A$788,$D$3)","v":930},{"$f":"SUMIFS('Plan unos i pregled'!$I$7:$I$788,'Plan unos i pregled'!$B$7:$B$788,'PLAN Rekapitulacija'!$N$7,'Plan unos i pregled'!$M$7:$M$788,'PLAN Rekapitulacija'!$N$6, 'Plan unos i pregled'!$E$7:$E$788,'PLAN Rekapitulacija'!$B56, 'Plan unos i pregled'!$C$7:$C$788,'PLAN Rekapitulacija'!G$4, 'Plan unos i pregled'!$A$7:$A$788,$D$3)","v":12490},{"$f":"SUMIFS('Plan unos i pregled'!$I$7:$I$788,'Plan unos i pregled'!$B$7:$B$788,'PLAN Rekapitulacija'!$N$7,'Plan unos i pregled'!$M$7:$M$788,'PLAN Rekapitulacija'!$N$6, 'Plan unos i pregled'!$E$7:$E$788,'PLAN Rekapitulacija'!$B56, 'Plan unos i pregled'!$C$7:$C$788,'PLAN Rekapitulacija'!H$4, 'Plan unos i pregled'!$A$7:$A$788,$D$3)","v":0},{"$f":"SUMIFS('Plan unos i pregled'!$I$7:$I$788,'Plan unos i pregled'!$B$7:$B$788,'PLAN Rekapitulacija'!$N$7,'Plan unos i pregled'!$M$7:$M$788,'PLAN Rekapitulacija'!$N$6, 'Plan unos i pregled'!$E$7:$E$788,'PLAN Rekapitulacija'!$B56, 'Plan unos i pregled'!$C$7:$C$788,'PLAN Rekapitulacija'!I$4, 'Plan unos i pregled'!$A$7:$A$788,$D$3)","v":0},{"$f":"SUM(F56:I56)","v":13420},{"$f":"ROUND(E56*J56,2)","v":3440619.6}]
["не","4.19.2","Пречник грана од 0 - 20 cm","ком",640.96,{"$f":"SUMIFS('Plan unos i pregled'!$I$7:$I$788,'Plan unos i pregled'!$B$7:$B$788,'PLAN Rekapitulacija'!$N$7,'Plan unos i pregled'!$M$7:$M$788,'PLAN Rekapitulacija'!$N$6, 'Plan unos i pregled'!$E$7:$E$788,'PLAN Rekapitulacija'!$B57, 'Plan unos i pregled'!$C$7:$C$788,'PLAN Rekapitulacija'!F$4, 'Plan unos i pregled'!$A$7:$A$788,$D$3)","v":0},{"$f":"SUMIFS('Plan unos i pregled'!$I$7:$I$788,'Plan unos i pregled'!$B$7:$B$788,'PLAN Rekapitulacija'!$N$7,'Plan unos i pregled'!$M$7:$M$788,'PLAN Rekapitulacija'!$N$6, 'Plan unos i pregled'!$E$7:$E$788,'PLAN Rekapitulacija'!$B57, 'Plan unos i pregled'!$C$7:$C$788,'PLAN Rekapitulacija'!G$4, 'Plan unos i pregled'!$A$7:$A$788,$D$3)","v":0},{"$f":"SUMIFS('Plan unos i pregled'!$I$7:$I$788,'Plan unos i pregled'!$B$7:$B$788,'PLAN Rekapitulacija'!$N$7,'Plan unos i pregled'!$M$7:$M$788,'PLAN Rekapitulacija'!$N$6, 'Plan unos i pregled'!$E$7:$E$788,'PLAN Rekapitulacija'!$B57, 'Plan unos i pregled'!$C$7:$C$788,'PLAN Rekapitulacija'!H$4, 'Plan unos i pregled'!$A$7:$A$788,$D$3)","v":0},{"$f":"SUMIFS('Plan unos i pregled'!$I$7:$I$788,'Plan unos i pregled'!$B$7:$B$788,'PLAN Rekapitulacija'!$N$7,'Plan unos i pregled'!$M$7:$M$788,'PLAN Rekapitulacija'!$N$6, 'Plan unos i pregled'!$E$7:$E$788,'PLAN Rekapitulacija'!$B57, 'Plan unos i pregled'!$C$7:$C$788,'PLAN Rekapitulacija'!I$4, 'Plan unos i pregled'!$A$7:$A$788,$D$3)","v":0},0,0]
[{"$f":"IF(OR(J58:K62),\"штампа\",\"не\")","v":"не"},"4.20","Кресање грана дрвореда које сметају саобраћају и другим објектима са слагањем на страну"]
["не","4.20.1","Пречника до 10 cm","ком",62.22,{"$f":"SUMIFS('Plan unos i pregled'!$I$7:$I$788,'Plan unos i pregled'!$B$7:$B$788,'PLAN Rekapitulacija'!$N$7,'Plan unos i pregled'!$M$7:$M$788,'PLAN Rekapitulacija'!$N$6, 'Plan unos i pregled'!$E$7:$E$788,'PLAN Rekapitulacija'!$B59, 'Plan unos i pregled'!$C$7:$C$788,'PLAN Rekapitulacija'!F$4, 'Plan unos i pregled'!$A$7:$A$788,$D$3)","v":0},{"$f":"SUMIFS('Plan unos i pregled'!$I$7:$I$788,'Plan unos i pregled'!$B$7:$B$788,'PLAN Rekapitulacija'!$N$7,'Plan unos i pregled'!$M$7:$M$788,'PLAN Rekapitulacija'!$N$6, 'Plan unos i pregled'!$E$7:$E$788,'PLAN Rekapitulacija'!$B59, 'Plan unos i pregled'!$C$7:$C$788,'PLAN Rekapitulacija'!G$4, 'Plan unos i pregled'!$A$7:$A$788,$D$3)","v":0},{"$f":"SUMIFS('Plan unos i pregled'!$I$7:$I$788,'Plan unos i pregled'!$B$7:$B$788,'PLAN Rekapitulacija'!$N$7,'Plan unos i pregled'!$M$7:$M$788,'PLAN Rekapitulacija'!$N$6, 'Plan unos i pregled'!$E$7:$E$788,'PLAN Rekapitulacija'!$B59, 'Plan unos i pregled'!$C$7:$C$788,'PLAN Rekapitulacija'!H$4, 'Plan unos i pregled'!$A$7:$A$788,$D$3)","v":0},{"$f":"SUMIFS('Plan unos i pregled'!$I$7:$I$788,'Plan unos i pregled'!$B$7:$B$788,'PLAN Rekapitulacija'!$N$7,'Plan unos i pregled'!$M$7:$M$788,'PLAN Rekapitulacija'!$N$6, 'Plan unos i pregled'!$E$7:$E$788,'PLAN Rekapitulacija'!$B59, 'Plan unos i pregled'!$C$7:$C$788,'PLAN Rekapitulacija'!I$4, 'Plan unos i pregled'!$A$7:$A$788,$D$3)","v":0},{"$f":"SUM(F59:I59)","v":0},{"$f":"ROUND(E59*J59,2)","v":0}]
["не","4.20.2","Пречника 10-20 cm","ком",87.23,{"$f":"SUMIFS('Plan unos i pregled'!$I$7:$I$788,'Plan unos i pregled'!$B$7:$B$788,'PLAN Rekapitulacija'!$N$7,'Plan unos i pregled'!$M$7:$M$788,'PLAN Rekapitulacija'!$N$6, 'Plan unos i pregled'!$E$7:$E$788,'PLAN Rekapitulacija'!$B60, 'Plan unos i pregled'!$C$7:$C$788,'PLAN Rekapitulacija'!F$4, 'Plan unos i pregled'!$A$7:$A$788,$D$3)","v":0},{"$f":"SUMIFS('Plan unos i pregled'!$I$7:$I$788,'Plan unos i pregled'!$B$7:$B$788,'PLAN Rekapitulacija'!$N$7,'Plan unos i pregled'!$M$7:$M$788,'PLAN Rekapitulacija'!$N$6, 'Plan unos i pregled'!$E$7:$E$788,'PLAN Rekapitulacija'!$B60, 'Plan unos i pregled'!$C$7:$C$788,'PLAN Rekapitulacija'!G$4, 'Plan unos i pregled'!$A$7:$A$788,$D$3)","v":0},{"$f":"SUMIFS('Plan unos i pregled'!$I$7:$I$788,'Plan unos i pregled'!$B$7:$B$788,'PLAN Rekapitulacija'!$N$7,'Plan unos i pregled'!$M$7:$M$788,'PLAN Rekapitulacija'!$N$6, 'Plan unos i pregled'!$E$7:$E$788,'PLAN Rekapitulacija'!$B60, 'Plan unos i pregled'!$C$7:$C$788,'PLAN Rekapitulacija'!H$4, 'Plan unos i pregled'!$A$7:$A$788,$D$3)","v":0},{"$f":"SUMIFS('Plan unos i pregled'!$I$7:$I$788,'Plan unos i pregled'!$B$7:$B$788,'PLAN Rekapitulacija'!$N$7,'Plan unos i pregled'!$M$7:$M$788,'PLAN Rekapitulacija'!$N$6, 'Plan unos i pregled'!$E$7:$E$788,'PLAN Rekapitulacija'!$B60, 'Plan unos i pregled'!$C$7:$C$788,'PLAN Rekapitulacija'!I$4, 'Plan unos i pregled'!$A$7:$A$788,$D$3)","v":0},0,0]
["не","4.20.3","Пречника 20-30 cm","ком",141.91,{"$f":"SUMIFS('Plan unos i pregled'!$I$7:$I$788,'Plan unos i pregled'!$B$7:$B$788,'PLAN Rekapitulacija'!$N$7,'Plan unos i pregled'!$M$7:$M$788,'PLAN Rekapitulacija'!$N$6, 'Plan unos i pregled'!$E$7:$E$788,'PLAN Rekapitulacija'!$B61, 'Plan unos i pregled'!$C$7:$C$788,'PLAN Rekapitulacija'!F$4, 'Plan unos i pregled'!$A$7:$A$788,$D$3)","v":0},{"$f":"SUMIFS('Plan unos i pregled'!$I$7:$I$788,'Plan unos i pregled'!$B$7:$B$788,'PLAN Rekapitulacija'!$N$7,'Plan unos i pregled'!$M$7:$M$788,'PLAN Rekapitulacija'!$N$6, 'Plan unos i pregled'!$E$7:$E$788,'PLAN Rekapitulacija'!$B61, 'Plan unos i pregled'!$C$7:$C$788,'PLAN Rekapitulacija'!G$4, 'Plan unos i pregled'!$A$7:$A$788,$D$3)","v":0},{"$f":"SUMIFS('Plan unos i pregled'!$I$7:$I$788,'Plan unos i pregled'!$B$7:$B$788,'PLAN Rekapitulacija'!$N$7,'Plan unos i pregled'!$M$7:$M$788,'PLAN Rekapitulacija'!$N$6, 'Plan unos i pregled'!$E$7:$E$788,'PLAN Rekapitulacija'!$B61, 'Plan unos i pregled'!$C$7:$C$788,'PLAN Rekapitulacija'!H$4, 'Plan unos i pregled'!$A$7:$A$788,$D$3)","v":0},{"$f":"SUMIFS('Plan unos i pregled'!$I$7:$I$788,'Plan unos i pregled'!$B$7:$B$788,'PLAN Rekapitulacija'!$N$7,'Plan unos i pregled'!$M$7:$M$788,'PLAN Rekapitulacija'!$N$6, 'Plan unos i pregled'!$E$7:$E$788,'PLAN Rekapitulacija'!$B61, 'Plan unos i pregled'!$C$7:$C$788,'PLAN Rekapitulacija'!I$4, 'Plan unos i pregled'!$A$7:$A$788,$D$3)","v":0},0,0]
["не","4.20.4","Пречника преко 30 cm","ком",283.83,{"$f":"SUMIFS('Plan unos i pregled'!$I$7:$I$788,'Plan unos i pregled'!$B$7:$B$788,'PLAN Rekapitulacija'!$N$7,'Plan unos i pregled'!$M$7:$M$788,'PLAN Rekapitulacija'!$N$6, 'Plan unos i pregled'!$E$7:$E$788,'PLAN Rekapitulacija'!$B62, 'Plan unos i pregled'!$C$7:$C$788,'PLAN Rekapitulacija'!F$4, 'Plan unos i pregled'!$A$7:$A$788,$D$3)","v":0},{"$f":"SUMIFS('Plan unos i pregled'!$I$7:$I$788,'Plan unos i pregled'!$B$7:$B$788,'PLAN Rekapitulacija'!$N$7,'Plan unos i pregled'!$M$7:$M$788,'PLAN Rekapitulacija'!$N$6, 'Plan unos i pregled'!$E$7:$E$788,'PLAN Rekapitulacija'!$B62, 'Plan unos i pregled'!$C$7:$C$788,'PLAN Rekapitulacija'!G$4, 'Plan unos i pregled'!$A$7:$A$788,$D$3)","v":0},{"$f":"SUMIFS('Plan unos i pregled'!$I$7:$I$788,'Plan unos i pregled'!$B$7:$B$788,'PLAN Rekapitulacija'!$N$7,'Plan unos i pregled'!$M$7:$M$788,'PLAN Rekapitulacija'!$N$6, 'Plan unos i pregled'!$E$7:$E$788,'PLAN Rekapitulacija'!$B62, 'Plan unos i pregled'!$C$7:$C$788,'PLAN Rekapitulacija'!H$4, 'Plan unos i pregled'!$A$7:$A$788,$D$3)","v":0},{"$f":"SUMIFS('Plan unos i pregled'!$I$7:$I$788,'Plan unos i pregled'!$B$7:$B$788,'PLAN Rekapitulacija'!$N$7,'Plan unos i pregled'!$M$7:$M$788,'PLAN Rekapitulacija'!$N$6, 'Plan unos i pregled'!$E$7:$E$788,'PLAN Rekapitulacija'!$B62, 'Plan unos i pregled'!$C$7:$C$788,'PLAN Rekapitulacija'!I$4, 'Plan unos i pregled'!$A$7:$A$788,$D$3)","v":0},0,0]
[{"$f":"IF(OR(J63:K66),\"штампа\",\"не\")","v":"не"},"4.21","Машинско сечење дрвећа са вађењем пањева ровокопачем. Цена обухвата рад радника са моторном тестером на сечењу стабала са кресањеем грана и вађење пањева ровокопачем са остављањем на страну"]
["не","4.21.1","Пречник стабла од 10 -20 cm","ком",590,{"$f":"SUMIFS('Plan unos i pregled'!$I$7:$I$788,'Plan unos i pregled'!$B$7:$B$788,'PLAN Rekapitulacija'!$N$7,'Plan unos i pregled'!$M$7:$M$788,'PLAN Rekapitulacija'!$N$6, 'Plan unos i pregled'!$E$7:$E$788,'PLAN Rekapitulacija'!$B64, 'Plan unos i pregled'!$C$7:$C$788,'PLAN Rekapitulacija'!F$4, 'Plan unos i pregled'!$A$7:$A$788,$D$3)","v":0},{"$f":"SUMIFS('Plan unos i pregled'!$I$7:$I$788,'Plan unos i pregled'!$B$7:$B$788,'PLAN Rekapitulacija'!$N$7,'Plan unos i pregled'!$M$7:$M$788,'PLAN Rekapitulacija'!$N$6, 'Plan unos i pregled'!$E$7:$E$788,'PLAN Rekapitulacija'!$B64, 'Plan unos i pregled'!$C$7:$C$788,'PLAN Rekapitulacija'!G$4, 'Plan unos i pregled'!$A$7:$A$788,$D$3)","v":0},{"$f":"SUMIFS('Plan unos i pregled'!$I$7:$I$788,'Plan unos i pregled'!$B$7:$B$788,'PLAN Rekapitulacija'!$N$7,'Plan unos i pregled'!$M$7:$M$788,'PLAN Rekapitulacija'!$N$6, 'Plan unos i pregled'!$E$7:$E$788,'PLAN Rekapitulacija'!$B64, 'Plan unos i pregled'!$C$7:$C$788,'PLAN Rekapitulacija'!H$4, 'Plan unos i pregled'!$A$7:$A$788,$D$3)","v":0},{"$f":"SUMIFS('Plan unos i pregled'!$I$7:$I$788,'Plan unos i pregled'!$B$7:$B$788,'PLAN Rekapitulacija'!$N$7,'Plan unos i pregled'!$M$7:$M$788,'PLAN Rekapitulacija'!$N$6, 'Plan unos i pregled'!$E$7:$E$788,'PLAN Rekapitulacija'!$B64, 'Plan unos i pregled'!$C$7:$C$788,'PLAN Rekapitulacija'!I$4, 'Plan unos i pregled'!$A$7:$A$788,$D$3)","v":0},{"$f":"SUM(F64:I64)","v":0},{"$f":"ROUND(E64*J64,2)","v":0}]
["не","4.21.2","Пречник стабла од 20 -30 cm","ком",1500,{"$f":"SUMIFS('Plan unos i pregled'!$I$7:$I$788,'Plan unos i pregled'!$B$7:$B$788,'PLAN Rekapitulacija'!$N$7,'Plan unos i pregled'!$M$7:$M$788,'PLAN Rekapitulacija'!$N$6, 'Plan unos i pregled'!$E$7:$E$788,'PLAN Rekapitulacija'!$B65, 'Plan unos i pregled'!$C$7:$C$788,'PLAN Rekapitulacija'!F$4, 'Plan unos i pregled'!$A$7:$A$788,$D$3)","v":0},{"$f":"SUMIFS('Plan unos i pregled'!$I$7:$I$788,'Plan unos i pregled'!$B$7:$B$788,'PLAN Rekapitulacija'!$N$7,'Plan unos i pregled'!$M$7:$M$788,'PLAN Rekapitulacija'!$N$6, 'Plan unos i pregled'!$E$7:$E$788,'PLAN Rekapitulacija'!$B65, 'Plan unos i pregled'!$C$7:$C$788,'PLAN Rekapitulacija'!G$4, 'Plan unos i pregled'!$A$7:$A$788,$D$3)","v":0},{"$f":"SUMIFS('Plan unos i pregled'!$I$7:$I$788,'Plan unos i pregled'!$B$7:$B$788,'PLAN Rekapitulacija'!$N$7,'Plan unos i pregled'!$M$7:$M$788,'PLAN Rekapitulacija'!$N$6, 'Plan unos i pregled'!$E$7:$E$788,'PLAN Rekapitulacija'!$B65, 'Plan unos i pregled'!$C$7:$C$788,'PLAN Rekapitulacija'!H$4, 'Plan unos i pregled'!$A$7:$A$788,$D$3)","v":0},{"$f":"SUMIFS('Plan unos i pregled'!$I$7:$I$788,'Plan unos i pregled'!$B$7:$B$788,'PLAN Rekapitulacija'!$N$7,'Plan unos i pregled'!$M$7:$M$788,'PLAN Rekapitulacija'!$N$6, 'Plan unos i pregled'!$E$7:$E$788,'PLAN Rekapitulacija'!$B65, 'Plan unos i pregled'!$C$7:$C$788,'PLAN Rekapitulacija'!I$4, 'Plan unos i pregled'!$A$7:$A$788,$D$3)","v":0},0,0]
["не","4.21.3","Пречник стабла од 30 -50 cm","ком",3500,{"$f":"SUMIFS('Plan unos i pregled'!$I$7:$I$788,'Plan unos i pregled'!$B$7:$B$788,'PLAN Rekapitulacija'!$N$7,'Plan unos i pregled'!$M$7:$M$788,'PLAN Rekapitulacija'!$N$6, 'Plan unos i pregled'!$E$7:$E$788,'PLAN Rekapitulacija'!$B66, 'Plan unos i pregled'!$C$7:$C$788,'PLAN Rekapitulacija'!F$4, 'Plan unos i pregled'!$A$7:$A$788,$D$3)","v":0},{"$f":"SUMIFS('Plan unos i pregled'!$I$7:$I$788,'Plan unos i pregled'!$B$7:$B$788,'PLAN Rekapitulacija'!$N$7,'Plan unos i pregled'!$M$7:$M$788,'PLAN Rekapitulacija'!$N$6, 'Plan unos i pregled'!$E$7:$E$788,'PLAN Rekapitulacija'!$B66, 'Plan unos i pregled'!$C$7:$C$788,'PLAN Rekapitulacija'!G$4, 'Plan unos i pregled'!$A$7:$A$788,$D$3)","v":0},{"$f":"SUMIFS('Plan unos i pregled'!$I$7:$I$788,'Plan unos i pregled'!$B$7:$B$788,'PLAN Rekapitulacija'!$N$7,'Plan unos i pregled'!$M$7:$M$788,'PLAN Rekapitulacija'!$N$6, 'Plan unos i pregled'!$E$7:$E$788,'PLAN Rekapitulacija'!$B66, 'Plan unos i pregled'!$C$7:$C$788,'PLAN Rekapitulacija'!H$4, 'Plan unos i pregled'!$A$7:$A$788,$D$3)","v":0},{"$f":"SUMIFS('Plan unos i pregled'!$I$7:$I$788,'Plan unos i pregled'!$B$7:$B$788,'PLAN Rekapitulacija'!$N$7,'Plan unos i pregled'!$M$7:$M$788,'PLAN Rekapitulacija'!$N$6, 'Plan unos i pregled'!$E$7:$E$788,'PLAN Rekapitulacija'!$B66, 'Plan unos i pregled'!$C$7:$C$788,'PLAN Rekapitulacija'!I$4, 'Plan unos i pregled'!$A$7:$A$788,$D$3)","v":0},0,0]
["штампа","4.22","Сечење густог шибља преко 50 ком на m²","m2",60,{"$f":"SUMIFS('Plan unos i pregled'!$I$7:$I$788,'Plan unos i pregled'!$B$7:$B$788,'PLAN Rekapitulacija'!$N$7,'Plan unos i pregled'!$M$7:$M$788,'PLAN Rekapitulacija'!$N$6, 'Plan unos i pregled'!$E$7:$E$788,'PLAN Rekapitulacija'!$B67, 'Plan unos i pregled'!$C$7:$C$788,'PLAN Rekapitulacija'!F$4, 'Plan unos i pregled'!$A$7:$A$788,$D$3)","v":3960},{"$f":"SUMIFS('Plan unos i pregled'!$I$7:$I$788,'Plan unos i pregled'!$B$7:$B$788,'PLAN Rekapitulacija'!$N$7,'Plan unos i pregled'!$M$7:$M$788,'PLAN Rekapitulacija'!$N$6, 'Plan unos i pregled'!$E$7:$E$788,'PLAN Rekapitulacija'!$B67, 'Plan unos i pregled'!$C$7:$C$788,'PLAN Rekapitulacija'!G$4, 'Plan unos i pregled'!$A$7:$A$788,$D$3)","v":2314},{"$f":"SUMIFS('Plan unos i pregled'!$I$7:$I$788,'Plan unos i pregled'!$B$7:$B$788,'PLAN Rekapitulacija'!$N$7,'Plan unos i pregled'!$M$7:$M$788,'PLAN Rekapitulacija'!$N$6, 'Plan unos i pregled'!$E$7:$E$788,'PLAN Rekapitulacija'!$B67, 'Plan unos i pregled'!$C$7:$C$788,'PLAN Rekapitulacija'!H$4, 'Plan unos i pregled'!$A$7:$A$788,$D$3)","v":0},{"$f":"SUMIFS('Plan unos i pregled'!$I$7:$I$788,'Plan unos i pregled'!$B$7:$B$788,'PLAN Rekapitulacija'!$N$7,'Plan unos i pregled'!$M$7:$M$788,'PLAN Rekapitulacija'!$N$6, 'Plan unos i pregled'!$E$7:$E$788,'PLAN Rekapitulacija'!$B67, 'Plan unos i pregled'!$C$7:$C$788,'PLAN Rekapitulacija'!I$4, 'Plan unos i pregled'!$A$7:$A$788,$D$3)","v":0},6274,376440]
["не","4.23","Утовар и одвоз шибља на 1 km","m2",32,{"$f":"SUMIFS('Plan unos i pregled'!$I$7:$I$788,'Plan unos i pregled'!$B$7:$B$788,'PLAN Rekapitulacija'!$N$7,'Plan unos i pregled'!$M$7:$M$788,'PLAN Rekapitulacija'!$N$6, 'Plan unos i pregled'!$E$7:$E$788,'PLAN Rekapitulacija'!$B68, 'Plan unos i pregled'!$C$7:$C$788,'PLAN Rekapitulacija'!F$4, 'Plan unos i pregled'!$A$7:$A$788,$D$3)","v":0},{"$f":"SUMIFS('Plan unos i pregled'!$I$7:$I$788,'Plan unos i pregled'!$B$7:$B$788,'PLAN Rekapitulacija'!$N$7,'Plan unos i pregled'!$M$7:$M$788,'PLAN Rekapitulacija'!$N$6, 'Plan unos i pregled'!$E$7:$E$788,'PLAN Rekapitulacija'!$B68, 'Plan unos i pregled'!$C$7:$C$788,'PLAN Rekapitulacija'!G$4, 'Plan unos i pregled'!$A$7:$A$788,$D$3)","v":0},{"$f":"SUMIFS('Plan unos i pregled'!$I$7:$I$788,'Plan unos i pregled'!$B$7:$B$788,'PLAN Rekapitulacija'!$N$7,'Plan unos i pregled'!$M$7:$M$788,'PLAN Rekapitulacija'!$N$6, 'Plan unos i pregled'!$E$7:$E$788,'PLAN Rekapitulacija'!$B68, 'Plan unos i pregled'!$C$7:$C$788,'PLAN Rekapitulacija'!H$4, 'Plan unos i pregled'!$A$7:$A$788,$D$3)","v":0},{"$f":"SUMIFS('Plan unos i pregled'!$I$7:$I$788,'Plan unos i pregled'!$B$7:$B$788,'PLAN Rekapitulacija'!$N$7,'Plan unos i pregled'!$M$7:$M$788,'PLAN Rekapitulacija'!$N$6, 'Plan unos i pregled'!$E$7:$E$788,'PLAN Rekapitulacija'!$B68, 'Plan unos i pregled'!$C$7:$C$788,'PLAN Rekapitulacija'!I$4, 'Plan unos i pregled'!$A$7:$A$788,$D$3)","v":0},0,0]
["не","4.24","Ручно чишћење дивљих депонија (без одвоза)","m3",1800,{"$f":"SUMIFS('Plan unos i pregled'!$I$7:$I$788,'Plan unos i pregled'!$B$7:$B$788,'PLAN Rekapitulacija'!$N$7,'Plan unos i pregled'!$M$7:$M$788,'PLAN Rekapitulacija'!$N$6, 'Plan unos i pregled'!$E$7:$E$788,'PLAN Rekapitulacija'!$B69, 'Plan unos i pregled'!$C$7:$C$788,'PLAN Rekapitulacija'!F$4, 'Plan unos i pregled'!$A$7:$A$788,$D$3)","v":0},{"$f":"SUMIFS('Plan unos i pregled'!$I$7:$I$788,'Plan unos i pregled'!$B$7:$B$788,'PLAN Rekapitulacija'!$N$7,'Plan unos i pregled'!$M$7:$M$788,'PLAN Rekapitulacija'!$N$6, 'Plan unos i pregled'!$E$7:$E$788,'PLAN Rekapitulacija'!$B69, 'Plan unos i pregled'!$C$7:$C$788,'PLAN Rekapitulacija'!G$4, 'Plan unos i pregled'!$A$7:$A$788,$D$3)","v":0},{"$f":"SUMIFS('Plan unos i pregled'!$I$7:$I$788,'Plan unos i pregled'!$B$7:$B$788,'PLAN Rekapitulacija'!$N$7,'Plan unos i pregled'!$M$7:$M$788,'PLAN Rekapitulacija'!$N$6, 'Plan unos i pregled'!$E$7:$E$788,'PLAN Rekapitulacija'!$B69, 'Plan unos i pregled'!$C$7:$C$788,'PLAN Rekapitulacija'!H$4, 'Plan unos i pregled'!$A$7:$A$788,$D$3)","v":0},{"$f":"SUMIFS('Plan unos i pregled'!$I$7:$I$788,'Plan unos i pregled'!$B$7:$B$788,'PLAN Rekapitulacija'!$N$7,'Plan unos i pregled'!$M$7:$M$788,'PLAN Rekapitulacija'!$N$6, 'Plan unos i pregled'!$E$7:$E$788,'PLAN Rekapitulacija'!$B69, 'Plan unos i pregled'!$C$7:$C$788,'PLAN Rekapitulacija'!I$4, 'Plan unos i pregled'!$A$7:$A$788,$D$3)","v":0},0,0]
[{"$f":"IF(OR(J70:K72),\"штампа\",\"не\")","v":"не"},"4.25","Ручно чишћење наноса из цевастих пропуста. Цена  обухвата превоз радника, одстрањивање свих наноса и отпадака из пропуста са утоваром у колица, превоз уз косину на 10 m, ручни утовар у камион и превоз на депонију",null,0]
[{"$f":"IF(OR(J71:K71),\"штампа\",\"не\")","v":"не"},"4.25.1","одлагањем на страну","m3",1870,{"$f":"SUMIFS('Plan unos i pregled'!$I$7:$I$788,'Plan unos i pregled'!$B$7:$B$788,'PLAN Rekapitulacija'!$N$7,'Plan unos i pregled'!$M$7:$M$788,'PLAN Rekapitulacija'!$N$6, 'Plan unos i pregled'!$E$7:$E$788,'PLAN Rekapitulacija'!$B71, 'Plan unos i pregled'!$C$7:$C$788,'PLAN Rekapitulacija'!F$4, 'Plan unos i pregled'!$A$7:$A$788,$D$3)","v":0},{"$f":"SUMIFS('Plan unos i pregled'!$I$7:$I$788,'Plan unos i pregled'!$B$7:$B$788,'PLAN Rekapitulacija'!$N$7,'Plan unos i pregled'!$M$7:$M$788,'PLAN Rekapitulacija'!$N$6, 'Plan unos i pregled'!$E$7:$E$788,'PLAN Rekapitulacija'!$B71, 'Plan unos i pregled'!$C$7:$C$788,'PLAN Rekapitulacija'!G$4, 'Plan unos i pregled'!$A$7:$A$788,$D$3)","v":0},{"$f":"SUMIFS('Plan unos i pregled'!$I$7:$I$788,'Plan unos i pregled'!$B$7:$B$788,'PLAN Rekapitulacija'!$N$7,'Plan unos i pregled'!$M$7:$M$788,'PLAN Rekapitulacija'!$N$6, 'Plan unos i pregled'!$E$7:$E$788,'PLAN Rekapitulacija'!$B71, 'Plan unos i pregled'!$C$7:$C$788,'PLAN Rekapitulacija'!H$4, 'Plan unos i pregled'!$A$7:$A$788,$D$3)","v":0},{"$f":"SUMIFS('Plan unos i pregled'!$I$7:$I$788,'Plan unos i pregled'!$B$7:$B$788,'PLAN Rekapitulacija'!$N$7,'Plan unos i pregled'!$M$7:$M$788,'PLAN Rekapitulacija'!$N$6, 'Plan unos i pregled'!$E$7:$E$788,'PLAN Rekapitulacija'!$B71, 'Plan unos i pregled'!$C$7:$C$788,'PLAN Rekapitulacija'!I$4, 'Plan unos i pregled'!$A$7:$A$788,$D$3)","v":0},{"$f":"SUM(F71:I71)","v":0},{"$f":"ROUND(E71*J71,2)","v":0}]
["не","4.25.2","са превозом на 2 km","m3",2130,{"$f":"SUMIFS('Plan unos i pregled'!$I$7:$I$788,'Plan unos i pregled'!$B$7:$B$788,'PLAN Rekapitulacija'!$N$7,'Plan unos i pregled'!$M$7:$M$788,'PLAN Rekapitulacija'!$N$6, 'Plan unos i pregled'!$E$7:$E$788,'PLAN Rekapitulacija'!$B72, 'Plan unos i pregled'!$C$7:$C$788,'PLAN Rekapitulacija'!F$4, 'Plan unos i pregled'!$A$7:$A$788,$D$3)","v":0},{"$f":"SUMIFS('Plan unos i pregled'!$I$7:$I$788,'Plan unos i pregled'!$B$7:$B$788,'PLAN Rekapitulacija'!$N$7,'Plan unos i pregled'!$M$7:$M$788,'PLAN Rekapitulacija'!$N$6, 'Plan unos i pregled'!$E$7:$E$788,'PLAN Rekapitulacija'!$B72, 'Plan unos i pregled'!$C$7:$C$788,'PLAN Rekapitulacija'!G$4, 'Plan unos i pregled'!$A$7:$A$788,$D$3)","v":0},{"$f":"SUMIFS('Plan unos i pregled'!$I$7:$I$788,'Plan unos i pregled'!$B$7:$B$788,'PLAN Rekapitulacija'!$N$7,'Plan unos i pregled'!$M$7:$M$788,'PLAN Rekapitulacija'!$N$6, 'Plan unos i pregled'!$E$7:$E$788,'PLAN Rekapitulacija'!$B72, 'Plan unos i pregled'!$C$7:$C$788,'PLAN Rekapitulacija'!H$4, 'Plan unos i pregled'!$A$7:$A$788,$D$3)","v":0},{"$f":"SUMIFS('Plan unos i pregled'!$I$7:$I$788,'Plan unos i pregled'!$B$7:$B$788,'PLAN Rekapitulacija'!$N$7,'Plan unos i pregled'!$M$7:$M$788,'PLAN Rekapitulacija'!$N$6, 'Plan unos i pregled'!$E$7:$E$788,'PLAN Rekapitulacija'!$B72, 'Plan unos i pregled'!$C$7:$C$788,'PLAN Rekapitulacija'!I$4, 'Plan unos i pregled'!$A$7:$A$788,$D$3)","v":0},0,0]
["штампа","4.26","Кошење траве на слободним површинама косачицом прикљученом на трактор","m2",4.3499999999999996,{"$f":"SUMIFS('Plan unos i pregled'!$I$7:$I$788,'Plan unos i pregled'!$B$7:$B$788,'PLAN Rekapitulacija'!$N$7,'Plan unos i pregled'!$M$7:$M$788,'PLAN Rekapitulacija'!$N$6, 'Plan unos i pregled'!$E$7:$E$788,'PLAN Rekapitulacija'!$B73, 'Plan unos i pregled'!$C$7:$C$788,'PLAN Rekapitulacija'!F$4, 'Plan unos i pregled'!$A$7:$A$788,$D$3)","v":0},{"$f":"SUMIFS('Plan unos i pregled'!$I$7:$I$788,'Plan unos i pregled'!$B$7:$B$788,'PLAN Rekapitulacija'!$N$7,'Plan unos i pregled'!$M$7:$M$788,'PLAN Rekapitulacija'!$N$6, 'Plan unos i pregled'!$E$7:$E$788,'PLAN Rekapitulacija'!$B73, 'Plan unos i pregled'!$C$7:$C$788,'PLAN Rekapitulacija'!G$4, 'Plan unos i pregled'!$A$7:$A$788,$D$3)","v":0},{"$f":"SUMIFS('Plan unos i pregled'!$I$7:$I$788,'Plan unos i pregled'!$B$7:$B$788,'PLAN Rekapitulacija'!$N$7,'Plan unos i pregled'!$M$7:$M$788,'PLAN Rekapitulacija'!$N$6, 'Plan unos i pregled'!$E$7:$E$788,'PLAN Rekapitulacija'!$B73, 'Plan unos i pregled'!$C$7:$C$788,'PLAN Rekapitulacija'!H$4, 'Plan unos i pregled'!$A$7:$A$788,$D$3)","v":14036},{"$f":"SUMIFS('Plan unos i pregled'!$I$7:$I$788,'Plan unos i pregled'!$B$7:$B$788,'PLAN Rekapitulacija'!$N$7,'Plan unos i pregled'!$M$7:$M$788,'PLAN Rekapitulacija'!$N$6, 'Plan unos i pregled'!$E$7:$E$788,'PLAN Rekapitulacija'!$B73, 'Plan unos i pregled'!$C$7:$C$788,'PLAN Rekapitulacija'!I$4, 'Plan unos i pregled'!$A$7:$A$788,$D$3)","v":0},14036,61056.6]
[{"$f":"IF(OR(J74:K74),\"штампа\",\"не\")","v":"штампа"},null,"УКУПНО:",null,null,{"$f":"SUMPRODUCT($E$33:$E$73,F33:F73)","v":821886.6},{"$f":"SUMPRODUCT($E$33:$E$73,G33:G73)","v":3389105.6999999997},{"$f":"SUMPRODUCT($E$33:$E$73,H33:H73)","v":307907.09999999998},{"$f":"SUMPRODUCT($E$33:$E$73,I33:I73)","v":1071026},null,{"$f":"SUM(K31:K73)","v":5589925.3999999994}]
[{"$f":"IF(OR(J98:K98),\"штампа\",\"не\")","v":"не"},"5","Одржавање трупа пута"]
[{"$f":"IF(OR(J76:K76),\"штампа\",\"не\")","v":"не"},"5.1","Ручно кресање денивелисане банкине     \nЦена обухвата: кресање банкине у слоју од 10 cm са планирањем и разастирањем материјала низ косину насипа.","m2",109.16,{"$f":"SUMIFS('Plan unos i pregled'!$I$7:$I$788,'Plan unos i pregled'!$B$7:$B$788,'PLAN Rekapitulacija'!$N$7,'Plan unos i pregled'!$M$7:$M$788,'PLAN Rekapitulacija'!$N$6, 'Plan unos i pregled'!$E$7:$E$788,'PLAN Rekapitulacija'!$B76, 'Plan unos i pregled'!$C$7:$C$788,'PLAN Rekapitulacija'!F$4, 'Plan unos i pregled'!$A$7:$A$788,$D$3)","v":0},{"$f":"SUMIFS('Plan unos i pregled'!$I$7:$I$788,'Plan unos i pregled'!$B$7:$B$788,'PLAN Rekapitulacija'!$N$7,'Plan unos i pregled'!$M$7:$M$788,'PLAN Rekapitulacija'!$N$6, 'Plan unos i pregled'!$E$7:$E$788,'PLAN Rekapitulacija'!$B76, 'Plan unos i pregled'!$C$7:$C$788,'PLAN Rekapitulacija'!G$4, 'Plan unos i pregled'!$A$7:$A$788,$D$3)","v":0},{"$f":"SUMIFS('Plan unos i pregled'!$I$7:$I$788,'Plan unos i pregled'!$B$7:$B$788,'PLAN Rekapitulacija'!$N$7,'Plan unos i pregled'!$M$7:$M$788,'PLAN Rekapitulacija'!$N$6, 'Plan unos i pregled'!$E$7:$E$788,'PLAN Rekapitulacija'!$B76, 'Plan unos i pregled'!$C$7:$C$788,'PLAN Rekapitulacija'!H$4, 'Plan unos i pregled'!$A$7:$A$788,$D$3)","v":0},{"$f":"SUMIFS('Plan unos i pregled'!$I$7:$I$788,'Plan unos i pregled'!$B$7:$B$788,'PLAN Rekapitulacija'!$N$7,'Plan unos i pregled'!$M$7:$M$788,'PLAN Rekapitulacija'!$N$6, 'Plan unos i pregled'!$E$7:$E$788,'PLAN Rekapitulacija'!$B76, 'Plan unos i pregled'!$C$7:$C$788,'PLAN Rekapitulacija'!I$4, 'Plan unos i pregled'!$A$7:$A$788,$D$3)","v":0},{"$f":"SUM(F76:I76)","v":0},{"$f":"ROUND(E76*J76,2)","v":0}]
["не","5.2","Ручно кресање денивелисане банкине испод одбојне ограде. Цена обухвата: кресање банкине у слоју од 10 cm са планирањем и разастирањем материјала низ косину насипа.","m2",152.83000000000001,{"$f":"SUMIFS('Plan unos i pregled'!$I$7:$I$788,'Plan unos i pregled'!$B$7:$B$788,'PLAN Rekapitulacija'!$N$7,'Plan unos i pregled'!$M$7:$M$788,'PLAN Rekapitulacija'!$N$6, 'Plan unos i pregled'!$E$7:$E$788,'PLAN Rekapitulacija'!$B77, 'Plan unos i pregled'!$C$7:$C$788,'PLAN Rekapitulacija'!F$4, 'Plan unos i pregled'!$A$7:$A$788,$D$3)","v":0},{"$f":"SUMIFS('Plan unos i pregled'!$I$7:$I$788,'Plan unos i pregled'!$B$7:$B$788,'PLAN Rekapitulacija'!$N$7,'Plan unos i pregled'!$M$7:$M$788,'PLAN Rekapitulacija'!$N$6, 'Plan unos i pregled'!$E$7:$E$788,'PLAN Rekapitulacija'!$B77, 'Plan unos i pregled'!$C$7:$C$788,'PLAN Rekapitulacija'!G$4, 'Plan unos i pregled'!$A$7:$A$788,$D$3)","v":0},{"$f":"SUMIFS('Plan unos i pregled'!$I$7:$I$788,'Plan unos i pregled'!$B$7:$B$788,'PLAN Rekapitulacija'!$N$7,'Plan unos i pregled'!$M$7:$M$788,'PLAN Rekapitulacija'!$N$6, 'Plan unos i pregled'!$E$7:$E$788,'PLAN Rekapitulacija'!$B77, 'Plan unos i pregled'!$C$7:$C$788,'PLAN Rekapitulacija'!H$4, 'Plan unos i pregled'!$A$7:$A$788,$D$3)","v":0},{"$f":"SUMIFS('Plan unos i pregled'!$I$7:$I$788,'Plan unos i pregled'!$B$7:$B$788,'PLAN Rekapitulacija'!$N$7,'Plan unos i pregled'!$M$7:$M$788,'PLAN Rekapitulacija'!$N$6, 'Plan unos i pregled'!$E$7:$E$788,'PLAN Rekapitulacija'!$B77, 'Plan unos i pregled'!$C$7:$C$788,'PLAN Rekapitulacija'!I$4, 'Plan unos i pregled'!$A$7:$A$788,$D$3)","v":0},0,0]
["не","5.3","Машинско кресање денивелисане банкине. Цена обухвата: кресање банкине у слоју до 10 cm машински 90% и ручним дотеривањем 10% са разастирањем материјала низ косину насипа.","m2",26.57,{"$f":"SUMIFS('Plan unos i pregled'!$I$7:$I$788,'Plan unos i pregled'!$B$7:$B$788,'PLAN Rekapitulacija'!$N$7,'Plan unos i pregled'!$M$7:$M$788,'PLAN Rekapitulacija'!$N$6, 'Plan unos i pregled'!$E$7:$E$788,'PLAN Rekapitulacija'!$B78, 'Plan unos i pregled'!$C$7:$C$788,'PLAN Rekapitulacija'!F$4, 'Plan unos i pregled'!$A$7:$A$788,$D$3)","v":0},{"$f":"SUMIFS('Plan unos i pregled'!$I$7:$I$788,'Plan unos i pregled'!$B$7:$B$788,'PLAN Rekapitulacija'!$N$7,'Plan unos i pregled'!$M$7:$M$788,'PLAN Rekapitulacija'!$N$6, 'Plan unos i pregled'!$E$7:$E$788,'PLAN Rekapitulacija'!$B78, 'Plan unos i pregled'!$C$7:$C$788,'PLAN Rekapitulacija'!G$4, 'Plan unos i pregled'!$A$7:$A$788,$D$3)","v":0},{"$f":"SUMIFS('Plan unos i pregled'!$I$7:$I$788,'Plan unos i pregled'!$B$7:$B$788,'PLAN Rekapitulacija'!$N$7,'Plan unos i pregled'!$M$7:$M$788,'PLAN Rekapitulacija'!$N$6, 'Plan unos i pregled'!$E$7:$E$788,'PLAN Rekapitulacija'!$B78, 'Plan unos i pregled'!$C$7:$C$788,'PLAN Rekapitulacija'!H$4, 'Plan unos i pregled'!$A$7:$A$788,$D$3)","v":0},{"$f":"SUMIFS('Plan unos i pregled'!$I$7:$I$788,'Plan unos i pregled'!$B$7:$B$788,'PLAN Rekapitulacija'!$N$7,'Plan unos i pregled'!$M$7:$M$788,'PLAN Rekapitulacija'!$N$6, 'Plan unos i pregled'!$E$7:$E$788,'PLAN Rekapitulacija'!$B78, 'Plan unos i pregled'!$C$7:$C$788,'PLAN Rekapitulacija'!I$4, 'Plan unos i pregled'!$A$7:$A$788,$D$3)","v":0},0,0]
[{"$f":"IF(OR(J79:K81),\"штампа\",\"не\")","v":"не"},"5.4","Ручно разастирање шљунка или каменог агрегата на банкинама у слоју d = 10 cm са ваљањем. Цена обухвата: набавку шљунка природне мешавине или дробљеног каменог агрегата, са превозом на 30 km, ручно разастирање материјала и ваљање виброваљком."]
[{"$f":"IF(OR(J80:K80),\"штампа\",\"не\")","v":"не"},"5.4.1","Шљунак природне мешавине   ","m2",249.99,{"$f":"SUMIFS('Plan unos i pregled'!$I$7:$I$788,'Plan unos i pregled'!$B$7:$B$788,'PLAN Rekapitulacija'!$N$7,'Plan unos i pregled'!$M$7:$M$788,'PLAN Rekapitulacija'!$N$6, 'Plan unos i pregled'!$E$7:$E$788,'PLAN Rekapitulacija'!$B80, 'Plan unos i pregled'!$C$7:$C$788,'PLAN Rekapitulacija'!F$4, 'Plan unos i pregled'!$A$7:$A$788,$D$3)","v":0},{"$f":"SUMIFS('Plan unos i pregled'!$I$7:$I$788,'Plan unos i pregled'!$B$7:$B$788,'PLAN Rekapitulacija'!$N$7,'Plan unos i pregled'!$M$7:$M$788,'PLAN Rekapitulacija'!$N$6, 'Plan unos i pregled'!$E$7:$E$788,'PLAN Rekapitulacija'!$B80, 'Plan unos i pregled'!$C$7:$C$788,'PLAN Rekapitulacija'!G$4, 'Plan unos i pregled'!$A$7:$A$788,$D$3)","v":0},{"$f":"SUMIFS('Plan unos i pregled'!$I$7:$I$788,'Plan unos i pregled'!$B$7:$B$788,'PLAN Rekapitulacija'!$N$7,'Plan unos i pregled'!$M$7:$M$788,'PLAN Rekapitulacija'!$N$6, 'Plan unos i pregled'!$E$7:$E$788,'PLAN Rekapitulacija'!$B80, 'Plan unos i pregled'!$C$7:$C$788,'PLAN Rekapitulacija'!H$4, 'Plan unos i pregled'!$A$7:$A$788,$D$3)","v":0},{"$f":"SUMIFS('Plan unos i pregled'!$I$7:$I$788,'Plan unos i pregled'!$B$7:$B$788,'PLAN Rekapitulacija'!$N$7,'Plan unos i pregled'!$M$7:$M$788,'PLAN Rekapitulacija'!$N$6, 'Plan unos i pregled'!$E$7:$E$788,'PLAN Rekapitulacija'!$B80, 'Plan unos i pregled'!$C$7:$C$788,'PLAN Rekapitulacija'!I$4, 'Plan unos i pregled'!$A$7:$A$788,$D$3)","v":0},{"$f":"SUM(F80:I80)","v":0},{"$f":"ROUND(E80*J80,2)","v":0}]
["не","5.4.2","Дробљени камени агрегат","m2",280.24,{"$f":"SUMIFS('Plan unos i pregled'!$I$7:$I$788,'Plan unos i pregled'!$B$7:$B$788,'PLAN Rekapitulacija'!$N$7,'Plan unos i pregled'!$M$7:$M$788,'PLAN Rekapitulacija'!$N$6, 'Plan unos i pregled'!$E$7:$E$788,'PLAN Rekapitulacija'!$B81, 'Plan unos i pregled'!$C$7:$C$788,'PLAN Rekapitulacija'!F$4, 'Plan unos i pregled'!$A$7:$A$788,$D$3)","v":0},{"$f":"SUMIFS('Plan unos i pregled'!$I$7:$I$788,'Plan unos i pregled'!$B$7:$B$788,'PLAN Rekapitulacija'!$N$7,'Plan unos i pregled'!$M$7:$M$788,'PLAN Rekapitulacija'!$N$6, 'Plan unos i pregled'!$E$7:$E$788,'PLAN Rekapitulacija'!$B81, 'Plan unos i pregled'!$C$7:$C$788,'PLAN Rekapitulacija'!G$4, 'Plan unos i pregled'!$A$7:$A$788,$D$3)","v":0},{"$f":"SUMIFS('Plan unos i pregled'!$I$7:$I$788,'Plan unos i pregled'!$B$7:$B$788,'PLAN Rekapitulacija'!$N$7,'Plan unos i pregled'!$M$7:$M$788,'PLAN Rekapitulacija'!$N$6, 'Plan unos i pregled'!$E$7:$E$788,'PLAN Rekapitulacija'!$B81, 'Plan unos i pregled'!$C$7:$C$788,'PLAN Rekapitulacija'!H$4, 'Plan unos i pregled'!$A$7:$A$788,$D$3)","v":0},{"$f":"SUMIFS('Plan unos i pregled'!$I$7:$I$788,'Plan unos i pregled'!$B$7:$B$788,'PLAN Rekapitulacija'!$N$7,'Plan unos i pregled'!$M$7:$M$788,'PLAN Rekapitulacija'!$N$6, 'Plan unos i pregled'!$E$7:$E$788,'PLAN Rekapitulacija'!$B81, 'Plan unos i pregled'!$C$7:$C$788,'PLAN Rekapitulacija'!I$4, 'Plan unos i pregled'!$A$7:$A$788,$D$3)","v":0},0,0]
[{"$f":"IF(OR(J82:K84),\"штампа\",\"не\")","v":"не"},"5.5","Машинско разастирање шљунка или каменог агрегата на банкинама у слоју d = 10 cm са ваљањем.                    \nЦена обухвата: набавку шљунка природне мешавине или дробљеног каменог агрегата, са превозом на 30 km, разастирање шљунка машински 90% уз ручну поправку 10% и ваљање виброваљком."]
[{"$f":"IF(OR(J83:K83),\"штампа\",\"не\")","v":"не"},"5.5.1","Шљунак природне мешавине","m2",166.78,{"$f":"SUMIFS('Plan unos i pregled'!$I$7:$I$788,'Plan unos i pregled'!$B$7:$B$788,'PLAN Rekapitulacija'!$N$7,'Plan unos i pregled'!$M$7:$M$788,'PLAN Rekapitulacija'!$N$6, 'Plan unos i pregled'!$E$7:$E$788,'PLAN Rekapitulacija'!$B83, 'Plan unos i pregled'!$C$7:$C$788,'PLAN Rekapitulacija'!F$4, 'Plan unos i pregled'!$A$7:$A$788,$D$3)","v":0},{"$f":"SUMIFS('Plan unos i pregled'!$I$7:$I$788,'Plan unos i pregled'!$B$7:$B$788,'PLAN Rekapitulacija'!$N$7,'Plan unos i pregled'!$M$7:$M$788,'PLAN Rekapitulacija'!$N$6, 'Plan unos i pregled'!$E$7:$E$788,'PLAN Rekapitulacija'!$B83, 'Plan unos i pregled'!$C$7:$C$788,'PLAN Rekapitulacija'!G$4, 'Plan unos i pregled'!$A$7:$A$788,$D$3)","v":0},{"$f":"SUMIFS('Plan unos i pregled'!$I$7:$I$788,'Plan unos i pregled'!$B$7:$B$788,'PLAN Rekapitulacija'!$N$7,'Plan unos i pregled'!$M$7:$M$788,'PLAN Rekapitulacija'!$N$6, 'Plan unos i pregled'!$E$7:$E$788,'PLAN Rekapitulacija'!$B83, 'Plan unos i pregled'!$C$7:$C$788,'PLAN Rekapitulacija'!H$4, 'Plan unos i pregled'!$A$7:$A$788,$D$3)","v":0},{"$f":"SUMIFS('Plan unos i pregled'!$I$7:$I$788,'Plan unos i pregled'!$B$7:$B$788,'PLAN Rekapitulacija'!$N$7,'Plan unos i pregled'!$M$7:$M$788,'PLAN Rekapitulacija'!$N$6, 'Plan unos i pregled'!$E$7:$E$788,'PLAN Rekapitulacija'!$B83, 'Plan unos i pregled'!$C$7:$C$788,'PLAN Rekapitulacija'!I$4, 'Plan unos i pregled'!$A$7:$A$788,$D$3)","v":0},{"$f":"SUM(F83:I83)","v":0},{"$f":"ROUND(E83*J83,2)","v":0}]
["не","5.5.2","Дробљени камен агрегат","m2",197.03,{"$f":"SUMIFS('Plan unos i pregled'!$I$7:$I$788,'Plan unos i pregled'!$B$7:$B$788,'PLAN Rekapitulacija'!$N$7,'Plan unos i pregled'!$M$7:$M$788,'PLAN Rekapitulacija'!$N$6, 'Plan unos i pregled'!$E$7:$E$788,'PLAN Rekapitulacija'!$B84, 'Plan unos i pregled'!$C$7:$C$788,'PLAN Rekapitulacija'!F$4, 'Plan unos i pregled'!$A$7:$A$788,$D$3)","v":0},{"$f":"SUMIFS('Plan unos i pregled'!$I$7:$I$788,'Plan unos i pregled'!$B$7:$B$788,'PLAN Rekapitulacija'!$N$7,'Plan unos i pregled'!$M$7:$M$788,'PLAN Rekapitulacija'!$N$6, 'Plan unos i pregled'!$E$7:$E$788,'PLAN Rekapitulacija'!$B84, 'Plan unos i pregled'!$C$7:$C$788,'PLAN Rekapitulacija'!G$4, 'Plan unos i pregled'!$A$7:$A$788,$D$3)","v":0},{"$f":"SUMIFS('Plan unos i pregled'!$I$7:$I$788,'Plan unos i pregled'!$B$7:$B$788,'PLAN Rekapitulacija'!$N$7,'Plan unos i pregled'!$M$7:$M$788,'PLAN Rekapitulacija'!$N$6, 'Plan unos i pregled'!$E$7:$E$788,'PLAN Rekapitulacija'!$B84, 'Plan unos i pregled'!$C$7:$C$788,'PLAN Rekapitulacija'!H$4, 'Plan unos i pregled'!$A$7:$A$788,$D$3)","v":0},{"$f":"SUMIFS('Plan unos i pregled'!$I$7:$I$788,'Plan unos i pregled'!$B$7:$B$788,'PLAN Rekapitulacija'!$N$7,'Plan unos i pregled'!$M$7:$M$788,'PLAN Rekapitulacija'!$N$6, 'Plan unos i pregled'!$E$7:$E$788,'PLAN Rekapitulacija'!$B84, 'Plan unos i pregled'!$C$7:$C$788,'PLAN Rekapitulacija'!I$4, 'Plan unos i pregled'!$A$7:$A$788,$D$3)","v":0},0,0]
[{"$f":"IF(OR(J85:K90),\"штампа\",\"не\")","v":"не"},"5.6","Ручно чишћење наноса и осулина са коловоза са ручним утоваром и одвозом матријала на депонију.",null,0]
[{"$f":"IF(OR(J86:K86),\"штампа\",\"не\")","v":"не"},"5.6.1","Са превозом на 1 km","m3",1714.75,{"$f":"SUMIFS('Plan unos i pregled'!$I$7:$I$788,'Plan unos i pregled'!$B$7:$B$788,'PLAN Rekapitulacija'!$N$7,'Plan unos i pregled'!$M$7:$M$788,'PLAN Rekapitulacija'!$N$6, 'Plan unos i pregled'!$E$7:$E$788,'PLAN Rekapitulacija'!$B86, 'Plan unos i pregled'!$C$7:$C$788,'PLAN Rekapitulacija'!F$4, 'Plan unos i pregled'!$A$7:$A$788,$D$3)","v":0},{"$f":"SUMIFS('Plan unos i pregled'!$I$7:$I$788,'Plan unos i pregled'!$B$7:$B$788,'PLAN Rekapitulacija'!$N$7,'Plan unos i pregled'!$M$7:$M$788,'PLAN Rekapitulacija'!$N$6, 'Plan unos i pregled'!$E$7:$E$788,'PLAN Rekapitulacija'!$B86, 'Plan unos i pregled'!$C$7:$C$788,'PLAN Rekapitulacija'!G$4, 'Plan unos i pregled'!$A$7:$A$788,$D$3)","v":0},{"$f":"SUMIFS('Plan unos i pregled'!$I$7:$I$788,'Plan unos i pregled'!$B$7:$B$788,'PLAN Rekapitulacija'!$N$7,'Plan unos i pregled'!$M$7:$M$788,'PLAN Rekapitulacija'!$N$6, 'Plan unos i pregled'!$E$7:$E$788,'PLAN Rekapitulacija'!$B86, 'Plan unos i pregled'!$C$7:$C$788,'PLAN Rekapitulacija'!H$4, 'Plan unos i pregled'!$A$7:$A$788,$D$3)","v":0},{"$f":"SUMIFS('Plan unos i pregled'!$I$7:$I$788,'Plan unos i pregled'!$B$7:$B$788,'PLAN Rekapitulacija'!$N$7,'Plan unos i pregled'!$M$7:$M$788,'PLAN Rekapitulacija'!$N$6, 'Plan unos i pregled'!$E$7:$E$788,'PLAN Rekapitulacija'!$B86, 'Plan unos i pregled'!$C$7:$C$788,'PLAN Rekapitulacija'!I$4, 'Plan unos i pregled'!$A$7:$A$788,$D$3)","v":0},{"$f":"SUM(F86:I86)","v":0},{"$f":"ROUND(E86*J86,2)","v":0}]
["не","5.6.2","Са превозом на 2 km","m3",1748.86,{"$f":"SUMIFS('Plan unos i pregled'!$I$7:$I$788,'Plan unos i pregled'!$B$7:$B$788,'PLAN Rekapitulacija'!$N$7,'Plan unos i pregled'!$M$7:$M$788,'PLAN Rekapitulacija'!$N$6, 'Plan unos i pregled'!$E$7:$E$788,'PLAN Rekapitulacija'!$B87, 'Plan unos i pregled'!$C$7:$C$788,'PLAN Rekapitulacija'!F$4, 'Plan unos i pregled'!$A$7:$A$788,$D$3)","v":0},{"$f":"SUMIFS('Plan unos i pregled'!$I$7:$I$788,'Plan unos i pregled'!$B$7:$B$788,'PLAN Rekapitulacija'!$N$7,'Plan unos i pregled'!$M$7:$M$788,'PLAN Rekapitulacija'!$N$6, 'Plan unos i pregled'!$E$7:$E$788,'PLAN Rekapitulacija'!$B87, 'Plan unos i pregled'!$C$7:$C$788,'PLAN Rekapitulacija'!G$4, 'Plan unos i pregled'!$A$7:$A$788,$D$3)","v":0},{"$f":"SUMIFS('Plan unos i pregled'!$I$7:$I$788,'Plan unos i pregled'!$B$7:$B$788,'PLAN Rekapitulacija'!$N$7,'Plan unos i pregled'!$M$7:$M$788,'PLAN Rekapitulacija'!$N$6, 'Plan unos i pregled'!$E$7:$E$788,'PLAN Rekapitulacija'!$B87, 'Plan unos i pregled'!$C$7:$C$788,'PLAN Rekapitulacija'!H$4, 'Plan unos i pregled'!$A$7:$A$788,$D$3)","v":0},{"$f":"SUMIFS('Plan unos i pregled'!$I$7:$I$788,'Plan unos i pregled'!$B$7:$B$788,'PLAN Rekapitulacija'!$N$7,'Plan unos i pregled'!$M$7:$M$788,'PLAN Rekapitulacija'!$N$6, 'Plan unos i pregled'!$E$7:$E$788,'PLAN Rekapitulacija'!$B87, 'Plan unos i pregled'!$C$7:$C$788,'PLAN Rekapitulacija'!I$4, 'Plan unos i pregled'!$A$7:$A$788,$D$3)","v":0},0,0]
["не","5.6.3","Са превозом на 3 km","m3",1779.39,{"$f":"SUMIFS('Plan unos i pregled'!$I$7:$I$788,'Plan unos i pregled'!$B$7:$B$788,'PLAN Rekapitulacija'!$N$7,'Plan unos i pregled'!$M$7:$M$788,'PLAN Rekapitulacija'!$N$6, 'Plan unos i pregled'!$E$7:$E$788,'PLAN Rekapitulacija'!$B88, 'Plan unos i pregled'!$C$7:$C$788,'PLAN Rekapitulacija'!F$4, 'Plan unos i pregled'!$A$7:$A$788,$D$3)","v":0},{"$f":"SUMIFS('Plan unos i pregled'!$I$7:$I$788,'Plan unos i pregled'!$B$7:$B$788,'PLAN Rekapitulacija'!$N$7,'Plan unos i pregled'!$M$7:$M$788,'PLAN Rekapitulacija'!$N$6, 'Plan unos i pregled'!$E$7:$E$788,'PLAN Rekapitulacija'!$B88, 'Plan unos i pregled'!$C$7:$C$788,'PLAN Rekapitulacija'!G$4, 'Plan unos i pregled'!$A$7:$A$788,$D$3)","v":0},{"$f":"SUMIFS('Plan unos i pregled'!$I$7:$I$788,'Plan unos i pregled'!$B$7:$B$788,'PLAN Rekapitulacija'!$N$7,'Plan unos i pregled'!$M$7:$M$788,'PLAN Rekapitulacija'!$N$6, 'Plan unos i pregled'!$E$7:$E$788,'PLAN Rekapitulacija'!$B88, 'Plan unos i pregled'!$C$7:$C$788,'PLAN Rekapitulacija'!H$4, 'Plan unos i pregled'!$A$7:$A$788,$D$3)","v":0},{"$f":"SUMIFS('Plan unos i pregled'!$I$7:$I$788,'Plan unos i pregled'!$B$7:$B$788,'PLAN Rekapitulacija'!$N$7,'Plan unos i pregled'!$M$7:$M$788,'PLAN Rekapitulacija'!$N$6, 'Plan unos i pregled'!$E$7:$E$788,'PLAN Rekapitulacija'!$B88, 'Plan unos i pregled'!$C$7:$C$788,'PLAN Rekapitulacija'!I$4, 'Plan unos i pregled'!$A$7:$A$788,$D$3)","v":0},0,0]
["не","5.6.4","Са превозом на 5 km","m3",1831.85,{"$f":"SUMIFS('Plan unos i pregled'!$I$7:$I$788,'Plan unos i pregled'!$B$7:$B$788,'PLAN Rekapitulacija'!$N$7,'Plan unos i pregled'!$M$7:$M$788,'PLAN Rekapitulacija'!$N$6, 'Plan unos i pregled'!$E$7:$E$788,'PLAN Rekapitulacija'!$B89, 'Plan unos i pregled'!$C$7:$C$788,'PLAN Rekapitulacija'!F$4, 'Plan unos i pregled'!$A$7:$A$788,$D$3)","v":0},{"$f":"SUMIFS('Plan unos i pregled'!$I$7:$I$788,'Plan unos i pregled'!$B$7:$B$788,'PLAN Rekapitulacija'!$N$7,'Plan unos i pregled'!$M$7:$M$788,'PLAN Rekapitulacija'!$N$6, 'Plan unos i pregled'!$E$7:$E$788,'PLAN Rekapitulacija'!$B89, 'Plan unos i pregled'!$C$7:$C$788,'PLAN Rekapitulacija'!G$4, 'Plan unos i pregled'!$A$7:$A$788,$D$3)","v":0},{"$f":"SUMIFS('Plan unos i pregled'!$I$7:$I$788,'Plan unos i pregled'!$B$7:$B$788,'PLAN Rekapitulacija'!$N$7,'Plan unos i pregled'!$M$7:$M$788,'PLAN Rekapitulacija'!$N$6, 'Plan unos i pregled'!$E$7:$E$788,'PLAN Rekapitulacija'!$B89, 'Plan unos i pregled'!$C$7:$C$788,'PLAN Rekapitulacija'!H$4, 'Plan unos i pregled'!$A$7:$A$788,$D$3)","v":0},{"$f":"SUMIFS('Plan unos i pregled'!$I$7:$I$788,'Plan unos i pregled'!$B$7:$B$788,'PLAN Rekapitulacija'!$N$7,'Plan unos i pregled'!$M$7:$M$788,'PLAN Rekapitulacija'!$N$6, 'Plan unos i pregled'!$E$7:$E$788,'PLAN Rekapitulacija'!$B89, 'Plan unos i pregled'!$C$7:$C$788,'PLAN Rekapitulacija'!I$4, 'Plan unos i pregled'!$A$7:$A$788,$D$3)","v":0},0,0]
["не","5.6.5","Са превозом на 10 km","m3",1928.31,{"$f":"SUMIFS('Plan unos i pregled'!$I$7:$I$788,'Plan unos i pregled'!$B$7:$B$788,'PLAN Rekapitulacija'!$N$7,'Plan unos i pregled'!$M$7:$M$788,'PLAN Rekapitulacija'!$N$6, 'Plan unos i pregled'!$E$7:$E$788,'PLAN Rekapitulacija'!$B90, 'Plan unos i pregled'!$C$7:$C$788,'PLAN Rekapitulacija'!F$4, 'Plan unos i pregled'!$A$7:$A$788,$D$3)","v":0},{"$f":"SUMIFS('Plan unos i pregled'!$I$7:$I$788,'Plan unos i pregled'!$B$7:$B$788,'PLAN Rekapitulacija'!$N$7,'Plan unos i pregled'!$M$7:$M$788,'PLAN Rekapitulacija'!$N$6, 'Plan unos i pregled'!$E$7:$E$788,'PLAN Rekapitulacija'!$B90, 'Plan unos i pregled'!$C$7:$C$788,'PLAN Rekapitulacija'!G$4, 'Plan unos i pregled'!$A$7:$A$788,$D$3)","v":0},{"$f":"SUMIFS('Plan unos i pregled'!$I$7:$I$788,'Plan unos i pregled'!$B$7:$B$788,'PLAN Rekapitulacija'!$N$7,'Plan unos i pregled'!$M$7:$M$788,'PLAN Rekapitulacija'!$N$6, 'Plan unos i pregled'!$E$7:$E$788,'PLAN Rekapitulacija'!$B90, 'Plan unos i pregled'!$C$7:$C$788,'PLAN Rekapitulacija'!H$4, 'Plan unos i pregled'!$A$7:$A$788,$D$3)","v":0},{"$f":"SUMIFS('Plan unos i pregled'!$I$7:$I$788,'Plan unos i pregled'!$B$7:$B$788,'PLAN Rekapitulacija'!$N$7,'Plan unos i pregled'!$M$7:$M$788,'PLAN Rekapitulacija'!$N$6, 'Plan unos i pregled'!$E$7:$E$788,'PLAN Rekapitulacija'!$B90, 'Plan unos i pregled'!$C$7:$C$788,'PLAN Rekapitulacija'!I$4, 'Plan unos i pregled'!$A$7:$A$788,$D$3)","v":0},0,0]
[{"$f":"IF(OR(J91:K96),\"штампа\",\"не\")","v":"не"},"5.7","Машинско чишћење наноса и осулина са коловоза                                \nЦена обухвата: машинско прикупљање наноса и осулина са одбацивањем на страну или утоваром и превозом материјала на депонију.",null,0]
[{"$f":"IF(OR(J92:K92),\"штампа\",\"не\")","v":"не"},"5.7.1","Са одбацивањем материјала на страну","m3",235.91,{"$f":"SUMIFS('Plan unos i pregled'!$I$7:$I$788,'Plan unos i pregled'!$B$7:$B$788,'PLAN Rekapitulacija'!$N$7,'Plan unos i pregled'!$M$7:$M$788,'PLAN Rekapitulacija'!$N$6, 'Plan unos i pregled'!$E$7:$E$788,'PLAN Rekapitulacija'!$B92, 'Plan unos i pregled'!$C$7:$C$788,'PLAN Rekapitulacija'!F$4, 'Plan unos i pregled'!$A$7:$A$788,$D$3)","v":0},{"$f":"SUMIFS('Plan unos i pregled'!$I$7:$I$788,'Plan unos i pregled'!$B$7:$B$788,'PLAN Rekapitulacija'!$N$7,'Plan unos i pregled'!$M$7:$M$788,'PLAN Rekapitulacija'!$N$6, 'Plan unos i pregled'!$E$7:$E$788,'PLAN Rekapitulacija'!$B92, 'Plan unos i pregled'!$C$7:$C$788,'PLAN Rekapitulacija'!G$4, 'Plan unos i pregled'!$A$7:$A$788,$D$3)","v":0},{"$f":"SUMIFS('Plan unos i pregled'!$I$7:$I$788,'Plan unos i pregled'!$B$7:$B$788,'PLAN Rekapitulacija'!$N$7,'Plan unos i pregled'!$M$7:$M$788,'PLAN Rekapitulacija'!$N$6, 'Plan unos i pregled'!$E$7:$E$788,'PLAN Rekapitulacija'!$B92, 'Plan unos i pregled'!$C$7:$C$788,'PLAN Rekapitulacija'!H$4, 'Plan unos i pregled'!$A$7:$A$788,$D$3)","v":0},{"$f":"SUMIFS('Plan unos i pregled'!$I$7:$I$788,'Plan unos i pregled'!$B$7:$B$788,'PLAN Rekapitulacija'!$N$7,'Plan unos i pregled'!$M$7:$M$788,'PLAN Rekapitulacija'!$N$6, 'Plan unos i pregled'!$E$7:$E$788,'PLAN Rekapitulacija'!$B92, 'Plan unos i pregled'!$C$7:$C$788,'PLAN Rekapitulacija'!I$4, 'Plan unos i pregled'!$A$7:$A$788,$D$3)","v":0},{"$f":"SUM(F92:I92)","v":0},{"$f":"ROUND(E92*J92,2)","v":0}]
["не","5.7.2","Са превозом материјала на 1 km","m3",375.22,{"$f":"SUMIFS('Plan unos i pregled'!$I$7:$I$788,'Plan unos i pregled'!$B$7:$B$788,'PLAN Rekapitulacija'!$N$7,'Plan unos i pregled'!$M$7:$M$788,'PLAN Rekapitulacija'!$N$6, 'Plan unos i pregled'!$E$7:$E$788,'PLAN Rekapitulacija'!$B93, 'Plan unos i pregled'!$C$7:$C$788,'PLAN Rekapitulacija'!F$4, 'Plan unos i pregled'!$A$7:$A$788,$D$3)","v":0},{"$f":"SUMIFS('Plan unos i pregled'!$I$7:$I$788,'Plan unos i pregled'!$B$7:$B$788,'PLAN Rekapitulacija'!$N$7,'Plan unos i pregled'!$M$7:$M$788,'PLAN Rekapitulacija'!$N$6, 'Plan unos i pregled'!$E$7:$E$788,'PLAN Rekapitulacija'!$B93, 'Plan unos i pregled'!$C$7:$C$788,'PLAN Rekapitulacija'!G$4, 'Plan unos i pregled'!$A$7:$A$788,$D$3)","v":0},{"$f":"SUMIFS('Plan unos i pregled'!$I$7:$I$788,'Plan unos i pregled'!$B$7:$B$788,'PLAN Rekapitulacija'!$N$7,'Plan unos i pregled'!$M$7:$M$788,'PLAN Rekapitulacija'!$N$6, 'Plan unos i pregled'!$E$7:$E$788,'PLAN Rekapitulacija'!$B93, 'Plan unos i pregled'!$C$7:$C$788,'PLAN Rekapitulacija'!H$4, 'Plan unos i pregled'!$A$7:$A$788,$D$3)","v":0},{"$f":"SUMIFS('Plan unos i pregled'!$I$7:$I$788,'Plan unos i pregled'!$B$7:$B$788,'PLAN Rekapitulacija'!$N$7,'Plan unos i pregled'!$M$7:$M$788,'PLAN Rekapitulacija'!$N$6, 'Plan unos i pregled'!$E$7:$E$788,'PLAN Rekapitulacija'!$B93, 'Plan unos i pregled'!$C$7:$C$788,'PLAN Rekapitulacija'!I$4, 'Plan unos i pregled'!$A$7:$A$788,$D$3)","v":0},0,0]
["не","5.7.3","Са превозом материјала на 2 km","m3",409.34,{"$f":"SUMIFS('Plan unos i pregled'!$I$7:$I$788,'Plan unos i pregled'!$B$7:$B$788,'PLAN Rekapitulacija'!$N$7,'Plan unos i pregled'!$M$7:$M$788,'PLAN Rekapitulacija'!$N$6, 'Plan unos i pregled'!$E$7:$E$788,'PLAN Rekapitulacija'!$B94, 'Plan unos i pregled'!$C$7:$C$788,'PLAN Rekapitulacija'!F$4, 'Plan unos i pregled'!$A$7:$A$788,$D$3)","v":0},{"$f":"SUMIFS('Plan unos i pregled'!$I$7:$I$788,'Plan unos i pregled'!$B$7:$B$788,'PLAN Rekapitulacija'!$N$7,'Plan unos i pregled'!$M$7:$M$788,'PLAN Rekapitulacija'!$N$6, 'Plan unos i pregled'!$E$7:$E$788,'PLAN Rekapitulacija'!$B94, 'Plan unos i pregled'!$C$7:$C$788,'PLAN Rekapitulacija'!G$4, 'Plan unos i pregled'!$A$7:$A$788,$D$3)","v":0},{"$f":"SUMIFS('Plan unos i pregled'!$I$7:$I$788,'Plan unos i pregled'!$B$7:$B$788,'PLAN Rekapitulacija'!$N$7,'Plan unos i pregled'!$M$7:$M$788,'PLAN Rekapitulacija'!$N$6, 'Plan unos i pregled'!$E$7:$E$788,'PLAN Rekapitulacija'!$B94, 'Plan unos i pregled'!$C$7:$C$788,'PLAN Rekapitulacija'!H$4, 'Plan unos i pregled'!$A$7:$A$788,$D$3)","v":0},{"$f":"SUMIFS('Plan unos i pregled'!$I$7:$I$788,'Plan unos i pregled'!$B$7:$B$788,'PLAN Rekapitulacija'!$N$7,'Plan unos i pregled'!$M$7:$M$788,'PLAN Rekapitulacija'!$N$6, 'Plan unos i pregled'!$E$7:$E$788,'PLAN Rekapitulacija'!$B94, 'Plan unos i pregled'!$C$7:$C$788,'PLAN Rekapitulacija'!I$4, 'Plan unos i pregled'!$A$7:$A$788,$D$3)","v":0},0,0]
["не","5.7.4","Са превозом материјала на 3 km","m3",439.88,{"$f":"SUMIFS('Plan unos i pregled'!$I$7:$I$788,'Plan unos i pregled'!$B$7:$B$788,'PLAN Rekapitulacija'!$N$7,'Plan unos i pregled'!$M$7:$M$788,'PLAN Rekapitulacija'!$N$6, 'Plan unos i pregled'!$E$7:$E$788,'PLAN Rekapitulacija'!$B95, 'Plan unos i pregled'!$C$7:$C$788,'PLAN Rekapitulacija'!F$4, 'Plan unos i pregled'!$A$7:$A$788,$D$3)","v":0},{"$f":"SUMIFS('Plan unos i pregled'!$I$7:$I$788,'Plan unos i pregled'!$B$7:$B$788,'PLAN Rekapitulacija'!$N$7,'Plan unos i pregled'!$M$7:$M$788,'PLAN Rekapitulacija'!$N$6, 'Plan unos i pregled'!$E$7:$E$788,'PLAN Rekapitulacija'!$B95, 'Plan unos i pregled'!$C$7:$C$788,'PLAN Rekapitulacija'!G$4, 'Plan unos i pregled'!$A$7:$A$788,$D$3)","v":0},{"$f":"SUMIFS('Plan unos i pregled'!$I$7:$I$788,'Plan unos i pregled'!$B$7:$B$788,'PLAN Rekapitulacija'!$N$7,'Plan unos i pregled'!$M$7:$M$788,'PLAN Rekapitulacija'!$N$6, 'Plan unos i pregled'!$E$7:$E$788,'PLAN Rekapitulacija'!$B95, 'Plan unos i pregled'!$C$7:$C$788,'PLAN Rekapitulacija'!H$4, 'Plan unos i pregled'!$A$7:$A$788,$D$3)","v":0},{"$f":"SUMIFS('Plan unos i pregled'!$I$7:$I$788,'Plan unos i pregled'!$B$7:$B$788,'PLAN Rekapitulacija'!$N$7,'Plan unos i pregled'!$M$7:$M$788,'PLAN Rekapitulacija'!$N$6, 'Plan unos i pregled'!$E$7:$E$788,'PLAN Rekapitulacija'!$B95, 'Plan unos i pregled'!$C$7:$C$788,'PLAN Rekapitulacija'!I$4, 'Plan unos i pregled'!$A$7:$A$788,$D$3)","v":0},0,0]
["не","5.7.5","Са превозом материјала на 10 km","m3",588.79,{"$f":"SUMIFS('Plan unos i pregled'!$I$7:$I$788,'Plan unos i pregled'!$B$7:$B$788,'PLAN Rekapitulacija'!$N$7,'Plan unos i pregled'!$M$7:$M$788,'PLAN Rekapitulacija'!$N$6, 'Plan unos i pregled'!$E$7:$E$788,'PLAN Rekapitulacija'!$B96, 'Plan unos i pregled'!$C$7:$C$788,'PLAN Rekapitulacija'!F$4, 'Plan unos i pregled'!$A$7:$A$788,$D$3)","v":0},{"$f":"SUMIFS('Plan unos i pregled'!$I$7:$I$788,'Plan unos i pregled'!$B$7:$B$788,'PLAN Rekapitulacija'!$N$7,'Plan unos i pregled'!$M$7:$M$788,'PLAN Rekapitulacija'!$N$6, 'Plan unos i pregled'!$E$7:$E$788,'PLAN Rekapitulacija'!$B96, 'Plan unos i pregled'!$C$7:$C$788,'PLAN Rekapitulacija'!G$4, 'Plan unos i pregled'!$A$7:$A$788,$D$3)","v":0},{"$f":"SUMIFS('Plan unos i pregled'!$I$7:$I$788,'Plan unos i pregled'!$B$7:$B$788,'PLAN Rekapitulacija'!$N$7,'Plan unos i pregled'!$M$7:$M$788,'PLAN Rekapitulacija'!$N$6, 'Plan unos i pregled'!$E$7:$E$788,'PLAN Rekapitulacija'!$B96, 'Plan unos i pregled'!$C$7:$C$788,'PLAN Rekapitulacija'!H$4, 'Plan unos i pregled'!$A$7:$A$788,$D$3)","v":0},{"$f":"SUMIFS('Plan unos i pregled'!$I$7:$I$788,'Plan unos i pregled'!$B$7:$B$788,'PLAN Rekapitulacija'!$N$7,'Plan unos i pregled'!$M$7:$M$788,'PLAN Rekapitulacija'!$N$6, 'Plan unos i pregled'!$E$7:$E$788,'PLAN Rekapitulacija'!$B96, 'Plan unos i pregled'!$C$7:$C$788,'PLAN Rekapitulacija'!I$4, 'Plan unos i pregled'!$A$7:$A$788,$D$3)","v":0},0,0]
["не","5.8","Машинско планирање косина усека и насипа Цена обухвата: фино планирање косина Машински 90% са ручним дотеривањем 10%","m2",40.32,{"$f":"SUMIFS('Plan unos i pregled'!$I$7:$I$788,'Plan unos i pregled'!$B$7:$B$788,'PLAN Rekapitulacija'!$N$7,'Plan unos i pregled'!$M$7:$M$788,'PLAN Rekapitulacija'!$N$6, 'Plan unos i pregled'!$E$7:$E$788,'PLAN Rekapitulacija'!$B97, 'Plan unos i pregled'!$C$7:$C$788,'PLAN Rekapitulacija'!F$4, 'Plan unos i pregled'!$A$7:$A$788,$D$3)","v":0},{"$f":"SUMIFS('Plan unos i pregled'!$I$7:$I$788,'Plan unos i pregled'!$B$7:$B$788,'PLAN Rekapitulacija'!$N$7,'Plan unos i pregled'!$M$7:$M$788,'PLAN Rekapitulacija'!$N$6, 'Plan unos i pregled'!$E$7:$E$788,'PLAN Rekapitulacija'!$B97, 'Plan unos i pregled'!$C$7:$C$788,'PLAN Rekapitulacija'!G$4, 'Plan unos i pregled'!$A$7:$A$788,$D$3)","v":0},{"$f":"SUMIFS('Plan unos i pregled'!$I$7:$I$788,'Plan unos i pregled'!$B$7:$B$788,'PLAN Rekapitulacija'!$N$7,'Plan unos i pregled'!$M$7:$M$788,'PLAN Rekapitulacija'!$N$6, 'Plan unos i pregled'!$E$7:$E$788,'PLAN Rekapitulacija'!$B97, 'Plan unos i pregled'!$C$7:$C$788,'PLAN Rekapitulacija'!H$4, 'Plan unos i pregled'!$A$7:$A$788,$D$3)","v":0},{"$f":"SUMIFS('Plan unos i pregled'!$I$7:$I$788,'Plan unos i pregled'!$B$7:$B$788,'PLAN Rekapitulacija'!$N$7,'Plan unos i pregled'!$M$7:$M$788,'PLAN Rekapitulacija'!$N$6, 'Plan unos i pregled'!$E$7:$E$788,'PLAN Rekapitulacija'!$B97, 'Plan unos i pregled'!$C$7:$C$788,'PLAN Rekapitulacija'!I$4, 'Plan unos i pregled'!$A$7:$A$788,$D$3)","v":0},0,0]
["не",null,"УКУПНО:",null,null,{"$f":"SUMPRODUCT($E$76:$E$97,F76:F97)","v":0},{"$f":"SUMPRODUCT($E$76:$E$97,G76:G97)","v":0},{"$f":"SUMPRODUCT($E$76:$E$97,H76:H97)","v":0},{"$f":"SUMPRODUCT($E$76:$E$97,I76:I97)","v":0},null,{"$f":"SUM(K75:K97)","v":0}]
[{"$f":"IF(OR(J168:K168),\"штампа\",\"не\")","v":"штампа"},"6","Одржавање система за одводњавање површине коловоза и трупа пута"]
[{"$f":"IF(OR(J100:K102),\"штампа\",\"не\")","v":"не"},"6.1","Ручно чишћење путних јаркова у слоју до d = 10 cm са планирањем дна јарка. Цена обухвата: чишћење јарка, планирање дна јарка и одстрањивање сувишног материјала одбацивањем на страну или утоваром у колица и одвозом до 20 м ",null,0]
["не","6.1.1","Са одбацивањем на страну","m",109.16,{"$f":"SUMIFS('Plan unos i pregled'!$I$7:$I$788,'Plan unos i pregled'!$B$7:$B$788,'PLAN Rekapitulacija'!$N$7,'Plan unos i pregled'!$M$7:$M$788,'PLAN Rekapitulacija'!$N$6, 'Plan unos i pregled'!$E$7:$E$788,'PLAN Rekapitulacija'!$B101, 'Plan unos i pregled'!$C$7:$C$788,'PLAN Rekapitulacija'!F$4, 'Plan unos i pregled'!$A$7:$A$788,$D$3)","v":0},{"$f":"SUMIFS('Plan unos i pregled'!$I$7:$I$788,'Plan unos i pregled'!$B$7:$B$788,'PLAN Rekapitulacija'!$N$7,'Plan unos i pregled'!$M$7:$M$788,'PLAN Rekapitulacija'!$N$6, 'Plan unos i pregled'!$E$7:$E$788,'PLAN Rekapitulacija'!$B101, 'Plan unos i pregled'!$C$7:$C$788,'PLAN Rekapitulacija'!G$4, 'Plan unos i pregled'!$A$7:$A$788,$D$3)","v":0},{"$f":"SUMIFS('Plan unos i pregled'!$I$7:$I$788,'Plan unos i pregled'!$B$7:$B$788,'PLAN Rekapitulacija'!$N$7,'Plan unos i pregled'!$M$7:$M$788,'PLAN Rekapitulacija'!$N$6, 'Plan unos i pregled'!$E$7:$E$788,'PLAN Rekapitulacija'!$B101, 'Plan unos i pregled'!$C$7:$C$788,'PLAN Rekapitulacija'!H$4, 'Plan unos i pregled'!$A$7:$A$788,$D$3)","v":0},{"$f":"SUMIFS('Plan unos i pregled'!$I$7:$I$788,'Plan unos i pregled'!$B$7:$B$788,'PLAN Rekapitulacija'!$N$7,'Plan unos i pregled'!$M$7:$M$788,'PLAN Rekapitulacija'!$N$6, 'Plan unos i pregled'!$E$7:$E$788,'PLAN Rekapitulacija'!$B101, 'Plan unos i pregled'!$C$7:$C$788,'PLAN Rekapitulacija'!I$4, 'Plan unos i pregled'!$A$7:$A$788,$D$3)","v":0},{"$f":"SUM(F101:I101)","v":0},{"$f":"ROUND(E101*J101,2)","v":0}]
["не","6.1.2","Са одвозом материјала до 20 м","m",160.47999999999999,{"$f":"SUMIFS('Plan unos i pregled'!$I$7:$I$788,'Plan unos i pregled'!$B$7:$B$788,'PLAN Rekapitulacija'!$N$7,'Plan unos i pregled'!$M$7:$M$788,'PLAN Rekapitulacija'!$N$6, 'Plan unos i pregled'!$E$7:$E$788,'PLAN Rekapitulacija'!$B102, 'Plan unos i pregled'!$C$7:$C$788,'PLAN Rekapitulacija'!F$4, 'Plan unos i pregled'!$A$7:$A$788,$D$3)","v":0},{"$f":"SUMIFS('Plan unos i pregled'!$I$7:$I$788,'Plan unos i pregled'!$B$7:$B$788,'PLAN Rekapitulacija'!$N$7,'Plan unos i pregled'!$M$7:$M$788,'PLAN Rekapitulacija'!$N$6, 'Plan unos i pregled'!$E$7:$E$788,'PLAN Rekapitulacija'!$B102, 'Plan unos i pregled'!$C$7:$C$788,'PLAN Rekapitulacija'!G$4, 'Plan unos i pregled'!$A$7:$A$788,$D$3)","v":0},{"$f":"SUMIFS('Plan unos i pregled'!$I$7:$I$788,'Plan unos i pregled'!$B$7:$B$788,'PLAN Rekapitulacija'!$N$7,'Plan unos i pregled'!$M$7:$M$788,'PLAN Rekapitulacija'!$N$6, 'Plan unos i pregled'!$E$7:$E$788,'PLAN Rekapitulacija'!$B102, 'Plan unos i pregled'!$C$7:$C$788,'PLAN Rekapitulacija'!H$4, 'Plan unos i pregled'!$A$7:$A$788,$D$3)","v":0},{"$f":"SUMIFS('Plan unos i pregled'!$I$7:$I$788,'Plan unos i pregled'!$B$7:$B$788,'PLAN Rekapitulacija'!$N$7,'Plan unos i pregled'!$M$7:$M$788,'PLAN Rekapitulacija'!$N$6, 'Plan unos i pregled'!$E$7:$E$788,'PLAN Rekapitulacija'!$B102, 'Plan unos i pregled'!$C$7:$C$788,'PLAN Rekapitulacija'!I$4, 'Plan unos i pregled'!$A$7:$A$788,$D$3)","v":0},0,0]
[{"$f":"IF(OR(J103:K105),\"штампа\",\"не\")","v":"не"},"6.2","Ручно чишћење ригола и берми од наноса у слоју до d = 10 cm. Цена обухвата: чишћење риголе или берме са уклањањем материјала одбацивањем на страну или утоваром у колица и одвозом до 20 м.",null,0]
["не","6.2.1","Са одбацивањем на страну","m",87.32,{"$f":"SUMIFS('Plan unos i pregled'!$I$7:$I$788,'Plan unos i pregled'!$B$7:$B$788,'PLAN Rekapitulacija'!$N$7,'Plan unos i pregled'!$M$7:$M$788,'PLAN Rekapitulacija'!$N$6, 'Plan unos i pregled'!$E$7:$E$788,'PLAN Rekapitulacija'!$B104, 'Plan unos i pregled'!$C$7:$C$788,'PLAN Rekapitulacija'!F$4, 'Plan unos i pregled'!$A$7:$A$788,$D$3)","v":0},{"$f":"SUMIFS('Plan unos i pregled'!$I$7:$I$788,'Plan unos i pregled'!$B$7:$B$788,'PLAN Rekapitulacija'!$N$7,'Plan unos i pregled'!$M$7:$M$788,'PLAN Rekapitulacija'!$N$6, 'Plan unos i pregled'!$E$7:$E$788,'PLAN Rekapitulacija'!$B104, 'Plan unos i pregled'!$C$7:$C$788,'PLAN Rekapitulacija'!G$4, 'Plan unos i pregled'!$A$7:$A$788,$D$3)","v":0},{"$f":"SUMIFS('Plan unos i pregled'!$I$7:$I$788,'Plan unos i pregled'!$B$7:$B$788,'PLAN Rekapitulacija'!$N$7,'Plan unos i pregled'!$M$7:$M$788,'PLAN Rekapitulacija'!$N$6, 'Plan unos i pregled'!$E$7:$E$788,'PLAN Rekapitulacija'!$B104, 'Plan unos i pregled'!$C$7:$C$788,'PLAN Rekapitulacija'!H$4, 'Plan unos i pregled'!$A$7:$A$788,$D$3)","v":0},{"$f":"SUMIFS('Plan unos i pregled'!$I$7:$I$788,'Plan unos i pregled'!$B$7:$B$788,'PLAN Rekapitulacija'!$N$7,'Plan unos i pregled'!$M$7:$M$788,'PLAN Rekapitulacija'!$N$6, 'Plan unos i pregled'!$E$7:$E$788,'PLAN Rekapitulacija'!$B104, 'Plan unos i pregled'!$C$7:$C$788,'PLAN Rekapitulacija'!I$4, 'Plan unos i pregled'!$A$7:$A$788,$D$3)","v":0},{"$f":"SUM(F104:I104)","v":0},{"$f":"ROUND(E104*J104,2)","v":0}]
["не","6.2.2","Са одвозом материјала до 20 м","m",138.63999999999999,{"$f":"SUMIFS('Plan unos i pregled'!$I$7:$I$788,'Plan unos i pregled'!$B$7:$B$788,'PLAN Rekapitulacija'!$N$7,'Plan unos i pregled'!$M$7:$M$788,'PLAN Rekapitulacija'!$N$6, 'Plan unos i pregled'!$E$7:$E$788,'PLAN Rekapitulacija'!$B105, 'Plan unos i pregled'!$C$7:$C$788,'PLAN Rekapitulacija'!F$4, 'Plan unos i pregled'!$A$7:$A$788,$D$3)","v":0},{"$f":"SUMIFS('Plan unos i pregled'!$I$7:$I$788,'Plan unos i pregled'!$B$7:$B$788,'PLAN Rekapitulacija'!$N$7,'Plan unos i pregled'!$M$7:$M$788,'PLAN Rekapitulacija'!$N$6, 'Plan unos i pregled'!$E$7:$E$788,'PLAN Rekapitulacija'!$B105, 'Plan unos i pregled'!$C$7:$C$788,'PLAN Rekapitulacija'!G$4, 'Plan unos i pregled'!$A$7:$A$788,$D$3)","v":0},{"$f":"SUMIFS('Plan unos i pregled'!$I$7:$I$788,'Plan unos i pregled'!$B$7:$B$788,'PLAN Rekapitulacija'!$N$7,'Plan unos i pregled'!$M$7:$M$788,'PLAN Rekapitulacija'!$N$6, 'Plan unos i pregled'!$E$7:$E$788,'PLAN Rekapitulacija'!$B105, 'Plan unos i pregled'!$C$7:$C$788,'PLAN Rekapitulacija'!H$4, 'Plan unos i pregled'!$A$7:$A$788,$D$3)","v":0},{"$f":"SUMIFS('Plan unos i pregled'!$I$7:$I$788,'Plan unos i pregled'!$B$7:$B$788,'PLAN Rekapitulacija'!$N$7,'Plan unos i pregled'!$M$7:$M$788,'PLAN Rekapitulacija'!$N$6, 'Plan unos i pregled'!$E$7:$E$788,'PLAN Rekapitulacija'!$B105, 'Plan unos i pregled'!$C$7:$C$788,'PLAN Rekapitulacija'!I$4, 'Plan unos i pregled'!$A$7:$A$788,$D$3)","v":0},0,0]
[{"$f":"IF(OR(J106:K111),\"штампа\",\"не\")","v":"не"},"6.3","Машинско чишћење берми од наноса у слоју до 10 cm са пребацивањем материјала на страну или утоваром и превозом на депонију.",null,0]
["не","6.3.1","Са одбацивањем материјала на страну.","m",24.68,{"$f":"SUMIFS('Plan unos i pregled'!$I$7:$I$788,'Plan unos i pregled'!$B$7:$B$788,'PLAN Rekapitulacija'!$N$7,'Plan unos i pregled'!$M$7:$M$788,'PLAN Rekapitulacija'!$N$6, 'Plan unos i pregled'!$E$7:$E$788,'PLAN Rekapitulacija'!$B107, 'Plan unos i pregled'!$C$7:$C$788,'PLAN Rekapitulacija'!F$4, 'Plan unos i pregled'!$A$7:$A$788,$D$3)","v":0},{"$f":"SUMIFS('Plan unos i pregled'!$I$7:$I$788,'Plan unos i pregled'!$B$7:$B$788,'PLAN Rekapitulacija'!$N$7,'Plan unos i pregled'!$M$7:$M$788,'PLAN Rekapitulacija'!$N$6, 'Plan unos i pregled'!$E$7:$E$788,'PLAN Rekapitulacija'!$B107, 'Plan unos i pregled'!$C$7:$C$788,'PLAN Rekapitulacija'!G$4, 'Plan unos i pregled'!$A$7:$A$788,$D$3)","v":0},{"$f":"SUMIFS('Plan unos i pregled'!$I$7:$I$788,'Plan unos i pregled'!$B$7:$B$788,'PLAN Rekapitulacija'!$N$7,'Plan unos i pregled'!$M$7:$M$788,'PLAN Rekapitulacija'!$N$6, 'Plan unos i pregled'!$E$7:$E$788,'PLAN Rekapitulacija'!$B107, 'Plan unos i pregled'!$C$7:$C$788,'PLAN Rekapitulacija'!H$4, 'Plan unos i pregled'!$A$7:$A$788,$D$3)","v":0},{"$f":"SUMIFS('Plan unos i pregled'!$I$7:$I$788,'Plan unos i pregled'!$B$7:$B$788,'PLAN Rekapitulacija'!$N$7,'Plan unos i pregled'!$M$7:$M$788,'PLAN Rekapitulacija'!$N$6, 'Plan unos i pregled'!$E$7:$E$788,'PLAN Rekapitulacija'!$B107, 'Plan unos i pregled'!$C$7:$C$788,'PLAN Rekapitulacija'!I$4, 'Plan unos i pregled'!$A$7:$A$788,$D$3)","v":0},{"$f":"SUM(F107:I107)","v":0},{"$f":"ROUND(E107*J107,2)","v":0}]
["не","6.3.2","Са превозом на 1 km","m",52.43,{"$f":"SUMIFS('Plan unos i pregled'!$I$7:$I$788,'Plan unos i pregled'!$B$7:$B$788,'PLAN Rekapitulacija'!$N$7,'Plan unos i pregled'!$M$7:$M$788,'PLAN Rekapitulacija'!$N$6, 'Plan unos i pregled'!$E$7:$E$788,'PLAN Rekapitulacija'!$B108, 'Plan unos i pregled'!$C$7:$C$788,'PLAN Rekapitulacija'!F$4, 'Plan unos i pregled'!$A$7:$A$788,$D$3)","v":0},{"$f":"SUMIFS('Plan unos i pregled'!$I$7:$I$788,'Plan unos i pregled'!$B$7:$B$788,'PLAN Rekapitulacija'!$N$7,'Plan unos i pregled'!$M$7:$M$788,'PLAN Rekapitulacija'!$N$6, 'Plan unos i pregled'!$E$7:$E$788,'PLAN Rekapitulacija'!$B108, 'Plan unos i pregled'!$C$7:$C$788,'PLAN Rekapitulacija'!G$4, 'Plan unos i pregled'!$A$7:$A$788,$D$3)","v":0},{"$f":"SUMIFS('Plan unos i pregled'!$I$7:$I$788,'Plan unos i pregled'!$B$7:$B$788,'PLAN Rekapitulacija'!$N$7,'Plan unos i pregled'!$M$7:$M$788,'PLAN Rekapitulacija'!$N$6, 'Plan unos i pregled'!$E$7:$E$788,'PLAN Rekapitulacija'!$B108, 'Plan unos i pregled'!$C$7:$C$788,'PLAN Rekapitulacija'!H$4, 'Plan unos i pregled'!$A$7:$A$788,$D$3)","v":0},{"$f":"SUMIFS('Plan unos i pregled'!$I$7:$I$788,'Plan unos i pregled'!$B$7:$B$788,'PLAN Rekapitulacija'!$N$7,'Plan unos i pregled'!$M$7:$M$788,'PLAN Rekapitulacija'!$N$6, 'Plan unos i pregled'!$E$7:$E$788,'PLAN Rekapitulacija'!$B108, 'Plan unos i pregled'!$C$7:$C$788,'PLAN Rekapitulacija'!I$4, 'Plan unos i pregled'!$A$7:$A$788,$D$3)","v":0},0,0]
["не","6.3.3","Са превозом на 2 km","m",55.84,{"$f":"SUMIFS('Plan unos i pregled'!$I$7:$I$788,'Plan unos i pregled'!$B$7:$B$788,'PLAN Rekapitulacija'!$N$7,'Plan unos i pregled'!$M$7:$M$788,'PLAN Rekapitulacija'!$N$6, 'Plan unos i pregled'!$E$7:$E$788,'PLAN Rekapitulacija'!$B109, 'Plan unos i pregled'!$C$7:$C$788,'PLAN Rekapitulacija'!F$4, 'Plan unos i pregled'!$A$7:$A$788,$D$3)","v":0},{"$f":"SUMIFS('Plan unos i pregled'!$I$7:$I$788,'Plan unos i pregled'!$B$7:$B$788,'PLAN Rekapitulacija'!$N$7,'Plan unos i pregled'!$M$7:$M$788,'PLAN Rekapitulacija'!$N$6, 'Plan unos i pregled'!$E$7:$E$788,'PLAN Rekapitulacija'!$B109, 'Plan unos i pregled'!$C$7:$C$788,'PLAN Rekapitulacija'!G$4, 'Plan unos i pregled'!$A$7:$A$788,$D$3)","v":0},{"$f":"SUMIFS('Plan unos i pregled'!$I$7:$I$788,'Plan unos i pregled'!$B$7:$B$788,'PLAN Rekapitulacija'!$N$7,'Plan unos i pregled'!$M$7:$M$788,'PLAN Rekapitulacija'!$N$6, 'Plan unos i pregled'!$E$7:$E$788,'PLAN Rekapitulacija'!$B109, 'Plan unos i pregled'!$C$7:$C$788,'PLAN Rekapitulacija'!H$4, 'Plan unos i pregled'!$A$7:$A$788,$D$3)","v":0},{"$f":"SUMIFS('Plan unos i pregled'!$I$7:$I$788,'Plan unos i pregled'!$B$7:$B$788,'PLAN Rekapitulacija'!$N$7,'Plan unos i pregled'!$M$7:$M$788,'PLAN Rekapitulacija'!$N$6, 'Plan unos i pregled'!$E$7:$E$788,'PLAN Rekapitulacija'!$B109, 'Plan unos i pregled'!$C$7:$C$788,'PLAN Rekapitulacija'!I$4, 'Plan unos i pregled'!$A$7:$A$788,$D$3)","v":0},0,0]
["не","6.3.4","Са превозом на 3 km","m",58.91,{"$f":"SUMIFS('Plan unos i pregled'!$I$7:$I$788,'Plan unos i pregled'!$B$7:$B$788,'PLAN Rekapitulacija'!$N$7,'Plan unos i pregled'!$M$7:$M$788,'PLAN Rekapitulacija'!$N$6, 'Plan unos i pregled'!$E$7:$E$788,'PLAN Rekapitulacija'!$B110, 'Plan unos i pregled'!$C$7:$C$788,'PLAN Rekapitulacija'!F$4, 'Plan unos i pregled'!$A$7:$A$788,$D$3)","v":0},{"$f":"SUMIFS('Plan unos i pregled'!$I$7:$I$788,'Plan unos i pregled'!$B$7:$B$788,'PLAN Rekapitulacija'!$N$7,'Plan unos i pregled'!$M$7:$M$788,'PLAN Rekapitulacija'!$N$6, 'Plan unos i pregled'!$E$7:$E$788,'PLAN Rekapitulacija'!$B110, 'Plan unos i pregled'!$C$7:$C$788,'PLAN Rekapitulacija'!G$4, 'Plan unos i pregled'!$A$7:$A$788,$D$3)","v":0},{"$f":"SUMIFS('Plan unos i pregled'!$I$7:$I$788,'Plan unos i pregled'!$B$7:$B$788,'PLAN Rekapitulacija'!$N$7,'Plan unos i pregled'!$M$7:$M$788,'PLAN Rekapitulacija'!$N$6, 'Plan unos i pregled'!$E$7:$E$788,'PLAN Rekapitulacija'!$B110, 'Plan unos i pregled'!$C$7:$C$788,'PLAN Rekapitulacija'!H$4, 'Plan unos i pregled'!$A$7:$A$788,$D$3)","v":0},{"$f":"SUMIFS('Plan unos i pregled'!$I$7:$I$788,'Plan unos i pregled'!$B$7:$B$788,'PLAN Rekapitulacija'!$N$7,'Plan unos i pregled'!$M$7:$M$788,'PLAN Rekapitulacija'!$N$6, 'Plan unos i pregled'!$E$7:$E$788,'PLAN Rekapitulacija'!$B110, 'Plan unos i pregled'!$C$7:$C$788,'PLAN Rekapitulacija'!I$4, 'Plan unos i pregled'!$A$7:$A$788,$D$3)","v":0},0,0]
["не","6.3.5","Са превозом на 5 km","m",64.150000000000006,{"$f":"SUMIFS('Plan unos i pregled'!$I$7:$I$788,'Plan unos i pregled'!$B$7:$B$788,'PLAN Rekapitulacija'!$N$7,'Plan unos i pregled'!$M$7:$M$788,'PLAN Rekapitulacija'!$N$6, 'Plan unos i pregled'!$E$7:$E$788,'PLAN Rekapitulacija'!$B111, 'Plan unos i pregled'!$C$7:$C$788,'PLAN Rekapitulacija'!F$4, 'Plan unos i pregled'!$A$7:$A$788,$D$3)","v":0},{"$f":"SUMIFS('Plan unos i pregled'!$I$7:$I$788,'Plan unos i pregled'!$B$7:$B$788,'PLAN Rekapitulacija'!$N$7,'Plan unos i pregled'!$M$7:$M$788,'PLAN Rekapitulacija'!$N$6, 'Plan unos i pregled'!$E$7:$E$788,'PLAN Rekapitulacija'!$B111, 'Plan unos i pregled'!$C$7:$C$788,'PLAN Rekapitulacija'!G$4, 'Plan unos i pregled'!$A$7:$A$788,$D$3)","v":0},{"$f":"SUMIFS('Plan unos i pregled'!$I$7:$I$788,'Plan unos i pregled'!$B$7:$B$788,'PLAN Rekapitulacija'!$N$7,'Plan unos i pregled'!$M$7:$M$788,'PLAN Rekapitulacija'!$N$6, 'Plan unos i pregled'!$E$7:$E$788,'PLAN Rekapitulacija'!$B111, 'Plan unos i pregled'!$C$7:$C$788,'PLAN Rekapitulacija'!H$4, 'Plan unos i pregled'!$A$7:$A$788,$D$3)","v":0},{"$f":"SUMIFS('Plan unos i pregled'!$I$7:$I$788,'Plan unos i pregled'!$B$7:$B$788,'PLAN Rekapitulacija'!$N$7,'Plan unos i pregled'!$M$7:$M$788,'PLAN Rekapitulacija'!$N$6, 'Plan unos i pregled'!$E$7:$E$788,'PLAN Rekapitulacija'!$B111, 'Plan unos i pregled'!$C$7:$C$788,'PLAN Rekapitulacija'!I$4, 'Plan unos i pregled'!$A$7:$A$788,$D$3)","v":0},0,0]
[{"$f":"IF(OR(J112:K115),\"штампа\",\"не\")","v":"не"},"6.4","Ручни ископ одводних јаркова и корекција. Цена обухвата: ископ земље према типу јарка, пребацивање на банкину или утовар у колица и одвоз на депонију.",null,0]
["не","6.4.1","Са пребацивањем земље до 3 м","m",1981.36,{"$f":"SUMIFS('Plan unos i pregled'!$I$7:$I$788,'Plan unos i pregled'!$B$7:$B$788,'PLAN Rekapitulacija'!$N$7,'Plan unos i pregled'!$M$7:$M$788,'PLAN Rekapitulacija'!$N$6, 'Plan unos i pregled'!$E$7:$E$788,'PLAN Rekapitulacija'!$B113, 'Plan unos i pregled'!$C$7:$C$788,'PLAN Rekapitulacija'!F$4, 'Plan unos i pregled'!$A$7:$A$788,$D$3)","v":0},{"$f":"SUMIFS('Plan unos i pregled'!$I$7:$I$788,'Plan unos i pregled'!$B$7:$B$788,'PLAN Rekapitulacija'!$N$7,'Plan unos i pregled'!$M$7:$M$788,'PLAN Rekapitulacija'!$N$6, 'Plan unos i pregled'!$E$7:$E$788,'PLAN Rekapitulacija'!$B113, 'Plan unos i pregled'!$C$7:$C$788,'PLAN Rekapitulacija'!G$4, 'Plan unos i pregled'!$A$7:$A$788,$D$3)","v":0},{"$f":"SUMIFS('Plan unos i pregled'!$I$7:$I$788,'Plan unos i pregled'!$B$7:$B$788,'PLAN Rekapitulacija'!$N$7,'Plan unos i pregled'!$M$7:$M$788,'PLAN Rekapitulacija'!$N$6, 'Plan unos i pregled'!$E$7:$E$788,'PLAN Rekapitulacija'!$B113, 'Plan unos i pregled'!$C$7:$C$788,'PLAN Rekapitulacija'!H$4, 'Plan unos i pregled'!$A$7:$A$788,$D$3)","v":0},{"$f":"SUMIFS('Plan unos i pregled'!$I$7:$I$788,'Plan unos i pregled'!$B$7:$B$788,'PLAN Rekapitulacija'!$N$7,'Plan unos i pregled'!$M$7:$M$788,'PLAN Rekapitulacija'!$N$6, 'Plan unos i pregled'!$E$7:$E$788,'PLAN Rekapitulacija'!$B113, 'Plan unos i pregled'!$C$7:$C$788,'PLAN Rekapitulacija'!I$4, 'Plan unos i pregled'!$A$7:$A$788,$D$3)","v":0},{"$f":"SUM(F113:I113)","v":0},{"$f":"ROUND(E113*J113,2)","v":0}]
["не","6.4.2","Са одвозом земље на 10 м","m",2308.87,{"$f":"SUMIFS('Plan unos i pregled'!$I$7:$I$788,'Plan unos i pregled'!$B$7:$B$788,'PLAN Rekapitulacija'!$N$7,'Plan unos i pregled'!$M$7:$M$788,'PLAN Rekapitulacija'!$N$6, 'Plan unos i pregled'!$E$7:$E$788,'PLAN Rekapitulacija'!$B114, 'Plan unos i pregled'!$C$7:$C$788,'PLAN Rekapitulacija'!F$4, 'Plan unos i pregled'!$A$7:$A$788,$D$3)","v":0},{"$f":"SUMIFS('Plan unos i pregled'!$I$7:$I$788,'Plan unos i pregled'!$B$7:$B$788,'PLAN Rekapitulacija'!$N$7,'Plan unos i pregled'!$M$7:$M$788,'PLAN Rekapitulacija'!$N$6, 'Plan unos i pregled'!$E$7:$E$788,'PLAN Rekapitulacija'!$B114, 'Plan unos i pregled'!$C$7:$C$788,'PLAN Rekapitulacija'!G$4, 'Plan unos i pregled'!$A$7:$A$788,$D$3)","v":0},{"$f":"SUMIFS('Plan unos i pregled'!$I$7:$I$788,'Plan unos i pregled'!$B$7:$B$788,'PLAN Rekapitulacija'!$N$7,'Plan unos i pregled'!$M$7:$M$788,'PLAN Rekapitulacija'!$N$6, 'Plan unos i pregled'!$E$7:$E$788,'PLAN Rekapitulacija'!$B114, 'Plan unos i pregled'!$C$7:$C$788,'PLAN Rekapitulacija'!H$4, 'Plan unos i pregled'!$A$7:$A$788,$D$3)","v":0},{"$f":"SUMIFS('Plan unos i pregled'!$I$7:$I$788,'Plan unos i pregled'!$B$7:$B$788,'PLAN Rekapitulacija'!$N$7,'Plan unos i pregled'!$M$7:$M$788,'PLAN Rekapitulacija'!$N$6, 'Plan unos i pregled'!$E$7:$E$788,'PLAN Rekapitulacija'!$B114, 'Plan unos i pregled'!$C$7:$C$788,'PLAN Rekapitulacija'!I$4, 'Plan unos i pregled'!$A$7:$A$788,$D$3)","v":0},0,0]
["не","6.4.3","Са одвозом земље на 20 м","m",2461.6999999999998,{"$f":"SUMIFS('Plan unos i pregled'!$I$7:$I$788,'Plan unos i pregled'!$B$7:$B$788,'PLAN Rekapitulacija'!$N$7,'Plan unos i pregled'!$M$7:$M$788,'PLAN Rekapitulacija'!$N$6, 'Plan unos i pregled'!$E$7:$E$788,'PLAN Rekapitulacija'!$B115, 'Plan unos i pregled'!$C$7:$C$788,'PLAN Rekapitulacija'!F$4, 'Plan unos i pregled'!$A$7:$A$788,$D$3)","v":0},{"$f":"SUMIFS('Plan unos i pregled'!$I$7:$I$788,'Plan unos i pregled'!$B$7:$B$788,'PLAN Rekapitulacija'!$N$7,'Plan unos i pregled'!$M$7:$M$788,'PLAN Rekapitulacija'!$N$6, 'Plan unos i pregled'!$E$7:$E$788,'PLAN Rekapitulacija'!$B115, 'Plan unos i pregled'!$C$7:$C$788,'PLAN Rekapitulacija'!G$4, 'Plan unos i pregled'!$A$7:$A$788,$D$3)","v":0},{"$f":"SUMIFS('Plan unos i pregled'!$I$7:$I$788,'Plan unos i pregled'!$B$7:$B$788,'PLAN Rekapitulacija'!$N$7,'Plan unos i pregled'!$M$7:$M$788,'PLAN Rekapitulacija'!$N$6, 'Plan unos i pregled'!$E$7:$E$788,'PLAN Rekapitulacija'!$B115, 'Plan unos i pregled'!$C$7:$C$788,'PLAN Rekapitulacija'!H$4, 'Plan unos i pregled'!$A$7:$A$788,$D$3)","v":0},{"$f":"SUMIFS('Plan unos i pregled'!$I$7:$I$788,'Plan unos i pregled'!$B$7:$B$788,'PLAN Rekapitulacija'!$N$7,'Plan unos i pregled'!$M$7:$M$788,'PLAN Rekapitulacija'!$N$6, 'Plan unos i pregled'!$E$7:$E$788,'PLAN Rekapitulacija'!$B115, 'Plan unos i pregled'!$C$7:$C$788,'PLAN Rekapitulacija'!I$4, 'Plan unos i pregled'!$A$7:$A$788,$D$3)","v":0},0,0]
[{"$f":"IF(OR(J116:K118),\"штампа\",\"не\")","v":"штампа"},"6.5","Машински ископ одводних јаркова и корекција. Цена обухвата: чишћење јарка, планирање, утовар у камион и превоз на депонију. ",null,0]
["штампа","6.5.1","Са одлагањем на страну","m",100,{"$f":"SUMIFS('Plan unos i pregled'!$I$7:$I$788,'Plan unos i pregled'!$B$7:$B$788,'PLAN Rekapitulacija'!$N$7,'Plan unos i pregled'!$M$7:$M$788,'PLAN Rekapitulacija'!$N$6, 'Plan unos i pregled'!$E$7:$E$788,'PLAN Rekapitulacija'!$B117, 'Plan unos i pregled'!$C$7:$C$788,'PLAN Rekapitulacija'!F$4, 'Plan unos i pregled'!$A$7:$A$788,$D$3)","v":3700},{"$f":"SUMIFS('Plan unos i pregled'!$I$7:$I$788,'Plan unos i pregled'!$B$7:$B$788,'PLAN Rekapitulacija'!$N$7,'Plan unos i pregled'!$M$7:$M$788,'PLAN Rekapitulacija'!$N$6, 'Plan unos i pregled'!$E$7:$E$788,'PLAN Rekapitulacija'!$B117, 'Plan unos i pregled'!$C$7:$C$788,'PLAN Rekapitulacija'!G$4, 'Plan unos i pregled'!$A$7:$A$788,$D$3)","v":0},{"$f":"SUMIFS('Plan unos i pregled'!$I$7:$I$788,'Plan unos i pregled'!$B$7:$B$788,'PLAN Rekapitulacija'!$N$7,'Plan unos i pregled'!$M$7:$M$788,'PLAN Rekapitulacija'!$N$6, 'Plan unos i pregled'!$E$7:$E$788,'PLAN Rekapitulacija'!$B117, 'Plan unos i pregled'!$C$7:$C$788,'PLAN Rekapitulacija'!H$4, 'Plan unos i pregled'!$A$7:$A$788,$D$3)","v":0},{"$f":"SUMIFS('Plan unos i pregled'!$I$7:$I$788,'Plan unos i pregled'!$B$7:$B$788,'PLAN Rekapitulacija'!$N$7,'Plan unos i pregled'!$M$7:$M$788,'PLAN Rekapitulacija'!$N$6, 'Plan unos i pregled'!$E$7:$E$788,'PLAN Rekapitulacija'!$B117, 'Plan unos i pregled'!$C$7:$C$788,'PLAN Rekapitulacija'!I$4, 'Plan unos i pregled'!$A$7:$A$788,$D$3)","v":0},{"$f":"SUM(F117:I117)","v":3700},{"$f":"ROUND(E117*J117,2)","v":370000}]
["не","6.5.2.","Са превозом на 3 km","m3",420,{"$f":"SUMIFS('Plan unos i pregled'!$I$7:$I$788,'Plan unos i pregled'!$B$7:$B$788,'PLAN Rekapitulacija'!$N$7,'Plan unos i pregled'!$M$7:$M$788,'PLAN Rekapitulacija'!$N$6, 'Plan unos i pregled'!$E$7:$E$788,'PLAN Rekapitulacija'!$B118, 'Plan unos i pregled'!$C$7:$C$788,'PLAN Rekapitulacija'!F$4, 'Plan unos i pregled'!$A$7:$A$788,$D$3)","v":0},{"$f":"SUMIFS('Plan unos i pregled'!$I$7:$I$788,'Plan unos i pregled'!$B$7:$B$788,'PLAN Rekapitulacija'!$N$7,'Plan unos i pregled'!$M$7:$M$788,'PLAN Rekapitulacija'!$N$6, 'Plan unos i pregled'!$E$7:$E$788,'PLAN Rekapitulacija'!$B118, 'Plan unos i pregled'!$C$7:$C$788,'PLAN Rekapitulacija'!G$4, 'Plan unos i pregled'!$A$7:$A$788,$D$3)","v":0},{"$f":"SUMIFS('Plan unos i pregled'!$I$7:$I$788,'Plan unos i pregled'!$B$7:$B$788,'PLAN Rekapitulacija'!$N$7,'Plan unos i pregled'!$M$7:$M$788,'PLAN Rekapitulacija'!$N$6, 'Plan unos i pregled'!$E$7:$E$788,'PLAN Rekapitulacija'!$B118, 'Plan unos i pregled'!$C$7:$C$788,'PLAN Rekapitulacija'!H$4, 'Plan unos i pregled'!$A$7:$A$788,$D$3)","v":0},{"$f":"SUMIFS('Plan unos i pregled'!$I$7:$I$788,'Plan unos i pregled'!$B$7:$B$788,'PLAN Rekapitulacija'!$N$7,'Plan unos i pregled'!$M$7:$M$788,'PLAN Rekapitulacija'!$N$6, 'Plan unos i pregled'!$E$7:$E$788,'PLAN Rekapitulacija'!$B118, 'Plan unos i pregled'!$C$7:$C$788,'PLAN Rekapitulacija'!I$4, 'Plan unos i pregled'!$A$7:$A$788,$D$3)","v":0},0,0]
[{"$f":"IF(OR(J119:K124),\"штампа\",\"не\")","v":"не"},"6.6","Машински ископ одводних јаркова и корекција. Цена обухвата: ископ земље ровокопачем 80% са ручним дотеривањем  20%, пребацивање земље на банкину или утовар у возило и превоз на депонију.  ",null,0]
["не","6.6.1","Са одлагањем на страну","m3",549.6,{"$f":"SUMIFS('Plan unos i pregled'!$I$7:$I$788,'Plan unos i pregled'!$B$7:$B$788,'PLAN Rekapitulacija'!$N$7,'Plan unos i pregled'!$M$7:$M$788,'PLAN Rekapitulacija'!$N$6, 'Plan unos i pregled'!$E$7:$E$788,'PLAN Rekapitulacija'!$B120, 'Plan unos i pregled'!$C$7:$C$788,'PLAN Rekapitulacija'!F$4, 'Plan unos i pregled'!$A$7:$A$788,$D$3)","v":0},{"$f":"SUMIFS('Plan unos i pregled'!$I$7:$I$788,'Plan unos i pregled'!$B$7:$B$788,'PLAN Rekapitulacija'!$N$7,'Plan unos i pregled'!$M$7:$M$788,'PLAN Rekapitulacija'!$N$6, 'Plan unos i pregled'!$E$7:$E$788,'PLAN Rekapitulacija'!$B120, 'Plan unos i pregled'!$C$7:$C$788,'PLAN Rekapitulacija'!G$4, 'Plan unos i pregled'!$A$7:$A$788,$D$3)","v":0},{"$f":"SUMIFS('Plan unos i pregled'!$I$7:$I$788,'Plan unos i pregled'!$B$7:$B$788,'PLAN Rekapitulacija'!$N$7,'Plan unos i pregled'!$M$7:$M$788,'PLAN Rekapitulacija'!$N$6, 'Plan unos i pregled'!$E$7:$E$788,'PLAN Rekapitulacija'!$B120, 'Plan unos i pregled'!$C$7:$C$788,'PLAN Rekapitulacija'!H$4, 'Plan unos i pregled'!$A$7:$A$788,$D$3)","v":0},{"$f":"SUMIFS('Plan unos i pregled'!$I$7:$I$788,'Plan unos i pregled'!$B$7:$B$788,'PLAN Rekapitulacija'!$N$7,'Plan unos i pregled'!$M$7:$M$788,'PLAN Rekapitulacija'!$N$6, 'Plan unos i pregled'!$E$7:$E$788,'PLAN Rekapitulacija'!$B120, 'Plan unos i pregled'!$C$7:$C$788,'PLAN Rekapitulacija'!I$4, 'Plan unos i pregled'!$A$7:$A$788,$D$3)","v":0},{"$f":"SUM(F120:I120)","v":0},{"$f":"ROUND(E120*J120,2)","v":0}]
["не","6.6.2","Са превозом земље до 1 km","m3",721,{"$f":"SUMIFS('Plan unos i pregled'!$I$7:$I$788,'Plan unos i pregled'!$B$7:$B$788,'PLAN Rekapitulacija'!$N$7,'Plan unos i pregled'!$M$7:$M$788,'PLAN Rekapitulacija'!$N$6, 'Plan unos i pregled'!$E$7:$E$788,'PLAN Rekapitulacija'!$B121, 'Plan unos i pregled'!$C$7:$C$788,'PLAN Rekapitulacija'!F$4, 'Plan unos i pregled'!$A$7:$A$788,$D$3)","v":0},{"$f":"SUMIFS('Plan unos i pregled'!$I$7:$I$788,'Plan unos i pregled'!$B$7:$B$788,'PLAN Rekapitulacija'!$N$7,'Plan unos i pregled'!$M$7:$M$788,'PLAN Rekapitulacija'!$N$6, 'Plan unos i pregled'!$E$7:$E$788,'PLAN Rekapitulacija'!$B121, 'Plan unos i pregled'!$C$7:$C$788,'PLAN Rekapitulacija'!G$4, 'Plan unos i pregled'!$A$7:$A$788,$D$3)","v":0},{"$f":"SUMIFS('Plan unos i pregled'!$I$7:$I$788,'Plan unos i pregled'!$B$7:$B$788,'PLAN Rekapitulacija'!$N$7,'Plan unos i pregled'!$M$7:$M$788,'PLAN Rekapitulacija'!$N$6, 'Plan unos i pregled'!$E$7:$E$788,'PLAN Rekapitulacija'!$B121, 'Plan unos i pregled'!$C$7:$C$788,'PLAN Rekapitulacija'!H$4, 'Plan unos i pregled'!$A$7:$A$788,$D$3)","v":0},{"$f":"SUMIFS('Plan unos i pregled'!$I$7:$I$788,'Plan unos i pregled'!$B$7:$B$788,'PLAN Rekapitulacija'!$N$7,'Plan unos i pregled'!$M$7:$M$788,'PLAN Rekapitulacija'!$N$6, 'Plan unos i pregled'!$E$7:$E$788,'PLAN Rekapitulacija'!$B121, 'Plan unos i pregled'!$C$7:$C$788,'PLAN Rekapitulacija'!I$4, 'Plan unos i pregled'!$A$7:$A$788,$D$3)","v":0},0,0]
["не","6.6.3","Са превозом земље до 2 km","m3",768,{"$f":"SUMIFS('Plan unos i pregled'!$I$7:$I$788,'Plan unos i pregled'!$B$7:$B$788,'PLAN Rekapitulacija'!$N$7,'Plan unos i pregled'!$M$7:$M$788,'PLAN Rekapitulacija'!$N$6, 'Plan unos i pregled'!$E$7:$E$788,'PLAN Rekapitulacija'!$B122, 'Plan unos i pregled'!$C$7:$C$788,'PLAN Rekapitulacija'!F$4, 'Plan unos i pregled'!$A$7:$A$788,$D$3)","v":0},{"$f":"SUMIFS('Plan unos i pregled'!$I$7:$I$788,'Plan unos i pregled'!$B$7:$B$788,'PLAN Rekapitulacija'!$N$7,'Plan unos i pregled'!$M$7:$M$788,'PLAN Rekapitulacija'!$N$6, 'Plan unos i pregled'!$E$7:$E$788,'PLAN Rekapitulacija'!$B122, 'Plan unos i pregled'!$C$7:$C$788,'PLAN Rekapitulacija'!G$4, 'Plan unos i pregled'!$A$7:$A$788,$D$3)","v":0},{"$f":"SUMIFS('Plan unos i pregled'!$I$7:$I$788,'Plan unos i pregled'!$B$7:$B$788,'PLAN Rekapitulacija'!$N$7,'Plan unos i pregled'!$M$7:$M$788,'PLAN Rekapitulacija'!$N$6, 'Plan unos i pregled'!$E$7:$E$788,'PLAN Rekapitulacija'!$B122, 'Plan unos i pregled'!$C$7:$C$788,'PLAN Rekapitulacija'!H$4, 'Plan unos i pregled'!$A$7:$A$788,$D$3)","v":0},{"$f":"SUMIFS('Plan unos i pregled'!$I$7:$I$788,'Plan unos i pregled'!$B$7:$B$788,'PLAN Rekapitulacija'!$N$7,'Plan unos i pregled'!$M$7:$M$788,'PLAN Rekapitulacija'!$N$6, 'Plan unos i pregled'!$E$7:$E$788,'PLAN Rekapitulacija'!$B122, 'Plan unos i pregled'!$C$7:$C$788,'PLAN Rekapitulacija'!I$4, 'Plan unos i pregled'!$A$7:$A$788,$D$3)","v":0},0,0]
["не","6.6.4","Са превозом земље до 3 km","m3",810,{"$f":"SUMIFS('Plan unos i pregled'!$I$7:$I$788,'Plan unos i pregled'!$B$7:$B$788,'PLAN Rekapitulacija'!$N$7,'Plan unos i pregled'!$M$7:$M$788,'PLAN Rekapitulacija'!$N$6, 'Plan unos i pregled'!$E$7:$E$788,'PLAN Rekapitulacija'!$B123, 'Plan unos i pregled'!$C$7:$C$788,'PLAN Rekapitulacija'!F$4, 'Plan unos i pregled'!$A$7:$A$788,$D$3)","v":0},{"$f":"SUMIFS('Plan unos i pregled'!$I$7:$I$788,'Plan unos i pregled'!$B$7:$B$788,'PLAN Rekapitulacija'!$N$7,'Plan unos i pregled'!$M$7:$M$788,'PLAN Rekapitulacija'!$N$6, 'Plan unos i pregled'!$E$7:$E$788,'PLAN Rekapitulacija'!$B123, 'Plan unos i pregled'!$C$7:$C$788,'PLAN Rekapitulacija'!G$4, 'Plan unos i pregled'!$A$7:$A$788,$D$3)","v":0},{"$f":"SUMIFS('Plan unos i pregled'!$I$7:$I$788,'Plan unos i pregled'!$B$7:$B$788,'PLAN Rekapitulacija'!$N$7,'Plan unos i pregled'!$M$7:$M$788,'PLAN Rekapitulacija'!$N$6, 'Plan unos i pregled'!$E$7:$E$788,'PLAN Rekapitulacija'!$B123, 'Plan unos i pregled'!$C$7:$C$788,'PLAN Rekapitulacija'!H$4, 'Plan unos i pregled'!$A$7:$A$788,$D$3)","v":0},{"$f":"SUMIFS('Plan unos i pregled'!$I$7:$I$788,'Plan unos i pregled'!$B$7:$B$788,'PLAN Rekapitulacija'!$N$7,'Plan unos i pregled'!$M$7:$M$788,'PLAN Rekapitulacija'!$N$6, 'Plan unos i pregled'!$E$7:$E$788,'PLAN Rekapitulacija'!$B123, 'Plan unos i pregled'!$C$7:$C$788,'PLAN Rekapitulacija'!I$4, 'Plan unos i pregled'!$A$7:$A$788,$D$3)","v":0},0,0]
["не","6.6.5","Са превозом земље до 5 km","m3",882,{"$f":"SUMIFS('Plan unos i pregled'!$I$7:$I$788,'Plan unos i pregled'!$B$7:$B$788,'PLAN Rekapitulacija'!$N$7,'Plan unos i pregled'!$M$7:$M$788,'PLAN Rekapitulacija'!$N$6, 'Plan unos i pregled'!$E$7:$E$788,'PLAN Rekapitulacija'!$B124, 'Plan unos i pregled'!$C$7:$C$788,'PLAN Rekapitulacija'!F$4, 'Plan unos i pregled'!$A$7:$A$788,$D$3)","v":0},{"$f":"SUMIFS('Plan unos i pregled'!$I$7:$I$788,'Plan unos i pregled'!$B$7:$B$788,'PLAN Rekapitulacija'!$N$7,'Plan unos i pregled'!$M$7:$M$788,'PLAN Rekapitulacija'!$N$6, 'Plan unos i pregled'!$E$7:$E$788,'PLAN Rekapitulacija'!$B124, 'Plan unos i pregled'!$C$7:$C$788,'PLAN Rekapitulacija'!G$4, 'Plan unos i pregled'!$A$7:$A$788,$D$3)","v":0},{"$f":"SUMIFS('Plan unos i pregled'!$I$7:$I$788,'Plan unos i pregled'!$B$7:$B$788,'PLAN Rekapitulacija'!$N$7,'Plan unos i pregled'!$M$7:$M$788,'PLAN Rekapitulacija'!$N$6, 'Plan unos i pregled'!$E$7:$E$788,'PLAN Rekapitulacija'!$B124, 'Plan unos i pregled'!$C$7:$C$788,'PLAN Rekapitulacija'!H$4, 'Plan unos i pregled'!$A$7:$A$788,$D$3)","v":0},{"$f":"SUMIFS('Plan unos i pregled'!$I$7:$I$788,'Plan unos i pregled'!$B$7:$B$788,'PLAN Rekapitulacija'!$N$7,'Plan unos i pregled'!$M$7:$M$788,'PLAN Rekapitulacija'!$N$6, 'Plan unos i pregled'!$E$7:$E$788,'PLAN Rekapitulacija'!$B124, 'Plan unos i pregled'!$C$7:$C$788,'PLAN Rekapitulacija'!I$4, 'Plan unos i pregled'!$A$7:$A$788,$D$3)","v":0},0,0]
["не","6.7","Облагање одводних јаркова бетоном МБ-20 на слоју шљунка d = 15 cm. Цена обухвата: набавку и превоз шљунка на 30 km, справљање бетона МБ-20, превоз бетона аутомешалицом на 30 km, уграђивање шљунка у подлогу и бетона первибратором у оплату. ","m2",2153.9899999999998,{"$f":"SUMIFS('Plan unos i pregled'!$I$7:$I$788,'Plan unos i pregled'!$B$7:$B$788,'PLAN Rekapitulacija'!$N$7,'Plan unos i pregled'!$M$7:$M$788,'PLAN Rekapitulacija'!$N$6, 'Plan unos i pregled'!$E$7:$E$788,'PLAN Rekapitulacija'!$B125, 'Plan unos i pregled'!$C$7:$C$788,'PLAN Rekapitulacija'!F$4, 'Plan unos i pregled'!$A$7:$A$788,$D$3)","v":0},{"$f":"SUMIFS('Plan unos i pregled'!$I$7:$I$788,'Plan unos i pregled'!$B$7:$B$788,'PLAN Rekapitulacija'!$N$7,'Plan unos i pregled'!$M$7:$M$788,'PLAN Rekapitulacija'!$N$6, 'Plan unos i pregled'!$E$7:$E$788,'PLAN Rekapitulacija'!$B125, 'Plan unos i pregled'!$C$7:$C$788,'PLAN Rekapitulacija'!G$4, 'Plan unos i pregled'!$A$7:$A$788,$D$3)","v":0},{"$f":"SUMIFS('Plan unos i pregled'!$I$7:$I$788,'Plan unos i pregled'!$B$7:$B$788,'PLAN Rekapitulacija'!$N$7,'Plan unos i pregled'!$M$7:$M$788,'PLAN Rekapitulacija'!$N$6, 'Plan unos i pregled'!$E$7:$E$788,'PLAN Rekapitulacija'!$B125, 'Plan unos i pregled'!$C$7:$C$788,'PLAN Rekapitulacija'!H$4, 'Plan unos i pregled'!$A$7:$A$788,$D$3)","v":0},{"$f":"SUMIFS('Plan unos i pregled'!$I$7:$I$788,'Plan unos i pregled'!$B$7:$B$788,'PLAN Rekapitulacija'!$N$7,'Plan unos i pregled'!$M$7:$M$788,'PLAN Rekapitulacija'!$N$6, 'Plan unos i pregled'!$E$7:$E$788,'PLAN Rekapitulacija'!$B125, 'Plan unos i pregled'!$C$7:$C$788,'PLAN Rekapitulacija'!I$4, 'Plan unos i pregled'!$A$7:$A$788,$D$3)","v":0},0,0]
["не","6.8","Облагање одводних јаркова монтажним бетонским каналетама на слоју песка d = 10 cm са фуговањем цементним малтером 1:2. Цена обухвата: набавку песка и цементног малтера 1:2 са превозом на 30 km и полагање каналета на подлогу од песка са фуговањем. Набавка и превоз каналета нису обухваћени ценом. ","m",738.49,{"$f":"SUMIFS('Plan unos i pregled'!$I$7:$I$788,'Plan unos i pregled'!$B$7:$B$788,'PLAN Rekapitulacija'!$N$7,'Plan unos i pregled'!$M$7:$M$788,'PLAN Rekapitulacija'!$N$6, 'Plan unos i pregled'!$E$7:$E$788,'PLAN Rekapitulacija'!$B126, 'Plan unos i pregled'!$C$7:$C$788,'PLAN Rekapitulacija'!F$4, 'Plan unos i pregled'!$A$7:$A$788,$D$3)","v":0},{"$f":"SUMIFS('Plan unos i pregled'!$I$7:$I$788,'Plan unos i pregled'!$B$7:$B$788,'PLAN Rekapitulacija'!$N$7,'Plan unos i pregled'!$M$7:$M$788,'PLAN Rekapitulacija'!$N$6, 'Plan unos i pregled'!$E$7:$E$788,'PLAN Rekapitulacija'!$B126, 'Plan unos i pregled'!$C$7:$C$788,'PLAN Rekapitulacija'!G$4, 'Plan unos i pregled'!$A$7:$A$788,$D$3)","v":0},{"$f":"SUMIFS('Plan unos i pregled'!$I$7:$I$788,'Plan unos i pregled'!$B$7:$B$788,'PLAN Rekapitulacija'!$N$7,'Plan unos i pregled'!$M$7:$M$788,'PLAN Rekapitulacija'!$N$6, 'Plan unos i pregled'!$E$7:$E$788,'PLAN Rekapitulacija'!$B126, 'Plan unos i pregled'!$C$7:$C$788,'PLAN Rekapitulacija'!H$4, 'Plan unos i pregled'!$A$7:$A$788,$D$3)","v":0},{"$f":"SUMIFS('Plan unos i pregled'!$I$7:$I$788,'Plan unos i pregled'!$B$7:$B$788,'PLAN Rekapitulacija'!$N$7,'Plan unos i pregled'!$M$7:$M$788,'PLAN Rekapitulacija'!$N$6, 'Plan unos i pregled'!$E$7:$E$788,'PLAN Rekapitulacija'!$B126, 'Plan unos i pregled'!$C$7:$C$788,'PLAN Rekapitulacija'!I$4, 'Plan unos i pregled'!$A$7:$A$788,$D$3)","v":0},0,0]
["не","6.9","Ручно и машинско чишћење постојећих цевастих пропуста","ком",2000,{"$f":"SUMIFS('Plan unos i pregled'!$I$7:$I$788,'Plan unos i pregled'!$B$7:$B$788,'PLAN Rekapitulacija'!$N$7,'Plan unos i pregled'!$M$7:$M$788,'PLAN Rekapitulacija'!$N$6, 'Plan unos i pregled'!$E$7:$E$788,'PLAN Rekapitulacija'!$B127, 'Plan unos i pregled'!$C$7:$C$788,'PLAN Rekapitulacija'!F$4, 'Plan unos i pregled'!$A$7:$A$788,$D$3)","v":0},{"$f":"SUMIFS('Plan unos i pregled'!$I$7:$I$788,'Plan unos i pregled'!$B$7:$B$788,'PLAN Rekapitulacija'!$N$7,'Plan unos i pregled'!$M$7:$M$788,'PLAN Rekapitulacija'!$N$6, 'Plan unos i pregled'!$E$7:$E$788,'PLAN Rekapitulacija'!$B127, 'Plan unos i pregled'!$C$7:$C$788,'PLAN Rekapitulacija'!G$4, 'Plan unos i pregled'!$A$7:$A$788,$D$3)","v":0},{"$f":"SUMIFS('Plan unos i pregled'!$I$7:$I$788,'Plan unos i pregled'!$B$7:$B$788,'PLAN Rekapitulacija'!$N$7,'Plan unos i pregled'!$M$7:$M$788,'PLAN Rekapitulacija'!$N$6, 'Plan unos i pregled'!$E$7:$E$788,'PLAN Rekapitulacija'!$B127, 'Plan unos i pregled'!$C$7:$C$788,'PLAN Rekapitulacija'!H$4, 'Plan unos i pregled'!$A$7:$A$788,$D$3)","v":0},{"$f":"SUMIFS('Plan unos i pregled'!$I$7:$I$788,'Plan unos i pregled'!$B$7:$B$788,'PLAN Rekapitulacija'!$N$7,'Plan unos i pregled'!$M$7:$M$788,'PLAN Rekapitulacija'!$N$6, 'Plan unos i pregled'!$E$7:$E$788,'PLAN Rekapitulacija'!$B127, 'Plan unos i pregled'!$C$7:$C$788,'PLAN Rekapitulacija'!I$4, 'Plan unos i pregled'!$A$7:$A$788,$D$3)","v":0},0,0]
["не","6.10","Рушење старог пропуста са одвозом шута на депонију","ком",9460,{"$f":"SUMIFS('Plan unos i pregled'!$I$7:$I$788,'Plan unos i pregled'!$B$7:$B$788,'PLAN Rekapitulacija'!$N$7,'Plan unos i pregled'!$M$7:$M$788,'PLAN Rekapitulacija'!$N$6, 'Plan unos i pregled'!$E$7:$E$788,'PLAN Rekapitulacija'!$B128, 'Plan unos i pregled'!$C$7:$C$788,'PLAN Rekapitulacija'!F$4, 'Plan unos i pregled'!$A$7:$A$788,$D$3)","v":0},{"$f":"SUMIFS('Plan unos i pregled'!$I$7:$I$788,'Plan unos i pregled'!$B$7:$B$788,'PLAN Rekapitulacija'!$N$7,'Plan unos i pregled'!$M$7:$M$788,'PLAN Rekapitulacija'!$N$6, 'Plan unos i pregled'!$E$7:$E$788,'PLAN Rekapitulacija'!$B128, 'Plan unos i pregled'!$C$7:$C$788,'PLAN Rekapitulacija'!G$4, 'Plan unos i pregled'!$A$7:$A$788,$D$3)","v":0},{"$f":"SUMIFS('Plan unos i pregled'!$I$7:$I$788,'Plan unos i pregled'!$B$7:$B$788,'PLAN Rekapitulacija'!$N$7,'Plan unos i pregled'!$M$7:$M$788,'PLAN Rekapitulacija'!$N$6, 'Plan unos i pregled'!$E$7:$E$788,'PLAN Rekapitulacija'!$B128, 'Plan unos i pregled'!$C$7:$C$788,'PLAN Rekapitulacija'!H$4, 'Plan unos i pregled'!$A$7:$A$788,$D$3)","v":0},{"$f":"SUMIFS('Plan unos i pregled'!$I$7:$I$788,'Plan unos i pregled'!$B$7:$B$788,'PLAN Rekapitulacija'!$N$7,'Plan unos i pregled'!$M$7:$M$788,'PLAN Rekapitulacija'!$N$6, 'Plan unos i pregled'!$E$7:$E$788,'PLAN Rekapitulacija'!$B128, 'Plan unos i pregled'!$C$7:$C$788,'PLAN Rekapitulacija'!I$4, 'Plan unos i pregled'!$A$7:$A$788,$D$3)","v":0},0,0]
["не","6.11","Израда обостраног проширења засведеног пропуста по 2 м у дужини око 3,5 м МБ 30 РА 400/500","m2",5000,{"$f":"SUMIFS('Plan unos i pregled'!$I$7:$I$788,'Plan unos i pregled'!$B$7:$B$788,'PLAN Rekapitulacija'!$N$7,'Plan unos i pregled'!$M$7:$M$788,'PLAN Rekapitulacija'!$N$6, 'Plan unos i pregled'!$E$7:$E$788,'PLAN Rekapitulacija'!$B129, 'Plan unos i pregled'!$C$7:$C$788,'PLAN Rekapitulacija'!F$4, 'Plan unos i pregled'!$A$7:$A$788,$D$3)","v":0},{"$f":"SUMIFS('Plan unos i pregled'!$I$7:$I$788,'Plan unos i pregled'!$B$7:$B$788,'PLAN Rekapitulacija'!$N$7,'Plan unos i pregled'!$M$7:$M$788,'PLAN Rekapitulacija'!$N$6, 'Plan unos i pregled'!$E$7:$E$788,'PLAN Rekapitulacija'!$B129, 'Plan unos i pregled'!$C$7:$C$788,'PLAN Rekapitulacija'!G$4, 'Plan unos i pregled'!$A$7:$A$788,$D$3)","v":0},{"$f":"SUMIFS('Plan unos i pregled'!$I$7:$I$788,'Plan unos i pregled'!$B$7:$B$788,'PLAN Rekapitulacija'!$N$7,'Plan unos i pregled'!$M$7:$M$788,'PLAN Rekapitulacija'!$N$6, 'Plan unos i pregled'!$E$7:$E$788,'PLAN Rekapitulacija'!$B129, 'Plan unos i pregled'!$C$7:$C$788,'PLAN Rekapitulacija'!H$4, 'Plan unos i pregled'!$A$7:$A$788,$D$3)","v":0},{"$f":"SUMIFS('Plan unos i pregled'!$I$7:$I$788,'Plan unos i pregled'!$B$7:$B$788,'PLAN Rekapitulacija'!$N$7,'Plan unos i pregled'!$M$7:$M$788,'PLAN Rekapitulacija'!$N$6, 'Plan unos i pregled'!$E$7:$E$788,'PLAN Rekapitulacija'!$B129, 'Plan unos i pregled'!$C$7:$C$788,'PLAN Rekapitulacija'!I$4, 'Plan unos i pregled'!$A$7:$A$788,$D$3)","v":0},0,0]
["не","6.12","Фино планирање рова и косине ","m2",148,{"$f":"SUMIFS('Plan unos i pregled'!$I$7:$I$788,'Plan unos i pregled'!$B$7:$B$788,'PLAN Rekapitulacija'!$N$7,'Plan unos i pregled'!$M$7:$M$788,'PLAN Rekapitulacija'!$N$6, 'Plan unos i pregled'!$E$7:$E$788,'PLAN Rekapitulacija'!$B130, 'Plan unos i pregled'!$C$7:$C$788,'PLAN Rekapitulacija'!F$4, 'Plan unos i pregled'!$A$7:$A$788,$D$3)","v":0},{"$f":"SUMIFS('Plan unos i pregled'!$I$7:$I$788,'Plan unos i pregled'!$B$7:$B$788,'PLAN Rekapitulacija'!$N$7,'Plan unos i pregled'!$M$7:$M$788,'PLAN Rekapitulacija'!$N$6, 'Plan unos i pregled'!$E$7:$E$788,'PLAN Rekapitulacija'!$B130, 'Plan unos i pregled'!$C$7:$C$788,'PLAN Rekapitulacija'!G$4, 'Plan unos i pregled'!$A$7:$A$788,$D$3)","v":0},{"$f":"SUMIFS('Plan unos i pregled'!$I$7:$I$788,'Plan unos i pregled'!$B$7:$B$788,'PLAN Rekapitulacija'!$N$7,'Plan unos i pregled'!$M$7:$M$788,'PLAN Rekapitulacija'!$N$6, 'Plan unos i pregled'!$E$7:$E$788,'PLAN Rekapitulacija'!$B130, 'Plan unos i pregled'!$C$7:$C$788,'PLAN Rekapitulacija'!H$4, 'Plan unos i pregled'!$A$7:$A$788,$D$3)","v":0},{"$f":"SUMIFS('Plan unos i pregled'!$I$7:$I$788,'Plan unos i pregled'!$B$7:$B$788,'PLAN Rekapitulacija'!$N$7,'Plan unos i pregled'!$M$7:$M$788,'PLAN Rekapitulacija'!$N$6, 'Plan unos i pregled'!$E$7:$E$788,'PLAN Rekapitulacija'!$B130, 'Plan unos i pregled'!$C$7:$C$788,'PLAN Rekapitulacija'!I$4, 'Plan unos i pregled'!$A$7:$A$788,$D$3)","v":0},0,0]
[{"$f":"IF(OR(J131:K137),\"штампа\",\"не\")","v":"не"},"6.13","Израда улазне шахте и излазне главе МБ 25 армирана Q188. Утрошак бетона:","m3",16350,{"$f":"SUMIFS('Plan unos i pregled'!$I$7:$I$788,'Plan unos i pregled'!$B$7:$B$788,'PLAN Rekapitulacija'!$N$7,'Plan unos i pregled'!$M$7:$M$788,'PLAN Rekapitulacija'!$N$6, 'Plan unos i pregled'!$E$7:$E$788,'PLAN Rekapitulacija'!$B131, 'Plan unos i pregled'!$C$7:$C$788,'PLAN Rekapitulacija'!F$4, 'Plan unos i pregled'!$A$7:$A$788,$D$3)","v":0},{"$f":"SUMIFS('Plan unos i pregled'!$I$7:$I$788,'Plan unos i pregled'!$B$7:$B$788,'PLAN Rekapitulacija'!$N$7,'Plan unos i pregled'!$M$7:$M$788,'PLAN Rekapitulacija'!$N$6, 'Plan unos i pregled'!$E$7:$E$788,'PLAN Rekapitulacija'!$B131, 'Plan unos i pregled'!$C$7:$C$788,'PLAN Rekapitulacija'!G$4, 'Plan unos i pregled'!$A$7:$A$788,$D$3)","v":0},{"$f":"SUMIFS('Plan unos i pregled'!$I$7:$I$788,'Plan unos i pregled'!$B$7:$B$788,'PLAN Rekapitulacija'!$N$7,'Plan unos i pregled'!$M$7:$M$788,'PLAN Rekapitulacija'!$N$6, 'Plan unos i pregled'!$E$7:$E$788,'PLAN Rekapitulacija'!$B131, 'Plan unos i pregled'!$C$7:$C$788,'PLAN Rekapitulacija'!H$4, 'Plan unos i pregled'!$A$7:$A$788,$D$3)","v":0},{"$f":"SUMIFS('Plan unos i pregled'!$I$7:$I$788,'Plan unos i pregled'!$B$7:$B$788,'PLAN Rekapitulacija'!$N$7,'Plan unos i pregled'!$M$7:$M$788,'PLAN Rekapitulacija'!$N$6, 'Plan unos i pregled'!$E$7:$E$788,'PLAN Rekapitulacija'!$B131, 'Plan unos i pregled'!$C$7:$C$788,'PLAN Rekapitulacija'!I$4, 'Plan unos i pregled'!$A$7:$A$788,$D$3)","v":0},0,0]
["не","6.13.1","Утрошак бетона:Ø 300 mm - 0.70 m³","m",0,{"$f":"SUMIFS('Plan unos i pregled'!$I$7:$I$788,'Plan unos i pregled'!$B$7:$B$788,'PLAN Rekapitulacija'!$N$7,'Plan unos i pregled'!$M$7:$M$788,'PLAN Rekapitulacija'!$N$6, 'Plan unos i pregled'!$E$7:$E$788,'PLAN Rekapitulacija'!$B132, 'Plan unos i pregled'!$C$7:$C$788,'PLAN Rekapitulacija'!F$4, 'Plan unos i pregled'!$A$7:$A$788,$D$3)","v":0},{"$f":"SUMIFS('Plan unos i pregled'!$I$7:$I$788,'Plan unos i pregled'!$B$7:$B$788,'PLAN Rekapitulacija'!$N$7,'Plan unos i pregled'!$M$7:$M$788,'PLAN Rekapitulacija'!$N$6, 'Plan unos i pregled'!$E$7:$E$788,'PLAN Rekapitulacija'!$B132, 'Plan unos i pregled'!$C$7:$C$788,'PLAN Rekapitulacija'!G$4, 'Plan unos i pregled'!$A$7:$A$788,$D$3)","v":0},{"$f":"SUMIFS('Plan unos i pregled'!$I$7:$I$788,'Plan unos i pregled'!$B$7:$B$788,'PLAN Rekapitulacija'!$N$7,'Plan unos i pregled'!$M$7:$M$788,'PLAN Rekapitulacija'!$N$6, 'Plan unos i pregled'!$E$7:$E$788,'PLAN Rekapitulacija'!$B132, 'Plan unos i pregled'!$C$7:$C$788,'PLAN Rekapitulacija'!H$4, 'Plan unos i pregled'!$A$7:$A$788,$D$3)","v":0},{"$f":"SUMIFS('Plan unos i pregled'!$I$7:$I$788,'Plan unos i pregled'!$B$7:$B$788,'PLAN Rekapitulacija'!$N$7,'Plan unos i pregled'!$M$7:$M$788,'PLAN Rekapitulacija'!$N$6, 'Plan unos i pregled'!$E$7:$E$788,'PLAN Rekapitulacija'!$B132, 'Plan unos i pregled'!$C$7:$C$788,'PLAN Rekapitulacija'!I$4, 'Plan unos i pregled'!$A$7:$A$788,$D$3)","v":0},{"$f":"SUM(F132:I132)","v":0},{"$f":"ROUND(E132*J132,2)","v":0}]
["не","6.13.2","Утрошак бетона:Ø 400 mm - 0.80 m³","m",0,{"$f":"SUMIFS('Plan unos i pregled'!$I$7:$I$788,'Plan unos i pregled'!$B$7:$B$788,'PLAN Rekapitulacija'!$N$7,'Plan unos i pregled'!$M$7:$M$788,'PLAN Rekapitulacija'!$N$6, 'Plan unos i pregled'!$E$7:$E$788,'PLAN Rekapitulacija'!$B133, 'Plan unos i pregled'!$C$7:$C$788,'PLAN Rekapitulacija'!F$4, 'Plan unos i pregled'!$A$7:$A$788,$D$3)","v":0},{"$f":"SUMIFS('Plan unos i pregled'!$I$7:$I$788,'Plan unos i pregled'!$B$7:$B$788,'PLAN Rekapitulacija'!$N$7,'Plan unos i pregled'!$M$7:$M$788,'PLAN Rekapitulacija'!$N$6, 'Plan unos i pregled'!$E$7:$E$788,'PLAN Rekapitulacija'!$B133, 'Plan unos i pregled'!$C$7:$C$788,'PLAN Rekapitulacija'!G$4, 'Plan unos i pregled'!$A$7:$A$788,$D$3)","v":0},{"$f":"SUMIFS('Plan unos i pregled'!$I$7:$I$788,'Plan unos i pregled'!$B$7:$B$788,'PLAN Rekapitulacija'!$N$7,'Plan unos i pregled'!$M$7:$M$788,'PLAN Rekapitulacija'!$N$6, 'Plan unos i pregled'!$E$7:$E$788,'PLAN Rekapitulacija'!$B133, 'Plan unos i pregled'!$C$7:$C$788,'PLAN Rekapitulacija'!H$4, 'Plan unos i pregled'!$A$7:$A$788,$D$3)","v":0},{"$f":"SUMIFS('Plan unos i pregled'!$I$7:$I$788,'Plan unos i pregled'!$B$7:$B$788,'PLAN Rekapitulacija'!$N$7,'Plan unos i pregled'!$M$7:$M$788,'PLAN Rekapitulacija'!$N$6, 'Plan unos i pregled'!$E$7:$E$788,'PLAN Rekapitulacija'!$B133, 'Plan unos i pregled'!$C$7:$C$788,'PLAN Rekapitulacija'!I$4, 'Plan unos i pregled'!$A$7:$A$788,$D$3)","v":0},0,0]
["не","6.13.3","Утрошак бетона:Ø 500 mm - 0.90 m³","m",0,{"$f":"SUMIFS('Plan unos i pregled'!$I$7:$I$788,'Plan unos i pregled'!$B$7:$B$788,'PLAN Rekapitulacija'!$N$7,'Plan unos i pregled'!$M$7:$M$788,'PLAN Rekapitulacija'!$N$6, 'Plan unos i pregled'!$E$7:$E$788,'PLAN Rekapitulacija'!$B134, 'Plan unos i pregled'!$C$7:$C$788,'PLAN Rekapitulacija'!F$4, 'Plan unos i pregled'!$A$7:$A$788,$D$3)","v":0},{"$f":"SUMIFS('Plan unos i pregled'!$I$7:$I$788,'Plan unos i pregled'!$B$7:$B$788,'PLAN Rekapitulacija'!$N$7,'Plan unos i pregled'!$M$7:$M$788,'PLAN Rekapitulacija'!$N$6, 'Plan unos i pregled'!$E$7:$E$788,'PLAN Rekapitulacija'!$B134, 'Plan unos i pregled'!$C$7:$C$788,'PLAN Rekapitulacija'!G$4, 'Plan unos i pregled'!$A$7:$A$788,$D$3)","v":0},{"$f":"SUMIFS('Plan unos i pregled'!$I$7:$I$788,'Plan unos i pregled'!$B$7:$B$788,'PLAN Rekapitulacija'!$N$7,'Plan unos i pregled'!$M$7:$M$788,'PLAN Rekapitulacija'!$N$6, 'Plan unos i pregled'!$E$7:$E$788,'PLAN Rekapitulacija'!$B134, 'Plan unos i pregled'!$C$7:$C$788,'PLAN Rekapitulacija'!H$4, 'Plan unos i pregled'!$A$7:$A$788,$D$3)","v":0},{"$f":"SUMIFS('Plan unos i pregled'!$I$7:$I$788,'Plan unos i pregled'!$B$7:$B$788,'PLAN Rekapitulacija'!$N$7,'Plan unos i pregled'!$M$7:$M$788,'PLAN Rekapitulacija'!$N$6, 'Plan unos i pregled'!$E$7:$E$788,'PLAN Rekapitulacija'!$B134, 'Plan unos i pregled'!$C$7:$C$788,'PLAN Rekapitulacija'!I$4, 'Plan unos i pregled'!$A$7:$A$788,$D$3)","v":0},0,0]
["не","6.13.4","Утрошак бетона:Ø 600 mm - 1.0 m³","m",0,{"$f":"SUMIFS('Plan unos i pregled'!$I$7:$I$788,'Plan unos i pregled'!$B$7:$B$788,'PLAN Rekapitulacija'!$N$7,'Plan unos i pregled'!$M$7:$M$788,'PLAN Rekapitulacija'!$N$6, 'Plan unos i pregled'!$E$7:$E$788,'PLAN Rekapitulacija'!$B135, 'Plan unos i pregled'!$C$7:$C$788,'PLAN Rekapitulacija'!F$4, 'Plan unos i pregled'!$A$7:$A$788,$D$3)","v":0},{"$f":"SUMIFS('Plan unos i pregled'!$I$7:$I$788,'Plan unos i pregled'!$B$7:$B$788,'PLAN Rekapitulacija'!$N$7,'Plan unos i pregled'!$M$7:$M$788,'PLAN Rekapitulacija'!$N$6, 'Plan unos i pregled'!$E$7:$E$788,'PLAN Rekapitulacija'!$B135, 'Plan unos i pregled'!$C$7:$C$788,'PLAN Rekapitulacija'!G$4, 'Plan unos i pregled'!$A$7:$A$788,$D$3)","v":0},{"$f":"SUMIFS('Plan unos i pregled'!$I$7:$I$788,'Plan unos i pregled'!$B$7:$B$788,'PLAN Rekapitulacija'!$N$7,'Plan unos i pregled'!$M$7:$M$788,'PLAN Rekapitulacija'!$N$6, 'Plan unos i pregled'!$E$7:$E$788,'PLAN Rekapitulacija'!$B135, 'Plan unos i pregled'!$C$7:$C$788,'PLAN Rekapitulacija'!H$4, 'Plan unos i pregled'!$A$7:$A$788,$D$3)","v":0},{"$f":"SUMIFS('Plan unos i pregled'!$I$7:$I$788,'Plan unos i pregled'!$B$7:$B$788,'PLAN Rekapitulacija'!$N$7,'Plan unos i pregled'!$M$7:$M$788,'PLAN Rekapitulacija'!$N$6, 'Plan unos i pregled'!$E$7:$E$788,'PLAN Rekapitulacija'!$B135, 'Plan unos i pregled'!$C$7:$C$788,'PLAN Rekapitulacija'!I$4, 'Plan unos i pregled'!$A$7:$A$788,$D$3)","v":0},0,0]
["не","6.13.5","Утрошак бетона:Ø 1000 mm - 1.40 m³","m",0,{"$f":"SUMIFS('Plan unos i pregled'!$I$7:$I$788,'Plan unos i pregled'!$B$7:$B$788,'PLAN Rekapitulacija'!$N$7,'Plan unos i pregled'!$M$7:$M$788,'PLAN Rekapitulacija'!$N$6, 'Plan unos i pregled'!$E$7:$E$788,'PLAN Rekapitulacija'!$B136, 'Plan unos i pregled'!$C$7:$C$788,'PLAN Rekapitulacija'!F$4, 'Plan unos i pregled'!$A$7:$A$788,$D$3)","v":0},{"$f":"SUMIFS('Plan unos i pregled'!$I$7:$I$788,'Plan unos i pregled'!$B$7:$B$788,'PLAN Rekapitulacija'!$N$7,'Plan unos i pregled'!$M$7:$M$788,'PLAN Rekapitulacija'!$N$6, 'Plan unos i pregled'!$E$7:$E$788,'PLAN Rekapitulacija'!$B136, 'Plan unos i pregled'!$C$7:$C$788,'PLAN Rekapitulacija'!G$4, 'Plan unos i pregled'!$A$7:$A$788,$D$3)","v":0},{"$f":"SUMIFS('Plan unos i pregled'!$I$7:$I$788,'Plan unos i pregled'!$B$7:$B$788,'PLAN Rekapitulacija'!$N$7,'Plan unos i pregled'!$M$7:$M$788,'PLAN Rekapitulacija'!$N$6, 'Plan unos i pregled'!$E$7:$E$788,'PLAN Rekapitulacija'!$B136, 'Plan unos i pregled'!$C$7:$C$788,'PLAN Rekapitulacija'!H$4, 'Plan unos i pregled'!$A$7:$A$788,$D$3)","v":0},{"$f":"SUMIFS('Plan unos i pregled'!$I$7:$I$788,'Plan unos i pregled'!$B$7:$B$788,'PLAN Rekapitulacija'!$N$7,'Plan unos i pregled'!$M$7:$M$788,'PLAN Rekapitulacija'!$N$6, 'Plan unos i pregled'!$E$7:$E$788,'PLAN Rekapitulacija'!$B136, 'Plan unos i pregled'!$C$7:$C$788,'PLAN Rekapitulacija'!I$4, 'Plan unos i pregled'!$A$7:$A$788,$D$3)","v":0},0,0]
["не","6.14","Набавка бетона МБ 20","m3",12500,{"$f":"SUMIFS('Plan unos i pregled'!$I$7:$I$788,'Plan unos i pregled'!$B$7:$B$788,'PLAN Rekapitulacija'!$N$7,'Plan unos i pregled'!$M$7:$M$788,'PLAN Rekapitulacija'!$N$6, 'Plan unos i pregled'!$E$7:$E$788,'PLAN Rekapitulacija'!$B137, 'Plan unos i pregled'!$C$7:$C$788,'PLAN Rekapitulacija'!F$4, 'Plan unos i pregled'!$A$7:$A$788,$D$3)","v":0},{"$f":"SUMIFS('Plan unos i pregled'!$I$7:$I$788,'Plan unos i pregled'!$B$7:$B$788,'PLAN Rekapitulacija'!$N$7,'Plan unos i pregled'!$M$7:$M$788,'PLAN Rekapitulacija'!$N$6, 'Plan unos i pregled'!$E$7:$E$788,'PLAN Rekapitulacija'!$B137, 'Plan unos i pregled'!$C$7:$C$788,'PLAN Rekapitulacija'!G$4, 'Plan unos i pregled'!$A$7:$A$788,$D$3)","v":0},{"$f":"SUMIFS('Plan unos i pregled'!$I$7:$I$788,'Plan unos i pregled'!$B$7:$B$788,'PLAN Rekapitulacija'!$N$7,'Plan unos i pregled'!$M$7:$M$788,'PLAN Rekapitulacija'!$N$6, 'Plan unos i pregled'!$E$7:$E$788,'PLAN Rekapitulacija'!$B137, 'Plan unos i pregled'!$C$7:$C$788,'PLAN Rekapitulacija'!H$4, 'Plan unos i pregled'!$A$7:$A$788,$D$3)","v":0},{"$f":"SUMIFS('Plan unos i pregled'!$I$7:$I$788,'Plan unos i pregled'!$B$7:$B$788,'PLAN Rekapitulacija'!$N$7,'Plan unos i pregled'!$M$7:$M$788,'PLAN Rekapitulacija'!$N$6, 'Plan unos i pregled'!$E$7:$E$788,'PLAN Rekapitulacija'!$B137, 'Plan unos i pregled'!$C$7:$C$788,'PLAN Rekapitulacija'!I$4, 'Plan unos i pregled'!$A$7:$A$788,$D$3)","v":0},0,0]
[{"$f":"IF(OR(J138:K144),\"штампа\",\"не\")","v":"не"},"6.15","Уградње цеви на подлози од бетона d = 10 cm МБ 20 ",null,0]
["не","6.15.1","Ø 300 mm","m",1188.32,{"$f":"SUMIFS('Plan unos i pregled'!$I$7:$I$788,'Plan unos i pregled'!$B$7:$B$788,'PLAN Rekapitulacija'!$N$7,'Plan unos i pregled'!$M$7:$M$788,'PLAN Rekapitulacija'!$N$6, 'Plan unos i pregled'!$E$7:$E$788,'PLAN Rekapitulacija'!$B139, 'Plan unos i pregled'!$C$7:$C$788,'PLAN Rekapitulacija'!F$4, 'Plan unos i pregled'!$A$7:$A$788,$D$3)","v":0},{"$f":"SUMIFS('Plan unos i pregled'!$I$7:$I$788,'Plan unos i pregled'!$B$7:$B$788,'PLAN Rekapitulacija'!$N$7,'Plan unos i pregled'!$M$7:$M$788,'PLAN Rekapitulacija'!$N$6, 'Plan unos i pregled'!$E$7:$E$788,'PLAN Rekapitulacija'!$B139, 'Plan unos i pregled'!$C$7:$C$788,'PLAN Rekapitulacija'!G$4, 'Plan unos i pregled'!$A$7:$A$788,$D$3)","v":0},{"$f":"SUMIFS('Plan unos i pregled'!$I$7:$I$788,'Plan unos i pregled'!$B$7:$B$788,'PLAN Rekapitulacija'!$N$7,'Plan unos i pregled'!$M$7:$M$788,'PLAN Rekapitulacija'!$N$6, 'Plan unos i pregled'!$E$7:$E$788,'PLAN Rekapitulacija'!$B139, 'Plan unos i pregled'!$C$7:$C$788,'PLAN Rekapitulacija'!H$4, 'Plan unos i pregled'!$A$7:$A$788,$D$3)","v":0},{"$f":"SUMIFS('Plan unos i pregled'!$I$7:$I$788,'Plan unos i pregled'!$B$7:$B$788,'PLAN Rekapitulacija'!$N$7,'Plan unos i pregled'!$M$7:$M$788,'PLAN Rekapitulacija'!$N$6, 'Plan unos i pregled'!$E$7:$E$788,'PLAN Rekapitulacija'!$B139, 'Plan unos i pregled'!$C$7:$C$788,'PLAN Rekapitulacija'!I$4, 'Plan unos i pregled'!$A$7:$A$788,$D$3)","v":0},{"$f":"SUM(F139:I139)","v":0},{"$f":"ROUND(E139*J139,2)","v":0}]
["не","6.15.2","Ø 400 mm","m",1188.32,{"$f":"SUMIFS('Plan unos i pregled'!$I$7:$I$788,'Plan unos i pregled'!$B$7:$B$788,'PLAN Rekapitulacija'!$N$7,'Plan unos i pregled'!$M$7:$M$788,'PLAN Rekapitulacija'!$N$6, 'Plan unos i pregled'!$E$7:$E$788,'PLAN Rekapitulacija'!$B140, 'Plan unos i pregled'!$C$7:$C$788,'PLAN Rekapitulacija'!F$4, 'Plan unos i pregled'!$A$7:$A$788,$D$3)","v":0},{"$f":"SUMIFS('Plan unos i pregled'!$I$7:$I$788,'Plan unos i pregled'!$B$7:$B$788,'PLAN Rekapitulacija'!$N$7,'Plan unos i pregled'!$M$7:$M$788,'PLAN Rekapitulacija'!$N$6, 'Plan unos i pregled'!$E$7:$E$788,'PLAN Rekapitulacija'!$B140, 'Plan unos i pregled'!$C$7:$C$788,'PLAN Rekapitulacija'!G$4, 'Plan unos i pregled'!$A$7:$A$788,$D$3)","v":0},{"$f":"SUMIFS('Plan unos i pregled'!$I$7:$I$788,'Plan unos i pregled'!$B$7:$B$788,'PLAN Rekapitulacija'!$N$7,'Plan unos i pregled'!$M$7:$M$788,'PLAN Rekapitulacija'!$N$6, 'Plan unos i pregled'!$E$7:$E$788,'PLAN Rekapitulacija'!$B140, 'Plan unos i pregled'!$C$7:$C$788,'PLAN Rekapitulacija'!H$4, 'Plan unos i pregled'!$A$7:$A$788,$D$3)","v":0},{"$f":"SUMIFS('Plan unos i pregled'!$I$7:$I$788,'Plan unos i pregled'!$B$7:$B$788,'PLAN Rekapitulacija'!$N$7,'Plan unos i pregled'!$M$7:$M$788,'PLAN Rekapitulacija'!$N$6, 'Plan unos i pregled'!$E$7:$E$788,'PLAN Rekapitulacija'!$B140, 'Plan unos i pregled'!$C$7:$C$788,'PLAN Rekapitulacija'!I$4, 'Plan unos i pregled'!$A$7:$A$788,$D$3)","v":0},0,0]
["не","6.15.3","Ø 500 mm","m",1446.68,{"$f":"SUMIFS('Plan unos i pregled'!$I$7:$I$788,'Plan unos i pregled'!$B$7:$B$788,'PLAN Rekapitulacija'!$N$7,'Plan unos i pregled'!$M$7:$M$788,'PLAN Rekapitulacija'!$N$6, 'Plan unos i pregled'!$E$7:$E$788,'PLAN Rekapitulacija'!$B141, 'Plan unos i pregled'!$C$7:$C$788,'PLAN Rekapitulacija'!F$4, 'Plan unos i pregled'!$A$7:$A$788,$D$3)","v":0},{"$f":"SUMIFS('Plan unos i pregled'!$I$7:$I$788,'Plan unos i pregled'!$B$7:$B$788,'PLAN Rekapitulacija'!$N$7,'Plan unos i pregled'!$M$7:$M$788,'PLAN Rekapitulacija'!$N$6, 'Plan unos i pregled'!$E$7:$E$788,'PLAN Rekapitulacija'!$B141, 'Plan unos i pregled'!$C$7:$C$788,'PLAN Rekapitulacija'!G$4, 'Plan unos i pregled'!$A$7:$A$788,$D$3)","v":0},{"$f":"SUMIFS('Plan unos i pregled'!$I$7:$I$788,'Plan unos i pregled'!$B$7:$B$788,'PLAN Rekapitulacija'!$N$7,'Plan unos i pregled'!$M$7:$M$788,'PLAN Rekapitulacija'!$N$6, 'Plan unos i pregled'!$E$7:$E$788,'PLAN Rekapitulacija'!$B141, 'Plan unos i pregled'!$C$7:$C$788,'PLAN Rekapitulacija'!H$4, 'Plan unos i pregled'!$A$7:$A$788,$D$3)","v":0},{"$f":"SUMIFS('Plan unos i pregled'!$I$7:$I$788,'Plan unos i pregled'!$B$7:$B$788,'PLAN Rekapitulacija'!$N$7,'Plan unos i pregled'!$M$7:$M$788,'PLAN Rekapitulacija'!$N$6, 'Plan unos i pregled'!$E$7:$E$788,'PLAN Rekapitulacija'!$B141, 'Plan unos i pregled'!$C$7:$C$788,'PLAN Rekapitulacija'!I$4, 'Plan unos i pregled'!$A$7:$A$788,$D$3)","v":0},0,0]
["не","6.15.4","Ø 600 mm","m",1765.4,{"$f":"SUMIFS('Plan unos i pregled'!$I$7:$I$788,'Plan unos i pregled'!$B$7:$B$788,'PLAN Rekapitulacija'!$N$7,'Plan unos i pregled'!$M$7:$M$788,'PLAN Rekapitulacija'!$N$6, 'Plan unos i pregled'!$E$7:$E$788,'PLAN Rekapitulacija'!$B142, 'Plan unos i pregled'!$C$7:$C$788,'PLAN Rekapitulacija'!F$4, 'Plan unos i pregled'!$A$7:$A$788,$D$3)","v":0},{"$f":"SUMIFS('Plan unos i pregled'!$I$7:$I$788,'Plan unos i pregled'!$B$7:$B$788,'PLAN Rekapitulacija'!$N$7,'Plan unos i pregled'!$M$7:$M$788,'PLAN Rekapitulacija'!$N$6, 'Plan unos i pregled'!$E$7:$E$788,'PLAN Rekapitulacija'!$B142, 'Plan unos i pregled'!$C$7:$C$788,'PLAN Rekapitulacija'!G$4, 'Plan unos i pregled'!$A$7:$A$788,$D$3)","v":0},{"$f":"SUMIFS('Plan unos i pregled'!$I$7:$I$788,'Plan unos i pregled'!$B$7:$B$788,'PLAN Rekapitulacija'!$N$7,'Plan unos i pregled'!$M$7:$M$788,'PLAN Rekapitulacija'!$N$6, 'Plan unos i pregled'!$E$7:$E$788,'PLAN Rekapitulacija'!$B142, 'Plan unos i pregled'!$C$7:$C$788,'PLAN Rekapitulacija'!H$4, 'Plan unos i pregled'!$A$7:$A$788,$D$3)","v":0},{"$f":"SUMIFS('Plan unos i pregled'!$I$7:$I$788,'Plan unos i pregled'!$B$7:$B$788,'PLAN Rekapitulacija'!$N$7,'Plan unos i pregled'!$M$7:$M$788,'PLAN Rekapitulacija'!$N$6, 'Plan unos i pregled'!$E$7:$E$788,'PLAN Rekapitulacija'!$B142, 'Plan unos i pregled'!$C$7:$C$788,'PLAN Rekapitulacija'!I$4, 'Plan unos i pregled'!$A$7:$A$788,$D$3)","v":0},0,0]
["не","6.15.5","Ø 800 mm","m",2586,{"$f":"SUMIFS('Plan unos i pregled'!$I$7:$I$788,'Plan unos i pregled'!$B$7:$B$788,'PLAN Rekapitulacija'!$N$7,'Plan unos i pregled'!$M$7:$M$788,'PLAN Rekapitulacija'!$N$6, 'Plan unos i pregled'!$E$7:$E$788,'PLAN Rekapitulacija'!$B143, 'Plan unos i pregled'!$C$7:$C$788,'PLAN Rekapitulacija'!F$4, 'Plan unos i pregled'!$A$7:$A$788,$D$3)","v":0},{"$f":"SUMIFS('Plan unos i pregled'!$I$7:$I$788,'Plan unos i pregled'!$B$7:$B$788,'PLAN Rekapitulacija'!$N$7,'Plan unos i pregled'!$M$7:$M$788,'PLAN Rekapitulacija'!$N$6, 'Plan unos i pregled'!$E$7:$E$788,'PLAN Rekapitulacija'!$B143, 'Plan unos i pregled'!$C$7:$C$788,'PLAN Rekapitulacija'!G$4, 'Plan unos i pregled'!$A$7:$A$788,$D$3)","v":0},{"$f":"SUMIFS('Plan unos i pregled'!$I$7:$I$788,'Plan unos i pregled'!$B$7:$B$788,'PLAN Rekapitulacija'!$N$7,'Plan unos i pregled'!$M$7:$M$788,'PLAN Rekapitulacija'!$N$6, 'Plan unos i pregled'!$E$7:$E$788,'PLAN Rekapitulacija'!$B143, 'Plan unos i pregled'!$C$7:$C$788,'PLAN Rekapitulacija'!H$4, 'Plan unos i pregled'!$A$7:$A$788,$D$3)","v":0},{"$f":"SUMIFS('Plan unos i pregled'!$I$7:$I$788,'Plan unos i pregled'!$B$7:$B$788,'PLAN Rekapitulacija'!$N$7,'Plan unos i pregled'!$M$7:$M$788,'PLAN Rekapitulacija'!$N$6, 'Plan unos i pregled'!$E$7:$E$788,'PLAN Rekapitulacija'!$B143, 'Plan unos i pregled'!$C$7:$C$788,'PLAN Rekapitulacija'!I$4, 'Plan unos i pregled'!$A$7:$A$788,$D$3)","v":0},0,0]
["не","6.15.6","Ø 1000 mm","m",2800,{"$f":"SUMIFS('Plan unos i pregled'!$I$7:$I$788,'Plan unos i pregled'!$B$7:$B$788,'PLAN Rekapitulacija'!$N$7,'Plan unos i pregled'!$M$7:$M$788,'PLAN Rekapitulacija'!$N$6, 'Plan unos i pregled'!$E$7:$E$788,'PLAN Rekapitulacija'!$B144, 'Plan unos i pregled'!$C$7:$C$788,'PLAN Rekapitulacija'!F$4, 'Plan unos i pregled'!$A$7:$A$788,$D$3)","v":0},{"$f":"SUMIFS('Plan unos i pregled'!$I$7:$I$788,'Plan unos i pregled'!$B$7:$B$788,'PLAN Rekapitulacija'!$N$7,'Plan unos i pregled'!$M$7:$M$788,'PLAN Rekapitulacija'!$N$6, 'Plan unos i pregled'!$E$7:$E$788,'PLAN Rekapitulacija'!$B144, 'Plan unos i pregled'!$C$7:$C$788,'PLAN Rekapitulacija'!G$4, 'Plan unos i pregled'!$A$7:$A$788,$D$3)","v":0},{"$f":"SUMIFS('Plan unos i pregled'!$I$7:$I$788,'Plan unos i pregled'!$B$7:$B$788,'PLAN Rekapitulacija'!$N$7,'Plan unos i pregled'!$M$7:$M$788,'PLAN Rekapitulacija'!$N$6, 'Plan unos i pregled'!$E$7:$E$788,'PLAN Rekapitulacija'!$B144, 'Plan unos i pregled'!$C$7:$C$788,'PLAN Rekapitulacija'!H$4, 'Plan unos i pregled'!$A$7:$A$788,$D$3)","v":0},{"$f":"SUMIFS('Plan unos i pregled'!$I$7:$I$788,'Plan unos i pregled'!$B$7:$B$788,'PLAN Rekapitulacija'!$N$7,'Plan unos i pregled'!$M$7:$M$788,'PLAN Rekapitulacija'!$N$6, 'Plan unos i pregled'!$E$7:$E$788,'PLAN Rekapitulacija'!$B144, 'Plan unos i pregled'!$C$7:$C$788,'PLAN Rekapitulacija'!I$4, 'Plan unos i pregled'!$A$7:$A$788,$D$3)","v":0},0,0]
[{"$f":"IF(OR(J145:K151),\"штампа\",\"не\")","v":"не"},"6.16","Транспорт цеви на 30 km",null,0]
["не","6.16.1","Ø 300 mm","m",342,{"$f":"SUMIFS('Plan unos i pregled'!$I$7:$I$788,'Plan unos i pregled'!$B$7:$B$788,'PLAN Rekapitulacija'!$N$7,'Plan unos i pregled'!$M$7:$M$788,'PLAN Rekapitulacija'!$N$6, 'Plan unos i pregled'!$E$7:$E$788,'PLAN Rekapitulacija'!$B146, 'Plan unos i pregled'!$C$7:$C$788,'PLAN Rekapitulacija'!F$4, 'Plan unos i pregled'!$A$7:$A$788,$D$3)","v":0},{"$f":"SUMIFS('Plan unos i pregled'!$I$7:$I$788,'Plan unos i pregled'!$B$7:$B$788,'PLAN Rekapitulacija'!$N$7,'Plan unos i pregled'!$M$7:$M$788,'PLAN Rekapitulacija'!$N$6, 'Plan unos i pregled'!$E$7:$E$788,'PLAN Rekapitulacija'!$B146, 'Plan unos i pregled'!$C$7:$C$788,'PLAN Rekapitulacija'!G$4, 'Plan unos i pregled'!$A$7:$A$788,$D$3)","v":0},{"$f":"SUMIFS('Plan unos i pregled'!$I$7:$I$788,'Plan unos i pregled'!$B$7:$B$788,'PLAN Rekapitulacija'!$N$7,'Plan unos i pregled'!$M$7:$M$788,'PLAN Rekapitulacija'!$N$6, 'Plan unos i pregled'!$E$7:$E$788,'PLAN Rekapitulacija'!$B146, 'Plan unos i pregled'!$C$7:$C$788,'PLAN Rekapitulacija'!H$4, 'Plan unos i pregled'!$A$7:$A$788,$D$3)","v":0},{"$f":"SUMIFS('Plan unos i pregled'!$I$7:$I$788,'Plan unos i pregled'!$B$7:$B$788,'PLAN Rekapitulacija'!$N$7,'Plan unos i pregled'!$M$7:$M$788,'PLAN Rekapitulacija'!$N$6, 'Plan unos i pregled'!$E$7:$E$788,'PLAN Rekapitulacija'!$B146, 'Plan unos i pregled'!$C$7:$C$788,'PLAN Rekapitulacija'!I$4, 'Plan unos i pregled'!$A$7:$A$788,$D$3)","v":0},{"$f":"SUM(F146:I146)","v":0},{"$f":"ROUND(E146*J146,2)","v":0}]
["не","6.16.2","Ø 400 mm","m",342,{"$f":"SUMIFS('Plan unos i pregled'!$I$7:$I$788,'Plan unos i pregled'!$B$7:$B$788,'PLAN Rekapitulacija'!$N$7,'Plan unos i pregled'!$M$7:$M$788,'PLAN Rekapitulacija'!$N$6, 'Plan unos i pregled'!$E$7:$E$788,'PLAN Rekapitulacija'!$B147, 'Plan unos i pregled'!$C$7:$C$788,'PLAN Rekapitulacija'!F$4, 'Plan unos i pregled'!$A$7:$A$788,$D$3)","v":0},{"$f":"SUMIFS('Plan unos i pregled'!$I$7:$I$788,'Plan unos i pregled'!$B$7:$B$788,'PLAN Rekapitulacija'!$N$7,'Plan unos i pregled'!$M$7:$M$788,'PLAN Rekapitulacija'!$N$6, 'Plan unos i pregled'!$E$7:$E$788,'PLAN Rekapitulacija'!$B147, 'Plan unos i pregled'!$C$7:$C$788,'PLAN Rekapitulacija'!G$4, 'Plan unos i pregled'!$A$7:$A$788,$D$3)","v":0},{"$f":"SUMIFS('Plan unos i pregled'!$I$7:$I$788,'Plan unos i pregled'!$B$7:$B$788,'PLAN Rekapitulacija'!$N$7,'Plan unos i pregled'!$M$7:$M$788,'PLAN Rekapitulacija'!$N$6, 'Plan unos i pregled'!$E$7:$E$788,'PLAN Rekapitulacija'!$B147, 'Plan unos i pregled'!$C$7:$C$788,'PLAN Rekapitulacija'!H$4, 'Plan unos i pregled'!$A$7:$A$788,$D$3)","v":0},{"$f":"SUMIFS('Plan unos i pregled'!$I$7:$I$788,'Plan unos i pregled'!$B$7:$B$788,'PLAN Rekapitulacija'!$N$7,'Plan unos i pregled'!$M$7:$M$788,'PLAN Rekapitulacija'!$N$6, 'Plan unos i pregled'!$E$7:$E$788,'PLAN Rekapitulacija'!$B147, 'Plan unos i pregled'!$C$7:$C$788,'PLAN Rekapitulacija'!I$4, 'Plan unos i pregled'!$A$7:$A$788,$D$3)","v":0},0,0]
["не","6.16.3","Ø 500 mm","m",432,{"$f":"SUMIFS('Plan unos i pregled'!$I$7:$I$788,'Plan unos i pregled'!$B$7:$B$788,'PLAN Rekapitulacija'!$N$7,'Plan unos i pregled'!$M$7:$M$788,'PLAN Rekapitulacija'!$N$6, 'Plan unos i pregled'!$E$7:$E$788,'PLAN Rekapitulacija'!$B148, 'Plan unos i pregled'!$C$7:$C$788,'PLAN Rekapitulacija'!F$4, 'Plan unos i pregled'!$A$7:$A$788,$D$3)","v":0},{"$f":"SUMIFS('Plan unos i pregled'!$I$7:$I$788,'Plan unos i pregled'!$B$7:$B$788,'PLAN Rekapitulacija'!$N$7,'Plan unos i pregled'!$M$7:$M$788,'PLAN Rekapitulacija'!$N$6, 'Plan unos i pregled'!$E$7:$E$788,'PLAN Rekapitulacija'!$B148, 'Plan unos i pregled'!$C$7:$C$788,'PLAN Rekapitulacija'!G$4, 'Plan unos i pregled'!$A$7:$A$788,$D$3)","v":0},{"$f":"SUMIFS('Plan unos i pregled'!$I$7:$I$788,'Plan unos i pregled'!$B$7:$B$788,'PLAN Rekapitulacija'!$N$7,'Plan unos i pregled'!$M$7:$M$788,'PLAN Rekapitulacija'!$N$6, 'Plan unos i pregled'!$E$7:$E$788,'PLAN Rekapitulacija'!$B148, 'Plan unos i pregled'!$C$7:$C$788,'PLAN Rekapitulacija'!H$4, 'Plan unos i pregled'!$A$7:$A$788,$D$3)","v":0},{"$f":"SUMIFS('Plan unos i pregled'!$I$7:$I$788,'Plan unos i pregled'!$B$7:$B$788,'PLAN Rekapitulacija'!$N$7,'Plan unos i pregled'!$M$7:$M$788,'PLAN Rekapitulacija'!$N$6, 'Plan unos i pregled'!$E$7:$E$788,'PLAN Rekapitulacija'!$B148, 'Plan unos i pregled'!$C$7:$C$788,'PLAN Rekapitulacija'!I$4, 'Plan unos i pregled'!$A$7:$A$788,$D$3)","v":0},0,0]
["не","6.16.4","Ø 600 mm","m",522,{"$f":"SUMIFS('Plan unos i pregled'!$I$7:$I$788,'Plan unos i pregled'!$B$7:$B$788,'PLAN Rekapitulacija'!$N$7,'Plan unos i pregled'!$M$7:$M$788,'PLAN Rekapitulacija'!$N$6, 'Plan unos i pregled'!$E$7:$E$788,'PLAN Rekapitulacija'!$B149, 'Plan unos i pregled'!$C$7:$C$788,'PLAN Rekapitulacija'!F$4, 'Plan unos i pregled'!$A$7:$A$788,$D$3)","v":0},{"$f":"SUMIFS('Plan unos i pregled'!$I$7:$I$788,'Plan unos i pregled'!$B$7:$B$788,'PLAN Rekapitulacija'!$N$7,'Plan unos i pregled'!$M$7:$M$788,'PLAN Rekapitulacija'!$N$6, 'Plan unos i pregled'!$E$7:$E$788,'PLAN Rekapitulacija'!$B149, 'Plan unos i pregled'!$C$7:$C$788,'PLAN Rekapitulacija'!G$4, 'Plan unos i pregled'!$A$7:$A$788,$D$3)","v":0},{"$f":"SUMIFS('Plan unos i pregled'!$I$7:$I$788,'Plan unos i pregled'!$B$7:$B$788,'PLAN Rekapitulacija'!$N$7,'Plan unos i pregled'!$M$7:$M$788,'PLAN Rekapitulacija'!$N$6, 'Plan unos i pregled'!$E$7:$E$788,'PLAN Rekapitulacija'!$B149, 'Plan unos i pregled'!$C$7:$C$788,'PLAN Rekapitulacija'!H$4, 'Plan unos i pregled'!$A$7:$A$788,$D$3)","v":0},{"$f":"SUMIFS('Plan unos i pregled'!$I$7:$I$788,'Plan unos i pregled'!$B$7:$B$788,'PLAN Rekapitulacija'!$N$7,'Plan unos i pregled'!$M$7:$M$788,'PLAN Rekapitulacija'!$N$6, 'Plan unos i pregled'!$E$7:$E$788,'PLAN Rekapitulacija'!$B149, 'Plan unos i pregled'!$C$7:$C$788,'PLAN Rekapitulacija'!I$4, 'Plan unos i pregled'!$A$7:$A$788,$D$3)","v":0},0,0]
["не","6.16.5","Ø 800 mm","m",648,{"$f":"SUMIFS('Plan unos i pregled'!$I$7:$I$788,'Plan unos i pregled'!$B$7:$B$788,'PLAN Rekapitulacija'!$N$7,'Plan unos i pregled'!$M$7:$M$788,'PLAN Rekapitulacija'!$N$6, 'Plan unos i pregled'!$E$7:$E$788,'PLAN Rekapitulacija'!$B150, 'Plan unos i pregled'!$C$7:$C$788,'PLAN Rekapitulacija'!F$4, 'Plan unos i pregled'!$A$7:$A$788,$D$3)","v":0},{"$f":"SUMIFS('Plan unos i pregled'!$I$7:$I$788,'Plan unos i pregled'!$B$7:$B$788,'PLAN Rekapitulacija'!$N$7,'Plan unos i pregled'!$M$7:$M$788,'PLAN Rekapitulacija'!$N$6, 'Plan unos i pregled'!$E$7:$E$788,'PLAN Rekapitulacija'!$B150, 'Plan unos i pregled'!$C$7:$C$788,'PLAN Rekapitulacija'!G$4, 'Plan unos i pregled'!$A$7:$A$788,$D$3)","v":0},{"$f":"SUMIFS('Plan unos i pregled'!$I$7:$I$788,'Plan unos i pregled'!$B$7:$B$788,'PLAN Rekapitulacija'!$N$7,'Plan unos i pregled'!$M$7:$M$788,'PLAN Rekapitulacija'!$N$6, 'Plan unos i pregled'!$E$7:$E$788,'PLAN Rekapitulacija'!$B150, 'Plan unos i pregled'!$C$7:$C$788,'PLAN Rekapitulacija'!H$4, 'Plan unos i pregled'!$A$7:$A$788,$D$3)","v":0},{"$f":"SUMIFS('Plan unos i pregled'!$I$7:$I$788,'Plan unos i pregled'!$B$7:$B$788,'PLAN Rekapitulacija'!$N$7,'Plan unos i pregled'!$M$7:$M$788,'PLAN Rekapitulacija'!$N$6, 'Plan unos i pregled'!$E$7:$E$788,'PLAN Rekapitulacija'!$B150, 'Plan unos i pregled'!$C$7:$C$788,'PLAN Rekapitulacija'!I$4, 'Plan unos i pregled'!$A$7:$A$788,$D$3)","v":0},0,0]
["не","6.16.6","Ø 1000 mm","m",918,{"$f":"SUMIFS('Plan unos i pregled'!$I$7:$I$788,'Plan unos i pregled'!$B$7:$B$788,'PLAN Rekapitulacija'!$N$7,'Plan unos i pregled'!$M$7:$M$788,'PLAN Rekapitulacija'!$N$6, 'Plan unos i pregled'!$E$7:$E$788,'PLAN Rekapitulacija'!$B151, 'Plan unos i pregled'!$C$7:$C$788,'PLAN Rekapitulacija'!F$4, 'Plan unos i pregled'!$A$7:$A$788,$D$3)","v":0},{"$f":"SUMIFS('Plan unos i pregled'!$I$7:$I$788,'Plan unos i pregled'!$B$7:$B$788,'PLAN Rekapitulacija'!$N$7,'Plan unos i pregled'!$M$7:$M$788,'PLAN Rekapitulacija'!$N$6, 'Plan unos i pregled'!$E$7:$E$788,'PLAN Rekapitulacija'!$B151, 'Plan unos i pregled'!$C$7:$C$788,'PLAN Rekapitulacija'!G$4, 'Plan unos i pregled'!$A$7:$A$788,$D$3)","v":0},{"$f":"SUMIFS('Plan unos i pregled'!$I$7:$I$788,'Plan unos i pregled'!$B$7:$B$788,'PLAN Rekapitulacija'!$N$7,'Plan unos i pregled'!$M$7:$M$788,'PLAN Rekapitulacija'!$N$6, 'Plan unos i pregled'!$E$7:$E$788,'PLAN Rekapitulacija'!$B151, 'Plan unos i pregled'!$C$7:$C$788,'PLAN Rekapitulacija'!H$4, 'Plan unos i pregled'!$A$7:$A$788,$D$3)","v":0},{"$f":"SUMIFS('Plan unos i pregled'!$I$7:$I$788,'Plan unos i pregled'!$B$7:$B$788,'PLAN Rekapitulacija'!$N$7,'Plan unos i pregled'!$M$7:$M$788,'PLAN Rekapitulacija'!$N$6, 'Plan unos i pregled'!$E$7:$E$788,'PLAN Rekapitulacija'!$B151, 'Plan unos i pregled'!$C$7:$C$788,'PLAN Rekapitulacija'!I$4, 'Plan unos i pregled'!$A$7:$A$788,$D$3)","v":0},0,0]
[{"$f":"IF(OR(J152:K167),\"штампа\",\"не\")","v":"не"},"6.17","Набавка цеви ",null,0]
[{"$f":"IF(OR(J153:K160),\"штампа\",\"не\")","v":"не"},"6.17.1","Неармиране цеви ",null,0]
[{"$f":"IF(OR(J154:K154),\"штампа\",\"не\")","v":"не"},"6.17.1.1","Ø 300 mm","по рачуну",3600,{"$f":"SUMIFS('Plan unos i pregled'!$I$7:$I$788,'Plan unos i pregled'!$B$7:$B$788,'PLAN Rekapitulacija'!$N$7,'Plan unos i pregled'!$M$7:$M$788,'PLAN Rekapitulacija'!$N$6, 'Plan unos i pregled'!$E$7:$E$788,'PLAN Rekapitulacija'!$B154, 'Plan unos i pregled'!$C$7:$C$788,'PLAN Rekapitulacija'!F$4, 'Plan unos i pregled'!$A$7:$A$788,$D$3)","v":0},{"$f":"SUMIFS('Plan unos i pregled'!$I$7:$I$788,'Plan unos i pregled'!$B$7:$B$788,'PLAN Rekapitulacija'!$N$7,'Plan unos i pregled'!$M$7:$M$788,'PLAN Rekapitulacija'!$N$6, 'Plan unos i pregled'!$E$7:$E$788,'PLAN Rekapitulacija'!$B154, 'Plan unos i pregled'!$C$7:$C$788,'PLAN Rekapitulacija'!G$4, 'Plan unos i pregled'!$A$7:$A$788,$D$3)","v":0},{"$f":"SUMIFS('Plan unos i pregled'!$I$7:$I$788,'Plan unos i pregled'!$B$7:$B$788,'PLAN Rekapitulacija'!$N$7,'Plan unos i pregled'!$M$7:$M$788,'PLAN Rekapitulacija'!$N$6, 'Plan unos i pregled'!$E$7:$E$788,'PLAN Rekapitulacija'!$B154, 'Plan unos i pregled'!$C$7:$C$788,'PLAN Rekapitulacija'!H$4, 'Plan unos i pregled'!$A$7:$A$788,$D$3)","v":0},{"$f":"SUMIFS('Plan unos i pregled'!$I$7:$I$788,'Plan unos i pregled'!$B$7:$B$788,'PLAN Rekapitulacija'!$N$7,'Plan unos i pregled'!$M$7:$M$788,'PLAN Rekapitulacija'!$N$6, 'Plan unos i pregled'!$E$7:$E$788,'PLAN Rekapitulacija'!$B154, 'Plan unos i pregled'!$C$7:$C$788,'PLAN Rekapitulacija'!I$4, 'Plan unos i pregled'!$A$7:$A$788,$D$3)","v":0},{"$f":"SUM(F154:I154)","v":0},{"$f":"ROUND(E154*J154,2)","v":0}]
["не","6.17.1.2","Ø 400 mm","по рачуну",4080,{"$f":"SUMIFS('Plan unos i pregled'!$I$7:$I$788,'Plan unos i pregled'!$B$7:$B$788,'PLAN Rekapitulacija'!$N$7,'Plan unos i pregled'!$M$7:$M$788,'PLAN Rekapitulacija'!$N$6, 'Plan unos i pregled'!$E$7:$E$788,'PLAN Rekapitulacija'!$B155, 'Plan unos i pregled'!$C$7:$C$788,'PLAN Rekapitulacija'!F$4, 'Plan unos i pregled'!$A$7:$A$788,$D$3)","v":0},{"$f":"SUMIFS('Plan unos i pregled'!$I$7:$I$788,'Plan unos i pregled'!$B$7:$B$788,'PLAN Rekapitulacija'!$N$7,'Plan unos i pregled'!$M$7:$M$788,'PLAN Rekapitulacija'!$N$6, 'Plan unos i pregled'!$E$7:$E$788,'PLAN Rekapitulacija'!$B155, 'Plan unos i pregled'!$C$7:$C$788,'PLAN Rekapitulacija'!G$4, 'Plan unos i pregled'!$A$7:$A$788,$D$3)","v":0},{"$f":"SUMIFS('Plan unos i pregled'!$I$7:$I$788,'Plan unos i pregled'!$B$7:$B$788,'PLAN Rekapitulacija'!$N$7,'Plan unos i pregled'!$M$7:$M$788,'PLAN Rekapitulacija'!$N$6, 'Plan unos i pregled'!$E$7:$E$788,'PLAN Rekapitulacija'!$B155, 'Plan unos i pregled'!$C$7:$C$788,'PLAN Rekapitulacija'!H$4, 'Plan unos i pregled'!$A$7:$A$788,$D$3)","v":0},{"$f":"SUMIFS('Plan unos i pregled'!$I$7:$I$788,'Plan unos i pregled'!$B$7:$B$788,'PLAN Rekapitulacija'!$N$7,'Plan unos i pregled'!$M$7:$M$788,'PLAN Rekapitulacija'!$N$6, 'Plan unos i pregled'!$E$7:$E$788,'PLAN Rekapitulacija'!$B155, 'Plan unos i pregled'!$C$7:$C$788,'PLAN Rekapitulacija'!I$4, 'Plan unos i pregled'!$A$7:$A$788,$D$3)","v":0},0,0]
["не","6.17.1.3","Ø 500 mm","по рачуну",0,{"$f":"SUMIFS('Plan unos i pregled'!$I$7:$I$788,'Plan unos i pregled'!$B$7:$B$788,'PLAN Rekapitulacija'!$N$7,'Plan unos i pregled'!$M$7:$M$788,'PLAN Rekapitulacija'!$N$6, 'Plan unos i pregled'!$E$7:$E$788,'PLAN Rekapitulacija'!$B156, 'Plan unos i pregled'!$C$7:$C$788,'PLAN Rekapitulacija'!F$4, 'Plan unos i pregled'!$A$7:$A$788,$D$3)","v":0},{"$f":"SUMIFS('Plan unos i pregled'!$I$7:$I$788,'Plan unos i pregled'!$B$7:$B$788,'PLAN Rekapitulacija'!$N$7,'Plan unos i pregled'!$M$7:$M$788,'PLAN Rekapitulacija'!$N$6, 'Plan unos i pregled'!$E$7:$E$788,'PLAN Rekapitulacija'!$B156, 'Plan unos i pregled'!$C$7:$C$788,'PLAN Rekapitulacija'!G$4, 'Plan unos i pregled'!$A$7:$A$788,$D$3)","v":0},{"$f":"SUMIFS('Plan unos i pregled'!$I$7:$I$788,'Plan unos i pregled'!$B$7:$B$788,'PLAN Rekapitulacija'!$N$7,'Plan unos i pregled'!$M$7:$M$788,'PLAN Rekapitulacija'!$N$6, 'Plan unos i pregled'!$E$7:$E$788,'PLAN Rekapitulacija'!$B156, 'Plan unos i pregled'!$C$7:$C$788,'PLAN Rekapitulacija'!H$4, 'Plan unos i pregled'!$A$7:$A$788,$D$3)","v":0},{"$f":"SUMIFS('Plan unos i pregled'!$I$7:$I$788,'Plan unos i pregled'!$B$7:$B$788,'PLAN Rekapitulacija'!$N$7,'Plan unos i pregled'!$M$7:$M$788,'PLAN Rekapitulacija'!$N$6, 'Plan unos i pregled'!$E$7:$E$788,'PLAN Rekapitulacija'!$B156, 'Plan unos i pregled'!$C$7:$C$788,'PLAN Rekapitulacija'!I$4, 'Plan unos i pregled'!$A$7:$A$788,$D$3)","v":0},0,0]
["не","6.17.1.4","Ø 600 mm","по рачуну",8400,{"$f":"SUMIFS('Plan unos i pregled'!$I$7:$I$788,'Plan unos i pregled'!$B$7:$B$788,'PLAN Rekapitulacija'!$N$7,'Plan unos i pregled'!$M$7:$M$788,'PLAN Rekapitulacija'!$N$6, 'Plan unos i pregled'!$E$7:$E$788,'PLAN Rekapitulacija'!$B157, 'Plan unos i pregled'!$C$7:$C$788,'PLAN Rekapitulacija'!F$4, 'Plan unos i pregled'!$A$7:$A$788,$D$3)","v":0},{"$f":"SUMIFS('Plan unos i pregled'!$I$7:$I$788,'Plan unos i pregled'!$B$7:$B$788,'PLAN Rekapitulacija'!$N$7,'Plan unos i pregled'!$M$7:$M$788,'PLAN Rekapitulacija'!$N$6, 'Plan unos i pregled'!$E$7:$E$788,'PLAN Rekapitulacija'!$B157, 'Plan unos i pregled'!$C$7:$C$788,'PLAN Rekapitulacija'!G$4, 'Plan unos i pregled'!$A$7:$A$788,$D$3)","v":0},{"$f":"SUMIFS('Plan unos i pregled'!$I$7:$I$788,'Plan unos i pregled'!$B$7:$B$788,'PLAN Rekapitulacija'!$N$7,'Plan unos i pregled'!$M$7:$M$788,'PLAN Rekapitulacija'!$N$6, 'Plan unos i pregled'!$E$7:$E$788,'PLAN Rekapitulacija'!$B157, 'Plan unos i pregled'!$C$7:$C$788,'PLAN Rekapitulacija'!H$4, 'Plan unos i pregled'!$A$7:$A$788,$D$3)","v":0},{"$f":"SUMIFS('Plan unos i pregled'!$I$7:$I$788,'Plan unos i pregled'!$B$7:$B$788,'PLAN Rekapitulacija'!$N$7,'Plan unos i pregled'!$M$7:$M$788,'PLAN Rekapitulacija'!$N$6, 'Plan unos i pregled'!$E$7:$E$788,'PLAN Rekapitulacija'!$B157, 'Plan unos i pregled'!$C$7:$C$788,'PLAN Rekapitulacija'!I$4, 'Plan unos i pregled'!$A$7:$A$788,$D$3)","v":0},0,0]
["не","6.17.1.5","Ø 800 mm","по рачуну",9600,{"$f":"SUMIFS('Plan unos i pregled'!$I$7:$I$788,'Plan unos i pregled'!$B$7:$B$788,'PLAN Rekapitulacija'!$N$7,'Plan unos i pregled'!$M$7:$M$788,'PLAN Rekapitulacija'!$N$6, 'Plan unos i pregled'!$E$7:$E$788,'PLAN Rekapitulacija'!$B158, 'Plan unos i pregled'!$C$7:$C$788,'PLAN Rekapitulacija'!F$4, 'Plan unos i pregled'!$A$7:$A$788,$D$3)","v":0},{"$f":"SUMIFS('Plan unos i pregled'!$I$7:$I$788,'Plan unos i pregled'!$B$7:$B$788,'PLAN Rekapitulacija'!$N$7,'Plan unos i pregled'!$M$7:$M$788,'PLAN Rekapitulacija'!$N$6, 'Plan unos i pregled'!$E$7:$E$788,'PLAN Rekapitulacija'!$B158, 'Plan unos i pregled'!$C$7:$C$788,'PLAN Rekapitulacija'!G$4, 'Plan unos i pregled'!$A$7:$A$788,$D$3)","v":0},{"$f":"SUMIFS('Plan unos i pregled'!$I$7:$I$788,'Plan unos i pregled'!$B$7:$B$788,'PLAN Rekapitulacija'!$N$7,'Plan unos i pregled'!$M$7:$M$788,'PLAN Rekapitulacija'!$N$6, 'Plan unos i pregled'!$E$7:$E$788,'PLAN Rekapitulacija'!$B158, 'Plan unos i pregled'!$C$7:$C$788,'PLAN Rekapitulacija'!H$4, 'Plan unos i pregled'!$A$7:$A$788,$D$3)","v":0},{"$f":"SUMIFS('Plan unos i pregled'!$I$7:$I$788,'Plan unos i pregled'!$B$7:$B$788,'PLAN Rekapitulacija'!$N$7,'Plan unos i pregled'!$M$7:$M$788,'PLAN Rekapitulacija'!$N$6, 'Plan unos i pregled'!$E$7:$E$788,'PLAN Rekapitulacija'!$B158, 'Plan unos i pregled'!$C$7:$C$788,'PLAN Rekapitulacija'!I$4, 'Plan unos i pregled'!$A$7:$A$788,$D$3)","v":0},0,0]
["не","6.17.1.6","Ø 1000 mm","по рачуну",14400,{"$f":"SUMIFS('Plan unos i pregled'!$I$7:$I$788,'Plan unos i pregled'!$B$7:$B$788,'PLAN Rekapitulacija'!$N$7,'Plan unos i pregled'!$M$7:$M$788,'PLAN Rekapitulacija'!$N$6, 'Plan unos i pregled'!$E$7:$E$788,'PLAN Rekapitulacija'!$B159, 'Plan unos i pregled'!$C$7:$C$788,'PLAN Rekapitulacija'!F$4, 'Plan unos i pregled'!$A$7:$A$788,$D$3)","v":0},{"$f":"SUMIFS('Plan unos i pregled'!$I$7:$I$788,'Plan unos i pregled'!$B$7:$B$788,'PLAN Rekapitulacija'!$N$7,'Plan unos i pregled'!$M$7:$M$788,'PLAN Rekapitulacija'!$N$6, 'Plan unos i pregled'!$E$7:$E$788,'PLAN Rekapitulacija'!$B159, 'Plan unos i pregled'!$C$7:$C$788,'PLAN Rekapitulacija'!G$4, 'Plan unos i pregled'!$A$7:$A$788,$D$3)","v":0},{"$f":"SUMIFS('Plan unos i pregled'!$I$7:$I$788,'Plan unos i pregled'!$B$7:$B$788,'PLAN Rekapitulacija'!$N$7,'Plan unos i pregled'!$M$7:$M$788,'PLAN Rekapitulacija'!$N$6, 'Plan unos i pregled'!$E$7:$E$788,'PLAN Rekapitulacija'!$B159, 'Plan unos i pregled'!$C$7:$C$788,'PLAN Rekapitulacija'!H$4, 'Plan unos i pregled'!$A$7:$A$788,$D$3)","v":0},{"$f":"SUMIFS('Plan unos i pregled'!$I$7:$I$788,'Plan unos i pregled'!$B$7:$B$788,'PLAN Rekapitulacija'!$N$7,'Plan unos i pregled'!$M$7:$M$788,'PLAN Rekapitulacija'!$N$6, 'Plan unos i pregled'!$E$7:$E$788,'PLAN Rekapitulacija'!$B159, 'Plan unos i pregled'!$C$7:$C$788,'PLAN Rekapitulacija'!I$4, 'Plan unos i pregled'!$A$7:$A$788,$D$3)","v":0},0,0]
["не","6.17.1.7","Бетонски гајгер сливник Ø 400 mm","ком",8400,{"$f":"SUMIFS('Plan unos i pregled'!$I$7:$I$788,'Plan unos i pregled'!$B$7:$B$788,'PLAN Rekapitulacija'!$N$7,'Plan unos i pregled'!$M$7:$M$788,'PLAN Rekapitulacija'!$N$6, 'Plan unos i pregled'!$E$7:$E$788,'PLAN Rekapitulacija'!$B160, 'Plan unos i pregled'!$C$7:$C$788,'PLAN Rekapitulacija'!F$4, 'Plan unos i pregled'!$A$7:$A$788,$D$3)","v":0},{"$f":"SUMIFS('Plan unos i pregled'!$I$7:$I$788,'Plan unos i pregled'!$B$7:$B$788,'PLAN Rekapitulacija'!$N$7,'Plan unos i pregled'!$M$7:$M$788,'PLAN Rekapitulacija'!$N$6, 'Plan unos i pregled'!$E$7:$E$788,'PLAN Rekapitulacija'!$B160, 'Plan unos i pregled'!$C$7:$C$788,'PLAN Rekapitulacija'!G$4, 'Plan unos i pregled'!$A$7:$A$788,$D$3)","v":0},{"$f":"SUMIFS('Plan unos i pregled'!$I$7:$I$788,'Plan unos i pregled'!$B$7:$B$788,'PLAN Rekapitulacija'!$N$7,'Plan unos i pregled'!$M$7:$M$788,'PLAN Rekapitulacija'!$N$6, 'Plan unos i pregled'!$E$7:$E$788,'PLAN Rekapitulacija'!$B160, 'Plan unos i pregled'!$C$7:$C$788,'PLAN Rekapitulacija'!H$4, 'Plan unos i pregled'!$A$7:$A$788,$D$3)","v":0},{"$f":"SUMIFS('Plan unos i pregled'!$I$7:$I$788,'Plan unos i pregled'!$B$7:$B$788,'PLAN Rekapitulacija'!$N$7,'Plan unos i pregled'!$M$7:$M$788,'PLAN Rekapitulacija'!$N$6, 'Plan unos i pregled'!$E$7:$E$788,'PLAN Rekapitulacija'!$B160, 'Plan unos i pregled'!$C$7:$C$788,'PLAN Rekapitulacija'!I$4, 'Plan unos i pregled'!$A$7:$A$788,$D$3)","v":0},0,0]
[{"$f":"IF(OR(J161:K167),\"штампа\",\"не\")","v":"не"},"6.17.2","Армиране цеви ",null,0]
[{"$f":"IF(OR(J162:K162),\"штампа\",\"не\")","v":"не"},"6.17.2.1","Ø 300 mm","по рачуну",0,{"$f":"SUMIFS('Plan unos i pregled'!$I$7:$I$788,'Plan unos i pregled'!$B$7:$B$788,'PLAN Rekapitulacija'!$N$7,'Plan unos i pregled'!$M$7:$M$788,'PLAN Rekapitulacija'!$N$6, 'Plan unos i pregled'!$E$7:$E$788,'PLAN Rekapitulacija'!$B162, 'Plan unos i pregled'!$C$7:$C$788,'PLAN Rekapitulacija'!F$4, 'Plan unos i pregled'!$A$7:$A$788,$D$3)","v":0},{"$f":"SUMIFS('Plan unos i pregled'!$I$7:$I$788,'Plan unos i pregled'!$B$7:$B$788,'PLAN Rekapitulacija'!$N$7,'Plan unos i pregled'!$M$7:$M$788,'PLAN Rekapitulacija'!$N$6, 'Plan unos i pregled'!$E$7:$E$788,'PLAN Rekapitulacija'!$B162, 'Plan unos i pregled'!$C$7:$C$788,'PLAN Rekapitulacija'!G$4, 'Plan unos i pregled'!$A$7:$A$788,$D$3)","v":0},{"$f":"SUMIFS('Plan unos i pregled'!$I$7:$I$788,'Plan unos i pregled'!$B$7:$B$788,'PLAN Rekapitulacija'!$N$7,'Plan unos i pregled'!$M$7:$M$788,'PLAN Rekapitulacija'!$N$6, 'Plan unos i pregled'!$E$7:$E$788,'PLAN Rekapitulacija'!$B162, 'Plan unos i pregled'!$C$7:$C$788,'PLAN Rekapitulacija'!H$4, 'Plan unos i pregled'!$A$7:$A$788,$D$3)","v":0},{"$f":"SUMIFS('Plan unos i pregled'!$I$7:$I$788,'Plan unos i pregled'!$B$7:$B$788,'PLAN Rekapitulacija'!$N$7,'Plan unos i pregled'!$M$7:$M$788,'PLAN Rekapitulacija'!$N$6, 'Plan unos i pregled'!$E$7:$E$788,'PLAN Rekapitulacija'!$B162, 'Plan unos i pregled'!$C$7:$C$788,'PLAN Rekapitulacija'!I$4, 'Plan unos i pregled'!$A$7:$A$788,$D$3)","v":0},{"$f":"SUM(F162:I162)","v":0},{"$f":"ROUND(E162*J162,2)","v":0}]
["не","6.17.2.2","Ø 400 mm","по рачуну",0,{"$f":"SUMIFS('Plan unos i pregled'!$I$7:$I$788,'Plan unos i pregled'!$B$7:$B$788,'PLAN Rekapitulacija'!$N$7,'Plan unos i pregled'!$M$7:$M$788,'PLAN Rekapitulacija'!$N$6, 'Plan unos i pregled'!$E$7:$E$788,'PLAN Rekapitulacija'!$B163, 'Plan unos i pregled'!$C$7:$C$788,'PLAN Rekapitulacija'!F$4, 'Plan unos i pregled'!$A$7:$A$788,$D$3)","v":0},{"$f":"SUMIFS('Plan unos i pregled'!$I$7:$I$788,'Plan unos i pregled'!$B$7:$B$788,'PLAN Rekapitulacija'!$N$7,'Plan unos i pregled'!$M$7:$M$788,'PLAN Rekapitulacija'!$N$6, 'Plan unos i pregled'!$E$7:$E$788,'PLAN Rekapitulacija'!$B163, 'Plan unos i pregled'!$C$7:$C$788,'PLAN Rekapitulacija'!G$4, 'Plan unos i pregled'!$A$7:$A$788,$D$3)","v":0},{"$f":"SUMIFS('Plan unos i pregled'!$I$7:$I$788,'Plan unos i pregled'!$B$7:$B$788,'PLAN Rekapitulacija'!$N$7,'Plan unos i pregled'!$M$7:$M$788,'PLAN Rekapitulacija'!$N$6, 'Plan unos i pregled'!$E$7:$E$788,'PLAN Rekapitulacija'!$B163, 'Plan unos i pregled'!$C$7:$C$788,'PLAN Rekapitulacija'!H$4, 'Plan unos i pregled'!$A$7:$A$788,$D$3)","v":0},{"$f":"SUMIFS('Plan unos i pregled'!$I$7:$I$788,'Plan unos i pregled'!$B$7:$B$788,'PLAN Rekapitulacija'!$N$7,'Plan unos i pregled'!$M$7:$M$788,'PLAN Rekapitulacija'!$N$6, 'Plan unos i pregled'!$E$7:$E$788,'PLAN Rekapitulacija'!$B163, 'Plan unos i pregled'!$C$7:$C$788,'PLAN Rekapitulacija'!I$4, 'Plan unos i pregled'!$A$7:$A$788,$D$3)","v":0},0,0]
["не","6.17.2.3","Ø 500 mm","по рачуну",0,{"$f":"SUMIFS('Plan unos i pregled'!$I$7:$I$788,'Plan unos i pregled'!$B$7:$B$788,'PLAN Rekapitulacija'!$N$7,'Plan unos i pregled'!$M$7:$M$788,'PLAN Rekapitulacija'!$N$6, 'Plan unos i pregled'!$E$7:$E$788,'PLAN Rekapitulacija'!$B164, 'Plan unos i pregled'!$C$7:$C$788,'PLAN Rekapitulacija'!F$4, 'Plan unos i pregled'!$A$7:$A$788,$D$3)","v":0},{"$f":"SUMIFS('Plan unos i pregled'!$I$7:$I$788,'Plan unos i pregled'!$B$7:$B$788,'PLAN Rekapitulacija'!$N$7,'Plan unos i pregled'!$M$7:$M$788,'PLAN Rekapitulacija'!$N$6, 'Plan unos i pregled'!$E$7:$E$788,'PLAN Rekapitulacija'!$B164, 'Plan unos i pregled'!$C$7:$C$788,'PLAN Rekapitulacija'!G$4, 'Plan unos i pregled'!$A$7:$A$788,$D$3)","v":0},{"$f":"SUMIFS('Plan unos i pregled'!$I$7:$I$788,'Plan unos i pregled'!$B$7:$B$788,'PLAN Rekapitulacija'!$N$7,'Plan unos i pregled'!$M$7:$M$788,'PLAN Rekapitulacija'!$N$6, 'Plan unos i pregled'!$E$7:$E$788,'PLAN Rekapitulacija'!$B164, 'Plan unos i pregled'!$C$7:$C$788,'PLAN Rekapitulacija'!H$4, 'Plan unos i pregled'!$A$7:$A$788,$D$3)","v":0},{"$f":"SUMIFS('Plan unos i pregled'!$I$7:$I$788,'Plan unos i pregled'!$B$7:$B$788,'PLAN Rekapitulacija'!$N$7,'Plan unos i pregled'!$M$7:$M$788,'PLAN Rekapitulacija'!$N$6, 'Plan unos i pregled'!$E$7:$E$788,'PLAN Rekapitulacija'!$B164, 'Plan unos i pregled'!$C$7:$C$788,'PLAN Rekapitulacija'!I$4, 'Plan unos i pregled'!$A$7:$A$788,$D$3)","v":0},0,0]
["не","6.17.2.4","Ø 600 mm","по рачуну",0,{"$f":"SUMIFS('Plan unos i pregled'!$I$7:$I$788,'Plan unos i pregled'!$B$7:$B$788,'PLAN Rekapitulacija'!$N$7,'Plan unos i pregled'!$M$7:$M$788,'PLAN Rekapitulacija'!$N$6, 'Plan unos i pregled'!$E$7:$E$788,'PLAN Rekapitulacija'!$B165, 'Plan unos i pregled'!$C$7:$C$788,'PLAN Rekapitulacija'!F$4, 'Plan unos i pregled'!$A$7:$A$788,$D$3)","v":0},{"$f":"SUMIFS('Plan unos i pregled'!$I$7:$I$788,'Plan unos i pregled'!$B$7:$B$788,'PLAN Rekapitulacija'!$N$7,'Plan unos i pregled'!$M$7:$M$788,'PLAN Rekapitulacija'!$N$6, 'Plan unos i pregled'!$E$7:$E$788,'PLAN Rekapitulacija'!$B165, 'Plan unos i pregled'!$C$7:$C$788,'PLAN Rekapitulacija'!G$4, 'Plan unos i pregled'!$A$7:$A$788,$D$3)","v":0},{"$f":"SUMIFS('Plan unos i pregled'!$I$7:$I$788,'Plan unos i pregled'!$B$7:$B$788,'PLAN Rekapitulacija'!$N$7,'Plan unos i pregled'!$M$7:$M$788,'PLAN Rekapitulacija'!$N$6, 'Plan unos i pregled'!$E$7:$E$788,'PLAN Rekapitulacija'!$B165, 'Plan unos i pregled'!$C$7:$C$788,'PLAN Rekapitulacija'!H$4, 'Plan unos i pregled'!$A$7:$A$788,$D$3)","v":0},{"$f":"SUMIFS('Plan unos i pregled'!$I$7:$I$788,'Plan unos i pregled'!$B$7:$B$788,'PLAN Rekapitulacija'!$N$7,'Plan unos i pregled'!$M$7:$M$788,'PLAN Rekapitulacija'!$N$6, 'Plan unos i pregled'!$E$7:$E$788,'PLAN Rekapitulacija'!$B165, 'Plan unos i pregled'!$C$7:$C$788,'PLAN Rekapitulacija'!I$4, 'Plan unos i pregled'!$A$7:$A$788,$D$3)","v":0},0,0]
["не","6.17.2.5","Ø 800 mm","по рачуну",0,{"$f":"SUMIFS('Plan unos i pregled'!$I$7:$I$788,'Plan unos i pregled'!$B$7:$B$788,'PLAN Rekapitulacija'!$N$7,'Plan unos i pregled'!$M$7:$M$788,'PLAN Rekapitulacija'!$N$6, 'Plan unos i pregled'!$E$7:$E$788,'PLAN Rekapitulacija'!$B166, 'Plan unos i pregled'!$C$7:$C$788,'PLAN Rekapitulacija'!F$4, 'Plan unos i pregled'!$A$7:$A$788,$D$3)","v":0},{"$f":"SUMIFS('Plan unos i pregled'!$I$7:$I$788,'Plan unos i pregled'!$B$7:$B$788,'PLAN Rekapitulacija'!$N$7,'Plan unos i pregled'!$M$7:$M$788,'PLAN Rekapitulacija'!$N$6, 'Plan unos i pregled'!$E$7:$E$788,'PLAN Rekapitulacija'!$B166, 'Plan unos i pregled'!$C$7:$C$788,'PLAN Rekapitulacija'!G$4, 'Plan unos i pregled'!$A$7:$A$788,$D$3)","v":0},{"$f":"SUMIFS('Plan unos i pregled'!$I$7:$I$788,'Plan unos i pregled'!$B$7:$B$788,'PLAN Rekapitulacija'!$N$7,'Plan unos i pregled'!$M$7:$M$788,'PLAN Rekapitulacija'!$N$6, 'Plan unos i pregled'!$E$7:$E$788,'PLAN Rekapitulacija'!$B166, 'Plan unos i pregled'!$C$7:$C$788,'PLAN Rekapitulacija'!H$4, 'Plan unos i pregled'!$A$7:$A$788,$D$3)","v":0},{"$f":"SUMIFS('Plan unos i pregled'!$I$7:$I$788,'Plan unos i pregled'!$B$7:$B$788,'PLAN Rekapitulacija'!$N$7,'Plan unos i pregled'!$M$7:$M$788,'PLAN Rekapitulacija'!$N$6, 'Plan unos i pregled'!$E$7:$E$788,'PLAN Rekapitulacija'!$B166, 'Plan unos i pregled'!$C$7:$C$788,'PLAN Rekapitulacija'!I$4, 'Plan unos i pregled'!$A$7:$A$788,$D$3)","v":0},0,0]
["не","6.17.2.6","Ø 1000 mm","по рачуну",0,{"$f":"SUMIFS('Plan unos i pregled'!$I$7:$I$788,'Plan unos i pregled'!$B$7:$B$788,'PLAN Rekapitulacija'!$N$7,'Plan unos i pregled'!$M$7:$M$788,'PLAN Rekapitulacija'!$N$6, 'Plan unos i pregled'!$E$7:$E$788,'PLAN Rekapitulacija'!$B167, 'Plan unos i pregled'!$C$7:$C$788,'PLAN Rekapitulacija'!F$4, 'Plan unos i pregled'!$A$7:$A$788,$D$3)","v":0},{"$f":"SUMIFS('Plan unos i pregled'!$I$7:$I$788,'Plan unos i pregled'!$B$7:$B$788,'PLAN Rekapitulacija'!$N$7,'Plan unos i pregled'!$M$7:$M$788,'PLAN Rekapitulacija'!$N$6, 'Plan unos i pregled'!$E$7:$E$788,'PLAN Rekapitulacija'!$B167, 'Plan unos i pregled'!$C$7:$C$788,'PLAN Rekapitulacija'!G$4, 'Plan unos i pregled'!$A$7:$A$788,$D$3)","v":0},{"$f":"SUMIFS('Plan unos i pregled'!$I$7:$I$788,'Plan unos i pregled'!$B$7:$B$788,'PLAN Rekapitulacija'!$N$7,'Plan unos i pregled'!$M$7:$M$788,'PLAN Rekapitulacija'!$N$6, 'Plan unos i pregled'!$E$7:$E$788,'PLAN Rekapitulacija'!$B167, 'Plan unos i pregled'!$C$7:$C$788,'PLAN Rekapitulacija'!H$4, 'Plan unos i pregled'!$A$7:$A$788,$D$3)","v":0},{"$f":"SUMIFS('Plan unos i pregled'!$I$7:$I$788,'Plan unos i pregled'!$B$7:$B$788,'PLAN Rekapitulacija'!$N$7,'Plan unos i pregled'!$M$7:$M$788,'PLAN Rekapitulacija'!$N$6, 'Plan unos i pregled'!$E$7:$E$788,'PLAN Rekapitulacija'!$B167, 'Plan unos i pregled'!$C$7:$C$788,'PLAN Rekapitulacija'!I$4, 'Plan unos i pregled'!$A$7:$A$788,$D$3)","v":0},0,0]
["штампа",null,"УКУПНО:",null,null,{"$f":"SUMPRODUCT($E$99:$E$167,F99:F167)","v":370000},{"$f":"SUMPRODUCT($E$99:$E$167,G99:G167)","v":0},0,0,null,{"$f":"SUM(K99:K167)","v":370000}]
[{"$f":"IF(OR(J181:K181),\"штампа\",\"не\")","v":"не"},"7","Ископ земље"]
["не","7.1","Машински ископ земље III и IV категорије са утоваром у камион или одбацивањем са стране","m3",380,{"$f":"SUMIFS('Plan unos i pregled'!$I$7:$I$788,'Plan unos i pregled'!$B$7:$B$788,'PLAN Rekapitulacija'!$N$7,'Plan unos i pregled'!$M$7:$M$788,'PLAN Rekapitulacija'!$N$6, 'Plan unos i pregled'!$E$7:$E$788,'PLAN Rekapitulacija'!$B170, 'Plan unos i pregled'!$C$7:$C$788,'PLAN Rekapitulacija'!F$4, 'Plan unos i pregled'!$A$7:$A$788,$D$3)","v":0},{"$f":"SUMIFS('Plan unos i pregled'!$I$7:$I$788,'Plan unos i pregled'!$B$7:$B$788,'PLAN Rekapitulacija'!$N$7,'Plan unos i pregled'!$M$7:$M$788,'PLAN Rekapitulacija'!$N$6, 'Plan unos i pregled'!$E$7:$E$788,'PLAN Rekapitulacija'!$B170, 'Plan unos i pregled'!$C$7:$C$788,'PLAN Rekapitulacija'!G$4, 'Plan unos i pregled'!$A$7:$A$788,$D$3)","v":0},{"$f":"SUMIFS('Plan unos i pregled'!$I$7:$I$788,'Plan unos i pregled'!$B$7:$B$788,'PLAN Rekapitulacija'!$N$7,'Plan unos i pregled'!$M$7:$M$788,'PLAN Rekapitulacija'!$N$6, 'Plan unos i pregled'!$E$7:$E$788,'PLAN Rekapitulacija'!$B170, 'Plan unos i pregled'!$C$7:$C$788,'PLAN Rekapitulacija'!H$4, 'Plan unos i pregled'!$A$7:$A$788,$D$3)","v":0},{"$f":"SUMIFS('Plan unos i pregled'!$I$7:$I$788,'Plan unos i pregled'!$B$7:$B$788,'PLAN Rekapitulacija'!$N$7,'Plan unos i pregled'!$M$7:$M$788,'PLAN Rekapitulacija'!$N$6, 'Plan unos i pregled'!$E$7:$E$788,'PLAN Rekapitulacija'!$B170, 'Plan unos i pregled'!$C$7:$C$788,'PLAN Rekapitulacija'!I$4, 'Plan unos i pregled'!$A$7:$A$788,$D$3)","v":0},{"$f":"SUM(F170:I170)","v":0},{"$f":"ROUND(E170*J170,2)","v":0}]
["не","7.2","Машински ископ земље V категорије са утоваром у камион или одбацивањем са стране","m3",400,{"$f":"SUMIFS('Plan unos i pregled'!$I$7:$I$788,'Plan unos i pregled'!$B$7:$B$788,'PLAN Rekapitulacija'!$N$7,'Plan unos i pregled'!$M$7:$M$788,'PLAN Rekapitulacija'!$N$6, 'Plan unos i pregled'!$E$7:$E$788,'PLAN Rekapitulacija'!$B171, 'Plan unos i pregled'!$C$7:$C$788,'PLAN Rekapitulacija'!F$4, 'Plan unos i pregled'!$A$7:$A$788,$D$3)","v":0},{"$f":"SUMIFS('Plan unos i pregled'!$I$7:$I$788,'Plan unos i pregled'!$B$7:$B$788,'PLAN Rekapitulacija'!$N$7,'Plan unos i pregled'!$M$7:$M$788,'PLAN Rekapitulacija'!$N$6, 'Plan unos i pregled'!$E$7:$E$788,'PLAN Rekapitulacija'!$B171, 'Plan unos i pregled'!$C$7:$C$788,'PLAN Rekapitulacija'!G$4, 'Plan unos i pregled'!$A$7:$A$788,$D$3)","v":0},{"$f":"SUMIFS('Plan unos i pregled'!$I$7:$I$788,'Plan unos i pregled'!$B$7:$B$788,'PLAN Rekapitulacija'!$N$7,'Plan unos i pregled'!$M$7:$M$788,'PLAN Rekapitulacija'!$N$6, 'Plan unos i pregled'!$E$7:$E$788,'PLAN Rekapitulacija'!$B171, 'Plan unos i pregled'!$C$7:$C$788,'PLAN Rekapitulacija'!H$4, 'Plan unos i pregled'!$A$7:$A$788,$D$3)","v":0},{"$f":"SUMIFS('Plan unos i pregled'!$I$7:$I$788,'Plan unos i pregled'!$B$7:$B$788,'PLAN Rekapitulacija'!$N$7,'Plan unos i pregled'!$M$7:$M$788,'PLAN Rekapitulacija'!$N$6, 'Plan unos i pregled'!$E$7:$E$788,'PLAN Rekapitulacija'!$B171, 'Plan unos i pregled'!$C$7:$C$788,'PLAN Rekapitulacija'!I$4, 'Plan unos i pregled'!$A$7:$A$788,$D$3)","v":0},0,0]
["не","7.3","Машински ископ природно влажне земље ровокопачем са утоваром у камион","m3",297,{"$f":"SUMIFS('Plan unos i pregled'!$I$7:$I$788,'Plan unos i pregled'!$B$7:$B$788,'PLAN Rekapitulacija'!$N$7,'Plan unos i pregled'!$M$7:$M$788,'PLAN Rekapitulacija'!$N$6, 'Plan unos i pregled'!$E$7:$E$788,'PLAN Rekapitulacija'!$B172, 'Plan unos i pregled'!$C$7:$C$788,'PLAN Rekapitulacija'!F$4, 'Plan unos i pregled'!$A$7:$A$788,$D$3)","v":0},{"$f":"SUMIFS('Plan unos i pregled'!$I$7:$I$788,'Plan unos i pregled'!$B$7:$B$788,'PLAN Rekapitulacija'!$N$7,'Plan unos i pregled'!$M$7:$M$788,'PLAN Rekapitulacija'!$N$6, 'Plan unos i pregled'!$E$7:$E$788,'PLAN Rekapitulacija'!$B172, 'Plan unos i pregled'!$C$7:$C$788,'PLAN Rekapitulacija'!G$4, 'Plan unos i pregled'!$A$7:$A$788,$D$3)","v":0},{"$f":"SUMIFS('Plan unos i pregled'!$I$7:$I$788,'Plan unos i pregled'!$B$7:$B$788,'PLAN Rekapitulacija'!$N$7,'Plan unos i pregled'!$M$7:$M$788,'PLAN Rekapitulacija'!$N$6, 'Plan unos i pregled'!$E$7:$E$788,'PLAN Rekapitulacija'!$B172, 'Plan unos i pregled'!$C$7:$C$788,'PLAN Rekapitulacija'!H$4, 'Plan unos i pregled'!$A$7:$A$788,$D$3)","v":0},{"$f":"SUMIFS('Plan unos i pregled'!$I$7:$I$788,'Plan unos i pregled'!$B$7:$B$788,'PLAN Rekapitulacija'!$N$7,'Plan unos i pregled'!$M$7:$M$788,'PLAN Rekapitulacija'!$N$6, 'Plan unos i pregled'!$E$7:$E$788,'PLAN Rekapitulacija'!$B172, 'Plan unos i pregled'!$C$7:$C$788,'PLAN Rekapitulacija'!I$4, 'Plan unos i pregled'!$A$7:$A$788,$D$3)","v":0},0,0]
["не","7.4","Ручни ископ земље III категорије за темеље потпорних зидова са одбацивањем","m3",1500,{"$f":"SUMIFS('Plan unos i pregled'!$I$7:$I$788,'Plan unos i pregled'!$B$7:$B$788,'PLAN Rekapitulacija'!$N$7,'Plan unos i pregled'!$M$7:$M$788,'PLAN Rekapitulacija'!$N$6, 'Plan unos i pregled'!$E$7:$E$788,'PLAN Rekapitulacija'!$B173, 'Plan unos i pregled'!$C$7:$C$788,'PLAN Rekapitulacija'!F$4, 'Plan unos i pregled'!$A$7:$A$788,$D$3)","v":0},{"$f":"SUMIFS('Plan unos i pregled'!$I$7:$I$788,'Plan unos i pregled'!$B$7:$B$788,'PLAN Rekapitulacija'!$N$7,'Plan unos i pregled'!$M$7:$M$788,'PLAN Rekapitulacija'!$N$6, 'Plan unos i pregled'!$E$7:$E$788,'PLAN Rekapitulacija'!$B173, 'Plan unos i pregled'!$C$7:$C$788,'PLAN Rekapitulacija'!G$4, 'Plan unos i pregled'!$A$7:$A$788,$D$3)","v":0},{"$f":"SUMIFS('Plan unos i pregled'!$I$7:$I$788,'Plan unos i pregled'!$B$7:$B$788,'PLAN Rekapitulacija'!$N$7,'Plan unos i pregled'!$M$7:$M$788,'PLAN Rekapitulacija'!$N$6, 'Plan unos i pregled'!$E$7:$E$788,'PLAN Rekapitulacija'!$B173, 'Plan unos i pregled'!$C$7:$C$788,'PLAN Rekapitulacija'!H$4, 'Plan unos i pregled'!$A$7:$A$788,$D$3)","v":0},{"$f":"SUMIFS('Plan unos i pregled'!$I$7:$I$788,'Plan unos i pregled'!$B$7:$B$788,'PLAN Rekapitulacija'!$N$7,'Plan unos i pregled'!$M$7:$M$788,'PLAN Rekapitulacija'!$N$6, 'Plan unos i pregled'!$E$7:$E$788,'PLAN Rekapitulacija'!$B173, 'Plan unos i pregled'!$C$7:$C$788,'PLAN Rekapitulacija'!I$4, 'Plan unos i pregled'!$A$7:$A$788,$D$3)","v":0},0,0]
["не","7.5","Машински утовар материјала (земље, шљунка, гребаног асфалта, туцаника и слицно)","m3",100,{"$f":"SUMIFS('Plan unos i pregled'!$I$7:$I$788,'Plan unos i pregled'!$B$7:$B$788,'PLAN Rekapitulacija'!$N$7,'Plan unos i pregled'!$M$7:$M$788,'PLAN Rekapitulacija'!$N$6, 'Plan unos i pregled'!$E$7:$E$788,'PLAN Rekapitulacija'!$B174, 'Plan unos i pregled'!$C$7:$C$788,'PLAN Rekapitulacija'!F$4, 'Plan unos i pregled'!$A$7:$A$788,$D$3)","v":0},{"$f":"SUMIFS('Plan unos i pregled'!$I$7:$I$788,'Plan unos i pregled'!$B$7:$B$788,'PLAN Rekapitulacija'!$N$7,'Plan unos i pregled'!$M$7:$M$788,'PLAN Rekapitulacija'!$N$6, 'Plan unos i pregled'!$E$7:$E$788,'PLAN Rekapitulacija'!$B174, 'Plan unos i pregled'!$C$7:$C$788,'PLAN Rekapitulacija'!G$4, 'Plan unos i pregled'!$A$7:$A$788,$D$3)","v":0},{"$f":"SUMIFS('Plan unos i pregled'!$I$7:$I$788,'Plan unos i pregled'!$B$7:$B$788,'PLAN Rekapitulacija'!$N$7,'Plan unos i pregled'!$M$7:$M$788,'PLAN Rekapitulacija'!$N$6, 'Plan unos i pregled'!$E$7:$E$788,'PLAN Rekapitulacija'!$B174, 'Plan unos i pregled'!$C$7:$C$788,'PLAN Rekapitulacija'!H$4, 'Plan unos i pregled'!$A$7:$A$788,$D$3)","v":0},{"$f":"SUMIFS('Plan unos i pregled'!$I$7:$I$788,'Plan unos i pregled'!$B$7:$B$788,'PLAN Rekapitulacija'!$N$7,'Plan unos i pregled'!$M$7:$M$788,'PLAN Rekapitulacija'!$N$6, 'Plan unos i pregled'!$E$7:$E$788,'PLAN Rekapitulacija'!$B174, 'Plan unos i pregled'!$C$7:$C$788,'PLAN Rekapitulacija'!I$4, 'Plan unos i pregled'!$A$7:$A$788,$D$3)","v":0},0,0]
[{"$f":"IF(OR(J175:K180),\"штампа\",\"не\")","v":"не"},"7.6","Ручни утовар у камион:",null,0,{"$f":"SUMIFS('Plan unos i pregled'!$I$7:$I$788,'Plan unos i pregled'!$B$7:$B$788,'PLAN Rekapitulacija'!$N$7,'Plan unos i pregled'!$M$7:$M$788,'PLAN Rekapitulacija'!$N$6, 'Plan unos i pregled'!$E$7:$E$788,'PLAN Rekapitulacija'!$B175, 'Plan unos i pregled'!$C$7:$C$788,'PLAN Rekapitulacija'!F$4, 'Plan unos i pregled'!$A$7:$A$788,$D$3)","v":0},{"$f":"SUMIFS('Plan unos i pregled'!$I$7:$I$788,'Plan unos i pregled'!$B$7:$B$788,'PLAN Rekapitulacija'!$N$7,'Plan unos i pregled'!$M$7:$M$788,'PLAN Rekapitulacija'!$N$6, 'Plan unos i pregled'!$E$7:$E$788,'PLAN Rekapitulacija'!$B175, 'Plan unos i pregled'!$C$7:$C$788,'PLAN Rekapitulacija'!G$4, 'Plan unos i pregled'!$A$7:$A$788,$D$3)","v":0},{"$f":"SUMIFS('Plan unos i pregled'!$I$7:$I$788,'Plan unos i pregled'!$B$7:$B$788,'PLAN Rekapitulacija'!$N$7,'Plan unos i pregled'!$M$7:$M$788,'PLAN Rekapitulacija'!$N$6, 'Plan unos i pregled'!$E$7:$E$788,'PLAN Rekapitulacija'!$B175, 'Plan unos i pregled'!$C$7:$C$788,'PLAN Rekapitulacija'!H$4, 'Plan unos i pregled'!$A$7:$A$788,$D$3)","v":0},{"$f":"SUMIFS('Plan unos i pregled'!$I$7:$I$788,'Plan unos i pregled'!$B$7:$B$788,'PLAN Rekapitulacija'!$N$7,'Plan unos i pregled'!$M$7:$M$788,'PLAN Rekapitulacija'!$N$6, 'Plan unos i pregled'!$E$7:$E$788,'PLAN Rekapitulacija'!$B175, 'Plan unos i pregled'!$C$7:$C$788,'PLAN Rekapitulacija'!I$4, 'Plan unos i pregled'!$A$7:$A$788,$D$3)","v":0},0,0]
["не","7.6.1","Шљунка, песка, ризле и туцаника","m3",191,{"$f":"SUMIFS('Plan unos i pregled'!$I$7:$I$788,'Plan unos i pregled'!$B$7:$B$788,'PLAN Rekapitulacija'!$N$7,'Plan unos i pregled'!$M$7:$M$788,'PLAN Rekapitulacija'!$N$6, 'Plan unos i pregled'!$E$7:$E$788,'PLAN Rekapitulacija'!$B176, 'Plan unos i pregled'!$C$7:$C$788,'PLAN Rekapitulacija'!F$4, 'Plan unos i pregled'!$A$7:$A$788,$D$3)","v":0},{"$f":"SUMIFS('Plan unos i pregled'!$I$7:$I$788,'Plan unos i pregled'!$B$7:$B$788,'PLAN Rekapitulacija'!$N$7,'Plan unos i pregled'!$M$7:$M$788,'PLAN Rekapitulacija'!$N$6, 'Plan unos i pregled'!$E$7:$E$788,'PLAN Rekapitulacija'!$B176, 'Plan unos i pregled'!$C$7:$C$788,'PLAN Rekapitulacija'!G$4, 'Plan unos i pregled'!$A$7:$A$788,$D$3)","v":0},{"$f":"SUMIFS('Plan unos i pregled'!$I$7:$I$788,'Plan unos i pregled'!$B$7:$B$788,'PLAN Rekapitulacija'!$N$7,'Plan unos i pregled'!$M$7:$M$788,'PLAN Rekapitulacija'!$N$6, 'Plan unos i pregled'!$E$7:$E$788,'PLAN Rekapitulacija'!$B176, 'Plan unos i pregled'!$C$7:$C$788,'PLAN Rekapitulacija'!H$4, 'Plan unos i pregled'!$A$7:$A$788,$D$3)","v":0},{"$f":"SUMIFS('Plan unos i pregled'!$I$7:$I$788,'Plan unos i pregled'!$B$7:$B$788,'PLAN Rekapitulacija'!$N$7,'Plan unos i pregled'!$M$7:$M$788,'PLAN Rekapitulacija'!$N$6, 'Plan unos i pregled'!$E$7:$E$788,'PLAN Rekapitulacija'!$B176, 'Plan unos i pregled'!$C$7:$C$788,'PLAN Rekapitulacija'!I$4, 'Plan unos i pregled'!$A$7:$A$788,$D$3)","v":0},0,0]
["не","7.6.2","Земље","m3",193,{"$f":"SUMIFS('Plan unos i pregled'!$I$7:$I$788,'Plan unos i pregled'!$B$7:$B$788,'PLAN Rekapitulacija'!$N$7,'Plan unos i pregled'!$M$7:$M$788,'PLAN Rekapitulacija'!$N$6, 'Plan unos i pregled'!$E$7:$E$788,'PLAN Rekapitulacija'!$B177, 'Plan unos i pregled'!$C$7:$C$788,'PLAN Rekapitulacija'!F$4, 'Plan unos i pregled'!$A$7:$A$788,$D$3)","v":0},{"$f":"SUMIFS('Plan unos i pregled'!$I$7:$I$788,'Plan unos i pregled'!$B$7:$B$788,'PLAN Rekapitulacija'!$N$7,'Plan unos i pregled'!$M$7:$M$788,'PLAN Rekapitulacija'!$N$6, 'Plan unos i pregled'!$E$7:$E$788,'PLAN Rekapitulacija'!$B177, 'Plan unos i pregled'!$C$7:$C$788,'PLAN Rekapitulacija'!G$4, 'Plan unos i pregled'!$A$7:$A$788,$D$3)","v":0},{"$f":"SUMIFS('Plan unos i pregled'!$I$7:$I$788,'Plan unos i pregled'!$B$7:$B$788,'PLAN Rekapitulacija'!$N$7,'Plan unos i pregled'!$M$7:$M$788,'PLAN Rekapitulacija'!$N$6, 'Plan unos i pregled'!$E$7:$E$788,'PLAN Rekapitulacija'!$B177, 'Plan unos i pregled'!$C$7:$C$788,'PLAN Rekapitulacija'!H$4, 'Plan unos i pregled'!$A$7:$A$788,$D$3)","v":0},{"$f":"SUMIFS('Plan unos i pregled'!$I$7:$I$788,'Plan unos i pregled'!$B$7:$B$788,'PLAN Rekapitulacija'!$N$7,'Plan unos i pregled'!$M$7:$M$788,'PLAN Rekapitulacija'!$N$6, 'Plan unos i pregled'!$E$7:$E$788,'PLAN Rekapitulacija'!$B177, 'Plan unos i pregled'!$C$7:$C$788,'PLAN Rekapitulacija'!I$4, 'Plan unos i pregled'!$A$7:$A$788,$D$3)","v":0},0,0]
["не","7.6.3","Асфалта","t",191,{"$f":"SUMIFS('Plan unos i pregled'!$I$7:$I$788,'Plan unos i pregled'!$B$7:$B$788,'PLAN Rekapitulacija'!$N$7,'Plan unos i pregled'!$M$7:$M$788,'PLAN Rekapitulacija'!$N$6, 'Plan unos i pregled'!$E$7:$E$788,'PLAN Rekapitulacija'!$B178, 'Plan unos i pregled'!$C$7:$C$788,'PLAN Rekapitulacija'!F$4, 'Plan unos i pregled'!$A$7:$A$788,$D$3)","v":0},{"$f":"SUMIFS('Plan unos i pregled'!$I$7:$I$788,'Plan unos i pregled'!$B$7:$B$788,'PLAN Rekapitulacija'!$N$7,'Plan unos i pregled'!$M$7:$M$788,'PLAN Rekapitulacija'!$N$6, 'Plan unos i pregled'!$E$7:$E$788,'PLAN Rekapitulacija'!$B178, 'Plan unos i pregled'!$C$7:$C$788,'PLAN Rekapitulacija'!G$4, 'Plan unos i pregled'!$A$7:$A$788,$D$3)","v":0},{"$f":"SUMIFS('Plan unos i pregled'!$I$7:$I$788,'Plan unos i pregled'!$B$7:$B$788,'PLAN Rekapitulacija'!$N$7,'Plan unos i pregled'!$M$7:$M$788,'PLAN Rekapitulacija'!$N$6, 'Plan unos i pregled'!$E$7:$E$788,'PLAN Rekapitulacija'!$B178, 'Plan unos i pregled'!$C$7:$C$788,'PLAN Rekapitulacija'!H$4, 'Plan unos i pregled'!$A$7:$A$788,$D$3)","v":0},{"$f":"SUMIFS('Plan unos i pregled'!$I$7:$I$788,'Plan unos i pregled'!$B$7:$B$788,'PLAN Rekapitulacija'!$N$7,'Plan unos i pregled'!$M$7:$M$788,'PLAN Rekapitulacija'!$N$6, 'Plan unos i pregled'!$E$7:$E$788,'PLAN Rekapitulacija'!$B178, 'Plan unos i pregled'!$C$7:$C$788,'PLAN Rekapitulacija'!I$4, 'Plan unos i pregled'!$A$7:$A$788,$D$3)","v":0},0,0]
["не","7.6.4","Шута","m3",253,{"$f":"SUMIFS('Plan unos i pregled'!$I$7:$I$788,'Plan unos i pregled'!$B$7:$B$788,'PLAN Rekapitulacija'!$N$7,'Plan unos i pregled'!$M$7:$M$788,'PLAN Rekapitulacija'!$N$6, 'Plan unos i pregled'!$E$7:$E$788,'PLAN Rekapitulacija'!$B179, 'Plan unos i pregled'!$C$7:$C$788,'PLAN Rekapitulacija'!F$4, 'Plan unos i pregled'!$A$7:$A$788,$D$3)","v":0},{"$f":"SUMIFS('Plan unos i pregled'!$I$7:$I$788,'Plan unos i pregled'!$B$7:$B$788,'PLAN Rekapitulacija'!$N$7,'Plan unos i pregled'!$M$7:$M$788,'PLAN Rekapitulacija'!$N$6, 'Plan unos i pregled'!$E$7:$E$788,'PLAN Rekapitulacija'!$B179, 'Plan unos i pregled'!$C$7:$C$788,'PLAN Rekapitulacija'!G$4, 'Plan unos i pregled'!$A$7:$A$788,$D$3)","v":0},{"$f":"SUMIFS('Plan unos i pregled'!$I$7:$I$788,'Plan unos i pregled'!$B$7:$B$788,'PLAN Rekapitulacija'!$N$7,'Plan unos i pregled'!$M$7:$M$788,'PLAN Rekapitulacija'!$N$6, 'Plan unos i pregled'!$E$7:$E$788,'PLAN Rekapitulacija'!$B179, 'Plan unos i pregled'!$C$7:$C$788,'PLAN Rekapitulacija'!H$4, 'Plan unos i pregled'!$A$7:$A$788,$D$3)","v":0},{"$f":"SUMIFS('Plan unos i pregled'!$I$7:$I$788,'Plan unos i pregled'!$B$7:$B$788,'PLAN Rekapitulacija'!$N$7,'Plan unos i pregled'!$M$7:$M$788,'PLAN Rekapitulacija'!$N$6, 'Plan unos i pregled'!$E$7:$E$788,'PLAN Rekapitulacija'!$B179, 'Plan unos i pregled'!$C$7:$C$788,'PLAN Rekapitulacija'!I$4, 'Plan unos i pregled'!$A$7:$A$788,$D$3)","v":0},0,0]
["не","7.6.5","Ивичњака","t",208,{"$f":"SUMIFS('Plan unos i pregled'!$I$7:$I$788,'Plan unos i pregled'!$B$7:$B$788,'PLAN Rekapitulacija'!$N$7,'Plan unos i pregled'!$M$7:$M$788,'PLAN Rekapitulacija'!$N$6, 'Plan unos i pregled'!$E$7:$E$788,'PLAN Rekapitulacija'!$B180, 'Plan unos i pregled'!$C$7:$C$788,'PLAN Rekapitulacija'!F$4, 'Plan unos i pregled'!$A$7:$A$788,$D$3)","v":0},{"$f":"SUMIFS('Plan unos i pregled'!$I$7:$I$788,'Plan unos i pregled'!$B$7:$B$788,'PLAN Rekapitulacija'!$N$7,'Plan unos i pregled'!$M$7:$M$788,'PLAN Rekapitulacija'!$N$6, 'Plan unos i pregled'!$E$7:$E$788,'PLAN Rekapitulacija'!$B180, 'Plan unos i pregled'!$C$7:$C$788,'PLAN Rekapitulacija'!G$4, 'Plan unos i pregled'!$A$7:$A$788,$D$3)","v":0},{"$f":"SUMIFS('Plan unos i pregled'!$I$7:$I$788,'Plan unos i pregled'!$B$7:$B$788,'PLAN Rekapitulacija'!$N$7,'Plan unos i pregled'!$M$7:$M$788,'PLAN Rekapitulacija'!$N$6, 'Plan unos i pregled'!$E$7:$E$788,'PLAN Rekapitulacija'!$B180, 'Plan unos i pregled'!$C$7:$C$788,'PLAN Rekapitulacija'!H$4, 'Plan unos i pregled'!$A$7:$A$788,$D$3)","v":0},{"$f":"SUMIFS('Plan unos i pregled'!$I$7:$I$788,'Plan unos i pregled'!$B$7:$B$788,'PLAN Rekapitulacija'!$N$7,'Plan unos i pregled'!$M$7:$M$788,'PLAN Rekapitulacija'!$N$6, 'Plan unos i pregled'!$E$7:$E$788,'PLAN Rekapitulacija'!$B180, 'Plan unos i pregled'!$C$7:$C$788,'PLAN Rekapitulacija'!I$4, 'Plan unos i pregled'!$A$7:$A$788,$D$3)","v":0},0,0]
["не",null,"УКУПНО:",null,null,{"$f":"SUMPRODUCT($E$170:$E$180,F170:F180)","v":0},{"$f":"SUMPRODUCT($E$170:$E$180,G170:G180)","v":0},{"$f":"SUMPRODUCT($E$170:$E$180,H170:H180)","v":0},{"$f":"SUMPRODUCT($E$170:$E$180,I170:I180)","v":0},null,{"$f":"SUM(K169:K180)","v":0}]
[{"$f":"IF(OR(J234:K234),\"штампа\",\"не\")","v":"штампа"},"8","Редовно одржавање асфалтних коловоза"]
["не","8.1","Израда постељице.\nЦена обухвата: планирање постељице машински уз ручну поправку и ваљање вибоваљком.","m2",73.42,{"$f":"SUMIFS('Plan unos i pregled'!$I$7:$I$788,'Plan unos i pregled'!$B$7:$B$788,'PLAN Rekapitulacija'!$N$7,'Plan unos i pregled'!$M$7:$M$788,'PLAN Rekapitulacija'!$N$6, 'Plan unos i pregled'!$E$7:$E$788,'PLAN Rekapitulacija'!$B183, 'Plan unos i pregled'!$C$7:$C$788,'PLAN Rekapitulacija'!F$4, 'Plan unos i pregled'!$A$7:$A$788,$D$3)","v":0},{"$f":"SUMIFS('Plan unos i pregled'!$I$7:$I$788,'Plan unos i pregled'!$B$7:$B$788,'PLAN Rekapitulacija'!$N$7,'Plan unos i pregled'!$M$7:$M$788,'PLAN Rekapitulacija'!$N$6, 'Plan unos i pregled'!$E$7:$E$788,'PLAN Rekapitulacija'!$B183, 'Plan unos i pregled'!$C$7:$C$788,'PLAN Rekapitulacija'!G$4, 'Plan unos i pregled'!$A$7:$A$788,$D$3)","v":0},{"$f":"SUMIFS('Plan unos i pregled'!$I$7:$I$788,'Plan unos i pregled'!$B$7:$B$788,'PLAN Rekapitulacija'!$N$7,'Plan unos i pregled'!$M$7:$M$788,'PLAN Rekapitulacija'!$N$6, 'Plan unos i pregled'!$E$7:$E$788,'PLAN Rekapitulacija'!$B183, 'Plan unos i pregled'!$C$7:$C$788,'PLAN Rekapitulacija'!H$4, 'Plan unos i pregled'!$A$7:$A$788,$D$3)","v":0},{"$f":"SUMIFS('Plan unos i pregled'!$I$7:$I$788,'Plan unos i pregled'!$B$7:$B$788,'PLAN Rekapitulacija'!$N$7,'Plan unos i pregled'!$M$7:$M$788,'PLAN Rekapitulacija'!$N$6, 'Plan unos i pregled'!$E$7:$E$788,'PLAN Rekapitulacija'!$B183, 'Plan unos i pregled'!$C$7:$C$788,'PLAN Rekapitulacija'!I$4, 'Plan unos i pregled'!$A$7:$A$788,$D$3)","v":0},{"$f":"SUM(F183:I183)","v":0},{"$f":"ROUND(E183*J183,2)","v":0}]
["не","8.2","Поправка неасвалтираног каменог застора брдском дробином из сипара или шљунком са спрудишта.\nЦена обухвата: машинско прикупљање материјала, риљање старог застора, разастирање, планирање дробљеног каменог агрегата и сабијање ваљком уз потребно квашење. Превоз материјала и менаизације се обрачунава посебно.","m3",2547.6999999999998,{"$f":"SUMIFS('Plan unos i pregled'!$I$7:$I$788,'Plan unos i pregled'!$B$7:$B$788,'PLAN Rekapitulacija'!$N$7,'Plan unos i pregled'!$M$7:$M$788,'PLAN Rekapitulacija'!$N$6, 'Plan unos i pregled'!$E$7:$E$788,'PLAN Rekapitulacija'!$B184, 'Plan unos i pregled'!$C$7:$C$788,'PLAN Rekapitulacija'!F$4, 'Plan unos i pregled'!$A$7:$A$788,$D$3)","v":0},{"$f":"SUMIFS('Plan unos i pregled'!$I$7:$I$788,'Plan unos i pregled'!$B$7:$B$788,'PLAN Rekapitulacija'!$N$7,'Plan unos i pregled'!$M$7:$M$788,'PLAN Rekapitulacija'!$N$6, 'Plan unos i pregled'!$E$7:$E$788,'PLAN Rekapitulacija'!$B184, 'Plan unos i pregled'!$C$7:$C$788,'PLAN Rekapitulacija'!G$4, 'Plan unos i pregled'!$A$7:$A$788,$D$3)","v":0},{"$f":"SUMIFS('Plan unos i pregled'!$I$7:$I$788,'Plan unos i pregled'!$B$7:$B$788,'PLAN Rekapitulacija'!$N$7,'Plan unos i pregled'!$M$7:$M$788,'PLAN Rekapitulacija'!$N$6, 'Plan unos i pregled'!$E$7:$E$788,'PLAN Rekapitulacija'!$B184, 'Plan unos i pregled'!$C$7:$C$788,'PLAN Rekapitulacija'!H$4, 'Plan unos i pregled'!$A$7:$A$788,$D$3)","v":0},{"$f":"SUMIFS('Plan unos i pregled'!$I$7:$I$788,'Plan unos i pregled'!$B$7:$B$788,'PLAN Rekapitulacija'!$N$7,'Plan unos i pregled'!$M$7:$M$788,'PLAN Rekapitulacija'!$N$6, 'Plan unos i pregled'!$E$7:$E$788,'PLAN Rekapitulacija'!$B184, 'Plan unos i pregled'!$C$7:$C$788,'PLAN Rekapitulacija'!I$4, 'Plan unos i pregled'!$A$7:$A$788,$D$3)","v":0},0,0]
[{"$f":"IF(OR(J185:K187),\"штампа\",\"не\")","v":"не"},"8.3","Ручно крпљење ударних рупа брдском дробином из сипара или шљунком са спрудишта.\nЦена обухвата: машинско прикупљање материјала и утовар у камион, исецања ивице рупе, раскопавање застора, чишћење и попуњавање рупе, раскопавање застора, чишћење и попуњавање рупе као и ваљање виброваљком. Превоз материјала и механизације се обрачунава посебно.",null,0]
["не","8.3.1","са ваљањем","m3",2747.19,{"$f":"SUMIFS('Plan unos i pregled'!$I$7:$I$788,'Plan unos i pregled'!$B$7:$B$788,'PLAN Rekapitulacija'!$N$7,'Plan unos i pregled'!$M$7:$M$788,'PLAN Rekapitulacija'!$N$6, 'Plan unos i pregled'!$E$7:$E$788,'PLAN Rekapitulacija'!$B186, 'Plan unos i pregled'!$C$7:$C$788,'PLAN Rekapitulacija'!F$4, 'Plan unos i pregled'!$A$7:$A$788,$D$3)","v":0},{"$f":"SUMIFS('Plan unos i pregled'!$I$7:$I$788,'Plan unos i pregled'!$B$7:$B$788,'PLAN Rekapitulacija'!$N$7,'Plan unos i pregled'!$M$7:$M$788,'PLAN Rekapitulacija'!$N$6, 'Plan unos i pregled'!$E$7:$E$788,'PLAN Rekapitulacija'!$B186, 'Plan unos i pregled'!$C$7:$C$788,'PLAN Rekapitulacija'!G$4, 'Plan unos i pregled'!$A$7:$A$788,$D$3)","v":0},{"$f":"SUMIFS('Plan unos i pregled'!$I$7:$I$788,'Plan unos i pregled'!$B$7:$B$788,'PLAN Rekapitulacija'!$N$7,'Plan unos i pregled'!$M$7:$M$788,'PLAN Rekapitulacija'!$N$6, 'Plan unos i pregled'!$E$7:$E$788,'PLAN Rekapitulacija'!$B186, 'Plan unos i pregled'!$C$7:$C$788,'PLAN Rekapitulacija'!H$4, 'Plan unos i pregled'!$A$7:$A$788,$D$3)","v":0},{"$f":"SUMIFS('Plan unos i pregled'!$I$7:$I$788,'Plan unos i pregled'!$B$7:$B$788,'PLAN Rekapitulacija'!$N$7,'Plan unos i pregled'!$M$7:$M$788,'PLAN Rekapitulacija'!$N$6, 'Plan unos i pregled'!$E$7:$E$788,'PLAN Rekapitulacija'!$B186, 'Plan unos i pregled'!$C$7:$C$788,'PLAN Rekapitulacija'!I$4, 'Plan unos i pregled'!$A$7:$A$788,$D$3)","v":0},{"$f":"SUM(F186:I186)","v":0},{"$f":"ROUND(E186*J186,2)","v":0}]
["не","8.3.2","без ваљања","m3",2695,{"$f":"SUMIFS('Plan unos i pregled'!$I$7:$I$788,'Plan unos i pregled'!$B$7:$B$788,'PLAN Rekapitulacija'!$N$7,'Plan unos i pregled'!$M$7:$M$788,'PLAN Rekapitulacija'!$N$6, 'Plan unos i pregled'!$E$7:$E$788,'PLAN Rekapitulacija'!$B187, 'Plan unos i pregled'!$C$7:$C$788,'PLAN Rekapitulacija'!F$4, 'Plan unos i pregled'!$A$7:$A$788,$D$3)","v":0},{"$f":"SUMIFS('Plan unos i pregled'!$I$7:$I$788,'Plan unos i pregled'!$B$7:$B$788,'PLAN Rekapitulacija'!$N$7,'Plan unos i pregled'!$M$7:$M$788,'PLAN Rekapitulacija'!$N$6, 'Plan unos i pregled'!$E$7:$E$788,'PLAN Rekapitulacija'!$B187, 'Plan unos i pregled'!$C$7:$C$788,'PLAN Rekapitulacija'!G$4, 'Plan unos i pregled'!$A$7:$A$788,$D$3)","v":0},{"$f":"SUMIFS('Plan unos i pregled'!$I$7:$I$788,'Plan unos i pregled'!$B$7:$B$788,'PLAN Rekapitulacija'!$N$7,'Plan unos i pregled'!$M$7:$M$788,'PLAN Rekapitulacija'!$N$6, 'Plan unos i pregled'!$E$7:$E$788,'PLAN Rekapitulacija'!$B187, 'Plan unos i pregled'!$C$7:$C$788,'PLAN Rekapitulacija'!H$4, 'Plan unos i pregled'!$A$7:$A$788,$D$3)","v":0},{"$f":"SUMIFS('Plan unos i pregled'!$I$7:$I$788,'Plan unos i pregled'!$B$7:$B$788,'PLAN Rekapitulacija'!$N$7,'Plan unos i pregled'!$M$7:$M$788,'PLAN Rekapitulacija'!$N$6, 'Plan unos i pregled'!$E$7:$E$788,'PLAN Rekapitulacija'!$B187, 'Plan unos i pregled'!$C$7:$C$788,'PLAN Rekapitulacija'!I$4, 'Plan unos i pregled'!$A$7:$A$788,$D$3)","v":0},0,0]
[{"$f":"IF(OR(J188:K190),\"штампа\",\"не\")","v":"не"},"8.4","Опсецање ивица ударних рупа и улегнућа коловозу са пребацивањем раскопаног материјала на банкину и чишћење рупе.",null,0]
["не","8.4.1","Ручно","m",83.62,{"$f":"SUMIFS('Plan unos i pregled'!$I$7:$I$788,'Plan unos i pregled'!$B$7:$B$788,'PLAN Rekapitulacija'!$N$7,'Plan unos i pregled'!$M$7:$M$788,'PLAN Rekapitulacija'!$N$6, 'Plan unos i pregled'!$E$7:$E$788,'PLAN Rekapitulacija'!$B189, 'Plan unos i pregled'!$C$7:$C$788,'PLAN Rekapitulacija'!F$4, 'Plan unos i pregled'!$A$7:$A$788,$D$3)","v":0},{"$f":"SUMIFS('Plan unos i pregled'!$I$7:$I$788,'Plan unos i pregled'!$B$7:$B$788,'PLAN Rekapitulacija'!$N$7,'Plan unos i pregled'!$M$7:$M$788,'PLAN Rekapitulacija'!$N$6, 'Plan unos i pregled'!$E$7:$E$788,'PLAN Rekapitulacija'!$B189, 'Plan unos i pregled'!$C$7:$C$788,'PLAN Rekapitulacija'!G$4, 'Plan unos i pregled'!$A$7:$A$788,$D$3)","v":0},{"$f":"SUMIFS('Plan unos i pregled'!$I$7:$I$788,'Plan unos i pregled'!$B$7:$B$788,'PLAN Rekapitulacija'!$N$7,'Plan unos i pregled'!$M$7:$M$788,'PLAN Rekapitulacija'!$N$6, 'Plan unos i pregled'!$E$7:$E$788,'PLAN Rekapitulacija'!$B189, 'Plan unos i pregled'!$C$7:$C$788,'PLAN Rekapitulacija'!H$4, 'Plan unos i pregled'!$A$7:$A$788,$D$3)","v":0},{"$f":"SUMIFS('Plan unos i pregled'!$I$7:$I$788,'Plan unos i pregled'!$B$7:$B$788,'PLAN Rekapitulacija'!$N$7,'Plan unos i pregled'!$M$7:$M$788,'PLAN Rekapitulacija'!$N$6, 'Plan unos i pregled'!$E$7:$E$788,'PLAN Rekapitulacija'!$B189, 'Plan unos i pregled'!$C$7:$C$788,'PLAN Rekapitulacija'!I$4, 'Plan unos i pregled'!$A$7:$A$788,$D$3)","v":0},{"$f":"SUM(F189:I189)","v":0},{"$f":"ROUND(E189*J189,2)","v":0}]
["не","8.4.2","Машински","m",58.51,{"$f":"SUMIFS('Plan unos i pregled'!$I$7:$I$788,'Plan unos i pregled'!$B$7:$B$788,'PLAN Rekapitulacija'!$N$7,'Plan unos i pregled'!$M$7:$M$788,'PLAN Rekapitulacija'!$N$6, 'Plan unos i pregled'!$E$7:$E$788,'PLAN Rekapitulacija'!$B190, 'Plan unos i pregled'!$C$7:$C$788,'PLAN Rekapitulacija'!F$4, 'Plan unos i pregled'!$A$7:$A$788,$D$3)","v":0},{"$f":"SUMIFS('Plan unos i pregled'!$I$7:$I$788,'Plan unos i pregled'!$B$7:$B$788,'PLAN Rekapitulacija'!$N$7,'Plan unos i pregled'!$M$7:$M$788,'PLAN Rekapitulacija'!$N$6, 'Plan unos i pregled'!$E$7:$E$788,'PLAN Rekapitulacija'!$B190, 'Plan unos i pregled'!$C$7:$C$788,'PLAN Rekapitulacija'!G$4, 'Plan unos i pregled'!$A$7:$A$788,$D$3)","v":0},{"$f":"SUMIFS('Plan unos i pregled'!$I$7:$I$788,'Plan unos i pregled'!$B$7:$B$788,'PLAN Rekapitulacija'!$N$7,'Plan unos i pregled'!$M$7:$M$788,'PLAN Rekapitulacija'!$N$6, 'Plan unos i pregled'!$E$7:$E$788,'PLAN Rekapitulacija'!$B190, 'Plan unos i pregled'!$C$7:$C$788,'PLAN Rekapitulacija'!H$4, 'Plan unos i pregled'!$A$7:$A$788,$D$3)","v":0},{"$f":"SUMIFS('Plan unos i pregled'!$I$7:$I$788,'Plan unos i pregled'!$B$7:$B$788,'PLAN Rekapitulacija'!$N$7,'Plan unos i pregled'!$M$7:$M$788,'PLAN Rekapitulacija'!$N$6, 'Plan unos i pregled'!$E$7:$E$788,'PLAN Rekapitulacija'!$B190, 'Plan unos i pregled'!$C$7:$C$788,'PLAN Rekapitulacija'!I$4, 'Plan unos i pregled'!$A$7:$A$788,$D$3)","v":0},0,0]
[{"$f":"IF(OR(J191:K193),\"штампа\",\"не\")","v":"не"},"8.5","Рушење испуцалог асфалтног коловоза дебљине d = 6-8 cm, са пребацивањем ископаног материјала на банкину и чишћењем рупе. За дебљину већу или мању од 6 cm кориговати на одговарајућу дебљину од средње. ",null,0]
["не","8.5.1","Машински","m2",304.82,{"$f":"SUMIFS('Plan unos i pregled'!$I$7:$I$788,'Plan unos i pregled'!$B$7:$B$788,'PLAN Rekapitulacija'!$N$7,'Plan unos i pregled'!$M$7:$M$788,'PLAN Rekapitulacija'!$N$6, 'Plan unos i pregled'!$E$7:$E$788,'PLAN Rekapitulacija'!$B192, 'Plan unos i pregled'!$C$7:$C$788,'PLAN Rekapitulacija'!F$4, 'Plan unos i pregled'!$A$7:$A$788,$D$3)","v":0},{"$f":"SUMIFS('Plan unos i pregled'!$I$7:$I$788,'Plan unos i pregled'!$B$7:$B$788,'PLAN Rekapitulacija'!$N$7,'Plan unos i pregled'!$M$7:$M$788,'PLAN Rekapitulacija'!$N$6, 'Plan unos i pregled'!$E$7:$E$788,'PLAN Rekapitulacija'!$B192, 'Plan unos i pregled'!$C$7:$C$788,'PLAN Rekapitulacija'!G$4, 'Plan unos i pregled'!$A$7:$A$788,$D$3)","v":0},{"$f":"SUMIFS('Plan unos i pregled'!$I$7:$I$788,'Plan unos i pregled'!$B$7:$B$788,'PLAN Rekapitulacija'!$N$7,'Plan unos i pregled'!$M$7:$M$788,'PLAN Rekapitulacija'!$N$6, 'Plan unos i pregled'!$E$7:$E$788,'PLAN Rekapitulacija'!$B192, 'Plan unos i pregled'!$C$7:$C$788,'PLAN Rekapitulacija'!H$4, 'Plan unos i pregled'!$A$7:$A$788,$D$3)","v":0},{"$f":"SUMIFS('Plan unos i pregled'!$I$7:$I$788,'Plan unos i pregled'!$B$7:$B$788,'PLAN Rekapitulacija'!$N$7,'Plan unos i pregled'!$M$7:$M$788,'PLAN Rekapitulacija'!$N$6, 'Plan unos i pregled'!$E$7:$E$788,'PLAN Rekapitulacija'!$B192, 'Plan unos i pregled'!$C$7:$C$788,'PLAN Rekapitulacija'!I$4, 'Plan unos i pregled'!$A$7:$A$788,$D$3)","v":0},{"$f":"SUM(F192:I192)","v":0},{"$f":"ROUND(E192*J192,2)","v":0}]
["не","8.5.2","Ручно","m2",398.75,{"$f":"SUMIFS('Plan unos i pregled'!$I$7:$I$788,'Plan unos i pregled'!$B$7:$B$788,'PLAN Rekapitulacija'!$N$7,'Plan unos i pregled'!$M$7:$M$788,'PLAN Rekapitulacija'!$N$6, 'Plan unos i pregled'!$E$7:$E$788,'PLAN Rekapitulacija'!$B193, 'Plan unos i pregled'!$C$7:$C$788,'PLAN Rekapitulacija'!F$4, 'Plan unos i pregled'!$A$7:$A$788,$D$3)","v":0},{"$f":"SUMIFS('Plan unos i pregled'!$I$7:$I$788,'Plan unos i pregled'!$B$7:$B$788,'PLAN Rekapitulacija'!$N$7,'Plan unos i pregled'!$M$7:$M$788,'PLAN Rekapitulacija'!$N$6, 'Plan unos i pregled'!$E$7:$E$788,'PLAN Rekapitulacija'!$B193, 'Plan unos i pregled'!$C$7:$C$788,'PLAN Rekapitulacija'!G$4, 'Plan unos i pregled'!$A$7:$A$788,$D$3)","v":0},{"$f":"SUMIFS('Plan unos i pregled'!$I$7:$I$788,'Plan unos i pregled'!$B$7:$B$788,'PLAN Rekapitulacija'!$N$7,'Plan unos i pregled'!$M$7:$M$788,'PLAN Rekapitulacija'!$N$6, 'Plan unos i pregled'!$E$7:$E$788,'PLAN Rekapitulacija'!$B193, 'Plan unos i pregled'!$C$7:$C$788,'PLAN Rekapitulacija'!H$4, 'Plan unos i pregled'!$A$7:$A$788,$D$3)","v":0},{"$f":"SUMIFS('Plan unos i pregled'!$I$7:$I$788,'Plan unos i pregled'!$B$7:$B$788,'PLAN Rekapitulacija'!$N$7,'Plan unos i pregled'!$M$7:$M$788,'PLAN Rekapitulacija'!$N$6, 'Plan unos i pregled'!$E$7:$E$788,'PLAN Rekapitulacija'!$B193, 'Plan unos i pregled'!$C$7:$C$788,'PLAN Rekapitulacija'!I$4, 'Plan unos i pregled'!$A$7:$A$788,$D$3)","v":0},0,0]
[{"$f":"IF(OR(J194:K196),\"штампа\",\"не\")","v":"не"},"8.6","Ручно крпљење ударних рупа природним шљунком. Цена обухвата: раскопавање застора, чишцење и попуњавање рупе и ваљање виброваљком. Превоз материјала и механизације се обрачунава посебно. ",null,0]
["не","8.6.1","Са ваљањем","t",3281.21,{"$f":"SUMIFS('Plan unos i pregled'!$I$7:$I$788,'Plan unos i pregled'!$B$7:$B$788,'PLAN Rekapitulacija'!$N$7,'Plan unos i pregled'!$M$7:$M$788,'PLAN Rekapitulacija'!$N$6, 'Plan unos i pregled'!$E$7:$E$788,'PLAN Rekapitulacija'!$B195, 'Plan unos i pregled'!$C$7:$C$788,'PLAN Rekapitulacija'!F$4, 'Plan unos i pregled'!$A$7:$A$788,$D$3)","v":0},{"$f":"SUMIFS('Plan unos i pregled'!$I$7:$I$788,'Plan unos i pregled'!$B$7:$B$788,'PLAN Rekapitulacija'!$N$7,'Plan unos i pregled'!$M$7:$M$788,'PLAN Rekapitulacija'!$N$6, 'Plan unos i pregled'!$E$7:$E$788,'PLAN Rekapitulacija'!$B195, 'Plan unos i pregled'!$C$7:$C$788,'PLAN Rekapitulacija'!G$4, 'Plan unos i pregled'!$A$7:$A$788,$D$3)","v":0},{"$f":"SUMIFS('Plan unos i pregled'!$I$7:$I$788,'Plan unos i pregled'!$B$7:$B$788,'PLAN Rekapitulacija'!$N$7,'Plan unos i pregled'!$M$7:$M$788,'PLAN Rekapitulacija'!$N$6, 'Plan unos i pregled'!$E$7:$E$788,'PLAN Rekapitulacija'!$B195, 'Plan unos i pregled'!$C$7:$C$788,'PLAN Rekapitulacija'!H$4, 'Plan unos i pregled'!$A$7:$A$788,$D$3)","v":0},{"$f":"SUMIFS('Plan unos i pregled'!$I$7:$I$788,'Plan unos i pregled'!$B$7:$B$788,'PLAN Rekapitulacija'!$N$7,'Plan unos i pregled'!$M$7:$M$788,'PLAN Rekapitulacija'!$N$6, 'Plan unos i pregled'!$E$7:$E$788,'PLAN Rekapitulacija'!$B195, 'Plan unos i pregled'!$C$7:$C$788,'PLAN Rekapitulacija'!I$4, 'Plan unos i pregled'!$A$7:$A$788,$D$3)","v":0},{"$f":"SUM(F195:I195)","v":0},{"$f":"ROUND(E195*J195,2)","v":0}]
["не","8.6.2","Без ваљања","t",3229.03,{"$f":"SUMIFS('Plan unos i pregled'!$I$7:$I$788,'Plan unos i pregled'!$B$7:$B$788,'PLAN Rekapitulacija'!$N$7,'Plan unos i pregled'!$M$7:$M$788,'PLAN Rekapitulacija'!$N$6, 'Plan unos i pregled'!$E$7:$E$788,'PLAN Rekapitulacija'!$B196, 'Plan unos i pregled'!$C$7:$C$788,'PLAN Rekapitulacija'!F$4, 'Plan unos i pregled'!$A$7:$A$788,$D$3)","v":0},{"$f":"SUMIFS('Plan unos i pregled'!$I$7:$I$788,'Plan unos i pregled'!$B$7:$B$788,'PLAN Rekapitulacija'!$N$7,'Plan unos i pregled'!$M$7:$M$788,'PLAN Rekapitulacija'!$N$6, 'Plan unos i pregled'!$E$7:$E$788,'PLAN Rekapitulacija'!$B196, 'Plan unos i pregled'!$C$7:$C$788,'PLAN Rekapitulacija'!G$4, 'Plan unos i pregled'!$A$7:$A$788,$D$3)","v":0},{"$f":"SUMIFS('Plan unos i pregled'!$I$7:$I$788,'Plan unos i pregled'!$B$7:$B$788,'PLAN Rekapitulacija'!$N$7,'Plan unos i pregled'!$M$7:$M$788,'PLAN Rekapitulacija'!$N$6, 'Plan unos i pregled'!$E$7:$E$788,'PLAN Rekapitulacija'!$B196, 'Plan unos i pregled'!$C$7:$C$788,'PLAN Rekapitulacija'!H$4, 'Plan unos i pregled'!$A$7:$A$788,$D$3)","v":0},{"$f":"SUMIFS('Plan unos i pregled'!$I$7:$I$788,'Plan unos i pregled'!$B$7:$B$788,'PLAN Rekapitulacija'!$N$7,'Plan unos i pregled'!$M$7:$M$788,'PLAN Rekapitulacija'!$N$6, 'Plan unos i pregled'!$E$7:$E$788,'PLAN Rekapitulacija'!$B196, 'Plan unos i pregled'!$C$7:$C$788,'PLAN Rekapitulacija'!I$4, 'Plan unos i pregled'!$A$7:$A$788,$D$3)","v":0},0,0]
["не","8.7","Ручно пресвлачење асфалтом мањих деоница коловоза до 300 м2.\nЦена обухвата: набавку и прскање емулзијом у предходно очишћену површину, превоз механизације до места уграђивања асфалта и ваљање виброваљком. Посебно се обрачунава: припрема подлоге по ценовнику и превоз асфалта и асфалтне масе.","t",4200,{"$f":"SUMIFS('Plan unos i pregled'!$I$7:$I$788,'Plan unos i pregled'!$B$7:$B$788,'PLAN Rekapitulacija'!$N$7,'Plan unos i pregled'!$M$7:$M$788,'PLAN Rekapitulacija'!$N$6, 'Plan unos i pregled'!$E$7:$E$788,'PLAN Rekapitulacija'!$B197, 'Plan unos i pregled'!$C$7:$C$788,'PLAN Rekapitulacija'!F$4, 'Plan unos i pregled'!$A$7:$A$788,$D$3)","v":0},{"$f":"SUMIFS('Plan unos i pregled'!$I$7:$I$788,'Plan unos i pregled'!$B$7:$B$788,'PLAN Rekapitulacija'!$N$7,'Plan unos i pregled'!$M$7:$M$788,'PLAN Rekapitulacija'!$N$6, 'Plan unos i pregled'!$E$7:$E$788,'PLAN Rekapitulacija'!$B197, 'Plan unos i pregled'!$C$7:$C$788,'PLAN Rekapitulacija'!G$4, 'Plan unos i pregled'!$A$7:$A$788,$D$3)","v":0},{"$f":"SUMIFS('Plan unos i pregled'!$I$7:$I$788,'Plan unos i pregled'!$B$7:$B$788,'PLAN Rekapitulacija'!$N$7,'Plan unos i pregled'!$M$7:$M$788,'PLAN Rekapitulacija'!$N$6, 'Plan unos i pregled'!$E$7:$E$788,'PLAN Rekapitulacija'!$B197, 'Plan unos i pregled'!$C$7:$C$788,'PLAN Rekapitulacija'!H$4, 'Plan unos i pregled'!$A$7:$A$788,$D$3)","v":0},{"$f":"SUMIFS('Plan unos i pregled'!$I$7:$I$788,'Plan unos i pregled'!$B$7:$B$788,'PLAN Rekapitulacija'!$N$7,'Plan unos i pregled'!$M$7:$M$788,'PLAN Rekapitulacija'!$N$6, 'Plan unos i pregled'!$E$7:$E$788,'PLAN Rekapitulacija'!$B197, 'Plan unos i pregled'!$C$7:$C$788,'PLAN Rekapitulacija'!I$4, 'Plan unos i pregled'!$A$7:$A$788,$D$3)","v":0},0,0]
["не","8.8","Ручно крпљење ударних рупа асфалтном масом на коловозу, у предходно очишценом емулзијом препрскану ударну рупу и ивица. Ударну рупу попунити асфалтном масом са надвишењем и ваљати до потребне збијености. Набавку асфалтне масе и транспорт асфалтне масе од произвиђача до места уграђивања посебно урачунати.","t",4600,{"$f":"SUMIFS('Plan unos i pregled'!$I$7:$I$788,'Plan unos i pregled'!$B$7:$B$788,'PLAN Rekapitulacija'!$N$7,'Plan unos i pregled'!$M$7:$M$788,'PLAN Rekapitulacija'!$N$6, 'Plan unos i pregled'!$E$7:$E$788,'PLAN Rekapitulacija'!$B198, 'Plan unos i pregled'!$C$7:$C$788,'PLAN Rekapitulacija'!F$4, 'Plan unos i pregled'!$A$7:$A$788,$D$3)","v":0},{"$f":"SUMIFS('Plan unos i pregled'!$I$7:$I$788,'Plan unos i pregled'!$B$7:$B$788,'PLAN Rekapitulacija'!$N$7,'Plan unos i pregled'!$M$7:$M$788,'PLAN Rekapitulacija'!$N$6, 'Plan unos i pregled'!$E$7:$E$788,'PLAN Rekapitulacija'!$B198, 'Plan unos i pregled'!$C$7:$C$788,'PLAN Rekapitulacija'!G$4, 'Plan unos i pregled'!$A$7:$A$788,$D$3)","v":0},{"$f":"SUMIFS('Plan unos i pregled'!$I$7:$I$788,'Plan unos i pregled'!$B$7:$B$788,'PLAN Rekapitulacija'!$N$7,'Plan unos i pregled'!$M$7:$M$788,'PLAN Rekapitulacija'!$N$6, 'Plan unos i pregled'!$E$7:$E$788,'PLAN Rekapitulacija'!$B198, 'Plan unos i pregled'!$C$7:$C$788,'PLAN Rekapitulacija'!H$4, 'Plan unos i pregled'!$A$7:$A$788,$D$3)","v":0},{"$f":"SUMIFS('Plan unos i pregled'!$I$7:$I$788,'Plan unos i pregled'!$B$7:$B$788,'PLAN Rekapitulacija'!$N$7,'Plan unos i pregled'!$M$7:$M$788,'PLAN Rekapitulacija'!$N$6, 'Plan unos i pregled'!$E$7:$E$788,'PLAN Rekapitulacija'!$B198, 'Plan unos i pregled'!$C$7:$C$788,'PLAN Rekapitulacija'!I$4, 'Plan unos i pregled'!$A$7:$A$788,$D$3)","v":0},0,0]
[{"$f":"IF(OR(J199:K200),\"штампа\",\"не\")","v":"не"},"8.9","Пресвлачење мањих деоница коловоза финишером (дузине 250 м у целој ширини коловоза или 500 м у 1/2 коловоза) Цена обухвата: производњу асфалтне масе, превоз механизације и радника од асфалтне базе до места уграђивања, уграђивање финишером и ваљање гарнитуром ваљка. Пре пресвлачења обавезно се врши ручно крпљење коловоза и то се посебно наплаћује. Транспорт агрегата од произвођача до асфалтне базе, као и транспорт асфалтне масе од базе до места уграђивања посебно наплаћује.",null,0]
["не","8.9.1","Асфалт бетоном или БНХС","t",12000,{"$f":"SUMIFS('Plan unos i pregled'!$I$7:$I$788,'Plan unos i pregled'!$B$7:$B$788,'PLAN Rekapitulacija'!$N$7,'Plan unos i pregled'!$M$7:$M$788,'PLAN Rekapitulacija'!$N$6, 'Plan unos i pregled'!$E$7:$E$788,'PLAN Rekapitulacija'!$B200, 'Plan unos i pregled'!$C$7:$C$788,'PLAN Rekapitulacija'!F$4, 'Plan unos i pregled'!$A$7:$A$788,$D$3)","v":0},{"$f":"SUMIFS('Plan unos i pregled'!$I$7:$I$788,'Plan unos i pregled'!$B$7:$B$788,'PLAN Rekapitulacija'!$N$7,'Plan unos i pregled'!$M$7:$M$788,'PLAN Rekapitulacija'!$N$6, 'Plan unos i pregled'!$E$7:$E$788,'PLAN Rekapitulacija'!$B200, 'Plan unos i pregled'!$C$7:$C$788,'PLAN Rekapitulacija'!G$4, 'Plan unos i pregled'!$A$7:$A$788,$D$3)","v":0},{"$f":"SUMIFS('Plan unos i pregled'!$I$7:$I$788,'Plan unos i pregled'!$B$7:$B$788,'PLAN Rekapitulacija'!$N$7,'Plan unos i pregled'!$M$7:$M$788,'PLAN Rekapitulacija'!$N$6, 'Plan unos i pregled'!$E$7:$E$788,'PLAN Rekapitulacija'!$B200, 'Plan unos i pregled'!$C$7:$C$788,'PLAN Rekapitulacija'!H$4, 'Plan unos i pregled'!$A$7:$A$788,$D$3)","v":0},{"$f":"SUMIFS('Plan unos i pregled'!$I$7:$I$788,'Plan unos i pregled'!$B$7:$B$788,'PLAN Rekapitulacija'!$N$7,'Plan unos i pregled'!$M$7:$M$788,'PLAN Rekapitulacija'!$N$6, 'Plan unos i pregled'!$E$7:$E$788,'PLAN Rekapitulacija'!$B200, 'Plan unos i pregled'!$C$7:$C$788,'PLAN Rekapitulacija'!I$4, 'Plan unos i pregled'!$A$7:$A$788,$D$3)","v":0},{"$f":"SUM(F200:I200)","v":0},{"$f":"ROUND(E200*J200,2)","v":0}]
["не","8.10","Ручно опсецање ивица ударних рупа и улегнућа секачем са пребацивањем раскопаног материјала на банкину и издувавањем рупе на компресором.","m",102.21,{"$f":"SUMIFS('Plan unos i pregled'!$I$7:$I$788,'Plan unos i pregled'!$B$7:$B$788,'PLAN Rekapitulacija'!$N$7,'Plan unos i pregled'!$M$7:$M$788,'PLAN Rekapitulacija'!$N$6, 'Plan unos i pregled'!$E$7:$E$788,'PLAN Rekapitulacija'!$B201, 'Plan unos i pregled'!$C$7:$C$788,'PLAN Rekapitulacija'!F$4, 'Plan unos i pregled'!$A$7:$A$788,$D$3)","v":0},{"$f":"SUMIFS('Plan unos i pregled'!$I$7:$I$788,'Plan unos i pregled'!$B$7:$B$788,'PLAN Rekapitulacija'!$N$7,'Plan unos i pregled'!$M$7:$M$788,'PLAN Rekapitulacija'!$N$6, 'Plan unos i pregled'!$E$7:$E$788,'PLAN Rekapitulacija'!$B201, 'Plan unos i pregled'!$C$7:$C$788,'PLAN Rekapitulacija'!G$4, 'Plan unos i pregled'!$A$7:$A$788,$D$3)","v":0},{"$f":"SUMIFS('Plan unos i pregled'!$I$7:$I$788,'Plan unos i pregled'!$B$7:$B$788,'PLAN Rekapitulacija'!$N$7,'Plan unos i pregled'!$M$7:$M$788,'PLAN Rekapitulacija'!$N$6, 'Plan unos i pregled'!$E$7:$E$788,'PLAN Rekapitulacija'!$B201, 'Plan unos i pregled'!$C$7:$C$788,'PLAN Rekapitulacija'!H$4, 'Plan unos i pregled'!$A$7:$A$788,$D$3)","v":0},{"$f":"SUMIFS('Plan unos i pregled'!$I$7:$I$788,'Plan unos i pregled'!$B$7:$B$788,'PLAN Rekapitulacija'!$N$7,'Plan unos i pregled'!$M$7:$M$788,'PLAN Rekapitulacija'!$N$6, 'Plan unos i pregled'!$E$7:$E$788,'PLAN Rekapitulacija'!$B201, 'Plan unos i pregled'!$C$7:$C$788,'PLAN Rekapitulacija'!I$4, 'Plan unos i pregled'!$A$7:$A$788,$D$3)","v":0},0,0]
["не","8.11","Ручно чишцење савремених коловоза од блата и нечистоће. Цена обухвата рад радника на чишћењу блата, просечне дебљине 2 cm, са утоваром у колица и одвозом на      20 м.","m2",36.25,{"$f":"SUMIFS('Plan unos i pregled'!$I$7:$I$788,'Plan unos i pregled'!$B$7:$B$788,'PLAN Rekapitulacija'!$N$7,'Plan unos i pregled'!$M$7:$M$788,'PLAN Rekapitulacija'!$N$6, 'Plan unos i pregled'!$E$7:$E$788,'PLAN Rekapitulacija'!$B202, 'Plan unos i pregled'!$C$7:$C$788,'PLAN Rekapitulacija'!F$4, 'Plan unos i pregled'!$A$7:$A$788,$D$3)","v":0},{"$f":"SUMIFS('Plan unos i pregled'!$I$7:$I$788,'Plan unos i pregled'!$B$7:$B$788,'PLAN Rekapitulacija'!$N$7,'Plan unos i pregled'!$M$7:$M$788,'PLAN Rekapitulacija'!$N$6, 'Plan unos i pregled'!$E$7:$E$788,'PLAN Rekapitulacija'!$B202, 'Plan unos i pregled'!$C$7:$C$788,'PLAN Rekapitulacija'!G$4, 'Plan unos i pregled'!$A$7:$A$788,$D$3)","v":0},{"$f":"SUMIFS('Plan unos i pregled'!$I$7:$I$788,'Plan unos i pregled'!$B$7:$B$788,'PLAN Rekapitulacija'!$N$7,'Plan unos i pregled'!$M$7:$M$788,'PLAN Rekapitulacija'!$N$6, 'Plan unos i pregled'!$E$7:$E$788,'PLAN Rekapitulacija'!$B202, 'Plan unos i pregled'!$C$7:$C$788,'PLAN Rekapitulacija'!H$4, 'Plan unos i pregled'!$A$7:$A$788,$D$3)","v":0},{"$f":"SUMIFS('Plan unos i pregled'!$I$7:$I$788,'Plan unos i pregled'!$B$7:$B$788,'PLAN Rekapitulacija'!$N$7,'Plan unos i pregled'!$M$7:$M$788,'PLAN Rekapitulacija'!$N$6, 'Plan unos i pregled'!$E$7:$E$788,'PLAN Rekapitulacija'!$B202, 'Plan unos i pregled'!$C$7:$C$788,'PLAN Rekapitulacija'!I$4, 'Plan unos i pregled'!$A$7:$A$788,$D$3)","v":0},0,0]
["не","8.12","Ручно рушење асфалтног коловоза d = 7 cm на тампону са вађењем материјала, утоваром и превозом на депонију.","m2",95,{"$f":"SUMIFS('Plan unos i pregled'!$I$7:$I$788,'Plan unos i pregled'!$B$7:$B$788,'PLAN Rekapitulacija'!$N$7,'Plan unos i pregled'!$M$7:$M$788,'PLAN Rekapitulacija'!$N$6, 'Plan unos i pregled'!$E$7:$E$788,'PLAN Rekapitulacija'!$B203, 'Plan unos i pregled'!$C$7:$C$788,'PLAN Rekapitulacija'!F$4, 'Plan unos i pregled'!$A$7:$A$788,$D$3)","v":0},{"$f":"SUMIFS('Plan unos i pregled'!$I$7:$I$788,'Plan unos i pregled'!$B$7:$B$788,'PLAN Rekapitulacija'!$N$7,'Plan unos i pregled'!$M$7:$M$788,'PLAN Rekapitulacija'!$N$6, 'Plan unos i pregled'!$E$7:$E$788,'PLAN Rekapitulacija'!$B203, 'Plan unos i pregled'!$C$7:$C$788,'PLAN Rekapitulacija'!G$4, 'Plan unos i pregled'!$A$7:$A$788,$D$3)","v":0},{"$f":"SUMIFS('Plan unos i pregled'!$I$7:$I$788,'Plan unos i pregled'!$B$7:$B$788,'PLAN Rekapitulacija'!$N$7,'Plan unos i pregled'!$M$7:$M$788,'PLAN Rekapitulacija'!$N$6, 'Plan unos i pregled'!$E$7:$E$788,'PLAN Rekapitulacija'!$B203, 'Plan unos i pregled'!$C$7:$C$788,'PLAN Rekapitulacija'!H$4, 'Plan unos i pregled'!$A$7:$A$788,$D$3)","v":0},{"$f":"SUMIFS('Plan unos i pregled'!$I$7:$I$788,'Plan unos i pregled'!$B$7:$B$788,'PLAN Rekapitulacija'!$N$7,'Plan unos i pregled'!$M$7:$M$788,'PLAN Rekapitulacija'!$N$6, 'Plan unos i pregled'!$E$7:$E$788,'PLAN Rekapitulacija'!$B203, 'Plan unos i pregled'!$C$7:$C$788,'PLAN Rekapitulacija'!I$4, 'Plan unos i pregled'!$A$7:$A$788,$D$3)","v":0},0,0]
["не","8.13","Ваљање туцаничког коловозног застора од камена IV категорије","m2",51,{"$f":"SUMIFS('Plan unos i pregled'!$I$7:$I$788,'Plan unos i pregled'!$B$7:$B$788,'PLAN Rekapitulacija'!$N$7,'Plan unos i pregled'!$M$7:$M$788,'PLAN Rekapitulacija'!$N$6, 'Plan unos i pregled'!$E$7:$E$788,'PLAN Rekapitulacija'!$B204, 'Plan unos i pregled'!$C$7:$C$788,'PLAN Rekapitulacija'!F$4, 'Plan unos i pregled'!$A$7:$A$788,$D$3)","v":0},{"$f":"SUMIFS('Plan unos i pregled'!$I$7:$I$788,'Plan unos i pregled'!$B$7:$B$788,'PLAN Rekapitulacija'!$N$7,'Plan unos i pregled'!$M$7:$M$788,'PLAN Rekapitulacija'!$N$6, 'Plan unos i pregled'!$E$7:$E$788,'PLAN Rekapitulacija'!$B204, 'Plan unos i pregled'!$C$7:$C$788,'PLAN Rekapitulacija'!G$4, 'Plan unos i pregled'!$A$7:$A$788,$D$3)","v":0},{"$f":"SUMIFS('Plan unos i pregled'!$I$7:$I$788,'Plan unos i pregled'!$B$7:$B$788,'PLAN Rekapitulacija'!$N$7,'Plan unos i pregled'!$M$7:$M$788,'PLAN Rekapitulacija'!$N$6, 'Plan unos i pregled'!$E$7:$E$788,'PLAN Rekapitulacija'!$B204, 'Plan unos i pregled'!$C$7:$C$788,'PLAN Rekapitulacija'!H$4, 'Plan unos i pregled'!$A$7:$A$788,$D$3)","v":0},{"$f":"SUMIFS('Plan unos i pregled'!$I$7:$I$788,'Plan unos i pregled'!$B$7:$B$788,'PLAN Rekapitulacija'!$N$7,'Plan unos i pregled'!$M$7:$M$788,'PLAN Rekapitulacija'!$N$6, 'Plan unos i pregled'!$E$7:$E$788,'PLAN Rekapitulacija'!$B204, 'Plan unos i pregled'!$C$7:$C$788,'PLAN Rekapitulacija'!I$4, 'Plan unos i pregled'!$A$7:$A$788,$D$3)","v":0},0,0]
[{"$f":"IF(OR(J205:K207),\"штампа\",\"не\")","v":"не"},"8.14","Планирање-припрема подлоге пешачке стазе. Цена обухвата: ручно планирање са сабијањем тротоарским ваљком. Превоз материјала и механизације се обраачунава посебно.",null,0]
["не","8.14.1","У материјалу III и IV категорије","m2",59.77,{"$f":"SUMIFS('Plan unos i pregled'!$I$7:$I$788,'Plan unos i pregled'!$B$7:$B$788,'PLAN Rekapitulacija'!$N$7,'Plan unos i pregled'!$M$7:$M$788,'PLAN Rekapitulacija'!$N$6, 'Plan unos i pregled'!$E$7:$E$788,'PLAN Rekapitulacija'!$B206, 'Plan unos i pregled'!$C$7:$C$788,'PLAN Rekapitulacija'!F$4, 'Plan unos i pregled'!$A$7:$A$788,$D$3)","v":0},{"$f":"SUMIFS('Plan unos i pregled'!$I$7:$I$788,'Plan unos i pregled'!$B$7:$B$788,'PLAN Rekapitulacija'!$N$7,'Plan unos i pregled'!$M$7:$M$788,'PLAN Rekapitulacija'!$N$6, 'Plan unos i pregled'!$E$7:$E$788,'PLAN Rekapitulacija'!$B206, 'Plan unos i pregled'!$C$7:$C$788,'PLAN Rekapitulacija'!G$4, 'Plan unos i pregled'!$A$7:$A$788,$D$3)","v":0},{"$f":"SUMIFS('Plan unos i pregled'!$I$7:$I$788,'Plan unos i pregled'!$B$7:$B$788,'PLAN Rekapitulacija'!$N$7,'Plan unos i pregled'!$M$7:$M$788,'PLAN Rekapitulacija'!$N$6, 'Plan unos i pregled'!$E$7:$E$788,'PLAN Rekapitulacija'!$B206, 'Plan unos i pregled'!$C$7:$C$788,'PLAN Rekapitulacija'!H$4, 'Plan unos i pregled'!$A$7:$A$788,$D$3)","v":0},{"$f":"SUMIFS('Plan unos i pregled'!$I$7:$I$788,'Plan unos i pregled'!$B$7:$B$788,'PLAN Rekapitulacija'!$N$7,'Plan unos i pregled'!$M$7:$M$788,'PLAN Rekapitulacija'!$N$6, 'Plan unos i pregled'!$E$7:$E$788,'PLAN Rekapitulacija'!$B206, 'Plan unos i pregled'!$C$7:$C$788,'PLAN Rekapitulacija'!I$4, 'Plan unos i pregled'!$A$7:$A$788,$D$3)","v":0},{"$f":"SUM(F206:I206)","v":0},{"$f":"ROUND(E206*J206,2)","v":0}]
["не","8.14.2","У материјалу V и VI категорије","m2",71.73,{"$f":"SUMIFS('Plan unos i pregled'!$I$7:$I$788,'Plan unos i pregled'!$B$7:$B$788,'PLAN Rekapitulacija'!$N$7,'Plan unos i pregled'!$M$7:$M$788,'PLAN Rekapitulacija'!$N$6, 'Plan unos i pregled'!$E$7:$E$788,'PLAN Rekapitulacija'!$B207, 'Plan unos i pregled'!$C$7:$C$788,'PLAN Rekapitulacija'!F$4, 'Plan unos i pregled'!$A$7:$A$788,$D$3)","v":0},{"$f":"SUMIFS('Plan unos i pregled'!$I$7:$I$788,'Plan unos i pregled'!$B$7:$B$788,'PLAN Rekapitulacija'!$N$7,'Plan unos i pregled'!$M$7:$M$788,'PLAN Rekapitulacija'!$N$6, 'Plan unos i pregled'!$E$7:$E$788,'PLAN Rekapitulacija'!$B207, 'Plan unos i pregled'!$C$7:$C$788,'PLAN Rekapitulacija'!G$4, 'Plan unos i pregled'!$A$7:$A$788,$D$3)","v":0},{"$f":"SUMIFS('Plan unos i pregled'!$I$7:$I$788,'Plan unos i pregled'!$B$7:$B$788,'PLAN Rekapitulacija'!$N$7,'Plan unos i pregled'!$M$7:$M$788,'PLAN Rekapitulacija'!$N$6, 'Plan unos i pregled'!$E$7:$E$788,'PLAN Rekapitulacija'!$B207, 'Plan unos i pregled'!$C$7:$C$788,'PLAN Rekapitulacija'!H$4, 'Plan unos i pregled'!$A$7:$A$788,$D$3)","v":0},{"$f":"SUMIFS('Plan unos i pregled'!$I$7:$I$788,'Plan unos i pregled'!$B$7:$B$788,'PLAN Rekapitulacija'!$N$7,'Plan unos i pregled'!$M$7:$M$788,'PLAN Rekapitulacija'!$N$6, 'Plan unos i pregled'!$E$7:$E$788,'PLAN Rekapitulacija'!$B207, 'Plan unos i pregled'!$C$7:$C$788,'PLAN Rekapitulacija'!I$4, 'Plan unos i pregled'!$A$7:$A$788,$D$3)","v":0},0,0]
[{"$f":"IF(OR(J208:K210),\"штампа\",\"не\")","v":"не"},"8.15","Ручно рушење ивичњака са бетонском подлогом и утоваром у камион. ",null,0]
["не","8.15.1","20/24 cm","m",446,{"$f":"SUMIFS('Plan unos i pregled'!$I$7:$I$788,'Plan unos i pregled'!$B$7:$B$788,'PLAN Rekapitulacija'!$N$7,'Plan unos i pregled'!$M$7:$M$788,'PLAN Rekapitulacija'!$N$6, 'Plan unos i pregled'!$E$7:$E$788,'PLAN Rekapitulacija'!$B209, 'Plan unos i pregled'!$C$7:$C$788,'PLAN Rekapitulacija'!F$4, 'Plan unos i pregled'!$A$7:$A$788,$D$3)","v":0},{"$f":"SUMIFS('Plan unos i pregled'!$I$7:$I$788,'Plan unos i pregled'!$B$7:$B$788,'PLAN Rekapitulacija'!$N$7,'Plan unos i pregled'!$M$7:$M$788,'PLAN Rekapitulacija'!$N$6, 'Plan unos i pregled'!$E$7:$E$788,'PLAN Rekapitulacija'!$B209, 'Plan unos i pregled'!$C$7:$C$788,'PLAN Rekapitulacija'!G$4, 'Plan unos i pregled'!$A$7:$A$788,$D$3)","v":0},{"$f":"SUMIFS('Plan unos i pregled'!$I$7:$I$788,'Plan unos i pregled'!$B$7:$B$788,'PLAN Rekapitulacija'!$N$7,'Plan unos i pregled'!$M$7:$M$788,'PLAN Rekapitulacija'!$N$6, 'Plan unos i pregled'!$E$7:$E$788,'PLAN Rekapitulacija'!$B209, 'Plan unos i pregled'!$C$7:$C$788,'PLAN Rekapitulacija'!H$4, 'Plan unos i pregled'!$A$7:$A$788,$D$3)","v":0},{"$f":"SUMIFS('Plan unos i pregled'!$I$7:$I$788,'Plan unos i pregled'!$B$7:$B$788,'PLAN Rekapitulacija'!$N$7,'Plan unos i pregled'!$M$7:$M$788,'PLAN Rekapitulacija'!$N$6, 'Plan unos i pregled'!$E$7:$E$788,'PLAN Rekapitulacija'!$B209, 'Plan unos i pregled'!$C$7:$C$788,'PLAN Rekapitulacija'!I$4, 'Plan unos i pregled'!$A$7:$A$788,$D$3)","v":0},{"$f":"SUM(F209:I209)","v":0},{"$f":"ROUND(E209*J209,2)","v":0}]
["не","8.15.2","18/24 cm","m",357,{"$f":"SUMIFS('Plan unos i pregled'!$I$7:$I$788,'Plan unos i pregled'!$B$7:$B$788,'PLAN Rekapitulacija'!$N$7,'Plan unos i pregled'!$M$7:$M$788,'PLAN Rekapitulacija'!$N$6, 'Plan unos i pregled'!$E$7:$E$788,'PLAN Rekapitulacija'!$B210, 'Plan unos i pregled'!$C$7:$C$788,'PLAN Rekapitulacija'!F$4, 'Plan unos i pregled'!$A$7:$A$788,$D$3)","v":0},{"$f":"SUMIFS('Plan unos i pregled'!$I$7:$I$788,'Plan unos i pregled'!$B$7:$B$788,'PLAN Rekapitulacija'!$N$7,'Plan unos i pregled'!$M$7:$M$788,'PLAN Rekapitulacija'!$N$6, 'Plan unos i pregled'!$E$7:$E$788,'PLAN Rekapitulacija'!$B210, 'Plan unos i pregled'!$C$7:$C$788,'PLAN Rekapitulacija'!G$4, 'Plan unos i pregled'!$A$7:$A$788,$D$3)","v":0},{"$f":"SUMIFS('Plan unos i pregled'!$I$7:$I$788,'Plan unos i pregled'!$B$7:$B$788,'PLAN Rekapitulacija'!$N$7,'Plan unos i pregled'!$M$7:$M$788,'PLAN Rekapitulacija'!$N$6, 'Plan unos i pregled'!$E$7:$E$788,'PLAN Rekapitulacija'!$B210, 'Plan unos i pregled'!$C$7:$C$788,'PLAN Rekapitulacija'!H$4, 'Plan unos i pregled'!$A$7:$A$788,$D$3)","v":0},{"$f":"SUMIFS('Plan unos i pregled'!$I$7:$I$788,'Plan unos i pregled'!$B$7:$B$788,'PLAN Rekapitulacija'!$N$7,'Plan unos i pregled'!$M$7:$M$788,'PLAN Rekapitulacija'!$N$6, 'Plan unos i pregled'!$E$7:$E$788,'PLAN Rekapitulacija'!$B210, 'Plan unos i pregled'!$C$7:$C$788,'PLAN Rekapitulacija'!I$4, 'Plan unos i pregled'!$A$7:$A$788,$D$3)","v":0},0,0]
[{"$f":"IF(OR(J211:K213),\"штампа\",\"не\")","v":"не"},"8.16","Демонтажа ивичњака са рушењем бетонске подлоге и слагањем ","m",0,{"$f":"SUMIFS('Plan unos i pregled'!$I$7:$I$788,'Plan unos i pregled'!$B$7:$B$788,'PLAN Rekapitulacija'!$N$7,'Plan unos i pregled'!$M$7:$M$788,'PLAN Rekapitulacija'!$N$6, 'Plan unos i pregled'!$E$7:$E$788,'PLAN Rekapitulacija'!$B211, 'Plan unos i pregled'!$C$7:$C$788,'PLAN Rekapitulacija'!F$4, 'Plan unos i pregled'!$A$7:$A$788,$D$3)","v":0},{"$f":"SUMIFS('Plan unos i pregled'!$I$7:$I$788,'Plan unos i pregled'!$B$7:$B$788,'PLAN Rekapitulacija'!$N$7,'Plan unos i pregled'!$M$7:$M$788,'PLAN Rekapitulacija'!$N$6, 'Plan unos i pregled'!$E$7:$E$788,'PLAN Rekapitulacija'!$B211, 'Plan unos i pregled'!$C$7:$C$788,'PLAN Rekapitulacija'!G$4, 'Plan unos i pregled'!$A$7:$A$788,$D$3)","v":0},{"$f":"SUMIFS('Plan unos i pregled'!$I$7:$I$788,'Plan unos i pregled'!$B$7:$B$788,'PLAN Rekapitulacija'!$N$7,'Plan unos i pregled'!$M$7:$M$788,'PLAN Rekapitulacija'!$N$6, 'Plan unos i pregled'!$E$7:$E$788,'PLAN Rekapitulacija'!$B211, 'Plan unos i pregled'!$C$7:$C$788,'PLAN Rekapitulacija'!H$4, 'Plan unos i pregled'!$A$7:$A$788,$D$3)","v":0},{"$f":"SUMIFS('Plan unos i pregled'!$I$7:$I$788,'Plan unos i pregled'!$B$7:$B$788,'PLAN Rekapitulacija'!$N$7,'Plan unos i pregled'!$M$7:$M$788,'PLAN Rekapitulacija'!$N$6, 'Plan unos i pregled'!$E$7:$E$788,'PLAN Rekapitulacija'!$B211, 'Plan unos i pregled'!$C$7:$C$788,'PLAN Rekapitulacija'!I$4, 'Plan unos i pregled'!$A$7:$A$788,$D$3)","v":0},0,0]
["не","8.16.1","20/24 cm","m",503,{"$f":"SUMIFS('Plan unos i pregled'!$I$7:$I$788,'Plan unos i pregled'!$B$7:$B$788,'PLAN Rekapitulacija'!$N$7,'Plan unos i pregled'!$M$7:$M$788,'PLAN Rekapitulacija'!$N$6, 'Plan unos i pregled'!$E$7:$E$788,'PLAN Rekapitulacija'!$B212, 'Plan unos i pregled'!$C$7:$C$788,'PLAN Rekapitulacija'!F$4, 'Plan unos i pregled'!$A$7:$A$788,$D$3)","v":0},{"$f":"SUMIFS('Plan unos i pregled'!$I$7:$I$788,'Plan unos i pregled'!$B$7:$B$788,'PLAN Rekapitulacija'!$N$7,'Plan unos i pregled'!$M$7:$M$788,'PLAN Rekapitulacija'!$N$6, 'Plan unos i pregled'!$E$7:$E$788,'PLAN Rekapitulacija'!$B212, 'Plan unos i pregled'!$C$7:$C$788,'PLAN Rekapitulacija'!G$4, 'Plan unos i pregled'!$A$7:$A$788,$D$3)","v":0},{"$f":"SUMIFS('Plan unos i pregled'!$I$7:$I$788,'Plan unos i pregled'!$B$7:$B$788,'PLAN Rekapitulacija'!$N$7,'Plan unos i pregled'!$M$7:$M$788,'PLAN Rekapitulacija'!$N$6, 'Plan unos i pregled'!$E$7:$E$788,'PLAN Rekapitulacija'!$B212, 'Plan unos i pregled'!$C$7:$C$788,'PLAN Rekapitulacija'!H$4, 'Plan unos i pregled'!$A$7:$A$788,$D$3)","v":0},{"$f":"SUMIFS('Plan unos i pregled'!$I$7:$I$788,'Plan unos i pregled'!$B$7:$B$788,'PLAN Rekapitulacija'!$N$7,'Plan unos i pregled'!$M$7:$M$788,'PLAN Rekapitulacija'!$N$6, 'Plan unos i pregled'!$E$7:$E$788,'PLAN Rekapitulacija'!$B212, 'Plan unos i pregled'!$C$7:$C$788,'PLAN Rekapitulacija'!I$4, 'Plan unos i pregled'!$A$7:$A$788,$D$3)","v":0},0,0]
["не","8.16.2","18/24 cm","m",402,{"$f":"SUMIFS('Plan unos i pregled'!$I$7:$I$788,'Plan unos i pregled'!$B$7:$B$788,'PLAN Rekapitulacija'!$N$7,'Plan unos i pregled'!$M$7:$M$788,'PLAN Rekapitulacija'!$N$6, 'Plan unos i pregled'!$E$7:$E$788,'PLAN Rekapitulacija'!$B213, 'Plan unos i pregled'!$C$7:$C$788,'PLAN Rekapitulacija'!F$4, 'Plan unos i pregled'!$A$7:$A$788,$D$3)","v":0},{"$f":"SUMIFS('Plan unos i pregled'!$I$7:$I$788,'Plan unos i pregled'!$B$7:$B$788,'PLAN Rekapitulacija'!$N$7,'Plan unos i pregled'!$M$7:$M$788,'PLAN Rekapitulacija'!$N$6, 'Plan unos i pregled'!$E$7:$E$788,'PLAN Rekapitulacija'!$B213, 'Plan unos i pregled'!$C$7:$C$788,'PLAN Rekapitulacija'!G$4, 'Plan unos i pregled'!$A$7:$A$788,$D$3)","v":0},{"$f":"SUMIFS('Plan unos i pregled'!$I$7:$I$788,'Plan unos i pregled'!$B$7:$B$788,'PLAN Rekapitulacija'!$N$7,'Plan unos i pregled'!$M$7:$M$788,'PLAN Rekapitulacija'!$N$6, 'Plan unos i pregled'!$E$7:$E$788,'PLAN Rekapitulacija'!$B213, 'Plan unos i pregled'!$C$7:$C$788,'PLAN Rekapitulacija'!H$4, 'Plan unos i pregled'!$A$7:$A$788,$D$3)","v":0},{"$f":"SUMIFS('Plan unos i pregled'!$I$7:$I$788,'Plan unos i pregled'!$B$7:$B$788,'PLAN Rekapitulacija'!$N$7,'Plan unos i pregled'!$M$7:$M$788,'PLAN Rekapitulacija'!$N$6, 'Plan unos i pregled'!$E$7:$E$788,'PLAN Rekapitulacija'!$B213, 'Plan unos i pregled'!$C$7:$C$788,'PLAN Rekapitulacija'!I$4, 'Plan unos i pregled'!$A$7:$A$788,$D$3)","v":0},0,0]
[{"$f":"IF(OR(J214:K216),\"штампа\",\"не\")","v":"не"},"8.17","Постављање ивичњака са израдом бетонске подлоге и заливање фуга цементним малтером ",null,0]
["не","8.17.1","20/24 cm","m",900,{"$f":"SUMIFS('Plan unos i pregled'!$I$7:$I$788,'Plan unos i pregled'!$B$7:$B$788,'PLAN Rekapitulacija'!$N$7,'Plan unos i pregled'!$M$7:$M$788,'PLAN Rekapitulacija'!$N$6, 'Plan unos i pregled'!$E$7:$E$788,'PLAN Rekapitulacija'!$B215, 'Plan unos i pregled'!$C$7:$C$788,'PLAN Rekapitulacija'!F$4, 'Plan unos i pregled'!$A$7:$A$788,$D$3)","v":0},{"$f":"SUMIFS('Plan unos i pregled'!$I$7:$I$788,'Plan unos i pregled'!$B$7:$B$788,'PLAN Rekapitulacija'!$N$7,'Plan unos i pregled'!$M$7:$M$788,'PLAN Rekapitulacija'!$N$6, 'Plan unos i pregled'!$E$7:$E$788,'PLAN Rekapitulacija'!$B215, 'Plan unos i pregled'!$C$7:$C$788,'PLAN Rekapitulacija'!G$4, 'Plan unos i pregled'!$A$7:$A$788,$D$3)","v":0},{"$f":"SUMIFS('Plan unos i pregled'!$I$7:$I$788,'Plan unos i pregled'!$B$7:$B$788,'PLAN Rekapitulacija'!$N$7,'Plan unos i pregled'!$M$7:$M$788,'PLAN Rekapitulacija'!$N$6, 'Plan unos i pregled'!$E$7:$E$788,'PLAN Rekapitulacija'!$B215, 'Plan unos i pregled'!$C$7:$C$788,'PLAN Rekapitulacija'!H$4, 'Plan unos i pregled'!$A$7:$A$788,$D$3)","v":0},{"$f":"SUMIFS('Plan unos i pregled'!$I$7:$I$788,'Plan unos i pregled'!$B$7:$B$788,'PLAN Rekapitulacija'!$N$7,'Plan unos i pregled'!$M$7:$M$788,'PLAN Rekapitulacija'!$N$6, 'Plan unos i pregled'!$E$7:$E$788,'PLAN Rekapitulacija'!$B215, 'Plan unos i pregled'!$C$7:$C$788,'PLAN Rekapitulacija'!I$4, 'Plan unos i pregled'!$A$7:$A$788,$D$3)","v":0},{"$f":"SUM(F215:I215)","v":0},{"$f":"ROUND(E215*J215,2)","v":0}]
["не","8.17.2","18/24 cm","m",860,{"$f":"SUMIFS('Plan unos i pregled'!$I$7:$I$788,'Plan unos i pregled'!$B$7:$B$788,'PLAN Rekapitulacija'!$N$7,'Plan unos i pregled'!$M$7:$M$788,'PLAN Rekapitulacija'!$N$6, 'Plan unos i pregled'!$E$7:$E$788,'PLAN Rekapitulacija'!$B216, 'Plan unos i pregled'!$C$7:$C$788,'PLAN Rekapitulacija'!F$4, 'Plan unos i pregled'!$A$7:$A$788,$D$3)","v":0},{"$f":"SUMIFS('Plan unos i pregled'!$I$7:$I$788,'Plan unos i pregled'!$B$7:$B$788,'PLAN Rekapitulacija'!$N$7,'Plan unos i pregled'!$M$7:$M$788,'PLAN Rekapitulacija'!$N$6, 'Plan unos i pregled'!$E$7:$E$788,'PLAN Rekapitulacija'!$B216, 'Plan unos i pregled'!$C$7:$C$788,'PLAN Rekapitulacija'!G$4, 'Plan unos i pregled'!$A$7:$A$788,$D$3)","v":0},{"$f":"SUMIFS('Plan unos i pregled'!$I$7:$I$788,'Plan unos i pregled'!$B$7:$B$788,'PLAN Rekapitulacija'!$N$7,'Plan unos i pregled'!$M$7:$M$788,'PLAN Rekapitulacija'!$N$6, 'Plan unos i pregled'!$E$7:$E$788,'PLAN Rekapitulacija'!$B216, 'Plan unos i pregled'!$C$7:$C$788,'PLAN Rekapitulacija'!H$4, 'Plan unos i pregled'!$A$7:$A$788,$D$3)","v":0},{"$f":"SUMIFS('Plan unos i pregled'!$I$7:$I$788,'Plan unos i pregled'!$B$7:$B$788,'PLAN Rekapitulacija'!$N$7,'Plan unos i pregled'!$M$7:$M$788,'PLAN Rekapitulacija'!$N$6, 'Plan unos i pregled'!$E$7:$E$788,'PLAN Rekapitulacija'!$B216, 'Plan unos i pregled'!$C$7:$C$788,'PLAN Rekapitulacija'!I$4, 'Plan unos i pregled'!$A$7:$A$788,$D$3)","v":0},0,0]
["не","8.18 ","Постављање баштанског ивичњака 10/20/40 на слоју бетона МБ15 d = 15cm према пројекту са заливањем спојница цементним малтером ","m",860,{"$f":"SUMIFS('Plan unos i pregled'!$I$7:$I$788,'Plan unos i pregled'!$B$7:$B$788,'PLAN Rekapitulacija'!$N$7,'Plan unos i pregled'!$M$7:$M$788,'PLAN Rekapitulacija'!$N$6, 'Plan unos i pregled'!$E$7:$E$788,'PLAN Rekapitulacija'!$B217, 'Plan unos i pregled'!$C$7:$C$788,'PLAN Rekapitulacija'!F$4, 'Plan unos i pregled'!$A$7:$A$788,$D$3)","v":0},{"$f":"SUMIFS('Plan unos i pregled'!$I$7:$I$788,'Plan unos i pregled'!$B$7:$B$788,'PLAN Rekapitulacija'!$N$7,'Plan unos i pregled'!$M$7:$M$788,'PLAN Rekapitulacija'!$N$6, 'Plan unos i pregled'!$E$7:$E$788,'PLAN Rekapitulacija'!$B217, 'Plan unos i pregled'!$C$7:$C$788,'PLAN Rekapitulacija'!G$4, 'Plan unos i pregled'!$A$7:$A$788,$D$3)","v":0},{"$f":"SUMIFS('Plan unos i pregled'!$I$7:$I$788,'Plan unos i pregled'!$B$7:$B$788,'PLAN Rekapitulacija'!$N$7,'Plan unos i pregled'!$M$7:$M$788,'PLAN Rekapitulacija'!$N$6, 'Plan unos i pregled'!$E$7:$E$788,'PLAN Rekapitulacija'!$B217, 'Plan unos i pregled'!$C$7:$C$788,'PLAN Rekapitulacija'!H$4, 'Plan unos i pregled'!$A$7:$A$788,$D$3)","v":0},{"$f":"SUMIFS('Plan unos i pregled'!$I$7:$I$788,'Plan unos i pregled'!$B$7:$B$788,'PLAN Rekapitulacija'!$N$7,'Plan unos i pregled'!$M$7:$M$788,'PLAN Rekapitulacija'!$N$6, 'Plan unos i pregled'!$E$7:$E$788,'PLAN Rekapitulacija'!$B217, 'Plan unos i pregled'!$C$7:$C$788,'PLAN Rekapitulacija'!I$4, 'Plan unos i pregled'!$A$7:$A$788,$D$3)","v":0},0,0]
[{"$f":"IF(OR(J218:K220),\"штампа\",\"не\")","v":"не"},"8.19","Ручно рушење неармираних бетонских плоча",null,0]
["не","8.19.1","10 cm дебљине","m",446,{"$f":"SUMIFS('Plan unos i pregled'!$I$7:$I$788,'Plan unos i pregled'!$B$7:$B$788,'PLAN Rekapitulacija'!$N$7,'Plan unos i pregled'!$M$7:$M$788,'PLAN Rekapitulacija'!$N$6, 'Plan unos i pregled'!$E$7:$E$788,'PLAN Rekapitulacija'!$B219, 'Plan unos i pregled'!$C$7:$C$788,'PLAN Rekapitulacija'!F$4, 'Plan unos i pregled'!$A$7:$A$788,$D$3)","v":0},{"$f":"SUMIFS('Plan unos i pregled'!$I$7:$I$788,'Plan unos i pregled'!$B$7:$B$788,'PLAN Rekapitulacija'!$N$7,'Plan unos i pregled'!$M$7:$M$788,'PLAN Rekapitulacija'!$N$6, 'Plan unos i pregled'!$E$7:$E$788,'PLAN Rekapitulacija'!$B219, 'Plan unos i pregled'!$C$7:$C$788,'PLAN Rekapitulacija'!G$4, 'Plan unos i pregled'!$A$7:$A$788,$D$3)","v":0},{"$f":"SUMIFS('Plan unos i pregled'!$I$7:$I$788,'Plan unos i pregled'!$B$7:$B$788,'PLAN Rekapitulacija'!$N$7,'Plan unos i pregled'!$M$7:$M$788,'PLAN Rekapitulacija'!$N$6, 'Plan unos i pregled'!$E$7:$E$788,'PLAN Rekapitulacija'!$B219, 'Plan unos i pregled'!$C$7:$C$788,'PLAN Rekapitulacija'!H$4, 'Plan unos i pregled'!$A$7:$A$788,$D$3)","v":0},{"$f":"SUMIFS('Plan unos i pregled'!$I$7:$I$788,'Plan unos i pregled'!$B$7:$B$788,'PLAN Rekapitulacija'!$N$7,'Plan unos i pregled'!$M$7:$M$788,'PLAN Rekapitulacija'!$N$6, 'Plan unos i pregled'!$E$7:$E$788,'PLAN Rekapitulacija'!$B219, 'Plan unos i pregled'!$C$7:$C$788,'PLAN Rekapitulacija'!I$4, 'Plan unos i pregled'!$A$7:$A$788,$D$3)","v":0},{"$f":"SUM(F219:I219)","v":0},{"$f":"ROUND(E219*J219,2)","v":0}]
["не","8.19.2","20 cm дебљине","m",357,{"$f":"SUMIFS('Plan unos i pregled'!$I$7:$I$788,'Plan unos i pregled'!$B$7:$B$788,'PLAN Rekapitulacija'!$N$7,'Plan unos i pregled'!$M$7:$M$788,'PLAN Rekapitulacija'!$N$6, 'Plan unos i pregled'!$E$7:$E$788,'PLAN Rekapitulacija'!$B220, 'Plan unos i pregled'!$C$7:$C$788,'PLAN Rekapitulacija'!F$4, 'Plan unos i pregled'!$A$7:$A$788,$D$3)","v":0},{"$f":"SUMIFS('Plan unos i pregled'!$I$7:$I$788,'Plan unos i pregled'!$B$7:$B$788,'PLAN Rekapitulacija'!$N$7,'Plan unos i pregled'!$M$7:$M$788,'PLAN Rekapitulacija'!$N$6, 'Plan unos i pregled'!$E$7:$E$788,'PLAN Rekapitulacija'!$B220, 'Plan unos i pregled'!$C$7:$C$788,'PLAN Rekapitulacija'!G$4, 'Plan unos i pregled'!$A$7:$A$788,$D$3)","v":0},{"$f":"SUMIFS('Plan unos i pregled'!$I$7:$I$788,'Plan unos i pregled'!$B$7:$B$788,'PLAN Rekapitulacija'!$N$7,'Plan unos i pregled'!$M$7:$M$788,'PLAN Rekapitulacija'!$N$6, 'Plan unos i pregled'!$E$7:$E$788,'PLAN Rekapitulacija'!$B220, 'Plan unos i pregled'!$C$7:$C$788,'PLAN Rekapitulacija'!H$4, 'Plan unos i pregled'!$A$7:$A$788,$D$3)","v":0},{"$f":"SUMIFS('Plan unos i pregled'!$I$7:$I$788,'Plan unos i pregled'!$B$7:$B$788,'PLAN Rekapitulacija'!$N$7,'Plan unos i pregled'!$M$7:$M$788,'PLAN Rekapitulacija'!$N$6, 'Plan unos i pregled'!$E$7:$E$788,'PLAN Rekapitulacija'!$B220, 'Plan unos i pregled'!$C$7:$C$788,'PLAN Rekapitulacija'!I$4, 'Plan unos i pregled'!$A$7:$A$788,$D$3)","v":0},0,0]
["не","8.20","Набавка асфалтне масе ","t",9000,{"$f":"SUMIFS('Plan unos i pregled'!$I$7:$I$788,'Plan unos i pregled'!$B$7:$B$788,'PLAN Rekapitulacija'!$N$7,'Plan unos i pregled'!$M$7:$M$788,'PLAN Rekapitulacija'!$N$6, 'Plan unos i pregled'!$E$7:$E$788,'PLAN Rekapitulacija'!$B221, 'Plan unos i pregled'!$C$7:$C$788,'PLAN Rekapitulacija'!F$4, 'Plan unos i pregled'!$A$7:$A$788,$D$3)","v":0},{"$f":"SUMIFS('Plan unos i pregled'!$I$7:$I$788,'Plan unos i pregled'!$B$7:$B$788,'PLAN Rekapitulacija'!$N$7,'Plan unos i pregled'!$M$7:$M$788,'PLAN Rekapitulacija'!$N$6, 'Plan unos i pregled'!$E$7:$E$788,'PLAN Rekapitulacija'!$B221, 'Plan unos i pregled'!$C$7:$C$788,'PLAN Rekapitulacija'!G$4, 'Plan unos i pregled'!$A$7:$A$788,$D$3)","v":0},{"$f":"SUMIFS('Plan unos i pregled'!$I$7:$I$788,'Plan unos i pregled'!$B$7:$B$788,'PLAN Rekapitulacija'!$N$7,'Plan unos i pregled'!$M$7:$M$788,'PLAN Rekapitulacija'!$N$6, 'Plan unos i pregled'!$E$7:$E$788,'PLAN Rekapitulacija'!$B221, 'Plan unos i pregled'!$C$7:$C$788,'PLAN Rekapitulacija'!H$4, 'Plan unos i pregled'!$A$7:$A$788,$D$3)","v":0},{"$f":"SUMIFS('Plan unos i pregled'!$I$7:$I$788,'Plan unos i pregled'!$B$7:$B$788,'PLAN Rekapitulacija'!$N$7,'Plan unos i pregled'!$M$7:$M$788,'PLAN Rekapitulacija'!$N$6, 'Plan unos i pregled'!$E$7:$E$788,'PLAN Rekapitulacija'!$B221, 'Plan unos i pregled'!$C$7:$C$788,'PLAN Rekapitulacija'!I$4, 'Plan unos i pregled'!$A$7:$A$788,$D$3)","v":0},0,0]
["не","8.21","Набавка битуменске емулзије (по фактури добављача)","l",103,{"$f":"SUMIFS('Plan unos i pregled'!$I$7:$I$788,'Plan unos i pregled'!$B$7:$B$788,'PLAN Rekapitulacija'!$N$7,'Plan unos i pregled'!$M$7:$M$788,'PLAN Rekapitulacija'!$N$6, 'Plan unos i pregled'!$E$7:$E$788,'PLAN Rekapitulacija'!$B222, 'Plan unos i pregled'!$C$7:$C$788,'PLAN Rekapitulacija'!F$4, 'Plan unos i pregled'!$A$7:$A$788,$D$3)","v":0},{"$f":"SUMIFS('Plan unos i pregled'!$I$7:$I$788,'Plan unos i pregled'!$B$7:$B$788,'PLAN Rekapitulacija'!$N$7,'Plan unos i pregled'!$M$7:$M$788,'PLAN Rekapitulacija'!$N$6, 'Plan unos i pregled'!$E$7:$E$788,'PLAN Rekapitulacija'!$B222, 'Plan unos i pregled'!$C$7:$C$788,'PLAN Rekapitulacija'!G$4, 'Plan unos i pregled'!$A$7:$A$788,$D$3)","v":0},{"$f":"SUMIFS('Plan unos i pregled'!$I$7:$I$788,'Plan unos i pregled'!$B$7:$B$788,'PLAN Rekapitulacija'!$N$7,'Plan unos i pregled'!$M$7:$M$788,'PLAN Rekapitulacija'!$N$6, 'Plan unos i pregled'!$E$7:$E$788,'PLAN Rekapitulacija'!$B222, 'Plan unos i pregled'!$C$7:$C$788,'PLAN Rekapitulacija'!H$4, 'Plan unos i pregled'!$A$7:$A$788,$D$3)","v":0},{"$f":"SUMIFS('Plan unos i pregled'!$I$7:$I$788,'Plan unos i pregled'!$B$7:$B$788,'PLAN Rekapitulacija'!$N$7,'Plan unos i pregled'!$M$7:$M$788,'PLAN Rekapitulacija'!$N$6, 'Plan unos i pregled'!$E$7:$E$788,'PLAN Rekapitulacija'!$B222, 'Plan unos i pregled'!$C$7:$C$788,'PLAN Rekapitulacija'!I$4, 'Plan unos i pregled'!$A$7:$A$788,$D$3)","v":0},0,0]
["не","8.22","Разастирање и ваљање гребаног асфалта","m3",350,{"$f":"SUMIFS('Plan unos i pregled'!$I$7:$I$788,'Plan unos i pregled'!$B$7:$B$788,'PLAN Rekapitulacija'!$N$7,'Plan unos i pregled'!$M$7:$M$788,'PLAN Rekapitulacija'!$N$6, 'Plan unos i pregled'!$E$7:$E$788,'PLAN Rekapitulacija'!$B223, 'Plan unos i pregled'!$C$7:$C$788,'PLAN Rekapitulacija'!F$4, 'Plan unos i pregled'!$A$7:$A$788,$D$3)","v":0},{"$f":"SUMIFS('Plan unos i pregled'!$I$7:$I$788,'Plan unos i pregled'!$B$7:$B$788,'PLAN Rekapitulacija'!$N$7,'Plan unos i pregled'!$M$7:$M$788,'PLAN Rekapitulacija'!$N$6, 'Plan unos i pregled'!$E$7:$E$788,'PLAN Rekapitulacija'!$B223, 'Plan unos i pregled'!$C$7:$C$788,'PLAN Rekapitulacija'!G$4, 'Plan unos i pregled'!$A$7:$A$788,$D$3)","v":0},{"$f":"SUMIFS('Plan unos i pregled'!$I$7:$I$788,'Plan unos i pregled'!$B$7:$B$788,'PLAN Rekapitulacija'!$N$7,'Plan unos i pregled'!$M$7:$M$788,'PLAN Rekapitulacija'!$N$6, 'Plan unos i pregled'!$E$7:$E$788,'PLAN Rekapitulacija'!$B223, 'Plan unos i pregled'!$C$7:$C$788,'PLAN Rekapitulacija'!H$4, 'Plan unos i pregled'!$A$7:$A$788,$D$3)","v":0},{"$f":"SUMIFS('Plan unos i pregled'!$I$7:$I$788,'Plan unos i pregled'!$B$7:$B$788,'PLAN Rekapitulacija'!$N$7,'Plan unos i pregled'!$M$7:$M$788,'PLAN Rekapitulacija'!$N$6, 'Plan unos i pregled'!$E$7:$E$788,'PLAN Rekapitulacija'!$B223, 'Plan unos i pregled'!$C$7:$C$788,'PLAN Rekapitulacija'!I$4, 'Plan unos i pregled'!$A$7:$A$788,$D$3)","v":0},0,0]
["не","8.23","Израда решетке за атмосферску воду ширине 30 cm","m",6000,{"$f":"SUMIFS('Plan unos i pregled'!$I$7:$I$788,'Plan unos i pregled'!$B$7:$B$788,'PLAN Rekapitulacija'!$N$7,'Plan unos i pregled'!$M$7:$M$788,'PLAN Rekapitulacija'!$N$6, 'Plan unos i pregled'!$E$7:$E$788,'PLAN Rekapitulacija'!$B224, 'Plan unos i pregled'!$C$7:$C$788,'PLAN Rekapitulacija'!F$4, 'Plan unos i pregled'!$A$7:$A$788,$D$3)","v":0},{"$f":"SUMIFS('Plan unos i pregled'!$I$7:$I$788,'Plan unos i pregled'!$B$7:$B$788,'PLAN Rekapitulacija'!$N$7,'Plan unos i pregled'!$M$7:$M$788,'PLAN Rekapitulacija'!$N$6, 'Plan unos i pregled'!$E$7:$E$788,'PLAN Rekapitulacija'!$B224, 'Plan unos i pregled'!$C$7:$C$788,'PLAN Rekapitulacija'!G$4, 'Plan unos i pregled'!$A$7:$A$788,$D$3)","v":0},{"$f":"SUMIFS('Plan unos i pregled'!$I$7:$I$788,'Plan unos i pregled'!$B$7:$B$788,'PLAN Rekapitulacija'!$N$7,'Plan unos i pregled'!$M$7:$M$788,'PLAN Rekapitulacija'!$N$6, 'Plan unos i pregled'!$E$7:$E$788,'PLAN Rekapitulacija'!$B224, 'Plan unos i pregled'!$C$7:$C$788,'PLAN Rekapitulacija'!H$4, 'Plan unos i pregled'!$A$7:$A$788,$D$3)","v":0},{"$f":"SUMIFS('Plan unos i pregled'!$I$7:$I$788,'Plan unos i pregled'!$B$7:$B$788,'PLAN Rekapitulacija'!$N$7,'Plan unos i pregled'!$M$7:$M$788,'PLAN Rekapitulacija'!$N$6, 'Plan unos i pregled'!$E$7:$E$788,'PLAN Rekapitulacija'!$B224, 'Plan unos i pregled'!$C$7:$C$788,'PLAN Rekapitulacija'!I$4, 'Plan unos i pregled'!$A$7:$A$788,$D$3)","v":0},0,0]
["не","8.24","Бетонирање потпорних зидова у оплати","m3",11096.92,{"$f":"SUMIFS('Plan unos i pregled'!$I$7:$I$788,'Plan unos i pregled'!$B$7:$B$788,'PLAN Rekapitulacija'!$N$7,'Plan unos i pregled'!$M$7:$M$788,'PLAN Rekapitulacija'!$N$6, 'Plan unos i pregled'!$E$7:$E$788,'PLAN Rekapitulacija'!$B225, 'Plan unos i pregled'!$C$7:$C$788,'PLAN Rekapitulacija'!F$4, 'Plan unos i pregled'!$A$7:$A$788,$D$3)","v":0},{"$f":"SUMIFS('Plan unos i pregled'!$I$7:$I$788,'Plan unos i pregled'!$B$7:$B$788,'PLAN Rekapitulacija'!$N$7,'Plan unos i pregled'!$M$7:$M$788,'PLAN Rekapitulacija'!$N$6, 'Plan unos i pregled'!$E$7:$E$788,'PLAN Rekapitulacija'!$B225, 'Plan unos i pregled'!$C$7:$C$788,'PLAN Rekapitulacija'!G$4, 'Plan unos i pregled'!$A$7:$A$788,$D$3)","v":0},{"$f":"SUMIFS('Plan unos i pregled'!$I$7:$I$788,'Plan unos i pregled'!$B$7:$B$788,'PLAN Rekapitulacija'!$N$7,'Plan unos i pregled'!$M$7:$M$788,'PLAN Rekapitulacija'!$N$6, 'Plan unos i pregled'!$E$7:$E$788,'PLAN Rekapitulacija'!$B225, 'Plan unos i pregled'!$C$7:$C$788,'PLAN Rekapitulacija'!H$4, 'Plan unos i pregled'!$A$7:$A$788,$D$3)","v":0},{"$f":"SUMIFS('Plan unos i pregled'!$I$7:$I$788,'Plan unos i pregled'!$B$7:$B$788,'PLAN Rekapitulacija'!$N$7,'Plan unos i pregled'!$M$7:$M$788,'PLAN Rekapitulacija'!$N$6, 'Plan unos i pregled'!$E$7:$E$788,'PLAN Rekapitulacija'!$B225, 'Plan unos i pregled'!$C$7:$C$788,'PLAN Rekapitulacija'!I$4, 'Plan unos i pregled'!$A$7:$A$788,$D$3)","v":0},0,0]
[{"$f":"IF(OR(J226:K226),\"штампа\",\"не\")","v":"не"},"8.25","Армирање потпорних зидова, само рад","kg",18,{"$f":"SUMIFS('Plan unos i pregled'!$I$7:$I$788,'Plan unos i pregled'!$B$7:$B$788,'PLAN Rekapitulacija'!$N$7,'Plan unos i pregled'!$M$7:$M$788,'PLAN Rekapitulacija'!$N$6, 'Plan unos i pregled'!$E$7:$E$788,'PLAN Rekapitulacija'!$B226, 'Plan unos i pregled'!$C$7:$C$788,'PLAN Rekapitulacija'!F$4, 'Plan unos i pregled'!$A$7:$A$788,$D$3)","v":0},{"$f":"SUMIFS('Plan unos i pregled'!$I$7:$I$788,'Plan unos i pregled'!$B$7:$B$788,'PLAN Rekapitulacija'!$N$7,'Plan unos i pregled'!$M$7:$M$788,'PLAN Rekapitulacija'!$N$6, 'Plan unos i pregled'!$E$7:$E$788,'PLAN Rekapitulacija'!$B226, 'Plan unos i pregled'!$C$7:$C$788,'PLAN Rekapitulacija'!G$4, 'Plan unos i pregled'!$A$7:$A$788,$D$3)","v":0},{"$f":"SUMIFS('Plan unos i pregled'!$I$7:$I$788,'Plan unos i pregled'!$B$7:$B$788,'PLAN Rekapitulacija'!$N$7,'Plan unos i pregled'!$M$7:$M$788,'PLAN Rekapitulacija'!$N$6, 'Plan unos i pregled'!$E$7:$E$788,'PLAN Rekapitulacija'!$B226, 'Plan unos i pregled'!$C$7:$C$788,'PLAN Rekapitulacija'!H$4, 'Plan unos i pregled'!$A$7:$A$788,$D$3)","v":0},{"$f":"SUMIFS('Plan unos i pregled'!$I$7:$I$788,'Plan unos i pregled'!$B$7:$B$788,'PLAN Rekapitulacija'!$N$7,'Plan unos i pregled'!$M$7:$M$788,'PLAN Rekapitulacija'!$N$6, 'Plan unos i pregled'!$E$7:$E$788,'PLAN Rekapitulacija'!$B226, 'Plan unos i pregled'!$C$7:$C$788,'PLAN Rekapitulacija'!I$4, 'Plan unos i pregled'!$A$7:$A$788,$D$3)","v":0},0,0]
["не","8.26","Израда и монтажа металне ограде на мостовима са свим нормираним радњама","m2",4200,{"$f":"SUMIFS('Plan unos i pregled'!$I$7:$I$788,'Plan unos i pregled'!$B$7:$B$788,'PLAN Rekapitulacija'!$N$7,'Plan unos i pregled'!$M$7:$M$788,'PLAN Rekapitulacija'!$N$6, 'Plan unos i pregled'!$E$7:$E$788,'PLAN Rekapitulacija'!$B227, 'Plan unos i pregled'!$C$7:$C$788,'PLAN Rekapitulacija'!F$4, 'Plan unos i pregled'!$A$7:$A$788,$D$3)","v":0},{"$f":"SUMIFS('Plan unos i pregled'!$I$7:$I$788,'Plan unos i pregled'!$B$7:$B$788,'PLAN Rekapitulacija'!$N$7,'Plan unos i pregled'!$M$7:$M$788,'PLAN Rekapitulacija'!$N$6, 'Plan unos i pregled'!$E$7:$E$788,'PLAN Rekapitulacija'!$B227, 'Plan unos i pregled'!$C$7:$C$788,'PLAN Rekapitulacija'!G$4, 'Plan unos i pregled'!$A$7:$A$788,$D$3)","v":0},{"$f":"SUMIFS('Plan unos i pregled'!$I$7:$I$788,'Plan unos i pregled'!$B$7:$B$788,'PLAN Rekapitulacija'!$N$7,'Plan unos i pregled'!$M$7:$M$788,'PLAN Rekapitulacija'!$N$6, 'Plan unos i pregled'!$E$7:$E$788,'PLAN Rekapitulacija'!$B227, 'Plan unos i pregled'!$C$7:$C$788,'PLAN Rekapitulacija'!H$4, 'Plan unos i pregled'!$A$7:$A$788,$D$3)","v":0},{"$f":"SUMIFS('Plan unos i pregled'!$I$7:$I$788,'Plan unos i pregled'!$B$7:$B$788,'PLAN Rekapitulacija'!$N$7,'Plan unos i pregled'!$M$7:$M$788,'PLAN Rekapitulacija'!$N$6, 'Plan unos i pregled'!$E$7:$E$788,'PLAN Rekapitulacija'!$B227, 'Plan unos i pregled'!$C$7:$C$788,'PLAN Rekapitulacija'!I$4, 'Plan unos i pregled'!$A$7:$A$788,$D$3)","v":0},0,0]
["не","8.27","Фарбање металне ограде на мосту са материјалом","m2",960,{"$f":"SUMIFS('Plan unos i pregled'!$I$7:$I$788,'Plan unos i pregled'!$B$7:$B$788,'PLAN Rekapitulacija'!$N$7,'Plan unos i pregled'!$M$7:$M$788,'PLAN Rekapitulacija'!$N$6, 'Plan unos i pregled'!$E$7:$E$788,'PLAN Rekapitulacija'!$B228, 'Plan unos i pregled'!$C$7:$C$788,'PLAN Rekapitulacija'!F$4, 'Plan unos i pregled'!$A$7:$A$788,$D$3)","v":0},{"$f":"SUMIFS('Plan unos i pregled'!$I$7:$I$788,'Plan unos i pregled'!$B$7:$B$788,'PLAN Rekapitulacija'!$N$7,'Plan unos i pregled'!$M$7:$M$788,'PLAN Rekapitulacija'!$N$6, 'Plan unos i pregled'!$E$7:$E$788,'PLAN Rekapitulacija'!$B228, 'Plan unos i pregled'!$C$7:$C$788,'PLAN Rekapitulacija'!G$4, 'Plan unos i pregled'!$A$7:$A$788,$D$3)","v":0},{"$f":"SUMIFS('Plan unos i pregled'!$I$7:$I$788,'Plan unos i pregled'!$B$7:$B$788,'PLAN Rekapitulacija'!$N$7,'Plan unos i pregled'!$M$7:$M$788,'PLAN Rekapitulacija'!$N$6, 'Plan unos i pregled'!$E$7:$E$788,'PLAN Rekapitulacija'!$B228, 'Plan unos i pregled'!$C$7:$C$788,'PLAN Rekapitulacija'!H$4, 'Plan unos i pregled'!$A$7:$A$788,$D$3)","v":0},{"$f":"SUMIFS('Plan unos i pregled'!$I$7:$I$788,'Plan unos i pregled'!$B$7:$B$788,'PLAN Rekapitulacija'!$N$7,'Plan unos i pregled'!$M$7:$M$788,'PLAN Rekapitulacija'!$N$6, 'Plan unos i pregled'!$E$7:$E$788,'PLAN Rekapitulacija'!$B228, 'Plan unos i pregled'!$C$7:$C$788,'PLAN Rekapitulacija'!I$4, 'Plan unos i pregled'!$A$7:$A$788,$D$3)","v":0},0,0]
[{"$f":"IF(OR(J229:K231),\"штампа\",\"не\")","v":"не"},"8.28","Ручно уграђивање бетона малих пресека на m2 или m конструкције са квашењем бетона и превозом бетона аутомешалицом на 30km",null,0]
[{"$f":"IF(OR(J230:K230),\"штампа\",\"не\")","v":"не"},"8.28.1","Неармине конструкције","m3",5524.17,{"$f":"SUMIFS('Plan unos i pregled'!$I$7:$I$788,'Plan unos i pregled'!$B$7:$B$788,'PLAN Rekapitulacija'!$N$7,'Plan unos i pregled'!$M$7:$M$788,'PLAN Rekapitulacija'!$N$6, 'Plan unos i pregled'!$E$7:$E$788,'PLAN Rekapitulacija'!$B230, 'Plan unos i pregled'!$C$7:$C$788,'PLAN Rekapitulacija'!F$4, 'Plan unos i pregled'!$A$7:$A$788,$D$3)","v":0},{"$f":"SUMIFS('Plan unos i pregled'!$I$7:$I$788,'Plan unos i pregled'!$B$7:$B$788,'PLAN Rekapitulacija'!$N$7,'Plan unos i pregled'!$M$7:$M$788,'PLAN Rekapitulacija'!$N$6, 'Plan unos i pregled'!$E$7:$E$788,'PLAN Rekapitulacija'!$B230, 'Plan unos i pregled'!$C$7:$C$788,'PLAN Rekapitulacija'!G$4, 'Plan unos i pregled'!$A$7:$A$788,$D$3)","v":0},{"$f":"SUMIFS('Plan unos i pregled'!$I$7:$I$788,'Plan unos i pregled'!$B$7:$B$788,'PLAN Rekapitulacija'!$N$7,'Plan unos i pregled'!$M$7:$M$788,'PLAN Rekapitulacija'!$N$6, 'Plan unos i pregled'!$E$7:$E$788,'PLAN Rekapitulacija'!$B230, 'Plan unos i pregled'!$C$7:$C$788,'PLAN Rekapitulacija'!H$4, 'Plan unos i pregled'!$A$7:$A$788,$D$3)","v":0},{"$f":"SUMIFS('Plan unos i pregled'!$I$7:$I$788,'Plan unos i pregled'!$B$7:$B$788,'PLAN Rekapitulacija'!$N$7,'Plan unos i pregled'!$M$7:$M$788,'PLAN Rekapitulacija'!$N$6, 'Plan unos i pregled'!$E$7:$E$788,'PLAN Rekapitulacija'!$B230, 'Plan unos i pregled'!$C$7:$C$788,'PLAN Rekapitulacija'!I$4, 'Plan unos i pregled'!$A$7:$A$788,$D$3)","v":0},{"$f":"SUM(F230:I230)","v":0},{"$f":"ROUND(E230*J230,2)","v":0}]
["не","8.28.2","Армиране конструкције","m3",5702.82,{"$f":"SUMIFS('Plan unos i pregled'!$I$7:$I$788,'Plan unos i pregled'!$B$7:$B$788,'PLAN Rekapitulacija'!$N$7,'Plan unos i pregled'!$M$7:$M$788,'PLAN Rekapitulacija'!$N$6, 'Plan unos i pregled'!$E$7:$E$788,'PLAN Rekapitulacija'!$B231, 'Plan unos i pregled'!$C$7:$C$788,'PLAN Rekapitulacija'!F$4, 'Plan unos i pregled'!$A$7:$A$788,$D$3)","v":0},{"$f":"SUMIFS('Plan unos i pregled'!$I$7:$I$788,'Plan unos i pregled'!$B$7:$B$788,'PLAN Rekapitulacija'!$N$7,'Plan unos i pregled'!$M$7:$M$788,'PLAN Rekapitulacija'!$N$6, 'Plan unos i pregled'!$E$7:$E$788,'PLAN Rekapitulacija'!$B231, 'Plan unos i pregled'!$C$7:$C$788,'PLAN Rekapitulacija'!G$4, 'Plan unos i pregled'!$A$7:$A$788,$D$3)","v":0},{"$f":"SUMIFS('Plan unos i pregled'!$I$7:$I$788,'Plan unos i pregled'!$B$7:$B$788,'PLAN Rekapitulacija'!$N$7,'Plan unos i pregled'!$M$7:$M$788,'PLAN Rekapitulacija'!$N$6, 'Plan unos i pregled'!$E$7:$E$788,'PLAN Rekapitulacija'!$B231, 'Plan unos i pregled'!$C$7:$C$788,'PLAN Rekapitulacija'!H$4, 'Plan unos i pregled'!$A$7:$A$788,$D$3)","v":0},{"$f":"SUMIFS('Plan unos i pregled'!$I$7:$I$788,'Plan unos i pregled'!$B$7:$B$788,'PLAN Rekapitulacija'!$N$7,'Plan unos i pregled'!$M$7:$M$788,'PLAN Rekapitulacija'!$N$6, 'Plan unos i pregled'!$E$7:$E$788,'PLAN Rekapitulacija'!$B231, 'Plan unos i pregled'!$C$7:$C$788,'PLAN Rekapitulacija'!I$4, 'Plan unos i pregled'!$A$7:$A$788,$D$3)","v":0},0,0]
["штампа","8.29","Набавка дробљеног кречњачког каменог агрегата фракције 0-31,5 mm ","t",645,{"$f":"SUMIFS('Plan unos i pregled'!$I$7:$I$788,'Plan unos i pregled'!$B$7:$B$788,'PLAN Rekapitulacija'!$N$7,'Plan unos i pregled'!$M$7:$M$788,'PLAN Rekapitulacija'!$N$6, 'Plan unos i pregled'!$E$7:$E$788,'PLAN Rekapitulacija'!$B232, 'Plan unos i pregled'!$C$7:$C$788,'PLAN Rekapitulacija'!F$4, 'Plan unos i pregled'!$A$7:$A$788,$D$3)","v":0},{"$f":"SUMIFS('Plan unos i pregled'!$I$7:$I$788,'Plan unos i pregled'!$B$7:$B$788,'PLAN Rekapitulacija'!$N$7,'Plan unos i pregled'!$M$7:$M$788,'PLAN Rekapitulacija'!$N$6, 'Plan unos i pregled'!$E$7:$E$788,'PLAN Rekapitulacija'!$B232, 'Plan unos i pregled'!$C$7:$C$788,'PLAN Rekapitulacija'!G$4, 'Plan unos i pregled'!$A$7:$A$788,$D$3)","v":25.56},{"$f":"SUMIFS('Plan unos i pregled'!$I$7:$I$788,'Plan unos i pregled'!$B$7:$B$788,'PLAN Rekapitulacija'!$N$7,'Plan unos i pregled'!$M$7:$M$788,'PLAN Rekapitulacija'!$N$6, 'Plan unos i pregled'!$E$7:$E$788,'PLAN Rekapitulacija'!$B232, 'Plan unos i pregled'!$C$7:$C$788,'PLAN Rekapitulacija'!H$4, 'Plan unos i pregled'!$A$7:$A$788,$D$3)","v":0},{"$f":"SUMIFS('Plan unos i pregled'!$I$7:$I$788,'Plan unos i pregled'!$B$7:$B$788,'PLAN Rekapitulacija'!$N$7,'Plan unos i pregled'!$M$7:$M$788,'PLAN Rekapitulacija'!$N$6, 'Plan unos i pregled'!$E$7:$E$788,'PLAN Rekapitulacija'!$B232, 'Plan unos i pregled'!$C$7:$C$788,'PLAN Rekapitulacija'!I$4, 'Plan unos i pregled'!$A$7:$A$788,$D$3)","v":0},25.56,16486.2]
["не","8.30","Набавка дробљеног кречњачког каменог агрегата фракције 2 - 4 mm ","t",827,{"$f":"SUMIFS('Plan unos i pregled'!$I$7:$I$788,'Plan unos i pregled'!$B$7:$B$788,'PLAN Rekapitulacija'!$N$7,'Plan unos i pregled'!$M$7:$M$788,'PLAN Rekapitulacija'!$N$6, 'Plan unos i pregled'!$E$7:$E$788,'PLAN Rekapitulacija'!$B233, 'Plan unos i pregled'!$C$7:$C$788,'PLAN Rekapitulacija'!F$4, 'Plan unos i pregled'!$A$7:$A$788,$D$3)","v":0},{"$f":"SUMIFS('Plan unos i pregled'!$I$7:$I$788,'Plan unos i pregled'!$B$7:$B$788,'PLAN Rekapitulacija'!$N$7,'Plan unos i pregled'!$M$7:$M$788,'PLAN Rekapitulacija'!$N$6, 'Plan unos i pregled'!$E$7:$E$788,'PLAN Rekapitulacija'!$B233, 'Plan unos i pregled'!$C$7:$C$788,'PLAN Rekapitulacija'!G$4, 'Plan unos i pregled'!$A$7:$A$788,$D$3)","v":0},{"$f":"SUMIFS('Plan unos i pregled'!$I$7:$I$788,'Plan unos i pregled'!$B$7:$B$788,'PLAN Rekapitulacija'!$N$7,'Plan unos i pregled'!$M$7:$M$788,'PLAN Rekapitulacija'!$N$6, 'Plan unos i pregled'!$E$7:$E$788,'PLAN Rekapitulacija'!$B233, 'Plan unos i pregled'!$C$7:$C$788,'PLAN Rekapitulacija'!H$4, 'Plan unos i pregled'!$A$7:$A$788,$D$3)","v":0},{"$f":"SUMIFS('Plan unos i pregled'!$I$7:$I$788,'Plan unos i pregled'!$B$7:$B$788,'PLAN Rekapitulacija'!$N$7,'Plan unos i pregled'!$M$7:$M$788,'PLAN Rekapitulacija'!$N$6, 'Plan unos i pregled'!$E$7:$E$788,'PLAN Rekapitulacija'!$B233, 'Plan unos i pregled'!$C$7:$C$788,'PLAN Rekapitulacija'!I$4, 'Plan unos i pregled'!$A$7:$A$788,$D$3)","v":0},0,0]
["штампа",null,"УКУПНО:",null,null,{"$f":"SUMPRODUCT($E$183:$E$233,F183:F233)","v":0},{"$f":"SUMPRODUCT($E$183:$E$233,G183:G233)","v":16486.2},{"$f":"SUMPRODUCT($E$183:$E$233,H183:H233)","v":0},{"$f":"SUMPRODUCT($E$183:$E$233,I183:I233)","v":0},null,{"$f":"SUM(K182:K233)","v":16486.2}]
[{"$f":"IF(OR(J257:K257),\"штампа\",\"не\")","v":"не"},"9","Превоз асфалта, тампона, туцаника и осталог грађевинског материјала"]
[{"$f":"IF(OR(J236:K250),\"штампа\",\"не\")","v":"не"},"9.1","Камион носивости од 8 - 25 тона ",null,0]
["не","9.1.1","до 3 km","t",288.36,{"$f":"SUMIFS('Plan unos i pregled'!$I$7:$I$788,'Plan unos i pregled'!$B$7:$B$788,'PLAN Rekapitulacija'!$N$7,'Plan unos i pregled'!$M$7:$M$788,'PLAN Rekapitulacija'!$N$6, 'Plan unos i pregled'!$E$7:$E$788,'PLAN Rekapitulacija'!$B237, 'Plan unos i pregled'!$C$7:$C$788,'PLAN Rekapitulacija'!F$4, 'Plan unos i pregled'!$A$7:$A$788,$D$3)","v":0},{"$f":"SUMIFS('Plan unos i pregled'!$I$7:$I$788,'Plan unos i pregled'!$B$7:$B$788,'PLAN Rekapitulacija'!$N$7,'Plan unos i pregled'!$M$7:$M$788,'PLAN Rekapitulacija'!$N$6, 'Plan unos i pregled'!$E$7:$E$788,'PLAN Rekapitulacija'!$B237, 'Plan unos i pregled'!$C$7:$C$788,'PLAN Rekapitulacija'!G$4, 'Plan unos i pregled'!$A$7:$A$788,$D$3)","v":0},{"$f":"SUMIFS('Plan unos i pregled'!$I$7:$I$788,'Plan unos i pregled'!$B$7:$B$788,'PLAN Rekapitulacija'!$N$7,'Plan unos i pregled'!$M$7:$M$788,'PLAN Rekapitulacija'!$N$6, 'Plan unos i pregled'!$E$7:$E$788,'PLAN Rekapitulacija'!$B237, 'Plan unos i pregled'!$C$7:$C$788,'PLAN Rekapitulacija'!H$4, 'Plan unos i pregled'!$A$7:$A$788,$D$3)","v":0},{"$f":"SUMIFS('Plan unos i pregled'!$I$7:$I$788,'Plan unos i pregled'!$B$7:$B$788,'PLAN Rekapitulacija'!$N$7,'Plan unos i pregled'!$M$7:$M$788,'PLAN Rekapitulacija'!$N$6, 'Plan unos i pregled'!$E$7:$E$788,'PLAN Rekapitulacija'!$B237, 'Plan unos i pregled'!$C$7:$C$788,'PLAN Rekapitulacija'!I$4, 'Plan unos i pregled'!$A$7:$A$788,$D$3)","v":0},{"$f":"SUM(F237:I237)","v":0},{"$f":"ROUND(E237*J237,2)","v":0}]
["не","9.1.2","3-10 km","t",360.26,{"$f":"SUMIFS('Plan unos i pregled'!$I$7:$I$788,'Plan unos i pregled'!$B$7:$B$788,'PLAN Rekapitulacija'!$N$7,'Plan unos i pregled'!$M$7:$M$788,'PLAN Rekapitulacija'!$N$6, 'Plan unos i pregled'!$E$7:$E$788,'PLAN Rekapitulacija'!$B238, 'Plan unos i pregled'!$C$7:$C$788,'PLAN Rekapitulacija'!F$4, 'Plan unos i pregled'!$A$7:$A$788,$D$3)","v":0},{"$f":"SUMIFS('Plan unos i pregled'!$I$7:$I$788,'Plan unos i pregled'!$B$7:$B$788,'PLAN Rekapitulacija'!$N$7,'Plan unos i pregled'!$M$7:$M$788,'PLAN Rekapitulacija'!$N$6, 'Plan unos i pregled'!$E$7:$E$788,'PLAN Rekapitulacija'!$B238, 'Plan unos i pregled'!$C$7:$C$788,'PLAN Rekapitulacija'!G$4, 'Plan unos i pregled'!$A$7:$A$788,$D$3)","v":0},{"$f":"SUMIFS('Plan unos i pregled'!$I$7:$I$788,'Plan unos i pregled'!$B$7:$B$788,'PLAN Rekapitulacija'!$N$7,'Plan unos i pregled'!$M$7:$M$788,'PLAN Rekapitulacija'!$N$6, 'Plan unos i pregled'!$E$7:$E$788,'PLAN Rekapitulacija'!$B238, 'Plan unos i pregled'!$C$7:$C$788,'PLAN Rekapitulacija'!H$4, 'Plan unos i pregled'!$A$7:$A$788,$D$3)","v":0},{"$f":"SUMIFS('Plan unos i pregled'!$I$7:$I$788,'Plan unos i pregled'!$B$7:$B$788,'PLAN Rekapitulacija'!$N$7,'Plan unos i pregled'!$M$7:$M$788,'PLAN Rekapitulacija'!$N$6, 'Plan unos i pregled'!$E$7:$E$788,'PLAN Rekapitulacija'!$B238, 'Plan unos i pregled'!$C$7:$C$788,'PLAN Rekapitulacija'!I$4, 'Plan unos i pregled'!$A$7:$A$788,$D$3)","v":0},0,0]
["не","9.1.3","10-15 km","t",416.4,{"$f":"SUMIFS('Plan unos i pregled'!$I$7:$I$788,'Plan unos i pregled'!$B$7:$B$788,'PLAN Rekapitulacija'!$N$7,'Plan unos i pregled'!$M$7:$M$788,'PLAN Rekapitulacija'!$N$6, 'Plan unos i pregled'!$E$7:$E$788,'PLAN Rekapitulacija'!$B239, 'Plan unos i pregled'!$C$7:$C$788,'PLAN Rekapitulacija'!F$4, 'Plan unos i pregled'!$A$7:$A$788,$D$3)","v":0},{"$f":"SUMIFS('Plan unos i pregled'!$I$7:$I$788,'Plan unos i pregled'!$B$7:$B$788,'PLAN Rekapitulacija'!$N$7,'Plan unos i pregled'!$M$7:$M$788,'PLAN Rekapitulacija'!$N$6, 'Plan unos i pregled'!$E$7:$E$788,'PLAN Rekapitulacija'!$B239, 'Plan unos i pregled'!$C$7:$C$788,'PLAN Rekapitulacija'!G$4, 'Plan unos i pregled'!$A$7:$A$788,$D$3)","v":0},{"$f":"SUMIFS('Plan unos i pregled'!$I$7:$I$788,'Plan unos i pregled'!$B$7:$B$788,'PLAN Rekapitulacija'!$N$7,'Plan unos i pregled'!$M$7:$M$788,'PLAN Rekapitulacija'!$N$6, 'Plan unos i pregled'!$E$7:$E$788,'PLAN Rekapitulacija'!$B239, 'Plan unos i pregled'!$C$7:$C$788,'PLAN Rekapitulacija'!H$4, 'Plan unos i pregled'!$A$7:$A$788,$D$3)","v":0},{"$f":"SUMIFS('Plan unos i pregled'!$I$7:$I$788,'Plan unos i pregled'!$B$7:$B$788,'PLAN Rekapitulacija'!$N$7,'Plan unos i pregled'!$M$7:$M$788,'PLAN Rekapitulacija'!$N$6, 'Plan unos i pregled'!$E$7:$E$788,'PLAN Rekapitulacija'!$B239, 'Plan unos i pregled'!$C$7:$C$788,'PLAN Rekapitulacija'!I$4, 'Plan unos i pregled'!$A$7:$A$788,$D$3)","v":0},0,0]
["не","9.1.4","15-20 km","t",461.52,{"$f":"SUMIFS('Plan unos i pregled'!$I$7:$I$788,'Plan unos i pregled'!$B$7:$B$788,'PLAN Rekapitulacija'!$N$7,'Plan unos i pregled'!$M$7:$M$788,'PLAN Rekapitulacija'!$N$6, 'Plan unos i pregled'!$E$7:$E$788,'PLAN Rekapitulacija'!$B240, 'Plan unos i pregled'!$C$7:$C$788,'PLAN Rekapitulacija'!F$4, 'Plan unos i pregled'!$A$7:$A$788,$D$3)","v":0},{"$f":"SUMIFS('Plan unos i pregled'!$I$7:$I$788,'Plan unos i pregled'!$B$7:$B$788,'PLAN Rekapitulacija'!$N$7,'Plan unos i pregled'!$M$7:$M$788,'PLAN Rekapitulacija'!$N$6, 'Plan unos i pregled'!$E$7:$E$788,'PLAN Rekapitulacija'!$B240, 'Plan unos i pregled'!$C$7:$C$788,'PLAN Rekapitulacija'!G$4, 'Plan unos i pregled'!$A$7:$A$788,$D$3)","v":0},{"$f":"SUMIFS('Plan unos i pregled'!$I$7:$I$788,'Plan unos i pregled'!$B$7:$B$788,'PLAN Rekapitulacija'!$N$7,'Plan unos i pregled'!$M$7:$M$788,'PLAN Rekapitulacija'!$N$6, 'Plan unos i pregled'!$E$7:$E$788,'PLAN Rekapitulacija'!$B240, 'Plan unos i pregled'!$C$7:$C$788,'PLAN Rekapitulacija'!H$4, 'Plan unos i pregled'!$A$7:$A$788,$D$3)","v":0},{"$f":"SUMIFS('Plan unos i pregled'!$I$7:$I$788,'Plan unos i pregled'!$B$7:$B$788,'PLAN Rekapitulacija'!$N$7,'Plan unos i pregled'!$M$7:$M$788,'PLAN Rekapitulacija'!$N$6, 'Plan unos i pregled'!$E$7:$E$788,'PLAN Rekapitulacija'!$B240, 'Plan unos i pregled'!$C$7:$C$788,'PLAN Rekapitulacija'!I$4, 'Plan unos i pregled'!$A$7:$A$788,$D$3)","v":0},0,0]
["не","9.1.5","20-25 km","t",474,{"$f":"SUMIFS('Plan unos i pregled'!$I$7:$I$788,'Plan unos i pregled'!$B$7:$B$788,'PLAN Rekapitulacija'!$N$7,'Plan unos i pregled'!$M$7:$M$788,'PLAN Rekapitulacija'!$N$6, 'Plan unos i pregled'!$E$7:$E$788,'PLAN Rekapitulacija'!$B241, 'Plan unos i pregled'!$C$7:$C$788,'PLAN Rekapitulacija'!F$4, 'Plan unos i pregled'!$A$7:$A$788,$D$3)","v":0},{"$f":"SUMIFS('Plan unos i pregled'!$I$7:$I$788,'Plan unos i pregled'!$B$7:$B$788,'PLAN Rekapitulacija'!$N$7,'Plan unos i pregled'!$M$7:$M$788,'PLAN Rekapitulacija'!$N$6, 'Plan unos i pregled'!$E$7:$E$788,'PLAN Rekapitulacija'!$B241, 'Plan unos i pregled'!$C$7:$C$788,'PLAN Rekapitulacija'!G$4, 'Plan unos i pregled'!$A$7:$A$788,$D$3)","v":0},{"$f":"SUMIFS('Plan unos i pregled'!$I$7:$I$788,'Plan unos i pregled'!$B$7:$B$788,'PLAN Rekapitulacija'!$N$7,'Plan unos i pregled'!$M$7:$M$788,'PLAN Rekapitulacija'!$N$6, 'Plan unos i pregled'!$E$7:$E$788,'PLAN Rekapitulacija'!$B241, 'Plan unos i pregled'!$C$7:$C$788,'PLAN Rekapitulacija'!H$4, 'Plan unos i pregled'!$A$7:$A$788,$D$3)","v":0},{"$f":"SUMIFS('Plan unos i pregled'!$I$7:$I$788,'Plan unos i pregled'!$B$7:$B$788,'PLAN Rekapitulacija'!$N$7,'Plan unos i pregled'!$M$7:$M$788,'PLAN Rekapitulacija'!$N$6, 'Plan unos i pregled'!$E$7:$E$788,'PLAN Rekapitulacija'!$B241, 'Plan unos i pregled'!$C$7:$C$788,'PLAN Rekapitulacija'!I$4, 'Plan unos i pregled'!$A$7:$A$788,$D$3)","v":0},0,0]
["не","9.1.6","25-30 km","t",498.65,{"$f":"SUMIFS('Plan unos i pregled'!$I$7:$I$788,'Plan unos i pregled'!$B$7:$B$788,'PLAN Rekapitulacija'!$N$7,'Plan unos i pregled'!$M$7:$M$788,'PLAN Rekapitulacija'!$N$6, 'Plan unos i pregled'!$E$7:$E$788,'PLAN Rekapitulacija'!$B242, 'Plan unos i pregled'!$C$7:$C$788,'PLAN Rekapitulacija'!F$4, 'Plan unos i pregled'!$A$7:$A$788,$D$3)","v":0},{"$f":"SUMIFS('Plan unos i pregled'!$I$7:$I$788,'Plan unos i pregled'!$B$7:$B$788,'PLAN Rekapitulacija'!$N$7,'Plan unos i pregled'!$M$7:$M$788,'PLAN Rekapitulacija'!$N$6, 'Plan unos i pregled'!$E$7:$E$788,'PLAN Rekapitulacija'!$B242, 'Plan unos i pregled'!$C$7:$C$788,'PLAN Rekapitulacija'!G$4, 'Plan unos i pregled'!$A$7:$A$788,$D$3)","v":0},{"$f":"SUMIFS('Plan unos i pregled'!$I$7:$I$788,'Plan unos i pregled'!$B$7:$B$788,'PLAN Rekapitulacija'!$N$7,'Plan unos i pregled'!$M$7:$M$788,'PLAN Rekapitulacija'!$N$6, 'Plan unos i pregled'!$E$7:$E$788,'PLAN Rekapitulacija'!$B242, 'Plan unos i pregled'!$C$7:$C$788,'PLAN Rekapitulacija'!H$4, 'Plan unos i pregled'!$A$7:$A$788,$D$3)","v":0},{"$f":"SUMIFS('Plan unos i pregled'!$I$7:$I$788,'Plan unos i pregled'!$B$7:$B$788,'PLAN Rekapitulacija'!$N$7,'Plan unos i pregled'!$M$7:$M$788,'PLAN Rekapitulacija'!$N$6, 'Plan unos i pregled'!$E$7:$E$788,'PLAN Rekapitulacija'!$B242, 'Plan unos i pregled'!$C$7:$C$788,'PLAN Rekapitulacija'!I$4, 'Plan unos i pregled'!$A$7:$A$788,$D$3)","v":0},0,0]
["не","9.1.7","30-40 km","t",719.21,{"$f":"SUMIFS('Plan unos i pregled'!$I$7:$I$788,'Plan unos i pregled'!$B$7:$B$788,'PLAN Rekapitulacija'!$N$7,'Plan unos i pregled'!$M$7:$M$788,'PLAN Rekapitulacija'!$N$6, 'Plan unos i pregled'!$E$7:$E$788,'PLAN Rekapitulacija'!$B243, 'Plan unos i pregled'!$C$7:$C$788,'PLAN Rekapitulacija'!F$4, 'Plan unos i pregled'!$A$7:$A$788,$D$3)","v":0},{"$f":"SUMIFS('Plan unos i pregled'!$I$7:$I$788,'Plan unos i pregled'!$B$7:$B$788,'PLAN Rekapitulacija'!$N$7,'Plan unos i pregled'!$M$7:$M$788,'PLAN Rekapitulacija'!$N$6, 'Plan unos i pregled'!$E$7:$E$788,'PLAN Rekapitulacija'!$B243, 'Plan unos i pregled'!$C$7:$C$788,'PLAN Rekapitulacija'!G$4, 'Plan unos i pregled'!$A$7:$A$788,$D$3)","v":0},{"$f":"SUMIFS('Plan unos i pregled'!$I$7:$I$788,'Plan unos i pregled'!$B$7:$B$788,'PLAN Rekapitulacija'!$N$7,'Plan unos i pregled'!$M$7:$M$788,'PLAN Rekapitulacija'!$N$6, 'Plan unos i pregled'!$E$7:$E$788,'PLAN Rekapitulacija'!$B243, 'Plan unos i pregled'!$C$7:$C$788,'PLAN Rekapitulacija'!H$4, 'Plan unos i pregled'!$A$7:$A$788,$D$3)","v":0},{"$f":"SUMIFS('Plan unos i pregled'!$I$7:$I$788,'Plan unos i pregled'!$B$7:$B$788,'PLAN Rekapitulacija'!$N$7,'Plan unos i pregled'!$M$7:$M$788,'PLAN Rekapitulacija'!$N$6, 'Plan unos i pregled'!$E$7:$E$788,'PLAN Rekapitulacija'!$B243, 'Plan unos i pregled'!$C$7:$C$788,'PLAN Rekapitulacija'!I$4, 'Plan unos i pregled'!$A$7:$A$788,$D$3)","v":0},0,0]
["не","9.1.8","40-45 km","t",792.74,{"$f":"SUMIFS('Plan unos i pregled'!$I$7:$I$788,'Plan unos i pregled'!$B$7:$B$788,'PLAN Rekapitulacija'!$N$7,'Plan unos i pregled'!$M$7:$M$788,'PLAN Rekapitulacija'!$N$6, 'Plan unos i pregled'!$E$7:$E$788,'PLAN Rekapitulacija'!$B244, 'Plan unos i pregled'!$C$7:$C$788,'PLAN Rekapitulacija'!F$4, 'Plan unos i pregled'!$A$7:$A$788,$D$3)","v":0},{"$f":"SUMIFS('Plan unos i pregled'!$I$7:$I$788,'Plan unos i pregled'!$B$7:$B$788,'PLAN Rekapitulacija'!$N$7,'Plan unos i pregled'!$M$7:$M$788,'PLAN Rekapitulacija'!$N$6, 'Plan unos i pregled'!$E$7:$E$788,'PLAN Rekapitulacija'!$B244, 'Plan unos i pregled'!$C$7:$C$788,'PLAN Rekapitulacija'!G$4, 'Plan unos i pregled'!$A$7:$A$788,$D$3)","v":0},{"$f":"SUMIFS('Plan unos i pregled'!$I$7:$I$788,'Plan unos i pregled'!$B$7:$B$788,'PLAN Rekapitulacija'!$N$7,'Plan unos i pregled'!$M$7:$M$788,'PLAN Rekapitulacija'!$N$6, 'Plan unos i pregled'!$E$7:$E$788,'PLAN Rekapitulacija'!$B244, 'Plan unos i pregled'!$C$7:$C$788,'PLAN Rekapitulacija'!H$4, 'Plan unos i pregled'!$A$7:$A$788,$D$3)","v":0},{"$f":"SUMIFS('Plan unos i pregled'!$I$7:$I$788,'Plan unos i pregled'!$B$7:$B$788,'PLAN Rekapitulacija'!$N$7,'Plan unos i pregled'!$M$7:$M$788,'PLAN Rekapitulacija'!$N$6, 'Plan unos i pregled'!$E$7:$E$788,'PLAN Rekapitulacija'!$B244, 'Plan unos i pregled'!$C$7:$C$788,'PLAN Rekapitulacija'!I$4, 'Plan unos i pregled'!$A$7:$A$788,$D$3)","v":0},0,0]
["не","9.1.9","45-50 km","t",866.28,{"$f":"SUMIFS('Plan unos i pregled'!$I$7:$I$788,'Plan unos i pregled'!$B$7:$B$788,'PLAN Rekapitulacija'!$N$7,'Plan unos i pregled'!$M$7:$M$788,'PLAN Rekapitulacija'!$N$6, 'Plan unos i pregled'!$E$7:$E$788,'PLAN Rekapitulacija'!$B245, 'Plan unos i pregled'!$C$7:$C$788,'PLAN Rekapitulacija'!F$4, 'Plan unos i pregled'!$A$7:$A$788,$D$3)","v":0},{"$f":"SUMIFS('Plan unos i pregled'!$I$7:$I$788,'Plan unos i pregled'!$B$7:$B$788,'PLAN Rekapitulacija'!$N$7,'Plan unos i pregled'!$M$7:$M$788,'PLAN Rekapitulacija'!$N$6, 'Plan unos i pregled'!$E$7:$E$788,'PLAN Rekapitulacija'!$B245, 'Plan unos i pregled'!$C$7:$C$788,'PLAN Rekapitulacija'!G$4, 'Plan unos i pregled'!$A$7:$A$788,$D$3)","v":0},{"$f":"SUMIFS('Plan unos i pregled'!$I$7:$I$788,'Plan unos i pregled'!$B$7:$B$788,'PLAN Rekapitulacija'!$N$7,'Plan unos i pregled'!$M$7:$M$788,'PLAN Rekapitulacija'!$N$6, 'Plan unos i pregled'!$E$7:$E$788,'PLAN Rekapitulacija'!$B245, 'Plan unos i pregled'!$C$7:$C$788,'PLAN Rekapitulacija'!H$4, 'Plan unos i pregled'!$A$7:$A$788,$D$3)","v":0},{"$f":"SUMIFS('Plan unos i pregled'!$I$7:$I$788,'Plan unos i pregled'!$B$7:$B$788,'PLAN Rekapitulacija'!$N$7,'Plan unos i pregled'!$M$7:$M$788,'PLAN Rekapitulacija'!$N$6, 'Plan unos i pregled'!$E$7:$E$788,'PLAN Rekapitulacija'!$B245, 'Plan unos i pregled'!$C$7:$C$788,'PLAN Rekapitulacija'!I$4, 'Plan unos i pregled'!$A$7:$A$788,$D$3)","v":0},0,0]
["не","9.1.10","50-55 km","t",939.8,{"$f":"SUMIFS('Plan unos i pregled'!$I$7:$I$788,'Plan unos i pregled'!$B$7:$B$788,'PLAN Rekapitulacija'!$N$7,'Plan unos i pregled'!$M$7:$M$788,'PLAN Rekapitulacija'!$N$6, 'Plan unos i pregled'!$E$7:$E$788,'PLAN Rekapitulacija'!$B246, 'Plan unos i pregled'!$C$7:$C$788,'PLAN Rekapitulacija'!F$4, 'Plan unos i pregled'!$A$7:$A$788,$D$3)","v":0},{"$f":"SUMIFS('Plan unos i pregled'!$I$7:$I$788,'Plan unos i pregled'!$B$7:$B$788,'PLAN Rekapitulacija'!$N$7,'Plan unos i pregled'!$M$7:$M$788,'PLAN Rekapitulacija'!$N$6, 'Plan unos i pregled'!$E$7:$E$788,'PLAN Rekapitulacija'!$B246, 'Plan unos i pregled'!$C$7:$C$788,'PLAN Rekapitulacija'!G$4, 'Plan unos i pregled'!$A$7:$A$788,$D$3)","v":0},{"$f":"SUMIFS('Plan unos i pregled'!$I$7:$I$788,'Plan unos i pregled'!$B$7:$B$788,'PLAN Rekapitulacija'!$N$7,'Plan unos i pregled'!$M$7:$M$788,'PLAN Rekapitulacija'!$N$6, 'Plan unos i pregled'!$E$7:$E$788,'PLAN Rekapitulacija'!$B246, 'Plan unos i pregled'!$C$7:$C$788,'PLAN Rekapitulacija'!H$4, 'Plan unos i pregled'!$A$7:$A$788,$D$3)","v":0},{"$f":"SUMIFS('Plan unos i pregled'!$I$7:$I$788,'Plan unos i pregled'!$B$7:$B$788,'PLAN Rekapitulacija'!$N$7,'Plan unos i pregled'!$M$7:$M$788,'PLAN Rekapitulacija'!$N$6, 'Plan unos i pregled'!$E$7:$E$788,'PLAN Rekapitulacija'!$B246, 'Plan unos i pregled'!$C$7:$C$788,'PLAN Rekapitulacija'!I$4, 'Plan unos i pregled'!$A$7:$A$788,$D$3)","v":0},0,0]
["не","9.1.11","55-60 km","t",1086.8499999999999,{"$f":"SUMIFS('Plan unos i pregled'!$I$7:$I$788,'Plan unos i pregled'!$B$7:$B$788,'PLAN Rekapitulacija'!$N$7,'Plan unos i pregled'!$M$7:$M$788,'PLAN Rekapitulacija'!$N$6, 'Plan unos i pregled'!$E$7:$E$788,'PLAN Rekapitulacija'!$B247, 'Plan unos i pregled'!$C$7:$C$788,'PLAN Rekapitulacija'!F$4, 'Plan unos i pregled'!$A$7:$A$788,$D$3)","v":0},{"$f":"SUMIFS('Plan unos i pregled'!$I$7:$I$788,'Plan unos i pregled'!$B$7:$B$788,'PLAN Rekapitulacija'!$N$7,'Plan unos i pregled'!$M$7:$M$788,'PLAN Rekapitulacija'!$N$6, 'Plan unos i pregled'!$E$7:$E$788,'PLAN Rekapitulacija'!$B247, 'Plan unos i pregled'!$C$7:$C$788,'PLAN Rekapitulacija'!G$4, 'Plan unos i pregled'!$A$7:$A$788,$D$3)","v":0},{"$f":"SUMIFS('Plan unos i pregled'!$I$7:$I$788,'Plan unos i pregled'!$B$7:$B$788,'PLAN Rekapitulacija'!$N$7,'Plan unos i pregled'!$M$7:$M$788,'PLAN Rekapitulacija'!$N$6, 'Plan unos i pregled'!$E$7:$E$788,'PLAN Rekapitulacija'!$B247, 'Plan unos i pregled'!$C$7:$C$788,'PLAN Rekapitulacija'!H$4, 'Plan unos i pregled'!$A$7:$A$788,$D$3)","v":0},{"$f":"SUMIFS('Plan unos i pregled'!$I$7:$I$788,'Plan unos i pregled'!$B$7:$B$788,'PLAN Rekapitulacija'!$N$7,'Plan unos i pregled'!$M$7:$M$788,'PLAN Rekapitulacija'!$N$6, 'Plan unos i pregled'!$E$7:$E$788,'PLAN Rekapitulacija'!$B247, 'Plan unos i pregled'!$C$7:$C$788,'PLAN Rekapitulacija'!I$4, 'Plan unos i pregled'!$A$7:$A$788,$D$3)","v":0},0,0]
["не","9.1.12","60-70 km","t",1233.9100000000001,{"$f":"SUMIFS('Plan unos i pregled'!$I$7:$I$788,'Plan unos i pregled'!$B$7:$B$788,'PLAN Rekapitulacija'!$N$7,'Plan unos i pregled'!$M$7:$M$788,'PLAN Rekapitulacija'!$N$6, 'Plan unos i pregled'!$E$7:$E$788,'PLAN Rekapitulacija'!$B248, 'Plan unos i pregled'!$C$7:$C$788,'PLAN Rekapitulacija'!F$4, 'Plan unos i pregled'!$A$7:$A$788,$D$3)","v":0},{"$f":"SUMIFS('Plan unos i pregled'!$I$7:$I$788,'Plan unos i pregled'!$B$7:$B$788,'PLAN Rekapitulacija'!$N$7,'Plan unos i pregled'!$M$7:$M$788,'PLAN Rekapitulacija'!$N$6, 'Plan unos i pregled'!$E$7:$E$788,'PLAN Rekapitulacija'!$B248, 'Plan unos i pregled'!$C$7:$C$788,'PLAN Rekapitulacija'!G$4, 'Plan unos i pregled'!$A$7:$A$788,$D$3)","v":0},{"$f":"SUMIFS('Plan unos i pregled'!$I$7:$I$788,'Plan unos i pregled'!$B$7:$B$788,'PLAN Rekapitulacija'!$N$7,'Plan unos i pregled'!$M$7:$M$788,'PLAN Rekapitulacija'!$N$6, 'Plan unos i pregled'!$E$7:$E$788,'PLAN Rekapitulacija'!$B248, 'Plan unos i pregled'!$C$7:$C$788,'PLAN Rekapitulacija'!H$4, 'Plan unos i pregled'!$A$7:$A$788,$D$3)","v":0},{"$f":"SUMIFS('Plan unos i pregled'!$I$7:$I$788,'Plan unos i pregled'!$B$7:$B$788,'PLAN Rekapitulacija'!$N$7,'Plan unos i pregled'!$M$7:$M$788,'PLAN Rekapitulacija'!$N$6, 'Plan unos i pregled'!$E$7:$E$788,'PLAN Rekapitulacija'!$B248, 'Plan unos i pregled'!$C$7:$C$788,'PLAN Rekapitulacija'!I$4, 'Plan unos i pregled'!$A$7:$A$788,$D$3)","v":0},0,0]
["не","9.1.13","70-80 km","t",1380.97,{"$f":"SUMIFS('Plan unos i pregled'!$I$7:$I$788,'Plan unos i pregled'!$B$7:$B$788,'PLAN Rekapitulacija'!$N$7,'Plan unos i pregled'!$M$7:$M$788,'PLAN Rekapitulacija'!$N$6, 'Plan unos i pregled'!$E$7:$E$788,'PLAN Rekapitulacija'!$B249, 'Plan unos i pregled'!$C$7:$C$788,'PLAN Rekapitulacija'!F$4, 'Plan unos i pregled'!$A$7:$A$788,$D$3)","v":0},{"$f":"SUMIFS('Plan unos i pregled'!$I$7:$I$788,'Plan unos i pregled'!$B$7:$B$788,'PLAN Rekapitulacija'!$N$7,'Plan unos i pregled'!$M$7:$M$788,'PLAN Rekapitulacija'!$N$6, 'Plan unos i pregled'!$E$7:$E$788,'PLAN Rekapitulacija'!$B249, 'Plan unos i pregled'!$C$7:$C$788,'PLAN Rekapitulacija'!G$4, 'Plan unos i pregled'!$A$7:$A$788,$D$3)","v":0},{"$f":"SUMIFS('Plan unos i pregled'!$I$7:$I$788,'Plan unos i pregled'!$B$7:$B$788,'PLAN Rekapitulacija'!$N$7,'Plan unos i pregled'!$M$7:$M$788,'PLAN Rekapitulacija'!$N$6, 'Plan unos i pregled'!$E$7:$E$788,'PLAN Rekapitulacija'!$B249, 'Plan unos i pregled'!$C$7:$C$788,'PLAN Rekapitulacija'!H$4, 'Plan unos i pregled'!$A$7:$A$788,$D$3)","v":0},{"$f":"SUMIFS('Plan unos i pregled'!$I$7:$I$788,'Plan unos i pregled'!$B$7:$B$788,'PLAN Rekapitulacija'!$N$7,'Plan unos i pregled'!$M$7:$M$788,'PLAN Rekapitulacija'!$N$6, 'Plan unos i pregled'!$E$7:$E$788,'PLAN Rekapitulacija'!$B249, 'Plan unos i pregled'!$C$7:$C$788,'PLAN Rekapitulacija'!I$4, 'Plan unos i pregled'!$A$7:$A$788,$D$3)","v":0},0,0]
["не","9.1.14","80-100 km","t",1528.01,{"$f":"SUMIFS('Plan unos i pregled'!$I$7:$I$788,'Plan unos i pregled'!$B$7:$B$788,'PLAN Rekapitulacija'!$N$7,'Plan unos i pregled'!$M$7:$M$788,'PLAN Rekapitulacija'!$N$6, 'Plan unos i pregled'!$E$7:$E$788,'PLAN Rekapitulacija'!$B250, 'Plan unos i pregled'!$C$7:$C$788,'PLAN Rekapitulacija'!F$4, 'Plan unos i pregled'!$A$7:$A$788,$D$3)","v":0},{"$f":"SUMIFS('Plan unos i pregled'!$I$7:$I$788,'Plan unos i pregled'!$B$7:$B$788,'PLAN Rekapitulacija'!$N$7,'Plan unos i pregled'!$M$7:$M$788,'PLAN Rekapitulacija'!$N$6, 'Plan unos i pregled'!$E$7:$E$788,'PLAN Rekapitulacija'!$B250, 'Plan unos i pregled'!$C$7:$C$788,'PLAN Rekapitulacija'!G$4, 'Plan unos i pregled'!$A$7:$A$788,$D$3)","v":0},{"$f":"SUMIFS('Plan unos i pregled'!$I$7:$I$788,'Plan unos i pregled'!$B$7:$B$788,'PLAN Rekapitulacija'!$N$7,'Plan unos i pregled'!$M$7:$M$788,'PLAN Rekapitulacija'!$N$6, 'Plan unos i pregled'!$E$7:$E$788,'PLAN Rekapitulacija'!$B250, 'Plan unos i pregled'!$C$7:$C$788,'PLAN Rekapitulacija'!H$4, 'Plan unos i pregled'!$A$7:$A$788,$D$3)","v":0},{"$f":"SUMIFS('Plan unos i pregled'!$I$7:$I$788,'Plan unos i pregled'!$B$7:$B$788,'PLAN Rekapitulacija'!$N$7,'Plan unos i pregled'!$M$7:$M$788,'PLAN Rekapitulacija'!$N$6, 'Plan unos i pregled'!$E$7:$E$788,'PLAN Rekapitulacija'!$B250, 'Plan unos i pregled'!$C$7:$C$788,'PLAN Rekapitulacija'!I$4, 'Plan unos i pregled'!$A$7:$A$788,$D$3)","v":0},0,0]
[{"$f":"IF(OR(J251:K256),\"штампа\",\"не\")","v":"не"},"9.2","Превоз нисконосећом приколицом. У цену урачунат: ",null,0]
["не","9.2.1","Рад нисконосеће приколице на превозу","km",731.5,{"$f":"SUMIFS('Plan unos i pregled'!$I$7:$I$788,'Plan unos i pregled'!$B$7:$B$788,'PLAN Rekapitulacija'!$N$7,'Plan unos i pregled'!$M$7:$M$788,'PLAN Rekapitulacija'!$N$6, 'Plan unos i pregled'!$E$7:$E$788,'PLAN Rekapitulacija'!$B252, 'Plan unos i pregled'!$C$7:$C$788,'PLAN Rekapitulacija'!F$4, 'Plan unos i pregled'!$A$7:$A$788,$D$3)","v":0},{"$f":"SUMIFS('Plan unos i pregled'!$I$7:$I$788,'Plan unos i pregled'!$B$7:$B$788,'PLAN Rekapitulacija'!$N$7,'Plan unos i pregled'!$M$7:$M$788,'PLAN Rekapitulacija'!$N$6, 'Plan unos i pregled'!$E$7:$E$788,'PLAN Rekapitulacija'!$B252, 'Plan unos i pregled'!$C$7:$C$788,'PLAN Rekapitulacija'!G$4, 'Plan unos i pregled'!$A$7:$A$788,$D$3)","v":0},{"$f":"SUMIFS('Plan unos i pregled'!$I$7:$I$788,'Plan unos i pregled'!$B$7:$B$788,'PLAN Rekapitulacija'!$N$7,'Plan unos i pregled'!$M$7:$M$788,'PLAN Rekapitulacija'!$N$6, 'Plan unos i pregled'!$E$7:$E$788,'PLAN Rekapitulacija'!$B252, 'Plan unos i pregled'!$C$7:$C$788,'PLAN Rekapitulacija'!H$4, 'Plan unos i pregled'!$A$7:$A$788,$D$3)","v":0},{"$f":"SUMIFS('Plan unos i pregled'!$I$7:$I$788,'Plan unos i pregled'!$B$7:$B$788,'PLAN Rekapitulacija'!$N$7,'Plan unos i pregled'!$M$7:$M$788,'PLAN Rekapitulacija'!$N$6, 'Plan unos i pregled'!$E$7:$E$788,'PLAN Rekapitulacija'!$B252, 'Plan unos i pregled'!$C$7:$C$788,'PLAN Rekapitulacija'!I$4, 'Plan unos i pregled'!$A$7:$A$788,$D$3)","v":0},{"$f":"SUM(F252:I252)","v":0},{"$f":"ROUND(E252*J252,2)","v":0}]
["не","9.2.2","Рад вучног камиона по радном часу, ФАП 1314","час",3300,{"$f":"SUMIFS('Plan unos i pregled'!$I$7:$I$788,'Plan unos i pregled'!$B$7:$B$788,'PLAN Rekapitulacija'!$N$7,'Plan unos i pregled'!$M$7:$M$788,'PLAN Rekapitulacija'!$N$6, 'Plan unos i pregled'!$E$7:$E$788,'PLAN Rekapitulacija'!$B253, 'Plan unos i pregled'!$C$7:$C$788,'PLAN Rekapitulacija'!F$4, 'Plan unos i pregled'!$A$7:$A$788,$D$3)","v":0},{"$f":"SUMIFS('Plan unos i pregled'!$I$7:$I$788,'Plan unos i pregled'!$B$7:$B$788,'PLAN Rekapitulacija'!$N$7,'Plan unos i pregled'!$M$7:$M$788,'PLAN Rekapitulacija'!$N$6, 'Plan unos i pregled'!$E$7:$E$788,'PLAN Rekapitulacija'!$B253, 'Plan unos i pregled'!$C$7:$C$788,'PLAN Rekapitulacija'!G$4, 'Plan unos i pregled'!$A$7:$A$788,$D$3)","v":0},{"$f":"SUMIFS('Plan unos i pregled'!$I$7:$I$788,'Plan unos i pregled'!$B$7:$B$788,'PLAN Rekapitulacija'!$N$7,'Plan unos i pregled'!$M$7:$M$788,'PLAN Rekapitulacija'!$N$6, 'Plan unos i pregled'!$E$7:$E$788,'PLAN Rekapitulacija'!$B253, 'Plan unos i pregled'!$C$7:$C$788,'PLAN Rekapitulacija'!H$4, 'Plan unos i pregled'!$A$7:$A$788,$D$3)","v":0},{"$f":"SUMIFS('Plan unos i pregled'!$I$7:$I$788,'Plan unos i pregled'!$B$7:$B$788,'PLAN Rekapitulacija'!$N$7,'Plan unos i pregled'!$M$7:$M$788,'PLAN Rekapitulacija'!$N$6, 'Plan unos i pregled'!$E$7:$E$788,'PLAN Rekapitulacija'!$B253, 'Plan unos i pregled'!$C$7:$C$788,'PLAN Rekapitulacija'!I$4, 'Plan unos i pregled'!$A$7:$A$788,$D$3)","v":0},0,0]
["не","9.2.3","Рад вучног камиона по радном часу, ФАП 2023","час",3500,{"$f":"SUMIFS('Plan unos i pregled'!$I$7:$I$788,'Plan unos i pregled'!$B$7:$B$788,'PLAN Rekapitulacija'!$N$7,'Plan unos i pregled'!$M$7:$M$788,'PLAN Rekapitulacija'!$N$6, 'Plan unos i pregled'!$E$7:$E$788,'PLAN Rekapitulacija'!$B254, 'Plan unos i pregled'!$C$7:$C$788,'PLAN Rekapitulacija'!F$4, 'Plan unos i pregled'!$A$7:$A$788,$D$3)","v":0},{"$f":"SUMIFS('Plan unos i pregled'!$I$7:$I$788,'Plan unos i pregled'!$B$7:$B$788,'PLAN Rekapitulacija'!$N$7,'Plan unos i pregled'!$M$7:$M$788,'PLAN Rekapitulacija'!$N$6, 'Plan unos i pregled'!$E$7:$E$788,'PLAN Rekapitulacija'!$B254, 'Plan unos i pregled'!$C$7:$C$788,'PLAN Rekapitulacija'!G$4, 'Plan unos i pregled'!$A$7:$A$788,$D$3)","v":0},{"$f":"SUMIFS('Plan unos i pregled'!$I$7:$I$788,'Plan unos i pregled'!$B$7:$B$788,'PLAN Rekapitulacija'!$N$7,'Plan unos i pregled'!$M$7:$M$788,'PLAN Rekapitulacija'!$N$6, 'Plan unos i pregled'!$E$7:$E$788,'PLAN Rekapitulacija'!$B254, 'Plan unos i pregled'!$C$7:$C$788,'PLAN Rekapitulacija'!H$4, 'Plan unos i pregled'!$A$7:$A$788,$D$3)","v":0},{"$f":"SUMIFS('Plan unos i pregled'!$I$7:$I$788,'Plan unos i pregled'!$B$7:$B$788,'PLAN Rekapitulacija'!$N$7,'Plan unos i pregled'!$M$7:$M$788,'PLAN Rekapitulacija'!$N$6, 'Plan unos i pregled'!$E$7:$E$788,'PLAN Rekapitulacija'!$B254, 'Plan unos i pregled'!$C$7:$C$788,'PLAN Rekapitulacija'!I$4, 'Plan unos i pregled'!$A$7:$A$788,$D$3)","v":0},0,0]
["не","9.2.4","Чекање нисконосеће приколице у моменту утовара, истовара","час",256.12,{"$f":"SUMIFS('Plan unos i pregled'!$I$7:$I$788,'Plan unos i pregled'!$B$7:$B$788,'PLAN Rekapitulacija'!$N$7,'Plan unos i pregled'!$M$7:$M$788,'PLAN Rekapitulacija'!$N$6, 'Plan unos i pregled'!$E$7:$E$788,'PLAN Rekapitulacija'!$B255, 'Plan unos i pregled'!$C$7:$C$788,'PLAN Rekapitulacija'!F$4, 'Plan unos i pregled'!$A$7:$A$788,$D$3)","v":0},{"$f":"SUMIFS('Plan unos i pregled'!$I$7:$I$788,'Plan unos i pregled'!$B$7:$B$788,'PLAN Rekapitulacija'!$N$7,'Plan unos i pregled'!$M$7:$M$788,'PLAN Rekapitulacija'!$N$6, 'Plan unos i pregled'!$E$7:$E$788,'PLAN Rekapitulacija'!$B255, 'Plan unos i pregled'!$C$7:$C$788,'PLAN Rekapitulacija'!G$4, 'Plan unos i pregled'!$A$7:$A$788,$D$3)","v":0},{"$f":"SUMIFS('Plan unos i pregled'!$I$7:$I$788,'Plan unos i pregled'!$B$7:$B$788,'PLAN Rekapitulacija'!$N$7,'Plan unos i pregled'!$M$7:$M$788,'PLAN Rekapitulacija'!$N$6, 'Plan unos i pregled'!$E$7:$E$788,'PLAN Rekapitulacija'!$B255, 'Plan unos i pregled'!$C$7:$C$788,'PLAN Rekapitulacija'!H$4, 'Plan unos i pregled'!$A$7:$A$788,$D$3)","v":0},{"$f":"SUMIFS('Plan unos i pregled'!$I$7:$I$788,'Plan unos i pregled'!$B$7:$B$788,'PLAN Rekapitulacija'!$N$7,'Plan unos i pregled'!$M$7:$M$788,'PLAN Rekapitulacija'!$N$6, 'Plan unos i pregled'!$E$7:$E$788,'PLAN Rekapitulacija'!$B255, 'Plan unos i pregled'!$C$7:$C$788,'PLAN Rekapitulacija'!I$4, 'Plan unos i pregled'!$A$7:$A$788,$D$3)","v":0},0,0]
["не","9.2.5","Чекање вучног камиона у моменту утовара, истовара","час",753.99,{"$f":"SUMIFS('Plan unos i pregled'!$I$7:$I$788,'Plan unos i pregled'!$B$7:$B$788,'PLAN Rekapitulacija'!$N$7,'Plan unos i pregled'!$M$7:$M$788,'PLAN Rekapitulacija'!$N$6, 'Plan unos i pregled'!$E$7:$E$788,'PLAN Rekapitulacija'!$B256, 'Plan unos i pregled'!$C$7:$C$788,'PLAN Rekapitulacija'!F$4, 'Plan unos i pregled'!$A$7:$A$788,$D$3)","v":0},{"$f":"SUMIFS('Plan unos i pregled'!$I$7:$I$788,'Plan unos i pregled'!$B$7:$B$788,'PLAN Rekapitulacija'!$N$7,'Plan unos i pregled'!$M$7:$M$788,'PLAN Rekapitulacija'!$N$6, 'Plan unos i pregled'!$E$7:$E$788,'PLAN Rekapitulacija'!$B256, 'Plan unos i pregled'!$C$7:$C$788,'PLAN Rekapitulacija'!G$4, 'Plan unos i pregled'!$A$7:$A$788,$D$3)","v":0},{"$f":"SUMIFS('Plan unos i pregled'!$I$7:$I$788,'Plan unos i pregled'!$B$7:$B$788,'PLAN Rekapitulacija'!$N$7,'Plan unos i pregled'!$M$7:$M$788,'PLAN Rekapitulacija'!$N$6, 'Plan unos i pregled'!$E$7:$E$788,'PLAN Rekapitulacija'!$B256, 'Plan unos i pregled'!$C$7:$C$788,'PLAN Rekapitulacija'!H$4, 'Plan unos i pregled'!$A$7:$A$788,$D$3)","v":0},{"$f":"SUMIFS('Plan unos i pregled'!$I$7:$I$788,'Plan unos i pregled'!$B$7:$B$788,'PLAN Rekapitulacija'!$N$7,'Plan unos i pregled'!$M$7:$M$788,'PLAN Rekapitulacija'!$N$6, 'Plan unos i pregled'!$E$7:$E$788,'PLAN Rekapitulacija'!$B256, 'Plan unos i pregled'!$C$7:$C$788,'PLAN Rekapitulacija'!I$4, 'Plan unos i pregled'!$A$7:$A$788,$D$3)","v":0},0,0]
["не",null,"УКУПНО:",null,null,{"$f":"SUMPRODUCT($E$235:$E$256,F235:F256)","v":0},{"$f":"SUMPRODUCT($E$235:$E$256,G235:G256)","v":0},0,0,null,{"$f":"SUM(K235:K256)","v":0}]
[{"$f":"IF(OR(J270:K270),\"штампа\",\"не\")","v":"не"},10,"Цене рада радника"]
["не","10.1","Физички радник","час",491.12,{"$f":"SUMIFS('Plan unos i pregled'!$I$7:$I$788,'Plan unos i pregled'!$B$7:$B$788,'PLAN Rekapitulacija'!$N$7,'Plan unos i pregled'!$M$7:$M$788,'PLAN Rekapitulacija'!$N$6, 'Plan unos i pregled'!$E$7:$E$788,'PLAN Rekapitulacija'!$B259, 'Plan unos i pregled'!$C$7:$C$788,'PLAN Rekapitulacija'!F$4, 'Plan unos i pregled'!$A$7:$A$788,$D$3)","v":0},{"$f":"SUMIFS('Plan unos i pregled'!$I$7:$I$788,'Plan unos i pregled'!$B$7:$B$788,'PLAN Rekapitulacija'!$N$7,'Plan unos i pregled'!$M$7:$M$788,'PLAN Rekapitulacija'!$N$6, 'Plan unos i pregled'!$E$7:$E$788,'PLAN Rekapitulacija'!$B259, 'Plan unos i pregled'!$C$7:$C$788,'PLAN Rekapitulacija'!G$4, 'Plan unos i pregled'!$A$7:$A$788,$D$3)","v":0},{"$f":"SUMIFS('Plan unos i pregled'!$I$7:$I$788,'Plan unos i pregled'!$B$7:$B$788,'PLAN Rekapitulacija'!$N$7,'Plan unos i pregled'!$M$7:$M$788,'PLAN Rekapitulacija'!$N$6, 'Plan unos i pregled'!$E$7:$E$788,'PLAN Rekapitulacija'!$B259, 'Plan unos i pregled'!$C$7:$C$788,'PLAN Rekapitulacija'!H$4, 'Plan unos i pregled'!$A$7:$A$788,$D$3)","v":0},{"$f":"SUMIFS('Plan unos i pregled'!$I$7:$I$788,'Plan unos i pregled'!$B$7:$B$788,'PLAN Rekapitulacija'!$N$7,'Plan unos i pregled'!$M$7:$M$788,'PLAN Rekapitulacija'!$N$6, 'Plan unos i pregled'!$E$7:$E$788,'PLAN Rekapitulacija'!$B259, 'Plan unos i pregled'!$C$7:$C$788,'PLAN Rekapitulacija'!I$4, 'Plan unos i pregled'!$A$7:$A$788,$D$3)","v":0},{"$f":"SUM(F259:I259)","v":0},{"$f":"ROUND(E259*J259,2)","v":0}]
["не","10.2","Радник на одржавању водовода и канализације","час",590,{"$f":"SUMIFS('Plan unos i pregled'!$I$7:$I$788,'Plan unos i pregled'!$B$7:$B$788,'PLAN Rekapitulacija'!$N$7,'Plan unos i pregled'!$M$7:$M$788,'PLAN Rekapitulacija'!$N$6, 'Plan unos i pregled'!$E$7:$E$788,'PLAN Rekapitulacija'!$B260, 'Plan unos i pregled'!$C$7:$C$788,'PLAN Rekapitulacija'!F$4, 'Plan unos i pregled'!$A$7:$A$788,$D$3)","v":0},{"$f":"SUMIFS('Plan unos i pregled'!$I$7:$I$788,'Plan unos i pregled'!$B$7:$B$788,'PLAN Rekapitulacija'!$N$7,'Plan unos i pregled'!$M$7:$M$788,'PLAN Rekapitulacija'!$N$6, 'Plan unos i pregled'!$E$7:$E$788,'PLAN Rekapitulacija'!$B260, 'Plan unos i pregled'!$C$7:$C$788,'PLAN Rekapitulacija'!G$4, 'Plan unos i pregled'!$A$7:$A$788,$D$3)","v":0},{"$f":"SUMIFS('Plan unos i pregled'!$I$7:$I$788,'Plan unos i pregled'!$B$7:$B$788,'PLAN Rekapitulacija'!$N$7,'Plan unos i pregled'!$M$7:$M$788,'PLAN Rekapitulacija'!$N$6, 'Plan unos i pregled'!$E$7:$E$788,'PLAN Rekapitulacija'!$B260, 'Plan unos i pregled'!$C$7:$C$788,'PLAN Rekapitulacija'!H$4, 'Plan unos i pregled'!$A$7:$A$788,$D$3)","v":0},{"$f":"SUMIFS('Plan unos i pregled'!$I$7:$I$788,'Plan unos i pregled'!$B$7:$B$788,'PLAN Rekapitulacija'!$N$7,'Plan unos i pregled'!$M$7:$M$788,'PLAN Rekapitulacija'!$N$6, 'Plan unos i pregled'!$E$7:$E$788,'PLAN Rekapitulacija'!$B260, 'Plan unos i pregled'!$C$7:$C$788,'PLAN Rekapitulacija'!I$4, 'Plan unos i pregled'!$A$7:$A$788,$D$3)","v":0},0,0]
["не","10.3","Грађевински радник - Бравар","час",590,{"$f":"SUMIFS('Plan unos i pregled'!$I$7:$I$788,'Plan unos i pregled'!$B$7:$B$788,'PLAN Rekapitulacija'!$N$7,'Plan unos i pregled'!$M$7:$M$788,'PLAN Rekapitulacija'!$N$6, 'Plan unos i pregled'!$E$7:$E$788,'PLAN Rekapitulacija'!$B261, 'Plan unos i pregled'!$C$7:$C$788,'PLAN Rekapitulacija'!F$4, 'Plan unos i pregled'!$A$7:$A$788,$D$3)","v":0},{"$f":"SUMIFS('Plan unos i pregled'!$I$7:$I$788,'Plan unos i pregled'!$B$7:$B$788,'PLAN Rekapitulacija'!$N$7,'Plan unos i pregled'!$M$7:$M$788,'PLAN Rekapitulacija'!$N$6, 'Plan unos i pregled'!$E$7:$E$788,'PLAN Rekapitulacija'!$B261, 'Plan unos i pregled'!$C$7:$C$788,'PLAN Rekapitulacija'!G$4, 'Plan unos i pregled'!$A$7:$A$788,$D$3)","v":0},{"$f":"SUMIFS('Plan unos i pregled'!$I$7:$I$788,'Plan unos i pregled'!$B$7:$B$788,'PLAN Rekapitulacija'!$N$7,'Plan unos i pregled'!$M$7:$M$788,'PLAN Rekapitulacija'!$N$6, 'Plan unos i pregled'!$E$7:$E$788,'PLAN Rekapitulacija'!$B261, 'Plan unos i pregled'!$C$7:$C$788,'PLAN Rekapitulacija'!H$4, 'Plan unos i pregled'!$A$7:$A$788,$D$3)","v":0},{"$f":"SUMIFS('Plan unos i pregled'!$I$7:$I$788,'Plan unos i pregled'!$B$7:$B$788,'PLAN Rekapitulacija'!$N$7,'Plan unos i pregled'!$M$7:$M$788,'PLAN Rekapitulacija'!$N$6, 'Plan unos i pregled'!$E$7:$E$788,'PLAN Rekapitulacija'!$B261, 'Plan unos i pregled'!$C$7:$C$788,'PLAN Rekapitulacija'!I$4, 'Plan unos i pregled'!$A$7:$A$788,$D$3)","v":0},0,0]
["не","10.4","Електричар","час",687.56,{"$f":"SUMIFS('Plan unos i pregled'!$I$7:$I$788,'Plan unos i pregled'!$B$7:$B$788,'PLAN Rekapitulacija'!$N$7,'Plan unos i pregled'!$M$7:$M$788,'PLAN Rekapitulacija'!$N$6, 'Plan unos i pregled'!$E$7:$E$788,'PLAN Rekapitulacija'!$B262, 'Plan unos i pregled'!$C$7:$C$788,'PLAN Rekapitulacija'!F$4, 'Plan unos i pregled'!$A$7:$A$788,$D$3)","v":0},{"$f":"SUMIFS('Plan unos i pregled'!$I$7:$I$788,'Plan unos i pregled'!$B$7:$B$788,'PLAN Rekapitulacija'!$N$7,'Plan unos i pregled'!$M$7:$M$788,'PLAN Rekapitulacija'!$N$6, 'Plan unos i pregled'!$E$7:$E$788,'PLAN Rekapitulacija'!$B262, 'Plan unos i pregled'!$C$7:$C$788,'PLAN Rekapitulacija'!G$4, 'Plan unos i pregled'!$A$7:$A$788,$D$3)","v":0},{"$f":"SUMIFS('Plan unos i pregled'!$I$7:$I$788,'Plan unos i pregled'!$B$7:$B$788,'PLAN Rekapitulacija'!$N$7,'Plan unos i pregled'!$M$7:$M$788,'PLAN Rekapitulacija'!$N$6, 'Plan unos i pregled'!$E$7:$E$788,'PLAN Rekapitulacija'!$B262, 'Plan unos i pregled'!$C$7:$C$788,'PLAN Rekapitulacija'!H$4, 'Plan unos i pregled'!$A$7:$A$788,$D$3)","v":0},{"$f":"SUMIFS('Plan unos i pregled'!$I$7:$I$788,'Plan unos i pregled'!$B$7:$B$788,'PLAN Rekapitulacija'!$N$7,'Plan unos i pregled'!$M$7:$M$788,'PLAN Rekapitulacija'!$N$6, 'Plan unos i pregled'!$E$7:$E$788,'PLAN Rekapitulacija'!$B262, 'Plan unos i pregled'!$C$7:$C$788,'PLAN Rekapitulacija'!I$4, 'Plan unos i pregled'!$A$7:$A$788,$D$3)","v":0},0,0]
["не","10.5","Магационер","час",687.56,{"$f":"SUMIFS('Plan unos i pregled'!$I$7:$I$788,'Plan unos i pregled'!$B$7:$B$788,'PLAN Rekapitulacija'!$N$7,'Plan unos i pregled'!$M$7:$M$788,'PLAN Rekapitulacija'!$N$6, 'Plan unos i pregled'!$E$7:$E$788,'PLAN Rekapitulacija'!$B263, 'Plan unos i pregled'!$C$7:$C$788,'PLAN Rekapitulacija'!F$4, 'Plan unos i pregled'!$A$7:$A$788,$D$3)","v":0},{"$f":"SUMIFS('Plan unos i pregled'!$I$7:$I$788,'Plan unos i pregled'!$B$7:$B$788,'PLAN Rekapitulacija'!$N$7,'Plan unos i pregled'!$M$7:$M$788,'PLAN Rekapitulacija'!$N$6, 'Plan unos i pregled'!$E$7:$E$788,'PLAN Rekapitulacija'!$B263, 'Plan unos i pregled'!$C$7:$C$788,'PLAN Rekapitulacija'!G$4, 'Plan unos i pregled'!$A$7:$A$788,$D$3)","v":0},{"$f":"SUMIFS('Plan unos i pregled'!$I$7:$I$788,'Plan unos i pregled'!$B$7:$B$788,'PLAN Rekapitulacija'!$N$7,'Plan unos i pregled'!$M$7:$M$788,'PLAN Rekapitulacija'!$N$6, 'Plan unos i pregled'!$E$7:$E$788,'PLAN Rekapitulacija'!$B263, 'Plan unos i pregled'!$C$7:$C$788,'PLAN Rekapitulacija'!H$4, 'Plan unos i pregled'!$A$7:$A$788,$D$3)","v":0},{"$f":"SUMIFS('Plan unos i pregled'!$I$7:$I$788,'Plan unos i pregled'!$B$7:$B$788,'PLAN Rekapitulacija'!$N$7,'Plan unos i pregled'!$M$7:$M$788,'PLAN Rekapitulacija'!$N$6, 'Plan unos i pregled'!$E$7:$E$788,'PLAN Rekapitulacija'!$B263, 'Plan unos i pregled'!$C$7:$C$788,'PLAN Rekapitulacija'!I$4, 'Plan unos i pregled'!$A$7:$A$788,$D$3)","v":0},0,0]
["не","10.6","Механичар","час",687.56,{"$f":"SUMIFS('Plan unos i pregled'!$I$7:$I$788,'Plan unos i pregled'!$B$7:$B$788,'PLAN Rekapitulacija'!$N$7,'Plan unos i pregled'!$M$7:$M$788,'PLAN Rekapitulacija'!$N$6, 'Plan unos i pregled'!$E$7:$E$788,'PLAN Rekapitulacija'!$B264, 'Plan unos i pregled'!$C$7:$C$788,'PLAN Rekapitulacija'!F$4, 'Plan unos i pregled'!$A$7:$A$788,$D$3)","v":0},{"$f":"SUMIFS('Plan unos i pregled'!$I$7:$I$788,'Plan unos i pregled'!$B$7:$B$788,'PLAN Rekapitulacija'!$N$7,'Plan unos i pregled'!$M$7:$M$788,'PLAN Rekapitulacija'!$N$6, 'Plan unos i pregled'!$E$7:$E$788,'PLAN Rekapitulacija'!$B264, 'Plan unos i pregled'!$C$7:$C$788,'PLAN Rekapitulacija'!G$4, 'Plan unos i pregled'!$A$7:$A$788,$D$3)","v":0},{"$f":"SUMIFS('Plan unos i pregled'!$I$7:$I$788,'Plan unos i pregled'!$B$7:$B$788,'PLAN Rekapitulacija'!$N$7,'Plan unos i pregled'!$M$7:$M$788,'PLAN Rekapitulacija'!$N$6, 'Plan unos i pregled'!$E$7:$E$788,'PLAN Rekapitulacija'!$B264, 'Plan unos i pregled'!$C$7:$C$788,'PLAN Rekapitulacija'!H$4, 'Plan unos i pregled'!$A$7:$A$788,$D$3)","v":0},{"$f":"SUMIFS('Plan unos i pregled'!$I$7:$I$788,'Plan unos i pregled'!$B$7:$B$788,'PLAN Rekapitulacija'!$N$7,'Plan unos i pregled'!$M$7:$M$788,'PLAN Rekapitulacija'!$N$6, 'Plan unos i pregled'!$E$7:$E$788,'PLAN Rekapitulacija'!$B264, 'Plan unos i pregled'!$C$7:$C$788,'PLAN Rekapitulacija'!I$4, 'Plan unos i pregled'!$A$7:$A$788,$D$3)","v":0},0,0]
["не","10.7","Руководилац грађевинских машина","час",687.56,{"$f":"SUMIFS('Plan unos i pregled'!$I$7:$I$788,'Plan unos i pregled'!$B$7:$B$788,'PLAN Rekapitulacija'!$N$7,'Plan unos i pregled'!$M$7:$M$788,'PLAN Rekapitulacija'!$N$6, 'Plan unos i pregled'!$E$7:$E$788,'PLAN Rekapitulacija'!$B265, 'Plan unos i pregled'!$C$7:$C$788,'PLAN Rekapitulacija'!F$4, 'Plan unos i pregled'!$A$7:$A$788,$D$3)","v":0},{"$f":"SUMIFS('Plan unos i pregled'!$I$7:$I$788,'Plan unos i pregled'!$B$7:$B$788,'PLAN Rekapitulacija'!$N$7,'Plan unos i pregled'!$M$7:$M$788,'PLAN Rekapitulacija'!$N$6, 'Plan unos i pregled'!$E$7:$E$788,'PLAN Rekapitulacija'!$B265, 'Plan unos i pregled'!$C$7:$C$788,'PLAN Rekapitulacija'!G$4, 'Plan unos i pregled'!$A$7:$A$788,$D$3)","v":0},{"$f":"SUMIFS('Plan unos i pregled'!$I$7:$I$788,'Plan unos i pregled'!$B$7:$B$788,'PLAN Rekapitulacija'!$N$7,'Plan unos i pregled'!$M$7:$M$788,'PLAN Rekapitulacija'!$N$6, 'Plan unos i pregled'!$E$7:$E$788,'PLAN Rekapitulacija'!$B265, 'Plan unos i pregled'!$C$7:$C$788,'PLAN Rekapitulacija'!H$4, 'Plan unos i pregled'!$A$7:$A$788,$D$3)","v":0},{"$f":"SUMIFS('Plan unos i pregled'!$I$7:$I$788,'Plan unos i pregled'!$B$7:$B$788,'PLAN Rekapitulacija'!$N$7,'Plan unos i pregled'!$M$7:$M$788,'PLAN Rekapitulacija'!$N$6, 'Plan unos i pregled'!$E$7:$E$788,'PLAN Rekapitulacija'!$B265, 'Plan unos i pregled'!$C$7:$C$788,'PLAN Rekapitulacija'!I$4, 'Plan unos i pregled'!$A$7:$A$788,$D$3)","v":0},0,0]
["не","10.8","Возач","час",687.56,{"$f":"SUMIFS('Plan unos i pregled'!$I$7:$I$788,'Plan unos i pregled'!$B$7:$B$788,'PLAN Rekapitulacija'!$N$7,'Plan unos i pregled'!$M$7:$M$788,'PLAN Rekapitulacija'!$N$6, 'Plan unos i pregled'!$E$7:$E$788,'PLAN Rekapitulacija'!$B266, 'Plan unos i pregled'!$C$7:$C$788,'PLAN Rekapitulacija'!F$4, 'Plan unos i pregled'!$A$7:$A$788,$D$3)","v":0},{"$f":"SUMIFS('Plan unos i pregled'!$I$7:$I$788,'Plan unos i pregled'!$B$7:$B$788,'PLAN Rekapitulacija'!$N$7,'Plan unos i pregled'!$M$7:$M$788,'PLAN Rekapitulacija'!$N$6, 'Plan unos i pregled'!$E$7:$E$788,'PLAN Rekapitulacija'!$B266, 'Plan unos i pregled'!$C$7:$C$788,'PLAN Rekapitulacija'!G$4, 'Plan unos i pregled'!$A$7:$A$788,$D$3)","v":0},{"$f":"SUMIFS('Plan unos i pregled'!$I$7:$I$788,'Plan unos i pregled'!$B$7:$B$788,'PLAN Rekapitulacija'!$N$7,'Plan unos i pregled'!$M$7:$M$788,'PLAN Rekapitulacija'!$N$6, 'Plan unos i pregled'!$E$7:$E$788,'PLAN Rekapitulacija'!$B266, 'Plan unos i pregled'!$C$7:$C$788,'PLAN Rekapitulacija'!H$4, 'Plan unos i pregled'!$A$7:$A$788,$D$3)","v":0},{"$f":"SUMIFS('Plan unos i pregled'!$I$7:$I$788,'Plan unos i pregled'!$B$7:$B$788,'PLAN Rekapitulacija'!$N$7,'Plan unos i pregled'!$M$7:$M$788,'PLAN Rekapitulacija'!$N$6, 'Plan unos i pregled'!$E$7:$E$788,'PLAN Rekapitulacija'!$B266, 'Plan unos i pregled'!$C$7:$C$788,'PLAN Rekapitulacija'!I$4, 'Plan unos i pregled'!$A$7:$A$788,$D$3)","v":0},0,0]
["не","10.9","Пословођа радних јединица и шеф возног парка","час",785.79,{"$f":"SUMIFS('Plan unos i pregled'!$I$7:$I$788,'Plan unos i pregled'!$B$7:$B$788,'PLAN Rekapitulacija'!$N$7,'Plan unos i pregled'!$M$7:$M$788,'PLAN Rekapitulacija'!$N$6, 'Plan unos i pregled'!$E$7:$E$788,'PLAN Rekapitulacija'!$B267, 'Plan unos i pregled'!$C$7:$C$788,'PLAN Rekapitulacija'!F$4, 'Plan unos i pregled'!$A$7:$A$788,$D$3)","v":0},{"$f":"SUMIFS('Plan unos i pregled'!$I$7:$I$788,'Plan unos i pregled'!$B$7:$B$788,'PLAN Rekapitulacija'!$N$7,'Plan unos i pregled'!$M$7:$M$788,'PLAN Rekapitulacija'!$N$6, 'Plan unos i pregled'!$E$7:$E$788,'PLAN Rekapitulacija'!$B267, 'Plan unos i pregled'!$C$7:$C$788,'PLAN Rekapitulacija'!G$4, 'Plan unos i pregled'!$A$7:$A$788,$D$3)","v":0},{"$f":"SUMIFS('Plan unos i pregled'!$I$7:$I$788,'Plan unos i pregled'!$B$7:$B$788,'PLAN Rekapitulacija'!$N$7,'Plan unos i pregled'!$M$7:$M$788,'PLAN Rekapitulacija'!$N$6, 'Plan unos i pregled'!$E$7:$E$788,'PLAN Rekapitulacija'!$B267, 'Plan unos i pregled'!$C$7:$C$788,'PLAN Rekapitulacija'!H$4, 'Plan unos i pregled'!$A$7:$A$788,$D$3)","v":0},{"$f":"SUMIFS('Plan unos i pregled'!$I$7:$I$788,'Plan unos i pregled'!$B$7:$B$788,'PLAN Rekapitulacija'!$N$7,'Plan unos i pregled'!$M$7:$M$788,'PLAN Rekapitulacija'!$N$6, 'Plan unos i pregled'!$E$7:$E$788,'PLAN Rekapitulacija'!$B267, 'Plan unos i pregled'!$C$7:$C$788,'PLAN Rekapitulacija'!I$4, 'Plan unos i pregled'!$A$7:$A$788,$D$3)","v":0},0,0]
["не","10.10","Инжењер","час",982.23,{"$f":"SUMIFS('Plan unos i pregled'!$I$7:$I$788,'Plan unos i pregled'!$B$7:$B$788,'PLAN Rekapitulacija'!$N$7,'Plan unos i pregled'!$M$7:$M$788,'PLAN Rekapitulacija'!$N$6, 'Plan unos i pregled'!$E$7:$E$788,'PLAN Rekapitulacija'!$B268, 'Plan unos i pregled'!$C$7:$C$788,'PLAN Rekapitulacija'!F$4, 'Plan unos i pregled'!$A$7:$A$788,$D$3)","v":0},{"$f":"SUMIFS('Plan unos i pregled'!$I$7:$I$788,'Plan unos i pregled'!$B$7:$B$788,'PLAN Rekapitulacija'!$N$7,'Plan unos i pregled'!$M$7:$M$788,'PLAN Rekapitulacija'!$N$6, 'Plan unos i pregled'!$E$7:$E$788,'PLAN Rekapitulacija'!$B268, 'Plan unos i pregled'!$C$7:$C$788,'PLAN Rekapitulacija'!G$4, 'Plan unos i pregled'!$A$7:$A$788,$D$3)","v":0},{"$f":"SUMIFS('Plan unos i pregled'!$I$7:$I$788,'Plan unos i pregled'!$B$7:$B$788,'PLAN Rekapitulacija'!$N$7,'Plan unos i pregled'!$M$7:$M$788,'PLAN Rekapitulacija'!$N$6, 'Plan unos i pregled'!$E$7:$E$788,'PLAN Rekapitulacija'!$B268, 'Plan unos i pregled'!$C$7:$C$788,'PLAN Rekapitulacija'!H$4, 'Plan unos i pregled'!$A$7:$A$788,$D$3)","v":0},{"$f":"SUMIFS('Plan unos i pregled'!$I$7:$I$788,'Plan unos i pregled'!$B$7:$B$788,'PLAN Rekapitulacija'!$N$7,'Plan unos i pregled'!$M$7:$M$788,'PLAN Rekapitulacija'!$N$6, 'Plan unos i pregled'!$E$7:$E$788,'PLAN Rekapitulacija'!$B268, 'Plan unos i pregled'!$C$7:$C$788,'PLAN Rekapitulacija'!I$4, 'Plan unos i pregled'!$A$7:$A$788,$D$3)","v":0},0,0]
["не","10.11","Дипломирани грађевински инжењер","час",1227.79,{"$f":"SUMIFS('Plan unos i pregled'!$I$7:$I$788,'Plan unos i pregled'!$B$7:$B$788,'PLAN Rekapitulacija'!$N$7,'Plan unos i pregled'!$M$7:$M$788,'PLAN Rekapitulacija'!$N$6, 'Plan unos i pregled'!$E$7:$E$788,'PLAN Rekapitulacija'!$B269, 'Plan unos i pregled'!$C$7:$C$788,'PLAN Rekapitulacija'!F$4, 'Plan unos i pregled'!$A$7:$A$788,$D$3)","v":0},{"$f":"SUMIFS('Plan unos i pregled'!$I$7:$I$788,'Plan unos i pregled'!$B$7:$B$788,'PLAN Rekapitulacija'!$N$7,'Plan unos i pregled'!$M$7:$M$788,'PLAN Rekapitulacija'!$N$6, 'Plan unos i pregled'!$E$7:$E$788,'PLAN Rekapitulacija'!$B269, 'Plan unos i pregled'!$C$7:$C$788,'PLAN Rekapitulacija'!G$4, 'Plan unos i pregled'!$A$7:$A$788,$D$3)","v":0},{"$f":"SUMIFS('Plan unos i pregled'!$I$7:$I$788,'Plan unos i pregled'!$B$7:$B$788,'PLAN Rekapitulacija'!$N$7,'Plan unos i pregled'!$M$7:$M$788,'PLAN Rekapitulacija'!$N$6, 'Plan unos i pregled'!$E$7:$E$788,'PLAN Rekapitulacija'!$B269, 'Plan unos i pregled'!$C$7:$C$788,'PLAN Rekapitulacija'!H$4, 'Plan unos i pregled'!$A$7:$A$788,$D$3)","v":0},{"$f":"SUMIFS('Plan unos i pregled'!$I$7:$I$788,'Plan unos i pregled'!$B$7:$B$788,'PLAN Rekapitulacija'!$N$7,'Plan unos i pregled'!$M$7:$M$788,'PLAN Rekapitulacija'!$N$6, 'Plan unos i pregled'!$E$7:$E$788,'PLAN Rekapitulacija'!$B269, 'Plan unos i pregled'!$C$7:$C$788,'PLAN Rekapitulacija'!I$4, 'Plan unos i pregled'!$A$7:$A$788,$D$3)","v":0},0,0]
["не",null,"УКУПНО:",null,null,{"$f":"SUMPRODUCT($E$259:$E$269,F259:F269)","v":0},{"$f":"SUMPRODUCT($E$259:$E$269,G259:G269)","v":0},{"$f":"SUMPRODUCT($E$259:$E$269,H259:H269)","v":0},{"$f":"SUMPRODUCT($E$259:$E$269,I259:I269)","v":0},null,{"$f":"SUM(K258:K269)","v":0}]
[{"$f":"IF(OR(J317:K317),\"штампа\",\"не\")","v":"штампа"},"11","Цене рада механизације"]
["не","11.1","Конбинована машина Неw Холланд","час",4715,{"$f":"SUMIFS('Plan unos i pregled'!$I$7:$I$788,'Plan unos i pregled'!$B$7:$B$788,'PLAN Rekapitulacija'!$N$7,'Plan unos i pregled'!$M$7:$M$788,'PLAN Rekapitulacija'!$N$6, 'Plan unos i pregled'!$E$7:$E$788,'PLAN Rekapitulacija'!$B272, 'Plan unos i pregled'!$C$7:$C$788,'PLAN Rekapitulacija'!F$4, 'Plan unos i pregled'!$A$7:$A$788,$D$3)","v":0},{"$f":"SUMIFS('Plan unos i pregled'!$I$7:$I$788,'Plan unos i pregled'!$B$7:$B$788,'PLAN Rekapitulacija'!$N$7,'Plan unos i pregled'!$M$7:$M$788,'PLAN Rekapitulacija'!$N$6, 'Plan unos i pregled'!$E$7:$E$788,'PLAN Rekapitulacija'!$B272, 'Plan unos i pregled'!$C$7:$C$788,'PLAN Rekapitulacija'!G$4, 'Plan unos i pregled'!$A$7:$A$788,$D$3)","v":0},{"$f":"SUMIFS('Plan unos i pregled'!$I$7:$I$788,'Plan unos i pregled'!$B$7:$B$788,'PLAN Rekapitulacija'!$N$7,'Plan unos i pregled'!$M$7:$M$788,'PLAN Rekapitulacija'!$N$6, 'Plan unos i pregled'!$E$7:$E$788,'PLAN Rekapitulacija'!$B272, 'Plan unos i pregled'!$C$7:$C$788,'PLAN Rekapitulacija'!H$4, 'Plan unos i pregled'!$A$7:$A$788,$D$3)","v":0},{"$f":"SUMIFS('Plan unos i pregled'!$I$7:$I$788,'Plan unos i pregled'!$B$7:$B$788,'PLAN Rekapitulacija'!$N$7,'Plan unos i pregled'!$M$7:$M$788,'PLAN Rekapitulacija'!$N$6, 'Plan unos i pregled'!$E$7:$E$788,'PLAN Rekapitulacija'!$B272, 'Plan unos i pregled'!$C$7:$C$788,'PLAN Rekapitulacija'!I$4, 'Plan unos i pregled'!$A$7:$A$788,$D$3)","v":0},{"$f":"SUM(F272:I272)","v":0},{"$f":"ROUND(E272*J272,2)","v":0}]
["не","11.2","Мини хидраулични багер","час",4370,{"$f":"SUMIFS('Plan unos i pregled'!$I$7:$I$788,'Plan unos i pregled'!$B$7:$B$788,'PLAN Rekapitulacija'!$N$7,'Plan unos i pregled'!$M$7:$M$788,'PLAN Rekapitulacija'!$N$6, 'Plan unos i pregled'!$E$7:$E$788,'PLAN Rekapitulacija'!$B273, 'Plan unos i pregled'!$C$7:$C$788,'PLAN Rekapitulacija'!F$4, 'Plan unos i pregled'!$A$7:$A$788,$D$3)","v":0},{"$f":"SUMIFS('Plan unos i pregled'!$I$7:$I$788,'Plan unos i pregled'!$B$7:$B$788,'PLAN Rekapitulacija'!$N$7,'Plan unos i pregled'!$M$7:$M$788,'PLAN Rekapitulacija'!$N$6, 'Plan unos i pregled'!$E$7:$E$788,'PLAN Rekapitulacija'!$B273, 'Plan unos i pregled'!$C$7:$C$788,'PLAN Rekapitulacija'!G$4, 'Plan unos i pregled'!$A$7:$A$788,$D$3)","v":0},{"$f":"SUMIFS('Plan unos i pregled'!$I$7:$I$788,'Plan unos i pregled'!$B$7:$B$788,'PLAN Rekapitulacija'!$N$7,'Plan unos i pregled'!$M$7:$M$788,'PLAN Rekapitulacija'!$N$6, 'Plan unos i pregled'!$E$7:$E$788,'PLAN Rekapitulacija'!$B273, 'Plan unos i pregled'!$C$7:$C$788,'PLAN Rekapitulacija'!H$4, 'Plan unos i pregled'!$A$7:$A$788,$D$3)","v":0},{"$f":"SUMIFS('Plan unos i pregled'!$I$7:$I$788,'Plan unos i pregled'!$B$7:$B$788,'PLAN Rekapitulacija'!$N$7,'Plan unos i pregled'!$M$7:$M$788,'PLAN Rekapitulacija'!$N$6, 'Plan unos i pregled'!$E$7:$E$788,'PLAN Rekapitulacija'!$B273, 'Plan unos i pregled'!$C$7:$C$788,'PLAN Rekapitulacija'!I$4, 'Plan unos i pregled'!$A$7:$A$788,$D$3)","v":0},0,0]
["штампа","11.3","Компинована машина ЦАСЕ","час",5405,{"$f":"SUMIFS('Plan unos i pregled'!$I$7:$I$788,'Plan unos i pregled'!$B$7:$B$788,'PLAN Rekapitulacija'!$N$7,'Plan unos i pregled'!$M$7:$M$788,'PLAN Rekapitulacija'!$N$6, 'Plan unos i pregled'!$E$7:$E$788,'PLAN Rekapitulacija'!$B274, 'Plan unos i pregled'!$C$7:$C$788,'PLAN Rekapitulacija'!F$4, 'Plan unos i pregled'!$A$7:$A$788,$D$3)","v":10},{"$f":"SUMIFS('Plan unos i pregled'!$I$7:$I$788,'Plan unos i pregled'!$B$7:$B$788,'PLAN Rekapitulacija'!$N$7,'Plan unos i pregled'!$M$7:$M$788,'PLAN Rekapitulacija'!$N$6, 'Plan unos i pregled'!$E$7:$E$788,'PLAN Rekapitulacija'!$B274, 'Plan unos i pregled'!$C$7:$C$788,'PLAN Rekapitulacija'!G$4, 'Plan unos i pregled'!$A$7:$A$788,$D$3)","v":5},{"$f":"SUMIFS('Plan unos i pregled'!$I$7:$I$788,'Plan unos i pregled'!$B$7:$B$788,'PLAN Rekapitulacija'!$N$7,'Plan unos i pregled'!$M$7:$M$788,'PLAN Rekapitulacija'!$N$6, 'Plan unos i pregled'!$E$7:$E$788,'PLAN Rekapitulacija'!$B274, 'Plan unos i pregled'!$C$7:$C$788,'PLAN Rekapitulacija'!H$4, 'Plan unos i pregled'!$A$7:$A$788,$D$3)","v":0},{"$f":"SUMIFS('Plan unos i pregled'!$I$7:$I$788,'Plan unos i pregled'!$B$7:$B$788,'PLAN Rekapitulacija'!$N$7,'Plan unos i pregled'!$M$7:$M$788,'PLAN Rekapitulacija'!$N$6, 'Plan unos i pregled'!$E$7:$E$788,'PLAN Rekapitulacija'!$B274, 'Plan unos i pregled'!$C$7:$C$788,'PLAN Rekapitulacija'!I$4, 'Plan unos i pregled'!$A$7:$A$788,$D$3)","v":0},15,81075]
["не","11.4","Ваљак од 10 t","час",4025,{"$f":"SUMIFS('Plan unos i pregled'!$I$7:$I$788,'Plan unos i pregled'!$B$7:$B$788,'PLAN Rekapitulacija'!$N$7,'Plan unos i pregled'!$M$7:$M$788,'PLAN Rekapitulacija'!$N$6, 'Plan unos i pregled'!$E$7:$E$788,'PLAN Rekapitulacija'!$B275, 'Plan unos i pregled'!$C$7:$C$788,'PLAN Rekapitulacija'!F$4, 'Plan unos i pregled'!$A$7:$A$788,$D$3)","v":0},{"$f":"SUMIFS('Plan unos i pregled'!$I$7:$I$788,'Plan unos i pregled'!$B$7:$B$788,'PLAN Rekapitulacija'!$N$7,'Plan unos i pregled'!$M$7:$M$788,'PLAN Rekapitulacija'!$N$6, 'Plan unos i pregled'!$E$7:$E$788,'PLAN Rekapitulacija'!$B275, 'Plan unos i pregled'!$C$7:$C$788,'PLAN Rekapitulacija'!G$4, 'Plan unos i pregled'!$A$7:$A$788,$D$3)","v":0},{"$f":"SUMIFS('Plan unos i pregled'!$I$7:$I$788,'Plan unos i pregled'!$B$7:$B$788,'PLAN Rekapitulacija'!$N$7,'Plan unos i pregled'!$M$7:$M$788,'PLAN Rekapitulacija'!$N$6, 'Plan unos i pregled'!$E$7:$E$788,'PLAN Rekapitulacija'!$B275, 'Plan unos i pregled'!$C$7:$C$788,'PLAN Rekapitulacija'!H$4, 'Plan unos i pregled'!$A$7:$A$788,$D$3)","v":0},{"$f":"SUMIFS('Plan unos i pregled'!$I$7:$I$788,'Plan unos i pregled'!$B$7:$B$788,'PLAN Rekapitulacija'!$N$7,'Plan unos i pregled'!$M$7:$M$788,'PLAN Rekapitulacija'!$N$6, 'Plan unos i pregled'!$E$7:$E$788,'PLAN Rekapitulacija'!$B275, 'Plan unos i pregled'!$C$7:$C$788,'PLAN Rekapitulacija'!I$4, 'Plan unos i pregled'!$A$7:$A$788,$D$3)","v":0},0,0]
["штампа","11.5","Ваљак од 2 t","час",2875,{"$f":"SUMIFS('Plan unos i pregled'!$I$7:$I$788,'Plan unos i pregled'!$B$7:$B$788,'PLAN Rekapitulacija'!$N$7,'Plan unos i pregled'!$M$7:$M$788,'PLAN Rekapitulacija'!$N$6, 'Plan unos i pregled'!$E$7:$E$788,'PLAN Rekapitulacija'!$B276, 'Plan unos i pregled'!$C$7:$C$788,'PLAN Rekapitulacija'!F$4, 'Plan unos i pregled'!$A$7:$A$788,$D$3)","v":0},{"$f":"SUMIFS('Plan unos i pregled'!$I$7:$I$788,'Plan unos i pregled'!$B$7:$B$788,'PLAN Rekapitulacija'!$N$7,'Plan unos i pregled'!$M$7:$M$788,'PLAN Rekapitulacija'!$N$6, 'Plan unos i pregled'!$E$7:$E$788,'PLAN Rekapitulacija'!$B276, 'Plan unos i pregled'!$C$7:$C$788,'PLAN Rekapitulacija'!G$4, 'Plan unos i pregled'!$A$7:$A$788,$D$3)","v":0},{"$f":"SUMIFS('Plan unos i pregled'!$I$7:$I$788,'Plan unos i pregled'!$B$7:$B$788,'PLAN Rekapitulacija'!$N$7,'Plan unos i pregled'!$M$7:$M$788,'PLAN Rekapitulacija'!$N$6, 'Plan unos i pregled'!$E$7:$E$788,'PLAN Rekapitulacija'!$B276, 'Plan unos i pregled'!$C$7:$C$788,'PLAN Rekapitulacija'!H$4, 'Plan unos i pregled'!$A$7:$A$788,$D$3)","v":0},{"$f":"SUMIFS('Plan unos i pregled'!$I$7:$I$788,'Plan unos i pregled'!$B$7:$B$788,'PLAN Rekapitulacija'!$N$7,'Plan unos i pregled'!$M$7:$M$788,'PLAN Rekapitulacija'!$N$6, 'Plan unos i pregled'!$E$7:$E$788,'PLAN Rekapitulacija'!$B276, 'Plan unos i pregled'!$C$7:$C$788,'PLAN Rekapitulacija'!I$4, 'Plan unos i pregled'!$A$7:$A$788,$D$3)","v":36},36,103500]
["не","11.6","Камион ФАП 2023","час",4025,{"$f":"SUMIFS('Plan unos i pregled'!$I$7:$I$788,'Plan unos i pregled'!$B$7:$B$788,'PLAN Rekapitulacija'!$N$7,'Plan unos i pregled'!$M$7:$M$788,'PLAN Rekapitulacija'!$N$6, 'Plan unos i pregled'!$E$7:$E$788,'PLAN Rekapitulacija'!$B277, 'Plan unos i pregled'!$C$7:$C$788,'PLAN Rekapitulacija'!F$4, 'Plan unos i pregled'!$A$7:$A$788,$D$3)","v":0},{"$f":"SUMIFS('Plan unos i pregled'!$I$7:$I$788,'Plan unos i pregled'!$B$7:$B$788,'PLAN Rekapitulacija'!$N$7,'Plan unos i pregled'!$M$7:$M$788,'PLAN Rekapitulacija'!$N$6, 'Plan unos i pregled'!$E$7:$E$788,'PLAN Rekapitulacija'!$B277, 'Plan unos i pregled'!$C$7:$C$788,'PLAN Rekapitulacija'!G$4, 'Plan unos i pregled'!$A$7:$A$788,$D$3)","v":0},{"$f":"SUMIFS('Plan unos i pregled'!$I$7:$I$788,'Plan unos i pregled'!$B$7:$B$788,'PLAN Rekapitulacija'!$N$7,'Plan unos i pregled'!$M$7:$M$788,'PLAN Rekapitulacija'!$N$6, 'Plan unos i pregled'!$E$7:$E$788,'PLAN Rekapitulacija'!$B277, 'Plan unos i pregled'!$C$7:$C$788,'PLAN Rekapitulacija'!H$4, 'Plan unos i pregled'!$A$7:$A$788,$D$3)","v":0},{"$f":"SUMIFS('Plan unos i pregled'!$I$7:$I$788,'Plan unos i pregled'!$B$7:$B$788,'PLAN Rekapitulacija'!$N$7,'Plan unos i pregled'!$M$7:$M$788,'PLAN Rekapitulacija'!$N$6, 'Plan unos i pregled'!$E$7:$E$788,'PLAN Rekapitulacija'!$B277, 'Plan unos i pregled'!$C$7:$C$788,'PLAN Rekapitulacija'!I$4, 'Plan unos i pregled'!$A$7:$A$788,$D$3)","v":0},0,0]
[{"$f":"IF(OR(J278:K280),\"штампа\",\"не\")","v":"не"},"11.7","Трактор до 60 кw ИМТ 560 ",null,0]
["не","11.7.1","цена за рад","час",2331,{"$f":"SUMIFS('Plan unos i pregled'!$I$7:$I$788,'Plan unos i pregled'!$B$7:$B$788,'PLAN Rekapitulacija'!$N$7,'Plan unos i pregled'!$M$7:$M$788,'PLAN Rekapitulacija'!$N$6, 'Plan unos i pregled'!$E$7:$E$788,'PLAN Rekapitulacija'!$B279, 'Plan unos i pregled'!$C$7:$C$788,'PLAN Rekapitulacija'!F$4, 'Plan unos i pregled'!$A$7:$A$788,$D$3)","v":0},{"$f":"SUMIFS('Plan unos i pregled'!$I$7:$I$788,'Plan unos i pregled'!$B$7:$B$788,'PLAN Rekapitulacija'!$N$7,'Plan unos i pregled'!$M$7:$M$788,'PLAN Rekapitulacija'!$N$6, 'Plan unos i pregled'!$E$7:$E$788,'PLAN Rekapitulacija'!$B279, 'Plan unos i pregled'!$C$7:$C$788,'PLAN Rekapitulacija'!G$4, 'Plan unos i pregled'!$A$7:$A$788,$D$3)","v":0},{"$f":"SUMIFS('Plan unos i pregled'!$I$7:$I$788,'Plan unos i pregled'!$B$7:$B$788,'PLAN Rekapitulacija'!$N$7,'Plan unos i pregled'!$M$7:$M$788,'PLAN Rekapitulacija'!$N$6, 'Plan unos i pregled'!$E$7:$E$788,'PLAN Rekapitulacija'!$B279, 'Plan unos i pregled'!$C$7:$C$788,'PLAN Rekapitulacija'!H$4, 'Plan unos i pregled'!$A$7:$A$788,$D$3)","v":0},{"$f":"SUMIFS('Plan unos i pregled'!$I$7:$I$788,'Plan unos i pregled'!$B$7:$B$788,'PLAN Rekapitulacija'!$N$7,'Plan unos i pregled'!$M$7:$M$788,'PLAN Rekapitulacija'!$N$6, 'Plan unos i pregled'!$E$7:$E$788,'PLAN Rekapitulacija'!$B279, 'Plan unos i pregled'!$C$7:$C$788,'PLAN Rekapitulacija'!I$4, 'Plan unos i pregled'!$A$7:$A$788,$D$3)","v":0},{"$f":"SUM(F279:I279)","v":0},{"$f":"ROUND(E279*J279,2)","v":0}]
["не","11.7.2","цена за чекање","час",1495,{"$f":"SUMIFS('Plan unos i pregled'!$I$7:$I$788,'Plan unos i pregled'!$B$7:$B$788,'PLAN Rekapitulacija'!$N$7,'Plan unos i pregled'!$M$7:$M$788,'PLAN Rekapitulacija'!$N$6, 'Plan unos i pregled'!$E$7:$E$788,'PLAN Rekapitulacija'!$B280, 'Plan unos i pregled'!$C$7:$C$788,'PLAN Rekapitulacija'!F$4, 'Plan unos i pregled'!$A$7:$A$788,$D$3)","v":0},{"$f":"SUMIFS('Plan unos i pregled'!$I$7:$I$788,'Plan unos i pregled'!$B$7:$B$788,'PLAN Rekapitulacija'!$N$7,'Plan unos i pregled'!$M$7:$M$788,'PLAN Rekapitulacija'!$N$6, 'Plan unos i pregled'!$E$7:$E$788,'PLAN Rekapitulacija'!$B280, 'Plan unos i pregled'!$C$7:$C$788,'PLAN Rekapitulacija'!G$4, 'Plan unos i pregled'!$A$7:$A$788,$D$3)","v":0},{"$f":"SUMIFS('Plan unos i pregled'!$I$7:$I$788,'Plan unos i pregled'!$B$7:$B$788,'PLAN Rekapitulacija'!$N$7,'Plan unos i pregled'!$M$7:$M$788,'PLAN Rekapitulacija'!$N$6, 'Plan unos i pregled'!$E$7:$E$788,'PLAN Rekapitulacija'!$B280, 'Plan unos i pregled'!$C$7:$C$788,'PLAN Rekapitulacija'!H$4, 'Plan unos i pregled'!$A$7:$A$788,$D$3)","v":0},{"$f":"SUMIFS('Plan unos i pregled'!$I$7:$I$788,'Plan unos i pregled'!$B$7:$B$788,'PLAN Rekapitulacija'!$N$7,'Plan unos i pregled'!$M$7:$M$788,'PLAN Rekapitulacija'!$N$6, 'Plan unos i pregled'!$E$7:$E$788,'PLAN Rekapitulacija'!$B280, 'Plan unos i pregled'!$C$7:$C$788,'PLAN Rekapitulacija'!I$4, 'Plan unos i pregled'!$A$7:$A$788,$D$3)","v":0},0,0]
[{"$f":"IF(OR(J281:K283),\"штампа\",\"не\")","v":"не"},"11.8","Утоваривач JCB \"Robot 150\" ",null,0]
["не","11.8.1","Цена за рад","час",3680,{"$f":"SUMIFS('Plan unos i pregled'!$I$7:$I$788,'Plan unos i pregled'!$B$7:$B$788,'PLAN Rekapitulacija'!$N$7,'Plan unos i pregled'!$M$7:$M$788,'PLAN Rekapitulacija'!$N$6, 'Plan unos i pregled'!$E$7:$E$788,'PLAN Rekapitulacija'!$B282, 'Plan unos i pregled'!$C$7:$C$788,'PLAN Rekapitulacija'!F$4, 'Plan unos i pregled'!$A$7:$A$788,$D$3)","v":0},{"$f":"SUMIFS('Plan unos i pregled'!$I$7:$I$788,'Plan unos i pregled'!$B$7:$B$788,'PLAN Rekapitulacija'!$N$7,'Plan unos i pregled'!$M$7:$M$788,'PLAN Rekapitulacija'!$N$6, 'Plan unos i pregled'!$E$7:$E$788,'PLAN Rekapitulacija'!$B282, 'Plan unos i pregled'!$C$7:$C$788,'PLAN Rekapitulacija'!G$4, 'Plan unos i pregled'!$A$7:$A$788,$D$3)","v":0},{"$f":"SUMIFS('Plan unos i pregled'!$I$7:$I$788,'Plan unos i pregled'!$B$7:$B$788,'PLAN Rekapitulacija'!$N$7,'Plan unos i pregled'!$M$7:$M$788,'PLAN Rekapitulacija'!$N$6, 'Plan unos i pregled'!$E$7:$E$788,'PLAN Rekapitulacija'!$B282, 'Plan unos i pregled'!$C$7:$C$788,'PLAN Rekapitulacija'!H$4, 'Plan unos i pregled'!$A$7:$A$788,$D$3)","v":0},{"$f":"SUMIFS('Plan unos i pregled'!$I$7:$I$788,'Plan unos i pregled'!$B$7:$B$788,'PLAN Rekapitulacija'!$N$7,'Plan unos i pregled'!$M$7:$M$788,'PLAN Rekapitulacija'!$N$6, 'Plan unos i pregled'!$E$7:$E$788,'PLAN Rekapitulacija'!$B282, 'Plan unos i pregled'!$C$7:$C$788,'PLAN Rekapitulacija'!I$4, 'Plan unos i pregled'!$A$7:$A$788,$D$3)","v":0},{"$f":"SUM(F282:I282)","v":0},{"$f":"ROUND(E282*J282,2)","v":0}]
["не","11.8.2","цена за чекање","час",2070,{"$f":"SUMIFS('Plan unos i pregled'!$I$7:$I$788,'Plan unos i pregled'!$B$7:$B$788,'PLAN Rekapitulacija'!$N$7,'Plan unos i pregled'!$M$7:$M$788,'PLAN Rekapitulacija'!$N$6, 'Plan unos i pregled'!$E$7:$E$788,'PLAN Rekapitulacija'!$B283, 'Plan unos i pregled'!$C$7:$C$788,'PLAN Rekapitulacija'!F$4, 'Plan unos i pregled'!$A$7:$A$788,$D$3)","v":0},{"$f":"SUMIFS('Plan unos i pregled'!$I$7:$I$788,'Plan unos i pregled'!$B$7:$B$788,'PLAN Rekapitulacija'!$N$7,'Plan unos i pregled'!$M$7:$M$788,'PLAN Rekapitulacija'!$N$6, 'Plan unos i pregled'!$E$7:$E$788,'PLAN Rekapitulacija'!$B283, 'Plan unos i pregled'!$C$7:$C$788,'PLAN Rekapitulacija'!G$4, 'Plan unos i pregled'!$A$7:$A$788,$D$3)","v":0},{"$f":"SUMIFS('Plan unos i pregled'!$I$7:$I$788,'Plan unos i pregled'!$B$7:$B$788,'PLAN Rekapitulacija'!$N$7,'Plan unos i pregled'!$M$7:$M$788,'PLAN Rekapitulacija'!$N$6, 'Plan unos i pregled'!$E$7:$E$788,'PLAN Rekapitulacija'!$B283, 'Plan unos i pregled'!$C$7:$C$788,'PLAN Rekapitulacija'!H$4, 'Plan unos i pregled'!$A$7:$A$788,$D$3)","v":0},{"$f":"SUMIFS('Plan unos i pregled'!$I$7:$I$788,'Plan unos i pregled'!$B$7:$B$788,'PLAN Rekapitulacija'!$N$7,'Plan unos i pregled'!$M$7:$M$788,'PLAN Rekapitulacija'!$N$6, 'Plan unos i pregled'!$E$7:$E$788,'PLAN Rekapitulacija'!$B283, 'Plan unos i pregled'!$C$7:$C$788,'PLAN Rekapitulacija'!I$4, 'Plan unos i pregled'!$A$7:$A$788,$D$3)","v":0},0,0]
["не","11.9","Камион ТАМ 80 путар, GAZ","km",161,{"$f":"SUMIFS('Plan unos i pregled'!$I$7:$I$788,'Plan unos i pregled'!$B$7:$B$788,'PLAN Rekapitulacija'!$N$7,'Plan unos i pregled'!$M$7:$M$788,'PLAN Rekapitulacija'!$N$6, 'Plan unos i pregled'!$E$7:$E$788,'PLAN Rekapitulacija'!$B284, 'Plan unos i pregled'!$C$7:$C$788,'PLAN Rekapitulacija'!F$4, 'Plan unos i pregled'!$A$7:$A$788,$D$3)","v":0},{"$f":"SUMIFS('Plan unos i pregled'!$I$7:$I$788,'Plan unos i pregled'!$B$7:$B$788,'PLAN Rekapitulacija'!$N$7,'Plan unos i pregled'!$M$7:$M$788,'PLAN Rekapitulacija'!$N$6, 'Plan unos i pregled'!$E$7:$E$788,'PLAN Rekapitulacija'!$B284, 'Plan unos i pregled'!$C$7:$C$788,'PLAN Rekapitulacija'!G$4, 'Plan unos i pregled'!$A$7:$A$788,$D$3)","v":0},{"$f":"SUMIFS('Plan unos i pregled'!$I$7:$I$788,'Plan unos i pregled'!$B$7:$B$788,'PLAN Rekapitulacija'!$N$7,'Plan unos i pregled'!$M$7:$M$788,'PLAN Rekapitulacija'!$N$6, 'Plan unos i pregled'!$E$7:$E$788,'PLAN Rekapitulacija'!$B284, 'Plan unos i pregled'!$C$7:$C$788,'PLAN Rekapitulacija'!H$4, 'Plan unos i pregled'!$A$7:$A$788,$D$3)","v":0},{"$f":"SUMIFS('Plan unos i pregled'!$I$7:$I$788,'Plan unos i pregled'!$B$7:$B$788,'PLAN Rekapitulacija'!$N$7,'Plan unos i pregled'!$M$7:$M$788,'PLAN Rekapitulacija'!$N$6, 'Plan unos i pregled'!$E$7:$E$788,'PLAN Rekapitulacija'!$B284, 'Plan unos i pregled'!$C$7:$C$788,'PLAN Rekapitulacija'!I$4, 'Plan unos i pregled'!$A$7:$A$788,$D$3)","v":0},0,0]
["не","11.10","Ротациони багер гусеничар JCB ","час",6900,{"$f":"SUMIFS('Plan unos i pregled'!$I$7:$I$788,'Plan unos i pregled'!$B$7:$B$788,'PLAN Rekapitulacija'!$N$7,'Plan unos i pregled'!$M$7:$M$788,'PLAN Rekapitulacija'!$N$6, 'Plan unos i pregled'!$E$7:$E$788,'PLAN Rekapitulacija'!$B285, 'Plan unos i pregled'!$C$7:$C$788,'PLAN Rekapitulacija'!F$4, 'Plan unos i pregled'!$A$7:$A$788,$D$3)","v":0},{"$f":"SUMIFS('Plan unos i pregled'!$I$7:$I$788,'Plan unos i pregled'!$B$7:$B$788,'PLAN Rekapitulacija'!$N$7,'Plan unos i pregled'!$M$7:$M$788,'PLAN Rekapitulacija'!$N$6, 'Plan unos i pregled'!$E$7:$E$788,'PLAN Rekapitulacija'!$B285, 'Plan unos i pregled'!$C$7:$C$788,'PLAN Rekapitulacija'!G$4, 'Plan unos i pregled'!$A$7:$A$788,$D$3)","v":0},{"$f":"SUMIFS('Plan unos i pregled'!$I$7:$I$788,'Plan unos i pregled'!$B$7:$B$788,'PLAN Rekapitulacija'!$N$7,'Plan unos i pregled'!$M$7:$M$788,'PLAN Rekapitulacija'!$N$6, 'Plan unos i pregled'!$E$7:$E$788,'PLAN Rekapitulacija'!$B285, 'Plan unos i pregled'!$C$7:$C$788,'PLAN Rekapitulacija'!H$4, 'Plan unos i pregled'!$A$7:$A$788,$D$3)","v":0},{"$f":"SUMIFS('Plan unos i pregled'!$I$7:$I$788,'Plan unos i pregled'!$B$7:$B$788,'PLAN Rekapitulacija'!$N$7,'Plan unos i pregled'!$M$7:$M$788,'PLAN Rekapitulacija'!$N$6, 'Plan unos i pregled'!$E$7:$E$788,'PLAN Rekapitulacija'!$B285, 'Plan unos i pregled'!$C$7:$C$788,'PLAN Rekapitulacija'!I$4, 'Plan unos i pregled'!$A$7:$A$788,$D$3)","v":0},0,0]
["не","11.11","Ротациони багер гусеничар JCB - ископ земље у материјалу III и IV категорије са одбацивањем у страну за формирање обала. Делимичан рад у мокром","m3",237.75,{"$f":"SUMIFS('Plan unos i pregled'!$I$7:$I$788,'Plan unos i pregled'!$B$7:$B$788,'PLAN Rekapitulacija'!$N$7,'Plan unos i pregled'!$M$7:$M$788,'PLAN Rekapitulacija'!$N$6, 'Plan unos i pregled'!$E$7:$E$788,'PLAN Rekapitulacija'!$B286, 'Plan unos i pregled'!$C$7:$C$788,'PLAN Rekapitulacija'!F$4, 'Plan unos i pregled'!$A$7:$A$788,$D$3)","v":0},{"$f":"SUMIFS('Plan unos i pregled'!$I$7:$I$788,'Plan unos i pregled'!$B$7:$B$788,'PLAN Rekapitulacija'!$N$7,'Plan unos i pregled'!$M$7:$M$788,'PLAN Rekapitulacija'!$N$6, 'Plan unos i pregled'!$E$7:$E$788,'PLAN Rekapitulacija'!$B286, 'Plan unos i pregled'!$C$7:$C$788,'PLAN Rekapitulacija'!G$4, 'Plan unos i pregled'!$A$7:$A$788,$D$3)","v":0},{"$f":"SUMIFS('Plan unos i pregled'!$I$7:$I$788,'Plan unos i pregled'!$B$7:$B$788,'PLAN Rekapitulacija'!$N$7,'Plan unos i pregled'!$M$7:$M$788,'PLAN Rekapitulacija'!$N$6, 'Plan unos i pregled'!$E$7:$E$788,'PLAN Rekapitulacija'!$B286, 'Plan unos i pregled'!$C$7:$C$788,'PLAN Rekapitulacija'!H$4, 'Plan unos i pregled'!$A$7:$A$788,$D$3)","v":0},{"$f":"SUMIFS('Plan unos i pregled'!$I$7:$I$788,'Plan unos i pregled'!$B$7:$B$788,'PLAN Rekapitulacija'!$N$7,'Plan unos i pregled'!$M$7:$M$788,'PLAN Rekapitulacija'!$N$6, 'Plan unos i pregled'!$E$7:$E$788,'PLAN Rekapitulacija'!$B286, 'Plan unos i pregled'!$C$7:$C$788,'PLAN Rekapitulacija'!I$4, 'Plan unos i pregled'!$A$7:$A$788,$D$3)","v":0},0,0]
["не","11.12","Ротациони багер гусеничар JCB машинско разастирање до 30м предходно ископаног материјала, насип материјала (обала) са планирањем ","m3",97.75,{"$f":"SUMIFS('Plan unos i pregled'!$I$7:$I$788,'Plan unos i pregled'!$B$7:$B$788,'PLAN Rekapitulacija'!$N$7,'Plan unos i pregled'!$M$7:$M$788,'PLAN Rekapitulacija'!$N$6, 'Plan unos i pregled'!$E$7:$E$788,'PLAN Rekapitulacija'!$B287, 'Plan unos i pregled'!$C$7:$C$788,'PLAN Rekapitulacija'!F$4, 'Plan unos i pregled'!$A$7:$A$788,$D$3)","v":0},{"$f":"SUMIFS('Plan unos i pregled'!$I$7:$I$788,'Plan unos i pregled'!$B$7:$B$788,'PLAN Rekapitulacija'!$N$7,'Plan unos i pregled'!$M$7:$M$788,'PLAN Rekapitulacija'!$N$6, 'Plan unos i pregled'!$E$7:$E$788,'PLAN Rekapitulacija'!$B287, 'Plan unos i pregled'!$C$7:$C$788,'PLAN Rekapitulacija'!G$4, 'Plan unos i pregled'!$A$7:$A$788,$D$3)","v":0},{"$f":"SUMIFS('Plan unos i pregled'!$I$7:$I$788,'Plan unos i pregled'!$B$7:$B$788,'PLAN Rekapitulacija'!$N$7,'Plan unos i pregled'!$M$7:$M$788,'PLAN Rekapitulacija'!$N$6, 'Plan unos i pregled'!$E$7:$E$788,'PLAN Rekapitulacija'!$B287, 'Plan unos i pregled'!$C$7:$C$788,'PLAN Rekapitulacija'!H$4, 'Plan unos i pregled'!$A$7:$A$788,$D$3)","v":0},{"$f":"SUMIFS('Plan unos i pregled'!$I$7:$I$788,'Plan unos i pregled'!$B$7:$B$788,'PLAN Rekapitulacija'!$N$7,'Plan unos i pregled'!$M$7:$M$788,'PLAN Rekapitulacija'!$N$6, 'Plan unos i pregled'!$E$7:$E$788,'PLAN Rekapitulacija'!$B287, 'Plan unos i pregled'!$C$7:$C$788,'PLAN Rekapitulacija'!I$4, 'Plan unos i pregled'!$A$7:$A$788,$D$3)","v":0},0,0]
["не","11.13","Ротациони багер гусеничар JCB машински ископ са депоније, утовар у возило","m3",287.5,{"$f":"SUMIFS('Plan unos i pregled'!$I$7:$I$788,'Plan unos i pregled'!$B$7:$B$788,'PLAN Rekapitulacija'!$N$7,'Plan unos i pregled'!$M$7:$M$788,'PLAN Rekapitulacija'!$N$6, 'Plan unos i pregled'!$E$7:$E$788,'PLAN Rekapitulacija'!$B288, 'Plan unos i pregled'!$C$7:$C$788,'PLAN Rekapitulacija'!F$4, 'Plan unos i pregled'!$A$7:$A$788,$D$3)","v":0},{"$f":"SUMIFS('Plan unos i pregled'!$I$7:$I$788,'Plan unos i pregled'!$B$7:$B$788,'PLAN Rekapitulacija'!$N$7,'Plan unos i pregled'!$M$7:$M$788,'PLAN Rekapitulacija'!$N$6, 'Plan unos i pregled'!$E$7:$E$788,'PLAN Rekapitulacija'!$B288, 'Plan unos i pregled'!$C$7:$C$788,'PLAN Rekapitulacija'!G$4, 'Plan unos i pregled'!$A$7:$A$788,$D$3)","v":0},{"$f":"SUMIFS('Plan unos i pregled'!$I$7:$I$788,'Plan unos i pregled'!$B$7:$B$788,'PLAN Rekapitulacija'!$N$7,'Plan unos i pregled'!$M$7:$M$788,'PLAN Rekapitulacija'!$N$6, 'Plan unos i pregled'!$E$7:$E$788,'PLAN Rekapitulacija'!$B288, 'Plan unos i pregled'!$C$7:$C$788,'PLAN Rekapitulacija'!H$4, 'Plan unos i pregled'!$A$7:$A$788,$D$3)","v":0},{"$f":"SUMIFS('Plan unos i pregled'!$I$7:$I$788,'Plan unos i pregled'!$B$7:$B$788,'PLAN Rekapitulacija'!$N$7,'Plan unos i pregled'!$M$7:$M$788,'PLAN Rekapitulacija'!$N$6, 'Plan unos i pregled'!$E$7:$E$788,'PLAN Rekapitulacija'!$B288, 'Plan unos i pregled'!$C$7:$C$788,'PLAN Rekapitulacija'!I$4, 'Plan unos i pregled'!$A$7:$A$788,$D$3)","v":0},0,0]
["не","11.14","Нисконосећа приколица са камионом (200+160)","km",414,{"$f":"SUMIFS('Plan unos i pregled'!$I$7:$I$788,'Plan unos i pregled'!$B$7:$B$788,'PLAN Rekapitulacija'!$N$7,'Plan unos i pregled'!$M$7:$M$788,'PLAN Rekapitulacija'!$N$6, 'Plan unos i pregled'!$E$7:$E$788,'PLAN Rekapitulacija'!$B289, 'Plan unos i pregled'!$C$7:$C$788,'PLAN Rekapitulacija'!F$4, 'Plan unos i pregled'!$A$7:$A$788,$D$3)","v":0},{"$f":"SUMIFS('Plan unos i pregled'!$I$7:$I$788,'Plan unos i pregled'!$B$7:$B$788,'PLAN Rekapitulacija'!$N$7,'Plan unos i pregled'!$M$7:$M$788,'PLAN Rekapitulacija'!$N$6, 'Plan unos i pregled'!$E$7:$E$788,'PLAN Rekapitulacija'!$B289, 'Plan unos i pregled'!$C$7:$C$788,'PLAN Rekapitulacija'!G$4, 'Plan unos i pregled'!$A$7:$A$788,$D$3)","v":0},{"$f":"SUMIFS('Plan unos i pregled'!$I$7:$I$788,'Plan unos i pregled'!$B$7:$B$788,'PLAN Rekapitulacija'!$N$7,'Plan unos i pregled'!$M$7:$M$788,'PLAN Rekapitulacija'!$N$6, 'Plan unos i pregled'!$E$7:$E$788,'PLAN Rekapitulacija'!$B289, 'Plan unos i pregled'!$C$7:$C$788,'PLAN Rekapitulacija'!H$4, 'Plan unos i pregled'!$A$7:$A$788,$D$3)","v":0},{"$f":"SUMIFS('Plan unos i pregled'!$I$7:$I$788,'Plan unos i pregled'!$B$7:$B$788,'PLAN Rekapitulacija'!$N$7,'Plan unos i pregled'!$M$7:$M$788,'PLAN Rekapitulacija'!$N$6, 'Plan unos i pregled'!$E$7:$E$788,'PLAN Rekapitulacija'!$B289, 'Plan unos i pregled'!$C$7:$C$788,'PLAN Rekapitulacija'!I$4, 'Plan unos i pregled'!$A$7:$A$788,$D$3)","v":0},0,0]
["не","11.15","Fiat panda, Lada Niva, Volkswagen, Caddy,  Peugeot 407","km",80.5,{"$f":"SUMIFS('Plan unos i pregled'!$I$7:$I$788,'Plan unos i pregled'!$B$7:$B$788,'PLAN Rekapitulacija'!$N$7,'Plan unos i pregled'!$M$7:$M$788,'PLAN Rekapitulacija'!$N$6, 'Plan unos i pregled'!$E$7:$E$788,'PLAN Rekapitulacija'!$B290, 'Plan unos i pregled'!$C$7:$C$788,'PLAN Rekapitulacija'!F$4, 'Plan unos i pregled'!$A$7:$A$788,$D$3)","v":0},{"$f":"SUMIFS('Plan unos i pregled'!$I$7:$I$788,'Plan unos i pregled'!$B$7:$B$788,'PLAN Rekapitulacija'!$N$7,'Plan unos i pregled'!$M$7:$M$788,'PLAN Rekapitulacija'!$N$6, 'Plan unos i pregled'!$E$7:$E$788,'PLAN Rekapitulacija'!$B290, 'Plan unos i pregled'!$C$7:$C$788,'PLAN Rekapitulacija'!G$4, 'Plan unos i pregled'!$A$7:$A$788,$D$3)","v":0},{"$f":"SUMIFS('Plan unos i pregled'!$I$7:$I$788,'Plan unos i pregled'!$B$7:$B$788,'PLAN Rekapitulacija'!$N$7,'Plan unos i pregled'!$M$7:$M$788,'PLAN Rekapitulacija'!$N$6, 'Plan unos i pregled'!$E$7:$E$788,'PLAN Rekapitulacija'!$B290, 'Plan unos i pregled'!$C$7:$C$788,'PLAN Rekapitulacija'!H$4, 'Plan unos i pregled'!$A$7:$A$788,$D$3)","v":0},{"$f":"SUMIFS('Plan unos i pregled'!$I$7:$I$788,'Plan unos i pregled'!$B$7:$B$788,'PLAN Rekapitulacija'!$N$7,'Plan unos i pregled'!$M$7:$M$788,'PLAN Rekapitulacija'!$N$6, 'Plan unos i pregled'!$E$7:$E$788,'PLAN Rekapitulacija'!$B290, 'Plan unos i pregled'!$C$7:$C$788,'PLAN Rekapitulacija'!I$4, 'Plan unos i pregled'!$A$7:$A$788,$D$3)","v":0},0,0]
["не","11.16","Моторни телескоп-пецаљка","час",1932,{"$f":"SUMIFS('Plan unos i pregled'!$I$7:$I$788,'Plan unos i pregled'!$B$7:$B$788,'PLAN Rekapitulacija'!$N$7,'Plan unos i pregled'!$M$7:$M$788,'PLAN Rekapitulacija'!$N$6, 'Plan unos i pregled'!$E$7:$E$788,'PLAN Rekapitulacija'!$B291, 'Plan unos i pregled'!$C$7:$C$788,'PLAN Rekapitulacija'!F$4, 'Plan unos i pregled'!$A$7:$A$788,$D$3)","v":0},{"$f":"SUMIFS('Plan unos i pregled'!$I$7:$I$788,'Plan unos i pregled'!$B$7:$B$788,'PLAN Rekapitulacija'!$N$7,'Plan unos i pregled'!$M$7:$M$788,'PLAN Rekapitulacija'!$N$6, 'Plan unos i pregled'!$E$7:$E$788,'PLAN Rekapitulacija'!$B291, 'Plan unos i pregled'!$C$7:$C$788,'PLAN Rekapitulacija'!G$4, 'Plan unos i pregled'!$A$7:$A$788,$D$3)","v":0},{"$f":"SUMIFS('Plan unos i pregled'!$I$7:$I$788,'Plan unos i pregled'!$B$7:$B$788,'PLAN Rekapitulacija'!$N$7,'Plan unos i pregled'!$M$7:$M$788,'PLAN Rekapitulacija'!$N$6, 'Plan unos i pregled'!$E$7:$E$788,'PLAN Rekapitulacija'!$B291, 'Plan unos i pregled'!$C$7:$C$788,'PLAN Rekapitulacija'!H$4, 'Plan unos i pregled'!$A$7:$A$788,$D$3)","v":0},{"$f":"SUMIFS('Plan unos i pregled'!$I$7:$I$788,'Plan unos i pregled'!$B$7:$B$788,'PLAN Rekapitulacija'!$N$7,'Plan unos i pregled'!$M$7:$M$788,'PLAN Rekapitulacija'!$N$6, 'Plan unos i pregled'!$E$7:$E$788,'PLAN Rekapitulacija'!$B291, 'Plan unos i pregled'!$C$7:$C$788,'PLAN Rekapitulacija'!I$4, 'Plan unos i pregled'!$A$7:$A$788,$D$3)","v":0},0,0]
[{"$f":"IF(OR(J292:K292),\"штампа\",\"не\")","v":"не"},"11.17","Вибро плоча","час",2875,{"$f":"SUMIFS('Plan unos i pregled'!$I$7:$I$788,'Plan unos i pregled'!$B$7:$B$788,'PLAN Rekapitulacija'!$N$7,'Plan unos i pregled'!$M$7:$M$788,'PLAN Rekapitulacija'!$N$6, 'Plan unos i pregled'!$E$7:$E$788,'PLAN Rekapitulacija'!$B292, 'Plan unos i pregled'!$C$7:$C$788,'PLAN Rekapitulacija'!F$4, 'Plan unos i pregled'!$A$7:$A$788,$D$3)","v":0},{"$f":"SUMIFS('Plan unos i pregled'!$I$7:$I$788,'Plan unos i pregled'!$B$7:$B$788,'PLAN Rekapitulacija'!$N$7,'Plan unos i pregled'!$M$7:$M$788,'PLAN Rekapitulacija'!$N$6, 'Plan unos i pregled'!$E$7:$E$788,'PLAN Rekapitulacija'!$B292, 'Plan unos i pregled'!$C$7:$C$788,'PLAN Rekapitulacija'!G$4, 'Plan unos i pregled'!$A$7:$A$788,$D$3)","v":0},{"$f":"SUMIFS('Plan unos i pregled'!$I$7:$I$788,'Plan unos i pregled'!$B$7:$B$788,'PLAN Rekapitulacija'!$N$7,'Plan unos i pregled'!$M$7:$M$788,'PLAN Rekapitulacija'!$N$6, 'Plan unos i pregled'!$E$7:$E$788,'PLAN Rekapitulacija'!$B292, 'Plan unos i pregled'!$C$7:$C$788,'PLAN Rekapitulacija'!H$4, 'Plan unos i pregled'!$A$7:$A$788,$D$3)","v":0},{"$f":"SUMIFS('Plan unos i pregled'!$I$7:$I$788,'Plan unos i pregled'!$B$7:$B$788,'PLAN Rekapitulacija'!$N$7,'Plan unos i pregled'!$M$7:$M$788,'PLAN Rekapitulacija'!$N$6, 'Plan unos i pregled'!$E$7:$E$788,'PLAN Rekapitulacija'!$B292, 'Plan unos i pregled'!$C$7:$C$788,'PLAN Rekapitulacija'!I$4, 'Plan unos i pregled'!$A$7:$A$788,$D$3)","v":0},0,0]
["не","11.18","Аутогено заваривање (по вару)","ком",908.5,{"$f":"SUMIFS('Plan unos i pregled'!$I$7:$I$788,'Plan unos i pregled'!$B$7:$B$788,'PLAN Rekapitulacija'!$N$7,'Plan unos i pregled'!$M$7:$M$788,'PLAN Rekapitulacija'!$N$6, 'Plan unos i pregled'!$E$7:$E$788,'PLAN Rekapitulacija'!$B293, 'Plan unos i pregled'!$C$7:$C$788,'PLAN Rekapitulacija'!F$4, 'Plan unos i pregled'!$A$7:$A$788,$D$3)","v":0},{"$f":"SUMIFS('Plan unos i pregled'!$I$7:$I$788,'Plan unos i pregled'!$B$7:$B$788,'PLAN Rekapitulacija'!$N$7,'Plan unos i pregled'!$M$7:$M$788,'PLAN Rekapitulacija'!$N$6, 'Plan unos i pregled'!$E$7:$E$788,'PLAN Rekapitulacija'!$B293, 'Plan unos i pregled'!$C$7:$C$788,'PLAN Rekapitulacija'!G$4, 'Plan unos i pregled'!$A$7:$A$788,$D$3)","v":0},{"$f":"SUMIFS('Plan unos i pregled'!$I$7:$I$788,'Plan unos i pregled'!$B$7:$B$788,'PLAN Rekapitulacija'!$N$7,'Plan unos i pregled'!$M$7:$M$788,'PLAN Rekapitulacija'!$N$6, 'Plan unos i pregled'!$E$7:$E$788,'PLAN Rekapitulacija'!$B293, 'Plan unos i pregled'!$C$7:$C$788,'PLAN Rekapitulacija'!H$4, 'Plan unos i pregled'!$A$7:$A$788,$D$3)","v":0},{"$f":"SUMIFS('Plan unos i pregled'!$I$7:$I$788,'Plan unos i pregled'!$B$7:$B$788,'PLAN Rekapitulacija'!$N$7,'Plan unos i pregled'!$M$7:$M$788,'PLAN Rekapitulacija'!$N$6, 'Plan unos i pregled'!$E$7:$E$788,'PLAN Rekapitulacija'!$B293, 'Plan unos i pregled'!$C$7:$C$788,'PLAN Rekapitulacija'!I$4, 'Plan unos i pregled'!$A$7:$A$788,$D$3)","v":0},0,0]
["не","11.19","Електрична варилица (по вару)","ком",1138.5,{"$f":"SUMIFS('Plan unos i pregled'!$I$7:$I$788,'Plan unos i pregled'!$B$7:$B$788,'PLAN Rekapitulacija'!$N$7,'Plan unos i pregled'!$M$7:$M$788,'PLAN Rekapitulacija'!$N$6, 'Plan unos i pregled'!$E$7:$E$788,'PLAN Rekapitulacija'!$B294, 'Plan unos i pregled'!$C$7:$C$788,'PLAN Rekapitulacija'!F$4, 'Plan unos i pregled'!$A$7:$A$788,$D$3)","v":0},{"$f":"SUMIFS('Plan unos i pregled'!$I$7:$I$788,'Plan unos i pregled'!$B$7:$B$788,'PLAN Rekapitulacija'!$N$7,'Plan unos i pregled'!$M$7:$M$788,'PLAN Rekapitulacija'!$N$6, 'Plan unos i pregled'!$E$7:$E$788,'PLAN Rekapitulacija'!$B294, 'Plan unos i pregled'!$C$7:$C$788,'PLAN Rekapitulacija'!G$4, 'Plan unos i pregled'!$A$7:$A$788,$D$3)","v":0},{"$f":"SUMIFS('Plan unos i pregled'!$I$7:$I$788,'Plan unos i pregled'!$B$7:$B$788,'PLAN Rekapitulacija'!$N$7,'Plan unos i pregled'!$M$7:$M$788,'PLAN Rekapitulacija'!$N$6, 'Plan unos i pregled'!$E$7:$E$788,'PLAN Rekapitulacija'!$B294, 'Plan unos i pregled'!$C$7:$C$788,'PLAN Rekapitulacija'!H$4, 'Plan unos i pregled'!$A$7:$A$788,$D$3)","v":0},{"$f":"SUMIFS('Plan unos i pregled'!$I$7:$I$788,'Plan unos i pregled'!$B$7:$B$788,'PLAN Rekapitulacija'!$N$7,'Plan unos i pregled'!$M$7:$M$788,'PLAN Rekapitulacija'!$N$6, 'Plan unos i pregled'!$E$7:$E$788,'PLAN Rekapitulacija'!$B294, 'Plan unos i pregled'!$C$7:$C$788,'PLAN Rekapitulacija'!I$4, 'Plan unos i pregled'!$A$7:$A$788,$D$3)","v":0},0,0]
["не","11.20","Секачица за бетон","m",322,{"$f":"SUMIFS('Plan unos i pregled'!$I$7:$I$788,'Plan unos i pregled'!$B$7:$B$788,'PLAN Rekapitulacija'!$N$7,'Plan unos i pregled'!$M$7:$M$788,'PLAN Rekapitulacija'!$N$6, 'Plan unos i pregled'!$E$7:$E$788,'PLAN Rekapitulacija'!$B295, 'Plan unos i pregled'!$C$7:$C$788,'PLAN Rekapitulacija'!F$4, 'Plan unos i pregled'!$A$7:$A$788,$D$3)","v":0},{"$f":"SUMIFS('Plan unos i pregled'!$I$7:$I$788,'Plan unos i pregled'!$B$7:$B$788,'PLAN Rekapitulacija'!$N$7,'Plan unos i pregled'!$M$7:$M$788,'PLAN Rekapitulacija'!$N$6, 'Plan unos i pregled'!$E$7:$E$788,'PLAN Rekapitulacija'!$B295, 'Plan unos i pregled'!$C$7:$C$788,'PLAN Rekapitulacija'!G$4, 'Plan unos i pregled'!$A$7:$A$788,$D$3)","v":0},{"$f":"SUMIFS('Plan unos i pregled'!$I$7:$I$788,'Plan unos i pregled'!$B$7:$B$788,'PLAN Rekapitulacija'!$N$7,'Plan unos i pregled'!$M$7:$M$788,'PLAN Rekapitulacija'!$N$6, 'Plan unos i pregled'!$E$7:$E$788,'PLAN Rekapitulacija'!$B295, 'Plan unos i pregled'!$C$7:$C$788,'PLAN Rekapitulacija'!H$4, 'Plan unos i pregled'!$A$7:$A$788,$D$3)","v":0},{"$f":"SUMIFS('Plan unos i pregled'!$I$7:$I$788,'Plan unos i pregled'!$B$7:$B$788,'PLAN Rekapitulacija'!$N$7,'Plan unos i pregled'!$M$7:$M$788,'PLAN Rekapitulacija'!$N$6, 'Plan unos i pregled'!$E$7:$E$788,'PLAN Rekapitulacija'!$B295, 'Plan unos i pregled'!$C$7:$C$788,'PLAN Rekapitulacija'!I$4, 'Plan unos i pregled'!$A$7:$A$788,$D$3)","v":0},0,0]
["не","11.21","Секачица за асфалт","m",284.5,{"$f":"SUMIFS('Plan unos i pregled'!$I$7:$I$788,'Plan unos i pregled'!$B$7:$B$788,'PLAN Rekapitulacija'!$N$7,'Plan unos i pregled'!$M$7:$M$788,'PLAN Rekapitulacija'!$N$6, 'Plan unos i pregled'!$E$7:$E$788,'PLAN Rekapitulacija'!$B296, 'Plan unos i pregled'!$C$7:$C$788,'PLAN Rekapitulacija'!F$4, 'Plan unos i pregled'!$A$7:$A$788,$D$3)","v":0},{"$f":"SUMIFS('Plan unos i pregled'!$I$7:$I$788,'Plan unos i pregled'!$B$7:$B$788,'PLAN Rekapitulacija'!$N$7,'Plan unos i pregled'!$M$7:$M$788,'PLAN Rekapitulacija'!$N$6, 'Plan unos i pregled'!$E$7:$E$788,'PLAN Rekapitulacija'!$B296, 'Plan unos i pregled'!$C$7:$C$788,'PLAN Rekapitulacija'!G$4, 'Plan unos i pregled'!$A$7:$A$788,$D$3)","v":0},{"$f":"SUMIFS('Plan unos i pregled'!$I$7:$I$788,'Plan unos i pregled'!$B$7:$B$788,'PLAN Rekapitulacija'!$N$7,'Plan unos i pregled'!$M$7:$M$788,'PLAN Rekapitulacija'!$N$6, 'Plan unos i pregled'!$E$7:$E$788,'PLAN Rekapitulacija'!$B296, 'Plan unos i pregled'!$C$7:$C$788,'PLAN Rekapitulacija'!H$4, 'Plan unos i pregled'!$A$7:$A$788,$D$3)","v":0},{"$f":"SUMIFS('Plan unos i pregled'!$I$7:$I$788,'Plan unos i pregled'!$B$7:$B$788,'PLAN Rekapitulacija'!$N$7,'Plan unos i pregled'!$M$7:$M$788,'PLAN Rekapitulacija'!$N$6, 'Plan unos i pregled'!$E$7:$E$788,'PLAN Rekapitulacija'!$B296, 'Plan unos i pregled'!$C$7:$C$788,'PLAN Rekapitulacija'!I$4, 'Plan unos i pregled'!$A$7:$A$788,$D$3)","v":0},0,0]
["не","11.22","Агрегат 6 кw","час",3565,{"$f":"SUMIFS('Plan unos i pregled'!$I$7:$I$788,'Plan unos i pregled'!$B$7:$B$788,'PLAN Rekapitulacija'!$N$7,'Plan unos i pregled'!$M$7:$M$788,'PLAN Rekapitulacija'!$N$6, 'Plan unos i pregled'!$E$7:$E$788,'PLAN Rekapitulacija'!$B297, 'Plan unos i pregled'!$C$7:$C$788,'PLAN Rekapitulacija'!F$4, 'Plan unos i pregled'!$A$7:$A$788,$D$3)","v":0},{"$f":"SUMIFS('Plan unos i pregled'!$I$7:$I$788,'Plan unos i pregled'!$B$7:$B$788,'PLAN Rekapitulacija'!$N$7,'Plan unos i pregled'!$M$7:$M$788,'PLAN Rekapitulacija'!$N$6, 'Plan unos i pregled'!$E$7:$E$788,'PLAN Rekapitulacija'!$B297, 'Plan unos i pregled'!$C$7:$C$788,'PLAN Rekapitulacija'!G$4, 'Plan unos i pregled'!$A$7:$A$788,$D$3)","v":0},{"$f":"SUMIFS('Plan unos i pregled'!$I$7:$I$788,'Plan unos i pregled'!$B$7:$B$788,'PLAN Rekapitulacija'!$N$7,'Plan unos i pregled'!$M$7:$M$788,'PLAN Rekapitulacija'!$N$6, 'Plan unos i pregled'!$E$7:$E$788,'PLAN Rekapitulacija'!$B297, 'Plan unos i pregled'!$C$7:$C$788,'PLAN Rekapitulacija'!H$4, 'Plan unos i pregled'!$A$7:$A$788,$D$3)","v":0},{"$f":"SUMIFS('Plan unos i pregled'!$I$7:$I$788,'Plan unos i pregled'!$B$7:$B$788,'PLAN Rekapitulacija'!$N$7,'Plan unos i pregled'!$M$7:$M$788,'PLAN Rekapitulacija'!$N$6, 'Plan unos i pregled'!$E$7:$E$788,'PLAN Rekapitulacija'!$B297, 'Plan unos i pregled'!$C$7:$C$788,'PLAN Rekapitulacija'!I$4, 'Plan unos i pregled'!$A$7:$A$788,$D$3)","v":0},0,0]
["не","11.23","Радио локатор","час",4600,{"$f":"SUMIFS('Plan unos i pregled'!$I$7:$I$788,'Plan unos i pregled'!$B$7:$B$788,'PLAN Rekapitulacija'!$N$7,'Plan unos i pregled'!$M$7:$M$788,'PLAN Rekapitulacija'!$N$6, 'Plan unos i pregled'!$E$7:$E$788,'PLAN Rekapitulacija'!$B298, 'Plan unos i pregled'!$C$7:$C$788,'PLAN Rekapitulacija'!F$4, 'Plan unos i pregled'!$A$7:$A$788,$D$3)","v":0},{"$f":"SUMIFS('Plan unos i pregled'!$I$7:$I$788,'Plan unos i pregled'!$B$7:$B$788,'PLAN Rekapitulacija'!$N$7,'Plan unos i pregled'!$M$7:$M$788,'PLAN Rekapitulacija'!$N$6, 'Plan unos i pregled'!$E$7:$E$788,'PLAN Rekapitulacija'!$B298, 'Plan unos i pregled'!$C$7:$C$788,'PLAN Rekapitulacija'!G$4, 'Plan unos i pregled'!$A$7:$A$788,$D$3)","v":0},{"$f":"SUMIFS('Plan unos i pregled'!$I$7:$I$788,'Plan unos i pregled'!$B$7:$B$788,'PLAN Rekapitulacija'!$N$7,'Plan unos i pregled'!$M$7:$M$788,'PLAN Rekapitulacija'!$N$6, 'Plan unos i pregled'!$E$7:$E$788,'PLAN Rekapitulacija'!$B298, 'Plan unos i pregled'!$C$7:$C$788,'PLAN Rekapitulacija'!H$4, 'Plan unos i pregled'!$A$7:$A$788,$D$3)","v":0},{"$f":"SUMIFS('Plan unos i pregled'!$I$7:$I$788,'Plan unos i pregled'!$B$7:$B$788,'PLAN Rekapitulacija'!$N$7,'Plan unos i pregled'!$M$7:$M$788,'PLAN Rekapitulacija'!$N$6, 'Plan unos i pregled'!$E$7:$E$788,'PLAN Rekapitulacija'!$B298, 'Plan unos i pregled'!$C$7:$C$788,'PLAN Rekapitulacija'!I$4, 'Plan unos i pregled'!$A$7:$A$788,$D$3)","v":0},0,0]
["не","11.24","Машина за отпушивање канализационе цеви","час",4025,{"$f":"SUMIFS('Plan unos i pregled'!$I$7:$I$788,'Plan unos i pregled'!$B$7:$B$788,'PLAN Rekapitulacija'!$N$7,'Plan unos i pregled'!$M$7:$M$788,'PLAN Rekapitulacija'!$N$6, 'Plan unos i pregled'!$E$7:$E$788,'PLAN Rekapitulacija'!$B299, 'Plan unos i pregled'!$C$7:$C$788,'PLAN Rekapitulacija'!F$4, 'Plan unos i pregled'!$A$7:$A$788,$D$3)","v":0},{"$f":"SUMIFS('Plan unos i pregled'!$I$7:$I$788,'Plan unos i pregled'!$B$7:$B$788,'PLAN Rekapitulacija'!$N$7,'Plan unos i pregled'!$M$7:$M$788,'PLAN Rekapitulacija'!$N$6, 'Plan unos i pregled'!$E$7:$E$788,'PLAN Rekapitulacija'!$B299, 'Plan unos i pregled'!$C$7:$C$788,'PLAN Rekapitulacija'!G$4, 'Plan unos i pregled'!$A$7:$A$788,$D$3)","v":0},{"$f":"SUMIFS('Plan unos i pregled'!$I$7:$I$788,'Plan unos i pregled'!$B$7:$B$788,'PLAN Rekapitulacija'!$N$7,'Plan unos i pregled'!$M$7:$M$788,'PLAN Rekapitulacija'!$N$6, 'Plan unos i pregled'!$E$7:$E$788,'PLAN Rekapitulacija'!$B299, 'Plan unos i pregled'!$C$7:$C$788,'PLAN Rekapitulacija'!H$4, 'Plan unos i pregled'!$A$7:$A$788,$D$3)","v":0},{"$f":"SUMIFS('Plan unos i pregled'!$I$7:$I$788,'Plan unos i pregled'!$B$7:$B$788,'PLAN Rekapitulacija'!$N$7,'Plan unos i pregled'!$M$7:$M$788,'PLAN Rekapitulacija'!$N$6, 'Plan unos i pregled'!$E$7:$E$788,'PLAN Rekapitulacija'!$B299, 'Plan unos i pregled'!$C$7:$C$788,'PLAN Rekapitulacija'!I$4, 'Plan unos i pregled'!$A$7:$A$788,$D$3)","v":0},0,0]
["не","11.25","Хилти бушалица","час",603.75,{"$f":"SUMIFS('Plan unos i pregled'!$I$7:$I$788,'Plan unos i pregled'!$B$7:$B$788,'PLAN Rekapitulacija'!$N$7,'Plan unos i pregled'!$M$7:$M$788,'PLAN Rekapitulacija'!$N$6, 'Plan unos i pregled'!$E$7:$E$788,'PLAN Rekapitulacija'!$B300, 'Plan unos i pregled'!$C$7:$C$788,'PLAN Rekapitulacija'!F$4, 'Plan unos i pregled'!$A$7:$A$788,$D$3)","v":0},{"$f":"SUMIFS('Plan unos i pregled'!$I$7:$I$788,'Plan unos i pregled'!$B$7:$B$788,'PLAN Rekapitulacija'!$N$7,'Plan unos i pregled'!$M$7:$M$788,'PLAN Rekapitulacija'!$N$6, 'Plan unos i pregled'!$E$7:$E$788,'PLAN Rekapitulacija'!$B300, 'Plan unos i pregled'!$C$7:$C$788,'PLAN Rekapitulacija'!G$4, 'Plan unos i pregled'!$A$7:$A$788,$D$3)","v":0},{"$f":"SUMIFS('Plan unos i pregled'!$I$7:$I$788,'Plan unos i pregled'!$B$7:$B$788,'PLAN Rekapitulacija'!$N$7,'Plan unos i pregled'!$M$7:$M$788,'PLAN Rekapitulacija'!$N$6, 'Plan unos i pregled'!$E$7:$E$788,'PLAN Rekapitulacija'!$B300, 'Plan unos i pregled'!$C$7:$C$788,'PLAN Rekapitulacija'!H$4, 'Plan unos i pregled'!$A$7:$A$788,$D$3)","v":0},{"$f":"SUMIFS('Plan unos i pregled'!$I$7:$I$788,'Plan unos i pregled'!$B$7:$B$788,'PLAN Rekapitulacija'!$N$7,'Plan unos i pregled'!$M$7:$M$788,'PLAN Rekapitulacija'!$N$6, 'Plan unos i pregled'!$E$7:$E$788,'PLAN Rekapitulacija'!$B300, 'Plan unos i pregled'!$C$7:$C$788,'PLAN Rekapitulacija'!I$4, 'Plan unos i pregled'!$A$7:$A$788,$D$3)","v":0},0,0]
["не","11.26","Мешалица за бетон","час",223.1,{"$f":"SUMIFS('Plan unos i pregled'!$I$7:$I$788,'Plan unos i pregled'!$B$7:$B$788,'PLAN Rekapitulacija'!$N$7,'Plan unos i pregled'!$M$7:$M$788,'PLAN Rekapitulacija'!$N$6, 'Plan unos i pregled'!$E$7:$E$788,'PLAN Rekapitulacija'!$B301, 'Plan unos i pregled'!$C$7:$C$788,'PLAN Rekapitulacija'!F$4, 'Plan unos i pregled'!$A$7:$A$788,$D$3)","v":0},{"$f":"SUMIFS('Plan unos i pregled'!$I$7:$I$788,'Plan unos i pregled'!$B$7:$B$788,'PLAN Rekapitulacija'!$N$7,'Plan unos i pregled'!$M$7:$M$788,'PLAN Rekapitulacija'!$N$6, 'Plan unos i pregled'!$E$7:$E$788,'PLAN Rekapitulacija'!$B301, 'Plan unos i pregled'!$C$7:$C$788,'PLAN Rekapitulacija'!G$4, 'Plan unos i pregled'!$A$7:$A$788,$D$3)","v":0},{"$f":"SUMIFS('Plan unos i pregled'!$I$7:$I$788,'Plan unos i pregled'!$B$7:$B$788,'PLAN Rekapitulacija'!$N$7,'Plan unos i pregled'!$M$7:$M$788,'PLAN Rekapitulacija'!$N$6, 'Plan unos i pregled'!$E$7:$E$788,'PLAN Rekapitulacija'!$B301, 'Plan unos i pregled'!$C$7:$C$788,'PLAN Rekapitulacija'!H$4, 'Plan unos i pregled'!$A$7:$A$788,$D$3)","v":0},{"$f":"SUMIFS('Plan unos i pregled'!$I$7:$I$788,'Plan unos i pregled'!$B$7:$B$788,'PLAN Rekapitulacija'!$N$7,'Plan unos i pregled'!$M$7:$M$788,'PLAN Rekapitulacija'!$N$6, 'Plan unos i pregled'!$E$7:$E$788,'PLAN Rekapitulacija'!$B301, 'Plan unos i pregled'!$C$7:$C$788,'PLAN Rekapitulacija'!I$4, 'Plan unos i pregled'!$A$7:$A$788,$D$3)","v":0},0,0]
["не","11.27","Моторна тестера за дрва","час",966,{"$f":"SUMIFS('Plan unos i pregled'!$I$7:$I$788,'Plan unos i pregled'!$B$7:$B$788,'PLAN Rekapitulacija'!$N$7,'Plan unos i pregled'!$M$7:$M$788,'PLAN Rekapitulacija'!$N$6, 'Plan unos i pregled'!$E$7:$E$788,'PLAN Rekapitulacija'!$B302, 'Plan unos i pregled'!$C$7:$C$788,'PLAN Rekapitulacija'!F$4, 'Plan unos i pregled'!$A$7:$A$788,$D$3)","v":0},{"$f":"SUMIFS('Plan unos i pregled'!$I$7:$I$788,'Plan unos i pregled'!$B$7:$B$788,'PLAN Rekapitulacija'!$N$7,'Plan unos i pregled'!$M$7:$M$788,'PLAN Rekapitulacija'!$N$6, 'Plan unos i pregled'!$E$7:$E$788,'PLAN Rekapitulacija'!$B302, 'Plan unos i pregled'!$C$7:$C$788,'PLAN Rekapitulacija'!G$4, 'Plan unos i pregled'!$A$7:$A$788,$D$3)","v":0},{"$f":"SUMIFS('Plan unos i pregled'!$I$7:$I$788,'Plan unos i pregled'!$B$7:$B$788,'PLAN Rekapitulacija'!$N$7,'Plan unos i pregled'!$M$7:$M$788,'PLAN Rekapitulacija'!$N$6, 'Plan unos i pregled'!$E$7:$E$788,'PLAN Rekapitulacija'!$B302, 'Plan unos i pregled'!$C$7:$C$788,'PLAN Rekapitulacija'!H$4, 'Plan unos i pregled'!$A$7:$A$788,$D$3)","v":0},{"$f":"SUMIFS('Plan unos i pregled'!$I$7:$I$788,'Plan unos i pregled'!$B$7:$B$788,'PLAN Rekapitulacija'!$N$7,'Plan unos i pregled'!$M$7:$M$788,'PLAN Rekapitulacija'!$N$6, 'Plan unos i pregled'!$E$7:$E$788,'PLAN Rekapitulacija'!$B302, 'Plan unos i pregled'!$C$7:$C$788,'PLAN Rekapitulacija'!I$4, 'Plan unos i pregled'!$A$7:$A$788,$D$3)","v":0},0,0]
["не","11.28","Вакум пумпа Хонда","час",575,{"$f":"SUMIFS('Plan unos i pregled'!$I$7:$I$788,'Plan unos i pregled'!$B$7:$B$788,'PLAN Rekapitulacija'!$N$7,'Plan unos i pregled'!$M$7:$M$788,'PLAN Rekapitulacija'!$N$6, 'Plan unos i pregled'!$E$7:$E$788,'PLAN Rekapitulacija'!$B303, 'Plan unos i pregled'!$C$7:$C$788,'PLAN Rekapitulacija'!F$4, 'Plan unos i pregled'!$A$7:$A$788,$D$3)","v":0},{"$f":"SUMIFS('Plan unos i pregled'!$I$7:$I$788,'Plan unos i pregled'!$B$7:$B$788,'PLAN Rekapitulacija'!$N$7,'Plan unos i pregled'!$M$7:$M$788,'PLAN Rekapitulacija'!$N$6, 'Plan unos i pregled'!$E$7:$E$788,'PLAN Rekapitulacija'!$B303, 'Plan unos i pregled'!$C$7:$C$788,'PLAN Rekapitulacija'!G$4, 'Plan unos i pregled'!$A$7:$A$788,$D$3)","v":0},{"$f":"SUMIFS('Plan unos i pregled'!$I$7:$I$788,'Plan unos i pregled'!$B$7:$B$788,'PLAN Rekapitulacija'!$N$7,'Plan unos i pregled'!$M$7:$M$788,'PLAN Rekapitulacija'!$N$6, 'Plan unos i pregled'!$E$7:$E$788,'PLAN Rekapitulacija'!$B303, 'Plan unos i pregled'!$C$7:$C$788,'PLAN Rekapitulacija'!H$4, 'Plan unos i pregled'!$A$7:$A$788,$D$3)","v":0},{"$f":"SUMIFS('Plan unos i pregled'!$I$7:$I$788,'Plan unos i pregled'!$B$7:$B$788,'PLAN Rekapitulacija'!$N$7,'Plan unos i pregled'!$M$7:$M$788,'PLAN Rekapitulacija'!$N$6, 'Plan unos i pregled'!$E$7:$E$788,'PLAN Rekapitulacija'!$B303, 'Plan unos i pregled'!$C$7:$C$788,'PLAN Rekapitulacija'!I$4, 'Plan unos i pregled'!$A$7:$A$788,$D$3)","v":0},0,0]
["не","11.29","Ручна моторна косачица за шибље (тример)","час",966,{"$f":"SUMIFS('Plan unos i pregled'!$I$7:$I$788,'Plan unos i pregled'!$B$7:$B$788,'PLAN Rekapitulacija'!$N$7,'Plan unos i pregled'!$M$7:$M$788,'PLAN Rekapitulacija'!$N$6, 'Plan unos i pregled'!$E$7:$E$788,'PLAN Rekapitulacija'!$B304, 'Plan unos i pregled'!$C$7:$C$788,'PLAN Rekapitulacija'!F$4, 'Plan unos i pregled'!$A$7:$A$788,$D$3)","v":0},{"$f":"SUMIFS('Plan unos i pregled'!$I$7:$I$788,'Plan unos i pregled'!$B$7:$B$788,'PLAN Rekapitulacija'!$N$7,'Plan unos i pregled'!$M$7:$M$788,'PLAN Rekapitulacija'!$N$6, 'Plan unos i pregled'!$E$7:$E$788,'PLAN Rekapitulacija'!$B304, 'Plan unos i pregled'!$C$7:$C$788,'PLAN Rekapitulacija'!G$4, 'Plan unos i pregled'!$A$7:$A$788,$D$3)","v":0},{"$f":"SUMIFS('Plan unos i pregled'!$I$7:$I$788,'Plan unos i pregled'!$B$7:$B$788,'PLAN Rekapitulacija'!$N$7,'Plan unos i pregled'!$M$7:$M$788,'PLAN Rekapitulacija'!$N$6, 'Plan unos i pregled'!$E$7:$E$788,'PLAN Rekapitulacija'!$B304, 'Plan unos i pregled'!$C$7:$C$788,'PLAN Rekapitulacija'!H$4, 'Plan unos i pregled'!$A$7:$A$788,$D$3)","v":0},{"$f":"SUMIFS('Plan unos i pregled'!$I$7:$I$788,'Plan unos i pregled'!$B$7:$B$788,'PLAN Rekapitulacija'!$N$7,'Plan unos i pregled'!$M$7:$M$788,'PLAN Rekapitulacija'!$N$6, 'Plan unos i pregled'!$E$7:$E$788,'PLAN Rekapitulacija'!$B304, 'Plan unos i pregled'!$C$7:$C$788,'PLAN Rekapitulacija'!I$4, 'Plan unos i pregled'!$A$7:$A$788,$D$3)","v":0},0,0]
["штампа","11.30","Моторна косачица за траву (спортски терени)","m2",2.13,{"$f":"SUMIFS('Plan unos i pregled'!$I$7:$I$788,'Plan unos i pregled'!$B$7:$B$788,'PLAN Rekapitulacija'!$N$7,'Plan unos i pregled'!$M$7:$M$788,'PLAN Rekapitulacija'!$N$6, 'Plan unos i pregled'!$E$7:$E$788,'PLAN Rekapitulacija'!$B305, 'Plan unos i pregled'!$C$7:$C$788,'PLAN Rekapitulacija'!F$4, 'Plan unos i pregled'!$A$7:$A$788,$D$3)","v":0},{"$f":"SUMIFS('Plan unos i pregled'!$I$7:$I$788,'Plan unos i pregled'!$B$7:$B$788,'PLAN Rekapitulacija'!$N$7,'Plan unos i pregled'!$M$7:$M$788,'PLAN Rekapitulacija'!$N$6, 'Plan unos i pregled'!$E$7:$E$788,'PLAN Rekapitulacija'!$B305, 'Plan unos i pregled'!$C$7:$C$788,'PLAN Rekapitulacija'!G$4, 'Plan unos i pregled'!$A$7:$A$788,$D$3)","v":0},{"$f":"SUMIFS('Plan unos i pregled'!$I$7:$I$788,'Plan unos i pregled'!$B$7:$B$788,'PLAN Rekapitulacija'!$N$7,'Plan unos i pregled'!$M$7:$M$788,'PLAN Rekapitulacija'!$N$6, 'Plan unos i pregled'!$E$7:$E$788,'PLAN Rekapitulacija'!$B305, 'Plan unos i pregled'!$C$7:$C$788,'PLAN Rekapitulacija'!H$4, 'Plan unos i pregled'!$A$7:$A$788,$D$3)","v":23580},{"$f":"SUMIFS('Plan unos i pregled'!$I$7:$I$788,'Plan unos i pregled'!$B$7:$B$788,'PLAN Rekapitulacija'!$N$7,'Plan unos i pregled'!$M$7:$M$788,'PLAN Rekapitulacija'!$N$6, 'Plan unos i pregled'!$E$7:$E$788,'PLAN Rekapitulacija'!$B305, 'Plan unos i pregled'!$C$7:$C$788,'PLAN Rekapitulacija'!I$4, 'Plan unos i pregled'!$A$7:$A$788,$D$3)","v":77150},100730,214554.9]
["не","11.31","Вожња аутосмећара","km",161,{"$f":"SUMIFS('Plan unos i pregled'!$I$7:$I$788,'Plan unos i pregled'!$B$7:$B$788,'PLAN Rekapitulacija'!$N$7,'Plan unos i pregled'!$M$7:$M$788,'PLAN Rekapitulacija'!$N$6, 'Plan unos i pregled'!$E$7:$E$788,'PLAN Rekapitulacija'!$B306, 'Plan unos i pregled'!$C$7:$C$788,'PLAN Rekapitulacija'!F$4, 'Plan unos i pregled'!$A$7:$A$788,$D$3)","v":0},{"$f":"SUMIFS('Plan unos i pregled'!$I$7:$I$788,'Plan unos i pregled'!$B$7:$B$788,'PLAN Rekapitulacija'!$N$7,'Plan unos i pregled'!$M$7:$M$788,'PLAN Rekapitulacija'!$N$6, 'Plan unos i pregled'!$E$7:$E$788,'PLAN Rekapitulacija'!$B306, 'Plan unos i pregled'!$C$7:$C$788,'PLAN Rekapitulacija'!G$4, 'Plan unos i pregled'!$A$7:$A$788,$D$3)","v":0},{"$f":"SUMIFS('Plan unos i pregled'!$I$7:$I$788,'Plan unos i pregled'!$B$7:$B$788,'PLAN Rekapitulacija'!$N$7,'Plan unos i pregled'!$M$7:$M$788,'PLAN Rekapitulacija'!$N$6, 'Plan unos i pregled'!$E$7:$E$788,'PLAN Rekapitulacija'!$B306, 'Plan unos i pregled'!$C$7:$C$788,'PLAN Rekapitulacija'!H$4, 'Plan unos i pregled'!$A$7:$A$788,$D$3)","v":0},{"$f":"SUMIFS('Plan unos i pregled'!$I$7:$I$788,'Plan unos i pregled'!$B$7:$B$788,'PLAN Rekapitulacija'!$N$7,'Plan unos i pregled'!$M$7:$M$788,'PLAN Rekapitulacija'!$N$6, 'Plan unos i pregled'!$E$7:$E$788,'PLAN Rekapitulacija'!$B306, 'Plan unos i pregled'!$C$7:$C$788,'PLAN Rekapitulacija'!I$4, 'Plan unos i pregled'!$A$7:$A$788,$D$3)","v":0},0,0]
["не","11.32","Камион за одвод смећа - аутосмећар (мањи) IVЕЦО","тура",4485,{"$f":"SUMIFS('Plan unos i pregled'!$I$7:$I$788,'Plan unos i pregled'!$B$7:$B$788,'PLAN Rekapitulacija'!$N$7,'Plan unos i pregled'!$M$7:$M$788,'PLAN Rekapitulacija'!$N$6, 'Plan unos i pregled'!$E$7:$E$788,'PLAN Rekapitulacija'!$B307, 'Plan unos i pregled'!$C$7:$C$788,'PLAN Rekapitulacija'!F$4, 'Plan unos i pregled'!$A$7:$A$788,$D$3)","v":0},{"$f":"SUMIFS('Plan unos i pregled'!$I$7:$I$788,'Plan unos i pregled'!$B$7:$B$788,'PLAN Rekapitulacija'!$N$7,'Plan unos i pregled'!$M$7:$M$788,'PLAN Rekapitulacija'!$N$6, 'Plan unos i pregled'!$E$7:$E$788,'PLAN Rekapitulacija'!$B307, 'Plan unos i pregled'!$C$7:$C$788,'PLAN Rekapitulacija'!G$4, 'Plan unos i pregled'!$A$7:$A$788,$D$3)","v":0},{"$f":"SUMIFS('Plan unos i pregled'!$I$7:$I$788,'Plan unos i pregled'!$B$7:$B$788,'PLAN Rekapitulacija'!$N$7,'Plan unos i pregled'!$M$7:$M$788,'PLAN Rekapitulacija'!$N$6, 'Plan unos i pregled'!$E$7:$E$788,'PLAN Rekapitulacija'!$B307, 'Plan unos i pregled'!$C$7:$C$788,'PLAN Rekapitulacija'!H$4, 'Plan unos i pregled'!$A$7:$A$788,$D$3)","v":0},{"$f":"SUMIFS('Plan unos i pregled'!$I$7:$I$788,'Plan unos i pregled'!$B$7:$B$788,'PLAN Rekapitulacija'!$N$7,'Plan unos i pregled'!$M$7:$M$788,'PLAN Rekapitulacija'!$N$6, 'Plan unos i pregled'!$E$7:$E$788,'PLAN Rekapitulacija'!$B307, 'Plan unos i pregled'!$C$7:$C$788,'PLAN Rekapitulacija'!I$4, 'Plan unos i pregled'!$A$7:$A$788,$D$3)","v":0},0,0]
["не","11.33","Камион за одвод смећа ФАП 1823 - аутосмећар","тура",5175,{"$f":"SUMIFS('Plan unos i pregled'!$I$7:$I$788,'Plan unos i pregled'!$B$7:$B$788,'PLAN Rekapitulacija'!$N$7,'Plan unos i pregled'!$M$7:$M$788,'PLAN Rekapitulacija'!$N$6, 'Plan unos i pregled'!$E$7:$E$788,'PLAN Rekapitulacija'!$B308, 'Plan unos i pregled'!$C$7:$C$788,'PLAN Rekapitulacija'!F$4, 'Plan unos i pregled'!$A$7:$A$788,$D$3)","v":0},{"$f":"SUMIFS('Plan unos i pregled'!$I$7:$I$788,'Plan unos i pregled'!$B$7:$B$788,'PLAN Rekapitulacija'!$N$7,'Plan unos i pregled'!$M$7:$M$788,'PLAN Rekapitulacija'!$N$6, 'Plan unos i pregled'!$E$7:$E$788,'PLAN Rekapitulacija'!$B308, 'Plan unos i pregled'!$C$7:$C$788,'PLAN Rekapitulacija'!G$4, 'Plan unos i pregled'!$A$7:$A$788,$D$3)","v":0},{"$f":"SUMIFS('Plan unos i pregled'!$I$7:$I$788,'Plan unos i pregled'!$B$7:$B$788,'PLAN Rekapitulacija'!$N$7,'Plan unos i pregled'!$M$7:$M$788,'PLAN Rekapitulacija'!$N$6, 'Plan unos i pregled'!$E$7:$E$788,'PLAN Rekapitulacija'!$B308, 'Plan unos i pregled'!$C$7:$C$788,'PLAN Rekapitulacija'!H$4, 'Plan unos i pregled'!$A$7:$A$788,$D$3)","v":0},{"$f":"SUMIFS('Plan unos i pregled'!$I$7:$I$788,'Plan unos i pregled'!$B$7:$B$788,'PLAN Rekapitulacija'!$N$7,'Plan unos i pregled'!$M$7:$M$788,'PLAN Rekapitulacija'!$N$6, 'Plan unos i pregled'!$E$7:$E$788,'PLAN Rekapitulacija'!$B308, 'Plan unos i pregled'!$C$7:$C$788,'PLAN Rekapitulacija'!I$4, 'Plan unos i pregled'!$A$7:$A$788,$D$3)","v":0},0,0]
["не","11.34","Мобилне пластичне цистерне за воду за пиће од 1 м³ (без превоза)","дан",172.5,{"$f":"SUMIFS('Plan unos i pregled'!$I$7:$I$788,'Plan unos i pregled'!$B$7:$B$788,'PLAN Rekapitulacija'!$N$7,'Plan unos i pregled'!$M$7:$M$788,'PLAN Rekapitulacija'!$N$6, 'Plan unos i pregled'!$E$7:$E$788,'PLAN Rekapitulacija'!$B309, 'Plan unos i pregled'!$C$7:$C$788,'PLAN Rekapitulacija'!F$4, 'Plan unos i pregled'!$A$7:$A$788,$D$3)","v":0},{"$f":"SUMIFS('Plan unos i pregled'!$I$7:$I$788,'Plan unos i pregled'!$B$7:$B$788,'PLAN Rekapitulacija'!$N$7,'Plan unos i pregled'!$M$7:$M$788,'PLAN Rekapitulacija'!$N$6, 'Plan unos i pregled'!$E$7:$E$788,'PLAN Rekapitulacija'!$B309, 'Plan unos i pregled'!$C$7:$C$788,'PLAN Rekapitulacija'!G$4, 'Plan unos i pregled'!$A$7:$A$788,$D$3)","v":0},{"$f":"SUMIFS('Plan unos i pregled'!$I$7:$I$788,'Plan unos i pregled'!$B$7:$B$788,'PLAN Rekapitulacija'!$N$7,'Plan unos i pregled'!$M$7:$M$788,'PLAN Rekapitulacija'!$N$6, 'Plan unos i pregled'!$E$7:$E$788,'PLAN Rekapitulacija'!$B309, 'Plan unos i pregled'!$C$7:$C$788,'PLAN Rekapitulacija'!H$4, 'Plan unos i pregled'!$A$7:$A$788,$D$3)","v":0},{"$f":"SUMIFS('Plan unos i pregled'!$I$7:$I$788,'Plan unos i pregled'!$B$7:$B$788,'PLAN Rekapitulacija'!$N$7,'Plan unos i pregled'!$M$7:$M$788,'PLAN Rekapitulacija'!$N$6, 'Plan unos i pregled'!$E$7:$E$788,'PLAN Rekapitulacija'!$B309, 'Plan unos i pregled'!$C$7:$C$788,'PLAN Rekapitulacija'!I$4, 'Plan unos i pregled'!$A$7:$A$788,$D$3)","v":0},0,0]
[{"$f":"IF(OR(J310:K312),\"штампа\",\"не\")","v":"не"},"11.35","Цистерна за воду за пиће ",null,0]
[{"$f":"IF(OR(J311:K311),\"штампа\",\"не\")","v":"не"},"11.35.1","Фиксни део","час",5175,{"$f":"SUMIFS('Plan unos i pregled'!$I$7:$I$788,'Plan unos i pregled'!$B$7:$B$788,'PLAN Rekapitulacija'!$N$7,'Plan unos i pregled'!$M$7:$M$788,'PLAN Rekapitulacija'!$N$6, 'Plan unos i pregled'!$E$7:$E$788,'PLAN Rekapitulacija'!$B311, 'Plan unos i pregled'!$C$7:$C$788,'PLAN Rekapitulacija'!F$4, 'Plan unos i pregled'!$A$7:$A$788,$D$3)","v":0},{"$f":"SUMIFS('Plan unos i pregled'!$I$7:$I$788,'Plan unos i pregled'!$B$7:$B$788,'PLAN Rekapitulacija'!$N$7,'Plan unos i pregled'!$M$7:$M$788,'PLAN Rekapitulacija'!$N$6, 'Plan unos i pregled'!$E$7:$E$788,'PLAN Rekapitulacija'!$B311, 'Plan unos i pregled'!$C$7:$C$788,'PLAN Rekapitulacija'!G$4, 'Plan unos i pregled'!$A$7:$A$788,$D$3)","v":0},{"$f":"SUMIFS('Plan unos i pregled'!$I$7:$I$788,'Plan unos i pregled'!$B$7:$B$788,'PLAN Rekapitulacija'!$N$7,'Plan unos i pregled'!$M$7:$M$788,'PLAN Rekapitulacija'!$N$6, 'Plan unos i pregled'!$E$7:$E$788,'PLAN Rekapitulacija'!$B311, 'Plan unos i pregled'!$C$7:$C$788,'PLAN Rekapitulacija'!H$4, 'Plan unos i pregled'!$A$7:$A$788,$D$3)","v":0},{"$f":"SUMIFS('Plan unos i pregled'!$I$7:$I$788,'Plan unos i pregled'!$B$7:$B$788,'PLAN Rekapitulacija'!$N$7,'Plan unos i pregled'!$M$7:$M$788,'PLAN Rekapitulacija'!$N$6, 'Plan unos i pregled'!$E$7:$E$788,'PLAN Rekapitulacija'!$B311, 'Plan unos i pregled'!$C$7:$C$788,'PLAN Rekapitulacija'!I$4, 'Plan unos i pregled'!$A$7:$A$788,$D$3)","v":0},{"$f":"SUM(F311:I311)","v":0},{"$f":"ROUND(E311*J311,2)","v":0}]
["не","11.35.2","Превоз","km",161,{"$f":"SUMIFS('Plan unos i pregled'!$I$7:$I$788,'Plan unos i pregled'!$B$7:$B$788,'PLAN Rekapitulacija'!$N$7,'Plan unos i pregled'!$M$7:$M$788,'PLAN Rekapitulacija'!$N$6, 'Plan unos i pregled'!$E$7:$E$788,'PLAN Rekapitulacija'!$B312, 'Plan unos i pregled'!$C$7:$C$788,'PLAN Rekapitulacija'!F$4, 'Plan unos i pregled'!$A$7:$A$788,$D$3)","v":0},{"$f":"SUMIFS('Plan unos i pregled'!$I$7:$I$788,'Plan unos i pregled'!$B$7:$B$788,'PLAN Rekapitulacija'!$N$7,'Plan unos i pregled'!$M$7:$M$788,'PLAN Rekapitulacija'!$N$6, 'Plan unos i pregled'!$E$7:$E$788,'PLAN Rekapitulacija'!$B312, 'Plan unos i pregled'!$C$7:$C$788,'PLAN Rekapitulacija'!G$4, 'Plan unos i pregled'!$A$7:$A$788,$D$3)","v":0},{"$f":"SUMIFS('Plan unos i pregled'!$I$7:$I$788,'Plan unos i pregled'!$B$7:$B$788,'PLAN Rekapitulacija'!$N$7,'Plan unos i pregled'!$M$7:$M$788,'PLAN Rekapitulacija'!$N$6, 'Plan unos i pregled'!$E$7:$E$788,'PLAN Rekapitulacija'!$B312, 'Plan unos i pregled'!$C$7:$C$788,'PLAN Rekapitulacija'!H$4, 'Plan unos i pregled'!$A$7:$A$788,$D$3)","v":0},{"$f":"SUMIFS('Plan unos i pregled'!$I$7:$I$788,'Plan unos i pregled'!$B$7:$B$788,'PLAN Rekapitulacija'!$N$7,'Plan unos i pregled'!$M$7:$M$788,'PLAN Rekapitulacija'!$N$6, 'Plan unos i pregled'!$E$7:$E$788,'PLAN Rekapitulacija'!$B312, 'Plan unos i pregled'!$C$7:$C$788,'PLAN Rekapitulacija'!I$4, 'Plan unos i pregled'!$A$7:$A$788,$D$3)","v":0},0,0]
[{"$f":"IF(OR(J313:K315),\"штампа\",\"не\")","v":"не"},"11.36","Булдозер ",null,0]
[{"$f":"IF(OR(J314:K314),\"штампа\",\"не\")","v":"не"},"11.36.1","Булдозер 100 ks","час",7475,{"$f":"SUMIFS('Plan unos i pregled'!$I$7:$I$788,'Plan unos i pregled'!$B$7:$B$788,'PLAN Rekapitulacija'!$N$7,'Plan unos i pregled'!$M$7:$M$788,'PLAN Rekapitulacija'!$N$6, 'Plan unos i pregled'!$E$7:$E$788,'PLAN Rekapitulacija'!$B314, 'Plan unos i pregled'!$C$7:$C$788,'PLAN Rekapitulacija'!F$4, 'Plan unos i pregled'!$A$7:$A$788,$D$3)","v":0},{"$f":"SUMIFS('Plan unos i pregled'!$I$7:$I$788,'Plan unos i pregled'!$B$7:$B$788,'PLAN Rekapitulacija'!$N$7,'Plan unos i pregled'!$M$7:$M$788,'PLAN Rekapitulacija'!$N$6, 'Plan unos i pregled'!$E$7:$E$788,'PLAN Rekapitulacija'!$B314, 'Plan unos i pregled'!$C$7:$C$788,'PLAN Rekapitulacija'!G$4, 'Plan unos i pregled'!$A$7:$A$788,$D$3)","v":0},{"$f":"SUMIFS('Plan unos i pregled'!$I$7:$I$788,'Plan unos i pregled'!$B$7:$B$788,'PLAN Rekapitulacija'!$N$7,'Plan unos i pregled'!$M$7:$M$788,'PLAN Rekapitulacija'!$N$6, 'Plan unos i pregled'!$E$7:$E$788,'PLAN Rekapitulacija'!$B314, 'Plan unos i pregled'!$C$7:$C$788,'PLAN Rekapitulacija'!H$4, 'Plan unos i pregled'!$A$7:$A$788,$D$3)","v":0},{"$f":"SUMIFS('Plan unos i pregled'!$I$7:$I$788,'Plan unos i pregled'!$B$7:$B$788,'PLAN Rekapitulacija'!$N$7,'Plan unos i pregled'!$M$7:$M$788,'PLAN Rekapitulacija'!$N$6, 'Plan unos i pregled'!$E$7:$E$788,'PLAN Rekapitulacija'!$B314, 'Plan unos i pregled'!$C$7:$C$788,'PLAN Rekapitulacija'!I$4, 'Plan unos i pregled'!$A$7:$A$788,$D$3)","v":0},{"$f":"SUM(F314:I314)","v":0},{"$f":"ROUND(E314*J314,2)","v":0}]
["не","11.36.2","Булдозер 150 ks","час",7475,{"$f":"SUMIFS('Plan unos i pregled'!$I$7:$I$788,'Plan unos i pregled'!$B$7:$B$788,'PLAN Rekapitulacija'!$N$7,'Plan unos i pregled'!$M$7:$M$788,'PLAN Rekapitulacija'!$N$6, 'Plan unos i pregled'!$E$7:$E$788,'PLAN Rekapitulacija'!$B315, 'Plan unos i pregled'!$C$7:$C$788,'PLAN Rekapitulacija'!F$4, 'Plan unos i pregled'!$A$7:$A$788,$D$3)","v":0},{"$f":"SUMIFS('Plan unos i pregled'!$I$7:$I$788,'Plan unos i pregled'!$B$7:$B$788,'PLAN Rekapitulacija'!$N$7,'Plan unos i pregled'!$M$7:$M$788,'PLAN Rekapitulacija'!$N$6, 'Plan unos i pregled'!$E$7:$E$788,'PLAN Rekapitulacija'!$B315, 'Plan unos i pregled'!$C$7:$C$788,'PLAN Rekapitulacija'!G$4, 'Plan unos i pregled'!$A$7:$A$788,$D$3)","v":0},{"$f":"SUMIFS('Plan unos i pregled'!$I$7:$I$788,'Plan unos i pregled'!$B$7:$B$788,'PLAN Rekapitulacija'!$N$7,'Plan unos i pregled'!$M$7:$M$788,'PLAN Rekapitulacija'!$N$6, 'Plan unos i pregled'!$E$7:$E$788,'PLAN Rekapitulacija'!$B315, 'Plan unos i pregled'!$C$7:$C$788,'PLAN Rekapitulacija'!H$4, 'Plan unos i pregled'!$A$7:$A$788,$D$3)","v":0},{"$f":"SUMIFS('Plan unos i pregled'!$I$7:$I$788,'Plan unos i pregled'!$B$7:$B$788,'PLAN Rekapitulacija'!$N$7,'Plan unos i pregled'!$M$7:$M$788,'PLAN Rekapitulacija'!$N$6, 'Plan unos i pregled'!$E$7:$E$788,'PLAN Rekapitulacija'!$B315, 'Plan unos i pregled'!$C$7:$C$788,'PLAN Rekapitulacija'!I$4, 'Plan unos i pregled'!$A$7:$A$788,$D$3)","v":0},0,0]
["не","11.37","Грејдер","час",8050,{"$f":"SUMIFS('Plan unos i pregled'!$I$7:$I$788,'Plan unos i pregled'!$B$7:$B$788,'PLAN Rekapitulacija'!$N$7,'Plan unos i pregled'!$M$7:$M$788,'PLAN Rekapitulacija'!$N$6, 'Plan unos i pregled'!$E$7:$E$788,'PLAN Rekapitulacija'!$B316, 'Plan unos i pregled'!$C$7:$C$788,'PLAN Rekapitulacija'!F$4, 'Plan unos i pregled'!$A$7:$A$788,$D$3)","v":0},{"$f":"SUMIFS('Plan unos i pregled'!$I$7:$I$788,'Plan unos i pregled'!$B$7:$B$788,'PLAN Rekapitulacija'!$N$7,'Plan unos i pregled'!$M$7:$M$788,'PLAN Rekapitulacija'!$N$6, 'Plan unos i pregled'!$E$7:$E$788,'PLAN Rekapitulacija'!$B316, 'Plan unos i pregled'!$C$7:$C$788,'PLAN Rekapitulacija'!G$4, 'Plan unos i pregled'!$A$7:$A$788,$D$3)","v":0},{"$f":"SUMIFS('Plan unos i pregled'!$I$7:$I$788,'Plan unos i pregled'!$B$7:$B$788,'PLAN Rekapitulacija'!$N$7,'Plan unos i pregled'!$M$7:$M$788,'PLAN Rekapitulacija'!$N$6, 'Plan unos i pregled'!$E$7:$E$788,'PLAN Rekapitulacija'!$B316, 'Plan unos i pregled'!$C$7:$C$788,'PLAN Rekapitulacija'!H$4, 'Plan unos i pregled'!$A$7:$A$788,$D$3)","v":0},{"$f":"SUMIFS('Plan unos i pregled'!$I$7:$I$788,'Plan unos i pregled'!$B$7:$B$788,'PLAN Rekapitulacija'!$N$7,'Plan unos i pregled'!$M$7:$M$788,'PLAN Rekapitulacija'!$N$6, 'Plan unos i pregled'!$E$7:$E$788,'PLAN Rekapitulacija'!$B316, 'Plan unos i pregled'!$C$7:$C$788,'PLAN Rekapitulacija'!I$4, 'Plan unos i pregled'!$A$7:$A$788,$D$3)","v":0},0,0]
["штампа",null,"УКУПНО:",null,null,{"$f":"SUMPRODUCT($E$272:$E$316,F272:F316)","v":54050},{"$f":"SUMPRODUCT($E$272:$E$316,G272:G316)","v":27025},{"$f":"SUMPRODUCT($E$272:$E$316,H272:H316)","v":50225.399999999994},{"$f":"SUMPRODUCT($E$272:$E$316,I272:I316)","v":267829.5},null,{"$f":"SUM(K271:K316)","v":399129.9}]
[{"$f":"IF(OR(J325:K325),\"штампа\",\"не\")","v":"не"},"12","Бушење испод пута са припремом терена"]
["не","12.1","Бушење испод пута Ø 63 mm - 2 col","m",3000,{"$f":"SUMIFS('Plan unos i pregled'!$I$7:$I$788,'Plan unos i pregled'!$B$7:$B$788,'PLAN Rekapitulacija'!$N$7,'Plan unos i pregled'!$M$7:$M$788,'PLAN Rekapitulacija'!$N$6, 'Plan unos i pregled'!$E$7:$E$788,'PLAN Rekapitulacija'!$B319, 'Plan unos i pregled'!$C$7:$C$788,'PLAN Rekapitulacija'!F$4, 'Plan unos i pregled'!$A$7:$A$788,$D$3)","v":0},{"$f":"SUMIFS('Plan unos i pregled'!$I$7:$I$788,'Plan unos i pregled'!$B$7:$B$788,'PLAN Rekapitulacija'!$N$7,'Plan unos i pregled'!$M$7:$M$788,'PLAN Rekapitulacija'!$N$6, 'Plan unos i pregled'!$E$7:$E$788,'PLAN Rekapitulacija'!$B319, 'Plan unos i pregled'!$C$7:$C$788,'PLAN Rekapitulacija'!G$4, 'Plan unos i pregled'!$A$7:$A$788,$D$3)","v":0},{"$f":"SUMIFS('Plan unos i pregled'!$I$7:$I$788,'Plan unos i pregled'!$B$7:$B$788,'PLAN Rekapitulacija'!$N$7,'Plan unos i pregled'!$M$7:$M$788,'PLAN Rekapitulacija'!$N$6, 'Plan unos i pregled'!$E$7:$E$788,'PLAN Rekapitulacija'!$B319, 'Plan unos i pregled'!$C$7:$C$788,'PLAN Rekapitulacija'!H$4, 'Plan unos i pregled'!$A$7:$A$788,$D$3)","v":0},{"$f":"SUMIFS('Plan unos i pregled'!$I$7:$I$788,'Plan unos i pregled'!$B$7:$B$788,'PLAN Rekapitulacija'!$N$7,'Plan unos i pregled'!$M$7:$M$788,'PLAN Rekapitulacija'!$N$6, 'Plan unos i pregled'!$E$7:$E$788,'PLAN Rekapitulacija'!$B319, 'Plan unos i pregled'!$C$7:$C$788,'PLAN Rekapitulacija'!I$4, 'Plan unos i pregled'!$A$7:$A$788,$D$3)","v":0},{"$f":"SUM(F319:I319)","v":0},{"$f":"ROUND(E319*J319,2)","v":0}]
["не","12.2","Бушење испод пута Ø 110 mm - 4 col ","m",3500,{"$f":"SUMIFS('Plan unos i pregled'!$I$7:$I$788,'Plan unos i pregled'!$B$7:$B$788,'PLAN Rekapitulacija'!$N$7,'Plan unos i pregled'!$M$7:$M$788,'PLAN Rekapitulacija'!$N$6, 'Plan unos i pregled'!$E$7:$E$788,'PLAN Rekapitulacija'!$B320, 'Plan unos i pregled'!$C$7:$C$788,'PLAN Rekapitulacija'!F$4, 'Plan unos i pregled'!$A$7:$A$788,$D$3)","v":0},{"$f":"SUMIFS('Plan unos i pregled'!$I$7:$I$788,'Plan unos i pregled'!$B$7:$B$788,'PLAN Rekapitulacija'!$N$7,'Plan unos i pregled'!$M$7:$M$788,'PLAN Rekapitulacija'!$N$6, 'Plan unos i pregled'!$E$7:$E$788,'PLAN Rekapitulacija'!$B320, 'Plan unos i pregled'!$C$7:$C$788,'PLAN Rekapitulacija'!G$4, 'Plan unos i pregled'!$A$7:$A$788,$D$3)","v":0},{"$f":"SUMIFS('Plan unos i pregled'!$I$7:$I$788,'Plan unos i pregled'!$B$7:$B$788,'PLAN Rekapitulacija'!$N$7,'Plan unos i pregled'!$M$7:$M$788,'PLAN Rekapitulacija'!$N$6, 'Plan unos i pregled'!$E$7:$E$788,'PLAN Rekapitulacija'!$B320, 'Plan unos i pregled'!$C$7:$C$788,'PLAN Rekapitulacija'!H$4, 'Plan unos i pregled'!$A$7:$A$788,$D$3)","v":0},{"$f":"SUMIFS('Plan unos i pregled'!$I$7:$I$788,'Plan unos i pregled'!$B$7:$B$788,'PLAN Rekapitulacija'!$N$7,'Plan unos i pregled'!$M$7:$M$788,'PLAN Rekapitulacija'!$N$6, 'Plan unos i pregled'!$E$7:$E$788,'PLAN Rekapitulacija'!$B320, 'Plan unos i pregled'!$C$7:$C$788,'PLAN Rekapitulacija'!I$4, 'Plan unos i pregled'!$A$7:$A$788,$D$3)","v":0},0,0]
["не","12.3","Бушење испод пута Ø 125 mm - 4,5 col","m",4000,{"$f":"SUMIFS('Plan unos i pregled'!$I$7:$I$788,'Plan unos i pregled'!$B$7:$B$788,'PLAN Rekapitulacija'!$N$7,'Plan unos i pregled'!$M$7:$M$788,'PLAN Rekapitulacija'!$N$6, 'Plan unos i pregled'!$E$7:$E$788,'PLAN Rekapitulacija'!$B321, 'Plan unos i pregled'!$C$7:$C$788,'PLAN Rekapitulacija'!F$4, 'Plan unos i pregled'!$A$7:$A$788,$D$3)","v":0},{"$f":"SUMIFS('Plan unos i pregled'!$I$7:$I$788,'Plan unos i pregled'!$B$7:$B$788,'PLAN Rekapitulacija'!$N$7,'Plan unos i pregled'!$M$7:$M$788,'PLAN Rekapitulacija'!$N$6, 'Plan unos i pregled'!$E$7:$E$788,'PLAN Rekapitulacija'!$B321, 'Plan unos i pregled'!$C$7:$C$788,'PLAN Rekapitulacija'!G$4, 'Plan unos i pregled'!$A$7:$A$788,$D$3)","v":0},{"$f":"SUMIFS('Plan unos i pregled'!$I$7:$I$788,'Plan unos i pregled'!$B$7:$B$788,'PLAN Rekapitulacija'!$N$7,'Plan unos i pregled'!$M$7:$M$788,'PLAN Rekapitulacija'!$N$6, 'Plan unos i pregled'!$E$7:$E$788,'PLAN Rekapitulacija'!$B321, 'Plan unos i pregled'!$C$7:$C$788,'PLAN Rekapitulacija'!H$4, 'Plan unos i pregled'!$A$7:$A$788,$D$3)","v":0},{"$f":"SUMIFS('Plan unos i pregled'!$I$7:$I$788,'Plan unos i pregled'!$B$7:$B$788,'PLAN Rekapitulacija'!$N$7,'Plan unos i pregled'!$M$7:$M$788,'PLAN Rekapitulacija'!$N$6, 'Plan unos i pregled'!$E$7:$E$788,'PLAN Rekapitulacija'!$B321, 'Plan unos i pregled'!$C$7:$C$788,'PLAN Rekapitulacija'!I$4, 'Plan unos i pregled'!$A$7:$A$788,$D$3)","v":0},0,0]
["не","12.4","Бушење испод пута Ø 160 mm - 6 col","m",4800,{"$f":"SUMIFS('Plan unos i pregled'!$I$7:$I$788,'Plan unos i pregled'!$B$7:$B$788,'PLAN Rekapitulacija'!$N$7,'Plan unos i pregled'!$M$7:$M$788,'PLAN Rekapitulacija'!$N$6, 'Plan unos i pregled'!$E$7:$E$788,'PLAN Rekapitulacija'!$B322, 'Plan unos i pregled'!$C$7:$C$788,'PLAN Rekapitulacija'!F$4, 'Plan unos i pregled'!$A$7:$A$788,$D$3)","v":0},{"$f":"SUMIFS('Plan unos i pregled'!$I$7:$I$788,'Plan unos i pregled'!$B$7:$B$788,'PLAN Rekapitulacija'!$N$7,'Plan unos i pregled'!$M$7:$M$788,'PLAN Rekapitulacija'!$N$6, 'Plan unos i pregled'!$E$7:$E$788,'PLAN Rekapitulacija'!$B322, 'Plan unos i pregled'!$C$7:$C$788,'PLAN Rekapitulacija'!G$4, 'Plan unos i pregled'!$A$7:$A$788,$D$3)","v":0},{"$f":"SUMIFS('Plan unos i pregled'!$I$7:$I$788,'Plan unos i pregled'!$B$7:$B$788,'PLAN Rekapitulacija'!$N$7,'Plan unos i pregled'!$M$7:$M$788,'PLAN Rekapitulacija'!$N$6, 'Plan unos i pregled'!$E$7:$E$788,'PLAN Rekapitulacija'!$B322, 'Plan unos i pregled'!$C$7:$C$788,'PLAN Rekapitulacija'!H$4, 'Plan unos i pregled'!$A$7:$A$788,$D$3)","v":0},{"$f":"SUMIFS('Plan unos i pregled'!$I$7:$I$788,'Plan unos i pregled'!$B$7:$B$788,'PLAN Rekapitulacija'!$N$7,'Plan unos i pregled'!$M$7:$M$788,'PLAN Rekapitulacija'!$N$6, 'Plan unos i pregled'!$E$7:$E$788,'PLAN Rekapitulacija'!$B322, 'Plan unos i pregled'!$C$7:$C$788,'PLAN Rekapitulacija'!I$4, 'Plan unos i pregled'!$A$7:$A$788,$D$3)","v":0},0,0]
["не","12.5","Бушење испод пута Ø 200 mm - 7 col","m",5100,{"$f":"SUMIFS('Plan unos i pregled'!$I$7:$I$788,'Plan unos i pregled'!$B$7:$B$788,'PLAN Rekapitulacija'!$N$7,'Plan unos i pregled'!$M$7:$M$788,'PLAN Rekapitulacija'!$N$6, 'Plan unos i pregled'!$E$7:$E$788,'PLAN Rekapitulacija'!$B323, 'Plan unos i pregled'!$C$7:$C$788,'PLAN Rekapitulacija'!F$4, 'Plan unos i pregled'!$A$7:$A$788,$D$3)","v":0},{"$f":"SUMIFS('Plan unos i pregled'!$I$7:$I$788,'Plan unos i pregled'!$B$7:$B$788,'PLAN Rekapitulacija'!$N$7,'Plan unos i pregled'!$M$7:$M$788,'PLAN Rekapitulacija'!$N$6, 'Plan unos i pregled'!$E$7:$E$788,'PLAN Rekapitulacija'!$B323, 'Plan unos i pregled'!$C$7:$C$788,'PLAN Rekapitulacija'!G$4, 'Plan unos i pregled'!$A$7:$A$788,$D$3)","v":0},{"$f":"SUMIFS('Plan unos i pregled'!$I$7:$I$788,'Plan unos i pregled'!$B$7:$B$788,'PLAN Rekapitulacija'!$N$7,'Plan unos i pregled'!$M$7:$M$788,'PLAN Rekapitulacija'!$N$6, 'Plan unos i pregled'!$E$7:$E$788,'PLAN Rekapitulacija'!$B323, 'Plan unos i pregled'!$C$7:$C$788,'PLAN Rekapitulacija'!H$4, 'Plan unos i pregled'!$A$7:$A$788,$D$3)","v":0},{"$f":"SUMIFS('Plan unos i pregled'!$I$7:$I$788,'Plan unos i pregled'!$B$7:$B$788,'PLAN Rekapitulacija'!$N$7,'Plan unos i pregled'!$M$7:$M$788,'PLAN Rekapitulacija'!$N$6, 'Plan unos i pregled'!$E$7:$E$788,'PLAN Rekapitulacija'!$B323, 'Plan unos i pregled'!$C$7:$C$788,'PLAN Rekapitulacija'!I$4, 'Plan unos i pregled'!$A$7:$A$788,$D$3)","v":0},0,0]
["не","12.6","Бушење испод пута Ø 315 mm - 12 col","m",5500,{"$f":"SUMIFS('Plan unos i pregled'!$I$7:$I$788,'Plan unos i pregled'!$B$7:$B$788,'PLAN Rekapitulacija'!$N$7,'Plan unos i pregled'!$M$7:$M$788,'PLAN Rekapitulacija'!$N$6, 'Plan unos i pregled'!$E$7:$E$788,'PLAN Rekapitulacija'!$B324, 'Plan unos i pregled'!$C$7:$C$788,'PLAN Rekapitulacija'!F$4, 'Plan unos i pregled'!$A$7:$A$788,$D$3)","v":0},{"$f":"SUMIFS('Plan unos i pregled'!$I$7:$I$788,'Plan unos i pregled'!$B$7:$B$788,'PLAN Rekapitulacija'!$N$7,'Plan unos i pregled'!$M$7:$M$788,'PLAN Rekapitulacija'!$N$6, 'Plan unos i pregled'!$E$7:$E$788,'PLAN Rekapitulacija'!$B324, 'Plan unos i pregled'!$C$7:$C$788,'PLAN Rekapitulacija'!G$4, 'Plan unos i pregled'!$A$7:$A$788,$D$3)","v":0},{"$f":"SUMIFS('Plan unos i pregled'!$I$7:$I$788,'Plan unos i pregled'!$B$7:$B$788,'PLAN Rekapitulacija'!$N$7,'Plan unos i pregled'!$M$7:$M$788,'PLAN Rekapitulacija'!$N$6, 'Plan unos i pregled'!$E$7:$E$788,'PLAN Rekapitulacija'!$B324, 'Plan unos i pregled'!$C$7:$C$788,'PLAN Rekapitulacija'!H$4, 'Plan unos i pregled'!$A$7:$A$788,$D$3)","v":0},{"$f":"SUMIFS('Plan unos i pregled'!$I$7:$I$788,'Plan unos i pregled'!$B$7:$B$788,'PLAN Rekapitulacija'!$N$7,'Plan unos i pregled'!$M$7:$M$788,'PLAN Rekapitulacija'!$N$6, 'Plan unos i pregled'!$E$7:$E$788,'PLAN Rekapitulacija'!$B324, 'Plan unos i pregled'!$C$7:$C$788,'PLAN Rekapitulacija'!I$4, 'Plan unos i pregled'!$A$7:$A$788,$D$3)","v":0},0,0]
["не",null,"УКУПНО:",null,null,{"$f":"SUMPRODUCT($E$319:$E$324,F319:F324)","v":0},{"$f":"SUMPRODUCT($E$319:$E$324,G319:G324)","v":0},{"$f":"SUMPRODUCT($E$319:$E$324,H319:H324)","v":0},{"$f":"SUMPRODUCT($E$319:$E$324,I319:I324)","v":0},null,{"$f":"SUM(K318:K324)","v":0}]
[{"$f":"IF(OR(J354:K354),\"штампа\",\"не\")","v":"не"},"13","Механизација на пословима зимског одржавања локалних путева и улица"]
[{"$f":"IF(OR(J327:K329),\"штампа\",\"не\")","v":"не"},"13.1","Ровокопач утоваривач \"New Holland\" ","час",5658,{"$f":"SUMIFS('Plan unos i pregled'!$I$7:$I$788,'Plan unos i pregled'!$B$7:$B$788,'PLAN Rekapitulacija'!$N$7,'Plan unos i pregled'!$M$7:$M$788,'PLAN Rekapitulacija'!$N$6, 'Plan unos i pregled'!$E$7:$E$788,'PLAN Rekapitulacija'!$B327, 'Plan unos i pregled'!$C$7:$C$788,'PLAN Rekapitulacija'!F$4, 'Plan unos i pregled'!$A$7:$A$788,$D$3)","v":0},{"$f":"SUMIFS('Plan unos i pregled'!$I$7:$I$788,'Plan unos i pregled'!$B$7:$B$788,'PLAN Rekapitulacija'!$N$7,'Plan unos i pregled'!$M$7:$M$788,'PLAN Rekapitulacija'!$N$6, 'Plan unos i pregled'!$E$7:$E$788,'PLAN Rekapitulacija'!$B327, 'Plan unos i pregled'!$C$7:$C$788,'PLAN Rekapitulacija'!G$4, 'Plan unos i pregled'!$A$7:$A$788,$D$3)","v":0},{"$f":"SUMIFS('Plan unos i pregled'!$I$7:$I$788,'Plan unos i pregled'!$B$7:$B$788,'PLAN Rekapitulacija'!$N$7,'Plan unos i pregled'!$M$7:$M$788,'PLAN Rekapitulacija'!$N$6, 'Plan unos i pregled'!$E$7:$E$788,'PLAN Rekapitulacija'!$B327, 'Plan unos i pregled'!$C$7:$C$788,'PLAN Rekapitulacija'!H$4, 'Plan unos i pregled'!$A$7:$A$788,$D$3)","v":0},{"$f":"SUMIFS('Plan unos i pregled'!$I$7:$I$788,'Plan unos i pregled'!$B$7:$B$788,'PLAN Rekapitulacija'!$N$7,'Plan unos i pregled'!$M$7:$M$788,'PLAN Rekapitulacija'!$N$6, 'Plan unos i pregled'!$E$7:$E$788,'PLAN Rekapitulacija'!$B327, 'Plan unos i pregled'!$C$7:$C$788,'PLAN Rekapitulacija'!I$4, 'Plan unos i pregled'!$A$7:$A$788,$D$3)","v":0},{"$f":"SUM(F327:I327)","v":0},{"$f":"ROUND(E327*J327,2)","v":0}]
["не","13.1.1","Празан ход","час",3000,{"$f":"SUMIFS('Plan unos i pregled'!$I$7:$I$788,'Plan unos i pregled'!$B$7:$B$788,'PLAN Rekapitulacija'!$N$7,'Plan unos i pregled'!$M$7:$M$788,'PLAN Rekapitulacija'!$N$6, 'Plan unos i pregled'!$E$7:$E$788,'PLAN Rekapitulacija'!$B328, 'Plan unos i pregled'!$C$7:$C$788,'PLAN Rekapitulacija'!F$4, 'Plan unos i pregled'!$A$7:$A$788,$D$3)","v":0},{"$f":"SUMIFS('Plan unos i pregled'!$I$7:$I$788,'Plan unos i pregled'!$B$7:$B$788,'PLAN Rekapitulacija'!$N$7,'Plan unos i pregled'!$M$7:$M$788,'PLAN Rekapitulacija'!$N$6, 'Plan unos i pregled'!$E$7:$E$788,'PLAN Rekapitulacija'!$B328, 'Plan unos i pregled'!$C$7:$C$788,'PLAN Rekapitulacija'!G$4, 'Plan unos i pregled'!$A$7:$A$788,$D$3)","v":0},{"$f":"SUMIFS('Plan unos i pregled'!$I$7:$I$788,'Plan unos i pregled'!$B$7:$B$788,'PLAN Rekapitulacija'!$N$7,'Plan unos i pregled'!$M$7:$M$788,'PLAN Rekapitulacija'!$N$6, 'Plan unos i pregled'!$E$7:$E$788,'PLAN Rekapitulacija'!$B328, 'Plan unos i pregled'!$C$7:$C$788,'PLAN Rekapitulacija'!H$4, 'Plan unos i pregled'!$A$7:$A$788,$D$3)","v":0},{"$f":"SUMIFS('Plan unos i pregled'!$I$7:$I$788,'Plan unos i pregled'!$B$7:$B$788,'PLAN Rekapitulacija'!$N$7,'Plan unos i pregled'!$M$7:$M$788,'PLAN Rekapitulacija'!$N$6, 'Plan unos i pregled'!$E$7:$E$788,'PLAN Rekapitulacija'!$B328, 'Plan unos i pregled'!$C$7:$C$788,'PLAN Rekapitulacija'!I$4, 'Plan unos i pregled'!$A$7:$A$788,$D$3)","v":0},0,0]
["не","13.1.2","Дежурство са возачем","час",1040,{"$f":"SUMIFS('Plan unos i pregled'!$I$7:$I$788,'Plan unos i pregled'!$B$7:$B$788,'PLAN Rekapitulacija'!$N$7,'Plan unos i pregled'!$M$7:$M$788,'PLAN Rekapitulacija'!$N$6, 'Plan unos i pregled'!$E$7:$E$788,'PLAN Rekapitulacija'!$B329, 'Plan unos i pregled'!$C$7:$C$788,'PLAN Rekapitulacija'!F$4, 'Plan unos i pregled'!$A$7:$A$788,$D$3)","v":0},{"$f":"SUMIFS('Plan unos i pregled'!$I$7:$I$788,'Plan unos i pregled'!$B$7:$B$788,'PLAN Rekapitulacija'!$N$7,'Plan unos i pregled'!$M$7:$M$788,'PLAN Rekapitulacija'!$N$6, 'Plan unos i pregled'!$E$7:$E$788,'PLAN Rekapitulacija'!$B329, 'Plan unos i pregled'!$C$7:$C$788,'PLAN Rekapitulacija'!G$4, 'Plan unos i pregled'!$A$7:$A$788,$D$3)","v":0},{"$f":"SUMIFS('Plan unos i pregled'!$I$7:$I$788,'Plan unos i pregled'!$B$7:$B$788,'PLAN Rekapitulacija'!$N$7,'Plan unos i pregled'!$M$7:$M$788,'PLAN Rekapitulacija'!$N$6, 'Plan unos i pregled'!$E$7:$E$788,'PLAN Rekapitulacija'!$B329, 'Plan unos i pregled'!$C$7:$C$788,'PLAN Rekapitulacija'!H$4, 'Plan unos i pregled'!$A$7:$A$788,$D$3)","v":0},{"$f":"SUMIFS('Plan unos i pregled'!$I$7:$I$788,'Plan unos i pregled'!$B$7:$B$788,'PLAN Rekapitulacija'!$N$7,'Plan unos i pregled'!$M$7:$M$788,'PLAN Rekapitulacija'!$N$6, 'Plan unos i pregled'!$E$7:$E$788,'PLAN Rekapitulacija'!$B329, 'Plan unos i pregled'!$C$7:$C$788,'PLAN Rekapitulacija'!I$4, 'Plan unos i pregled'!$A$7:$A$788,$D$3)","v":0},0,0]
[{"$f":"IF(OR(J330:K332),\"штампа\",\"не\")","v":"не"},"13.2","Ровокопач утоваривач \"CASE\" ","час",6486,{"$f":"SUMIFS('Plan unos i pregled'!$I$7:$I$788,'Plan unos i pregled'!$B$7:$B$788,'PLAN Rekapitulacija'!$N$7,'Plan unos i pregled'!$M$7:$M$788,'PLAN Rekapitulacija'!$N$6, 'Plan unos i pregled'!$E$7:$E$788,'PLAN Rekapitulacija'!$B330, 'Plan unos i pregled'!$C$7:$C$788,'PLAN Rekapitulacija'!F$4, 'Plan unos i pregled'!$A$7:$A$788,$D$3)","v":0},{"$f":"SUMIFS('Plan unos i pregled'!$I$7:$I$788,'Plan unos i pregled'!$B$7:$B$788,'PLAN Rekapitulacija'!$N$7,'Plan unos i pregled'!$M$7:$M$788,'PLAN Rekapitulacija'!$N$6, 'Plan unos i pregled'!$E$7:$E$788,'PLAN Rekapitulacija'!$B330, 'Plan unos i pregled'!$C$7:$C$788,'PLAN Rekapitulacija'!G$4, 'Plan unos i pregled'!$A$7:$A$788,$D$3)","v":0},{"$f":"SUMIFS('Plan unos i pregled'!$I$7:$I$788,'Plan unos i pregled'!$B$7:$B$788,'PLAN Rekapitulacija'!$N$7,'Plan unos i pregled'!$M$7:$M$788,'PLAN Rekapitulacija'!$N$6, 'Plan unos i pregled'!$E$7:$E$788,'PLAN Rekapitulacija'!$B330, 'Plan unos i pregled'!$C$7:$C$788,'PLAN Rekapitulacija'!H$4, 'Plan unos i pregled'!$A$7:$A$788,$D$3)","v":0},{"$f":"SUMIFS('Plan unos i pregled'!$I$7:$I$788,'Plan unos i pregled'!$B$7:$B$788,'PLAN Rekapitulacija'!$N$7,'Plan unos i pregled'!$M$7:$M$788,'PLAN Rekapitulacija'!$N$6, 'Plan unos i pregled'!$E$7:$E$788,'PLAN Rekapitulacija'!$B330, 'Plan unos i pregled'!$C$7:$C$788,'PLAN Rekapitulacija'!I$4, 'Plan unos i pregled'!$A$7:$A$788,$D$3)","v":0},0,0]
["не","13.2.1","Празан ход","час",3300,{"$f":"SUMIFS('Plan unos i pregled'!$I$7:$I$788,'Plan unos i pregled'!$B$7:$B$788,'PLAN Rekapitulacija'!$N$7,'Plan unos i pregled'!$M$7:$M$788,'PLAN Rekapitulacija'!$N$6, 'Plan unos i pregled'!$E$7:$E$788,'PLAN Rekapitulacija'!$B331, 'Plan unos i pregled'!$C$7:$C$788,'PLAN Rekapitulacija'!F$4, 'Plan unos i pregled'!$A$7:$A$788,$D$3)","v":0},{"$f":"SUMIFS('Plan unos i pregled'!$I$7:$I$788,'Plan unos i pregled'!$B$7:$B$788,'PLAN Rekapitulacija'!$N$7,'Plan unos i pregled'!$M$7:$M$788,'PLAN Rekapitulacija'!$N$6, 'Plan unos i pregled'!$E$7:$E$788,'PLAN Rekapitulacija'!$B331, 'Plan unos i pregled'!$C$7:$C$788,'PLAN Rekapitulacija'!G$4, 'Plan unos i pregled'!$A$7:$A$788,$D$3)","v":0},{"$f":"SUMIFS('Plan unos i pregled'!$I$7:$I$788,'Plan unos i pregled'!$B$7:$B$788,'PLAN Rekapitulacija'!$N$7,'Plan unos i pregled'!$M$7:$M$788,'PLAN Rekapitulacija'!$N$6, 'Plan unos i pregled'!$E$7:$E$788,'PLAN Rekapitulacija'!$B331, 'Plan unos i pregled'!$C$7:$C$788,'PLAN Rekapitulacija'!H$4, 'Plan unos i pregled'!$A$7:$A$788,$D$3)","v":0},{"$f":"SUMIFS('Plan unos i pregled'!$I$7:$I$788,'Plan unos i pregled'!$B$7:$B$788,'PLAN Rekapitulacija'!$N$7,'Plan unos i pregled'!$M$7:$M$788,'PLAN Rekapitulacija'!$N$6, 'Plan unos i pregled'!$E$7:$E$788,'PLAN Rekapitulacija'!$B331, 'Plan unos i pregled'!$C$7:$C$788,'PLAN Rekapitulacija'!I$4, 'Plan unos i pregled'!$A$7:$A$788,$D$3)","v":0},0,0]
["не","13.2.2","Дежурство са возачем","час",1040,{"$f":"SUMIFS('Plan unos i pregled'!$I$7:$I$788,'Plan unos i pregled'!$B$7:$B$788,'PLAN Rekapitulacija'!$N$7,'Plan unos i pregled'!$M$7:$M$788,'PLAN Rekapitulacija'!$N$6, 'Plan unos i pregled'!$E$7:$E$788,'PLAN Rekapitulacija'!$B332, 'Plan unos i pregled'!$C$7:$C$788,'PLAN Rekapitulacija'!F$4, 'Plan unos i pregled'!$A$7:$A$788,$D$3)","v":0},{"$f":"SUMIFS('Plan unos i pregled'!$I$7:$I$788,'Plan unos i pregled'!$B$7:$B$788,'PLAN Rekapitulacija'!$N$7,'Plan unos i pregled'!$M$7:$M$788,'PLAN Rekapitulacija'!$N$6, 'Plan unos i pregled'!$E$7:$E$788,'PLAN Rekapitulacija'!$B332, 'Plan unos i pregled'!$C$7:$C$788,'PLAN Rekapitulacija'!G$4, 'Plan unos i pregled'!$A$7:$A$788,$D$3)","v":0},{"$f":"SUMIFS('Plan unos i pregled'!$I$7:$I$788,'Plan unos i pregled'!$B$7:$B$788,'PLAN Rekapitulacija'!$N$7,'Plan unos i pregled'!$M$7:$M$788,'PLAN Rekapitulacija'!$N$6, 'Plan unos i pregled'!$E$7:$E$788,'PLAN Rekapitulacija'!$B332, 'Plan unos i pregled'!$C$7:$C$788,'PLAN Rekapitulacija'!H$4, 'Plan unos i pregled'!$A$7:$A$788,$D$3)","v":0},{"$f":"SUMIFS('Plan unos i pregled'!$I$7:$I$788,'Plan unos i pregled'!$B$7:$B$788,'PLAN Rekapitulacija'!$N$7,'Plan unos i pregled'!$M$7:$M$788,'PLAN Rekapitulacija'!$N$6, 'Plan unos i pregled'!$E$7:$E$788,'PLAN Rekapitulacija'!$B332, 'Plan unos i pregled'!$C$7:$C$788,'PLAN Rekapitulacija'!I$4, 'Plan unos i pregled'!$A$7:$A$788,$D$3)","v":0},0,0]
[{"$f":"IF(OR(J333:K335),\"штампа\",\"не\")","v":"не"},"13.3","Камион 4x4 са раоником и епохом ","час",5544,{"$f":"SUMIFS('Plan unos i pregled'!$I$7:$I$788,'Plan unos i pregled'!$B$7:$B$788,'PLAN Rekapitulacija'!$N$7,'Plan unos i pregled'!$M$7:$M$788,'PLAN Rekapitulacija'!$N$6, 'Plan unos i pregled'!$E$7:$E$788,'PLAN Rekapitulacija'!$B333, 'Plan unos i pregled'!$C$7:$C$788,'PLAN Rekapitulacija'!F$4, 'Plan unos i pregled'!$A$7:$A$788,$D$3)","v":0},{"$f":"SUMIFS('Plan unos i pregled'!$I$7:$I$788,'Plan unos i pregled'!$B$7:$B$788,'PLAN Rekapitulacija'!$N$7,'Plan unos i pregled'!$M$7:$M$788,'PLAN Rekapitulacija'!$N$6, 'Plan unos i pregled'!$E$7:$E$788,'PLAN Rekapitulacija'!$B333, 'Plan unos i pregled'!$C$7:$C$788,'PLAN Rekapitulacija'!G$4, 'Plan unos i pregled'!$A$7:$A$788,$D$3)","v":0},{"$f":"SUMIFS('Plan unos i pregled'!$I$7:$I$788,'Plan unos i pregled'!$B$7:$B$788,'PLAN Rekapitulacija'!$N$7,'Plan unos i pregled'!$M$7:$M$788,'PLAN Rekapitulacija'!$N$6, 'Plan unos i pregled'!$E$7:$E$788,'PLAN Rekapitulacija'!$B333, 'Plan unos i pregled'!$C$7:$C$788,'PLAN Rekapitulacija'!H$4, 'Plan unos i pregled'!$A$7:$A$788,$D$3)","v":0},{"$f":"SUMIFS('Plan unos i pregled'!$I$7:$I$788,'Plan unos i pregled'!$B$7:$B$788,'PLAN Rekapitulacija'!$N$7,'Plan unos i pregled'!$M$7:$M$788,'PLAN Rekapitulacija'!$N$6, 'Plan unos i pregled'!$E$7:$E$788,'PLAN Rekapitulacija'!$B333, 'Plan unos i pregled'!$C$7:$C$788,'PLAN Rekapitulacija'!I$4, 'Plan unos i pregled'!$A$7:$A$788,$D$3)","v":0},0,0]
["не","13.3.1","Празан ход","час",2600,{"$f":"SUMIFS('Plan unos i pregled'!$I$7:$I$788,'Plan unos i pregled'!$B$7:$B$788,'PLAN Rekapitulacija'!$N$7,'Plan unos i pregled'!$M$7:$M$788,'PLAN Rekapitulacija'!$N$6, 'Plan unos i pregled'!$E$7:$E$788,'PLAN Rekapitulacija'!$B334, 'Plan unos i pregled'!$C$7:$C$788,'PLAN Rekapitulacija'!F$4, 'Plan unos i pregled'!$A$7:$A$788,$D$3)","v":0},{"$f":"SUMIFS('Plan unos i pregled'!$I$7:$I$788,'Plan unos i pregled'!$B$7:$B$788,'PLAN Rekapitulacija'!$N$7,'Plan unos i pregled'!$M$7:$M$788,'PLAN Rekapitulacija'!$N$6, 'Plan unos i pregled'!$E$7:$E$788,'PLAN Rekapitulacija'!$B334, 'Plan unos i pregled'!$C$7:$C$788,'PLAN Rekapitulacija'!G$4, 'Plan unos i pregled'!$A$7:$A$788,$D$3)","v":0},{"$f":"SUMIFS('Plan unos i pregled'!$I$7:$I$788,'Plan unos i pregled'!$B$7:$B$788,'PLAN Rekapitulacija'!$N$7,'Plan unos i pregled'!$M$7:$M$788,'PLAN Rekapitulacija'!$N$6, 'Plan unos i pregled'!$E$7:$E$788,'PLAN Rekapitulacija'!$B334, 'Plan unos i pregled'!$C$7:$C$788,'PLAN Rekapitulacija'!H$4, 'Plan unos i pregled'!$A$7:$A$788,$D$3)","v":0},{"$f":"SUMIFS('Plan unos i pregled'!$I$7:$I$788,'Plan unos i pregled'!$B$7:$B$788,'PLAN Rekapitulacija'!$N$7,'Plan unos i pregled'!$M$7:$M$788,'PLAN Rekapitulacija'!$N$6, 'Plan unos i pregled'!$E$7:$E$788,'PLAN Rekapitulacija'!$B334, 'Plan unos i pregled'!$C$7:$C$788,'PLAN Rekapitulacija'!I$4, 'Plan unos i pregled'!$A$7:$A$788,$D$3)","v":0},0,0]
["не","13.3.2","Дежурство са возачем","час",1170,{"$f":"SUMIFS('Plan unos i pregled'!$I$7:$I$788,'Plan unos i pregled'!$B$7:$B$788,'PLAN Rekapitulacija'!$N$7,'Plan unos i pregled'!$M$7:$M$788,'PLAN Rekapitulacija'!$N$6, 'Plan unos i pregled'!$E$7:$E$788,'PLAN Rekapitulacija'!$B335, 'Plan unos i pregled'!$C$7:$C$788,'PLAN Rekapitulacija'!F$4, 'Plan unos i pregled'!$A$7:$A$788,$D$3)","v":0},{"$f":"SUMIFS('Plan unos i pregled'!$I$7:$I$788,'Plan unos i pregled'!$B$7:$B$788,'PLAN Rekapitulacija'!$N$7,'Plan unos i pregled'!$M$7:$M$788,'PLAN Rekapitulacija'!$N$6, 'Plan unos i pregled'!$E$7:$E$788,'PLAN Rekapitulacija'!$B335, 'Plan unos i pregled'!$C$7:$C$788,'PLAN Rekapitulacija'!G$4, 'Plan unos i pregled'!$A$7:$A$788,$D$3)","v":0},{"$f":"SUMIFS('Plan unos i pregled'!$I$7:$I$788,'Plan unos i pregled'!$B$7:$B$788,'PLAN Rekapitulacija'!$N$7,'Plan unos i pregled'!$M$7:$M$788,'PLAN Rekapitulacija'!$N$6, 'Plan unos i pregled'!$E$7:$E$788,'PLAN Rekapitulacija'!$B335, 'Plan unos i pregled'!$C$7:$C$788,'PLAN Rekapitulacija'!H$4, 'Plan unos i pregled'!$A$7:$A$788,$D$3)","v":0},{"$f":"SUMIFS('Plan unos i pregled'!$I$7:$I$788,'Plan unos i pregled'!$B$7:$B$788,'PLAN Rekapitulacija'!$N$7,'Plan unos i pregled'!$M$7:$M$788,'PLAN Rekapitulacija'!$N$6, 'Plan unos i pregled'!$E$7:$E$788,'PLAN Rekapitulacija'!$B335, 'Plan unos i pregled'!$C$7:$C$788,'PLAN Rekapitulacija'!I$4, 'Plan unos i pregled'!$A$7:$A$788,$D$3)","v":0},0,0]
[{"$f":"IF(OR(J336:K338),\"штампа\",\"не\")","v":"не"},"13.4","Камион кипер са раоником ","час",4621,{"$f":"SUMIFS('Plan unos i pregled'!$I$7:$I$788,'Plan unos i pregled'!$B$7:$B$788,'PLAN Rekapitulacija'!$N$7,'Plan unos i pregled'!$M$7:$M$788,'PLAN Rekapitulacija'!$N$6, 'Plan unos i pregled'!$E$7:$E$788,'PLAN Rekapitulacija'!$B336, 'Plan unos i pregled'!$C$7:$C$788,'PLAN Rekapitulacija'!F$4, 'Plan unos i pregled'!$A$7:$A$788,$D$3)","v":0},{"$f":"SUMIFS('Plan unos i pregled'!$I$7:$I$788,'Plan unos i pregled'!$B$7:$B$788,'PLAN Rekapitulacija'!$N$7,'Plan unos i pregled'!$M$7:$M$788,'PLAN Rekapitulacija'!$N$6, 'Plan unos i pregled'!$E$7:$E$788,'PLAN Rekapitulacija'!$B336, 'Plan unos i pregled'!$C$7:$C$788,'PLAN Rekapitulacija'!G$4, 'Plan unos i pregled'!$A$7:$A$788,$D$3)","v":0},{"$f":"SUMIFS('Plan unos i pregled'!$I$7:$I$788,'Plan unos i pregled'!$B$7:$B$788,'PLAN Rekapitulacija'!$N$7,'Plan unos i pregled'!$M$7:$M$788,'PLAN Rekapitulacija'!$N$6, 'Plan unos i pregled'!$E$7:$E$788,'PLAN Rekapitulacija'!$B336, 'Plan unos i pregled'!$C$7:$C$788,'PLAN Rekapitulacija'!H$4, 'Plan unos i pregled'!$A$7:$A$788,$D$3)","v":0},{"$f":"SUMIFS('Plan unos i pregled'!$I$7:$I$788,'Plan unos i pregled'!$B$7:$B$788,'PLAN Rekapitulacija'!$N$7,'Plan unos i pregled'!$M$7:$M$788,'PLAN Rekapitulacija'!$N$6, 'Plan unos i pregled'!$E$7:$E$788,'PLAN Rekapitulacija'!$B336, 'Plan unos i pregled'!$C$7:$C$788,'PLAN Rekapitulacija'!I$4, 'Plan unos i pregled'!$A$7:$A$788,$D$3)","v":0},0,0]
["не","13.4.1","Празан ход","час",2600,{"$f":"SUMIFS('Plan unos i pregled'!$I$7:$I$788,'Plan unos i pregled'!$B$7:$B$788,'PLAN Rekapitulacija'!$N$7,'Plan unos i pregled'!$M$7:$M$788,'PLAN Rekapitulacija'!$N$6, 'Plan unos i pregled'!$E$7:$E$788,'PLAN Rekapitulacija'!$B337, 'Plan unos i pregled'!$C$7:$C$788,'PLAN Rekapitulacija'!F$4, 'Plan unos i pregled'!$A$7:$A$788,$D$3)","v":0},{"$f":"SUMIFS('Plan unos i pregled'!$I$7:$I$788,'Plan unos i pregled'!$B$7:$B$788,'PLAN Rekapitulacija'!$N$7,'Plan unos i pregled'!$M$7:$M$788,'PLAN Rekapitulacija'!$N$6, 'Plan unos i pregled'!$E$7:$E$788,'PLAN Rekapitulacija'!$B337, 'Plan unos i pregled'!$C$7:$C$788,'PLAN Rekapitulacija'!G$4, 'Plan unos i pregled'!$A$7:$A$788,$D$3)","v":0},{"$f":"SUMIFS('Plan unos i pregled'!$I$7:$I$788,'Plan unos i pregled'!$B$7:$B$788,'PLAN Rekapitulacija'!$N$7,'Plan unos i pregled'!$M$7:$M$788,'PLAN Rekapitulacija'!$N$6, 'Plan unos i pregled'!$E$7:$E$788,'PLAN Rekapitulacija'!$B337, 'Plan unos i pregled'!$C$7:$C$788,'PLAN Rekapitulacija'!H$4, 'Plan unos i pregled'!$A$7:$A$788,$D$3)","v":0},{"$f":"SUMIFS('Plan unos i pregled'!$I$7:$I$788,'Plan unos i pregled'!$B$7:$B$788,'PLAN Rekapitulacija'!$N$7,'Plan unos i pregled'!$M$7:$M$788,'PLAN Rekapitulacija'!$N$6, 'Plan unos i pregled'!$E$7:$E$788,'PLAN Rekapitulacija'!$B337, 'Plan unos i pregled'!$C$7:$C$788,'PLAN Rekapitulacija'!I$4, 'Plan unos i pregled'!$A$7:$A$788,$D$3)","v":0},0,0]
["не","13.4.2","Дежурство са возачем","час",1040,{"$f":"SUMIFS('Plan unos i pregled'!$I$7:$I$788,'Plan unos i pregled'!$B$7:$B$788,'PLAN Rekapitulacija'!$N$7,'Plan unos i pregled'!$M$7:$M$788,'PLAN Rekapitulacija'!$N$6, 'Plan unos i pregled'!$E$7:$E$788,'PLAN Rekapitulacija'!$B338, 'Plan unos i pregled'!$C$7:$C$788,'PLAN Rekapitulacija'!F$4, 'Plan unos i pregled'!$A$7:$A$788,$D$3)","v":0},{"$f":"SUMIFS('Plan unos i pregled'!$I$7:$I$788,'Plan unos i pregled'!$B$7:$B$788,'PLAN Rekapitulacija'!$N$7,'Plan unos i pregled'!$M$7:$M$788,'PLAN Rekapitulacija'!$N$6, 'Plan unos i pregled'!$E$7:$E$788,'PLAN Rekapitulacija'!$B338, 'Plan unos i pregled'!$C$7:$C$788,'PLAN Rekapitulacija'!G$4, 'Plan unos i pregled'!$A$7:$A$788,$D$3)","v":0},{"$f":"SUMIFS('Plan unos i pregled'!$I$7:$I$788,'Plan unos i pregled'!$B$7:$B$788,'PLAN Rekapitulacija'!$N$7,'Plan unos i pregled'!$M$7:$M$788,'PLAN Rekapitulacija'!$N$6, 'Plan unos i pregled'!$E$7:$E$788,'PLAN Rekapitulacija'!$B338, 'Plan unos i pregled'!$C$7:$C$788,'PLAN Rekapitulacija'!H$4, 'Plan unos i pregled'!$A$7:$A$788,$D$3)","v":0},{"$f":"SUMIFS('Plan unos i pregled'!$I$7:$I$788,'Plan unos i pregled'!$B$7:$B$788,'PLAN Rekapitulacija'!$N$7,'Plan unos i pregled'!$M$7:$M$788,'PLAN Rekapitulacija'!$N$6, 'Plan unos i pregled'!$E$7:$E$788,'PLAN Rekapitulacija'!$B338, 'Plan unos i pregled'!$C$7:$C$788,'PLAN Rekapitulacija'!I$4, 'Plan unos i pregled'!$A$7:$A$788,$D$3)","v":0},0,0]
[{"$f":"IF(OR(J339:K341),\"штампа\",\"не\")","v":"не"},"13.5","Мини хидраулицни багер ","час",5244,{"$f":"SUMIFS('Plan unos i pregled'!$I$7:$I$788,'Plan unos i pregled'!$B$7:$B$788,'PLAN Rekapitulacija'!$N$7,'Plan unos i pregled'!$M$7:$M$788,'PLAN Rekapitulacija'!$N$6, 'Plan unos i pregled'!$E$7:$E$788,'PLAN Rekapitulacija'!$B339, 'Plan unos i pregled'!$C$7:$C$788,'PLAN Rekapitulacija'!F$4, 'Plan unos i pregled'!$A$7:$A$788,$D$3)","v":0},{"$f":"SUMIFS('Plan unos i pregled'!$I$7:$I$788,'Plan unos i pregled'!$B$7:$B$788,'PLAN Rekapitulacija'!$N$7,'Plan unos i pregled'!$M$7:$M$788,'PLAN Rekapitulacija'!$N$6, 'Plan unos i pregled'!$E$7:$E$788,'PLAN Rekapitulacija'!$B339, 'Plan unos i pregled'!$C$7:$C$788,'PLAN Rekapitulacija'!G$4, 'Plan unos i pregled'!$A$7:$A$788,$D$3)","v":0},{"$f":"SUMIFS('Plan unos i pregled'!$I$7:$I$788,'Plan unos i pregled'!$B$7:$B$788,'PLAN Rekapitulacija'!$N$7,'Plan unos i pregled'!$M$7:$M$788,'PLAN Rekapitulacija'!$N$6, 'Plan unos i pregled'!$E$7:$E$788,'PLAN Rekapitulacija'!$B339, 'Plan unos i pregled'!$C$7:$C$788,'PLAN Rekapitulacija'!H$4, 'Plan unos i pregled'!$A$7:$A$788,$D$3)","v":0},{"$f":"SUMIFS('Plan unos i pregled'!$I$7:$I$788,'Plan unos i pregled'!$B$7:$B$788,'PLAN Rekapitulacija'!$N$7,'Plan unos i pregled'!$M$7:$M$788,'PLAN Rekapitulacija'!$N$6, 'Plan unos i pregled'!$E$7:$E$788,'PLAN Rekapitulacija'!$B339, 'Plan unos i pregled'!$C$7:$C$788,'PLAN Rekapitulacija'!I$4, 'Plan unos i pregled'!$A$7:$A$788,$D$3)","v":0},0,0]
["не","13.5.1","Празан ход","час",2600,{"$f":"SUMIFS('Plan unos i pregled'!$I$7:$I$788,'Plan unos i pregled'!$B$7:$B$788,'PLAN Rekapitulacija'!$N$7,'Plan unos i pregled'!$M$7:$M$788,'PLAN Rekapitulacija'!$N$6, 'Plan unos i pregled'!$E$7:$E$788,'PLAN Rekapitulacija'!$B340, 'Plan unos i pregled'!$C$7:$C$788,'PLAN Rekapitulacija'!F$4, 'Plan unos i pregled'!$A$7:$A$788,$D$3)","v":0},{"$f":"SUMIFS('Plan unos i pregled'!$I$7:$I$788,'Plan unos i pregled'!$B$7:$B$788,'PLAN Rekapitulacija'!$N$7,'Plan unos i pregled'!$M$7:$M$788,'PLAN Rekapitulacija'!$N$6, 'Plan unos i pregled'!$E$7:$E$788,'PLAN Rekapitulacija'!$B340, 'Plan unos i pregled'!$C$7:$C$788,'PLAN Rekapitulacija'!G$4, 'Plan unos i pregled'!$A$7:$A$788,$D$3)","v":0},{"$f":"SUMIFS('Plan unos i pregled'!$I$7:$I$788,'Plan unos i pregled'!$B$7:$B$788,'PLAN Rekapitulacija'!$N$7,'Plan unos i pregled'!$M$7:$M$788,'PLAN Rekapitulacija'!$N$6, 'Plan unos i pregled'!$E$7:$E$788,'PLAN Rekapitulacija'!$B340, 'Plan unos i pregled'!$C$7:$C$788,'PLAN Rekapitulacija'!H$4, 'Plan unos i pregled'!$A$7:$A$788,$D$3)","v":0},{"$f":"SUMIFS('Plan unos i pregled'!$I$7:$I$788,'Plan unos i pregled'!$B$7:$B$788,'PLAN Rekapitulacija'!$N$7,'Plan unos i pregled'!$M$7:$M$788,'PLAN Rekapitulacija'!$N$6, 'Plan unos i pregled'!$E$7:$E$788,'PLAN Rekapitulacija'!$B340, 'Plan unos i pregled'!$C$7:$C$788,'PLAN Rekapitulacija'!I$4, 'Plan unos i pregled'!$A$7:$A$788,$D$3)","v":0},0,0]
["не","13.5.2","Дежурство са возачем","час",1040,{"$f":"SUMIFS('Plan unos i pregled'!$I$7:$I$788,'Plan unos i pregled'!$B$7:$B$788,'PLAN Rekapitulacija'!$N$7,'Plan unos i pregled'!$M$7:$M$788,'PLAN Rekapitulacija'!$N$6, 'Plan unos i pregled'!$E$7:$E$788,'PLAN Rekapitulacija'!$B341, 'Plan unos i pregled'!$C$7:$C$788,'PLAN Rekapitulacija'!F$4, 'Plan unos i pregled'!$A$7:$A$788,$D$3)","v":0},{"$f":"SUMIFS('Plan unos i pregled'!$I$7:$I$788,'Plan unos i pregled'!$B$7:$B$788,'PLAN Rekapitulacija'!$N$7,'Plan unos i pregled'!$M$7:$M$788,'PLAN Rekapitulacija'!$N$6, 'Plan unos i pregled'!$E$7:$E$788,'PLAN Rekapitulacija'!$B341, 'Plan unos i pregled'!$C$7:$C$788,'PLAN Rekapitulacija'!G$4, 'Plan unos i pregled'!$A$7:$A$788,$D$3)","v":0},{"$f":"SUMIFS('Plan unos i pregled'!$I$7:$I$788,'Plan unos i pregled'!$B$7:$B$788,'PLAN Rekapitulacija'!$N$7,'Plan unos i pregled'!$M$7:$M$788,'PLAN Rekapitulacija'!$N$6, 'Plan unos i pregled'!$E$7:$E$788,'PLAN Rekapitulacija'!$B341, 'Plan unos i pregled'!$C$7:$C$788,'PLAN Rekapitulacija'!H$4, 'Plan unos i pregled'!$A$7:$A$788,$D$3)","v":0},{"$f":"SUMIFS('Plan unos i pregled'!$I$7:$I$788,'Plan unos i pregled'!$B$7:$B$788,'PLAN Rekapitulacija'!$N$7,'Plan unos i pregled'!$M$7:$M$788,'PLAN Rekapitulacija'!$N$6, 'Plan unos i pregled'!$E$7:$E$788,'PLAN Rekapitulacija'!$B341, 'Plan unos i pregled'!$C$7:$C$788,'PLAN Rekapitulacija'!I$4, 'Plan unos i pregled'!$A$7:$A$788,$D$3)","v":0},0,0]
[{"$f":"IF(OR(J342:K344),\"штампа\",\"не\")","v":"не"},"13.6","Утоваривач JCB \"Robot 150\" ","час",3520,{"$f":"SUMIFS('Plan unos i pregled'!$I$7:$I$788,'Plan unos i pregled'!$B$7:$B$788,'PLAN Rekapitulacija'!$N$7,'Plan unos i pregled'!$M$7:$M$788,'PLAN Rekapitulacija'!$N$6, 'Plan unos i pregled'!$E$7:$E$788,'PLAN Rekapitulacija'!$B342, 'Plan unos i pregled'!$C$7:$C$788,'PLAN Rekapitulacija'!F$4, 'Plan unos i pregled'!$A$7:$A$788,$D$3)","v":0},{"$f":"SUMIFS('Plan unos i pregled'!$I$7:$I$788,'Plan unos i pregled'!$B$7:$B$788,'PLAN Rekapitulacija'!$N$7,'Plan unos i pregled'!$M$7:$M$788,'PLAN Rekapitulacija'!$N$6, 'Plan unos i pregled'!$E$7:$E$788,'PLAN Rekapitulacija'!$B342, 'Plan unos i pregled'!$C$7:$C$788,'PLAN Rekapitulacija'!G$4, 'Plan unos i pregled'!$A$7:$A$788,$D$3)","v":0},{"$f":"SUMIFS('Plan unos i pregled'!$I$7:$I$788,'Plan unos i pregled'!$B$7:$B$788,'PLAN Rekapitulacija'!$N$7,'Plan unos i pregled'!$M$7:$M$788,'PLAN Rekapitulacija'!$N$6, 'Plan unos i pregled'!$E$7:$E$788,'PLAN Rekapitulacija'!$B342, 'Plan unos i pregled'!$C$7:$C$788,'PLAN Rekapitulacija'!H$4, 'Plan unos i pregled'!$A$7:$A$788,$D$3)","v":0},{"$f":"SUMIFS('Plan unos i pregled'!$I$7:$I$788,'Plan unos i pregled'!$B$7:$B$788,'PLAN Rekapitulacija'!$N$7,'Plan unos i pregled'!$M$7:$M$788,'PLAN Rekapitulacija'!$N$6, 'Plan unos i pregled'!$E$7:$E$788,'PLAN Rekapitulacija'!$B342, 'Plan unos i pregled'!$C$7:$C$788,'PLAN Rekapitulacija'!I$4, 'Plan unos i pregled'!$A$7:$A$788,$D$3)","v":0},0,0]
["не","13.6.1","Празан ход","час",1900,{"$f":"SUMIFS('Plan unos i pregled'!$I$7:$I$788,'Plan unos i pregled'!$B$7:$B$788,'PLAN Rekapitulacija'!$N$7,'Plan unos i pregled'!$M$7:$M$788,'PLAN Rekapitulacija'!$N$6, 'Plan unos i pregled'!$E$7:$E$788,'PLAN Rekapitulacija'!$B343, 'Plan unos i pregled'!$C$7:$C$788,'PLAN Rekapitulacija'!F$4, 'Plan unos i pregled'!$A$7:$A$788,$D$3)","v":0},{"$f":"SUMIFS('Plan unos i pregled'!$I$7:$I$788,'Plan unos i pregled'!$B$7:$B$788,'PLAN Rekapitulacija'!$N$7,'Plan unos i pregled'!$M$7:$M$788,'PLAN Rekapitulacija'!$N$6, 'Plan unos i pregled'!$E$7:$E$788,'PLAN Rekapitulacija'!$B343, 'Plan unos i pregled'!$C$7:$C$788,'PLAN Rekapitulacija'!G$4, 'Plan unos i pregled'!$A$7:$A$788,$D$3)","v":0},{"$f":"SUMIFS('Plan unos i pregled'!$I$7:$I$788,'Plan unos i pregled'!$B$7:$B$788,'PLAN Rekapitulacija'!$N$7,'Plan unos i pregled'!$M$7:$M$788,'PLAN Rekapitulacija'!$N$6, 'Plan unos i pregled'!$E$7:$E$788,'PLAN Rekapitulacija'!$B343, 'Plan unos i pregled'!$C$7:$C$788,'PLAN Rekapitulacija'!H$4, 'Plan unos i pregled'!$A$7:$A$788,$D$3)","v":0},{"$f":"SUMIFS('Plan unos i pregled'!$I$7:$I$788,'Plan unos i pregled'!$B$7:$B$788,'PLAN Rekapitulacija'!$N$7,'Plan unos i pregled'!$M$7:$M$788,'PLAN Rekapitulacija'!$N$6, 'Plan unos i pregled'!$E$7:$E$788,'PLAN Rekapitulacija'!$B343, 'Plan unos i pregled'!$C$7:$C$788,'PLAN Rekapitulacija'!I$4, 'Plan unos i pregled'!$A$7:$A$788,$D$3)","v":0},0,0]
["не","13.6.2","Дежурство са возачем","час",800,{"$f":"SUMIFS('Plan unos i pregled'!$I$7:$I$788,'Plan unos i pregled'!$B$7:$B$788,'PLAN Rekapitulacija'!$N$7,'Plan unos i pregled'!$M$7:$M$788,'PLAN Rekapitulacija'!$N$6, 'Plan unos i pregled'!$E$7:$E$788,'PLAN Rekapitulacija'!$B344, 'Plan unos i pregled'!$C$7:$C$788,'PLAN Rekapitulacija'!F$4, 'Plan unos i pregled'!$A$7:$A$788,$D$3)","v":0},{"$f":"SUMIFS('Plan unos i pregled'!$I$7:$I$788,'Plan unos i pregled'!$B$7:$B$788,'PLAN Rekapitulacija'!$N$7,'Plan unos i pregled'!$M$7:$M$788,'PLAN Rekapitulacija'!$N$6, 'Plan unos i pregled'!$E$7:$E$788,'PLAN Rekapitulacija'!$B344, 'Plan unos i pregled'!$C$7:$C$788,'PLAN Rekapitulacija'!G$4, 'Plan unos i pregled'!$A$7:$A$788,$D$3)","v":0},{"$f":"SUMIFS('Plan unos i pregled'!$I$7:$I$788,'Plan unos i pregled'!$B$7:$B$788,'PLAN Rekapitulacija'!$N$7,'Plan unos i pregled'!$M$7:$M$788,'PLAN Rekapitulacija'!$N$6, 'Plan unos i pregled'!$E$7:$E$788,'PLAN Rekapitulacija'!$B344, 'Plan unos i pregled'!$C$7:$C$788,'PLAN Rekapitulacija'!H$4, 'Plan unos i pregled'!$A$7:$A$788,$D$3)","v":0},{"$f":"SUMIFS('Plan unos i pregled'!$I$7:$I$788,'Plan unos i pregled'!$B$7:$B$788,'PLAN Rekapitulacija'!$N$7,'Plan unos i pregled'!$M$7:$M$788,'PLAN Rekapitulacija'!$N$6, 'Plan unos i pregled'!$E$7:$E$788,'PLAN Rekapitulacija'!$B344, 'Plan unos i pregled'!$C$7:$C$788,'PLAN Rekapitulacija'!I$4, 'Plan unos i pregled'!$A$7:$A$788,$D$3)","v":0},0,0]
["не","13.7","Камион TAM 80 путар","km",193,{"$f":"SUMIFS('Plan unos i pregled'!$I$7:$I$788,'Plan unos i pregled'!$B$7:$B$788,'PLAN Rekapitulacija'!$N$7,'Plan unos i pregled'!$M$7:$M$788,'PLAN Rekapitulacija'!$N$6, 'Plan unos i pregled'!$E$7:$E$788,'PLAN Rekapitulacija'!$B345, 'Plan unos i pregled'!$C$7:$C$788,'PLAN Rekapitulacija'!F$4, 'Plan unos i pregled'!$A$7:$A$788,$D$3)","v":0},{"$f":"SUMIFS('Plan unos i pregled'!$I$7:$I$788,'Plan unos i pregled'!$B$7:$B$788,'PLAN Rekapitulacija'!$N$7,'Plan unos i pregled'!$M$7:$M$788,'PLAN Rekapitulacija'!$N$6, 'Plan unos i pregled'!$E$7:$E$788,'PLAN Rekapitulacija'!$B345, 'Plan unos i pregled'!$C$7:$C$788,'PLAN Rekapitulacija'!G$4, 'Plan unos i pregled'!$A$7:$A$788,$D$3)","v":0},{"$f":"SUMIFS('Plan unos i pregled'!$I$7:$I$788,'Plan unos i pregled'!$B$7:$B$788,'PLAN Rekapitulacija'!$N$7,'Plan unos i pregled'!$M$7:$M$788,'PLAN Rekapitulacija'!$N$6, 'Plan unos i pregled'!$E$7:$E$788,'PLAN Rekapitulacija'!$B345, 'Plan unos i pregled'!$C$7:$C$788,'PLAN Rekapitulacija'!H$4, 'Plan unos i pregled'!$A$7:$A$788,$D$3)","v":0},{"$f":"SUMIFS('Plan unos i pregled'!$I$7:$I$788,'Plan unos i pregled'!$B$7:$B$788,'PLAN Rekapitulacija'!$N$7,'Plan unos i pregled'!$M$7:$M$788,'PLAN Rekapitulacija'!$N$6, 'Plan unos i pregled'!$E$7:$E$788,'PLAN Rekapitulacija'!$B345, 'Plan unos i pregled'!$C$7:$C$788,'PLAN Rekapitulacija'!I$4, 'Plan unos i pregled'!$A$7:$A$788,$D$3)","v":0},0,0]
["не","13.8","Лада нива","km",193,{"$f":"SUMIFS('Plan unos i pregled'!$I$7:$I$788,'Plan unos i pregled'!$B$7:$B$788,'PLAN Rekapitulacija'!$N$7,'Plan unos i pregled'!$M$7:$M$788,'PLAN Rekapitulacija'!$N$6, 'Plan unos i pregled'!$E$7:$E$788,'PLAN Rekapitulacija'!$B346, 'Plan unos i pregled'!$C$7:$C$788,'PLAN Rekapitulacija'!F$4, 'Plan unos i pregled'!$A$7:$A$788,$D$3)","v":0},{"$f":"SUMIFS('Plan unos i pregled'!$I$7:$I$788,'Plan unos i pregled'!$B$7:$B$788,'PLAN Rekapitulacija'!$N$7,'Plan unos i pregled'!$M$7:$M$788,'PLAN Rekapitulacija'!$N$6, 'Plan unos i pregled'!$E$7:$E$788,'PLAN Rekapitulacija'!$B346, 'Plan unos i pregled'!$C$7:$C$788,'PLAN Rekapitulacija'!G$4, 'Plan unos i pregled'!$A$7:$A$788,$D$3)","v":0},{"$f":"SUMIFS('Plan unos i pregled'!$I$7:$I$788,'Plan unos i pregled'!$B$7:$B$788,'PLAN Rekapitulacija'!$N$7,'Plan unos i pregled'!$M$7:$M$788,'PLAN Rekapitulacija'!$N$6, 'Plan unos i pregled'!$E$7:$E$788,'PLAN Rekapitulacija'!$B346, 'Plan unos i pregled'!$C$7:$C$788,'PLAN Rekapitulacija'!H$4, 'Plan unos i pregled'!$A$7:$A$788,$D$3)","v":0},{"$f":"SUMIFS('Plan unos i pregled'!$I$7:$I$788,'Plan unos i pregled'!$B$7:$B$788,'PLAN Rekapitulacija'!$N$7,'Plan unos i pregled'!$M$7:$M$788,'PLAN Rekapitulacija'!$N$6, 'Plan unos i pregled'!$E$7:$E$788,'PLAN Rekapitulacija'!$B346, 'Plan unos i pregled'!$C$7:$C$788,'PLAN Rekapitulacija'!I$4, 'Plan unos i pregled'!$A$7:$A$788,$D$3)","v":0},0,0]
["не","13.9","Фиат панда","km",193,{"$f":"SUMIFS('Plan unos i pregled'!$I$7:$I$788,'Plan unos i pregled'!$B$7:$B$788,'PLAN Rekapitulacija'!$N$7,'Plan unos i pregled'!$M$7:$M$788,'PLAN Rekapitulacija'!$N$6, 'Plan unos i pregled'!$E$7:$E$788,'PLAN Rekapitulacija'!$B347, 'Plan unos i pregled'!$C$7:$C$788,'PLAN Rekapitulacija'!F$4, 'Plan unos i pregled'!$A$7:$A$788,$D$3)","v":0},{"$f":"SUMIFS('Plan unos i pregled'!$I$7:$I$788,'Plan unos i pregled'!$B$7:$B$788,'PLAN Rekapitulacija'!$N$7,'Plan unos i pregled'!$M$7:$M$788,'PLAN Rekapitulacija'!$N$6, 'Plan unos i pregled'!$E$7:$E$788,'PLAN Rekapitulacija'!$B347, 'Plan unos i pregled'!$C$7:$C$788,'PLAN Rekapitulacija'!G$4, 'Plan unos i pregled'!$A$7:$A$788,$D$3)","v":0},{"$f":"SUMIFS('Plan unos i pregled'!$I$7:$I$788,'Plan unos i pregled'!$B$7:$B$788,'PLAN Rekapitulacija'!$N$7,'Plan unos i pregled'!$M$7:$M$788,'PLAN Rekapitulacija'!$N$6, 'Plan unos i pregled'!$E$7:$E$788,'PLAN Rekapitulacija'!$B347, 'Plan unos i pregled'!$C$7:$C$788,'PLAN Rekapitulacija'!H$4, 'Plan unos i pregled'!$A$7:$A$788,$D$3)","v":0},{"$f":"SUMIFS('Plan unos i pregled'!$I$7:$I$788,'Plan unos i pregled'!$B$7:$B$788,'PLAN Rekapitulacija'!$N$7,'Plan unos i pregled'!$M$7:$M$788,'PLAN Rekapitulacija'!$N$6, 'Plan unos i pregled'!$E$7:$E$788,'PLAN Rekapitulacija'!$B347, 'Plan unos i pregled'!$C$7:$C$788,'PLAN Rekapitulacija'!I$4, 'Plan unos i pregled'!$A$7:$A$788,$D$3)","v":0},0,0]
["не","13.10","Ручно бацање соли(утрошак соли и ризле по фактури)","час",858,{"$f":"SUMIFS('Plan unos i pregled'!$I$7:$I$788,'Plan unos i pregled'!$B$7:$B$788,'PLAN Rekapitulacija'!$N$7,'Plan unos i pregled'!$M$7:$M$788,'PLAN Rekapitulacija'!$N$6, 'Plan unos i pregled'!$E$7:$E$788,'PLAN Rekapitulacija'!$B348, 'Plan unos i pregled'!$C$7:$C$788,'PLAN Rekapitulacija'!F$4, 'Plan unos i pregled'!$A$7:$A$788,$D$3)","v":0},{"$f":"SUMIFS('Plan unos i pregled'!$I$7:$I$788,'Plan unos i pregled'!$B$7:$B$788,'PLAN Rekapitulacija'!$N$7,'Plan unos i pregled'!$M$7:$M$788,'PLAN Rekapitulacija'!$N$6, 'Plan unos i pregled'!$E$7:$E$788,'PLAN Rekapitulacija'!$B348, 'Plan unos i pregled'!$C$7:$C$788,'PLAN Rekapitulacija'!G$4, 'Plan unos i pregled'!$A$7:$A$788,$D$3)","v":0},{"$f":"SUMIFS('Plan unos i pregled'!$I$7:$I$788,'Plan unos i pregled'!$B$7:$B$788,'PLAN Rekapitulacija'!$N$7,'Plan unos i pregled'!$M$7:$M$788,'PLAN Rekapitulacija'!$N$6, 'Plan unos i pregled'!$E$7:$E$788,'PLAN Rekapitulacija'!$B348, 'Plan unos i pregled'!$C$7:$C$788,'PLAN Rekapitulacija'!H$4, 'Plan unos i pregled'!$A$7:$A$788,$D$3)","v":0},{"$f":"SUMIFS('Plan unos i pregled'!$I$7:$I$788,'Plan unos i pregled'!$B$7:$B$788,'PLAN Rekapitulacija'!$N$7,'Plan unos i pregled'!$M$7:$M$788,'PLAN Rekapitulacija'!$N$6, 'Plan unos i pregled'!$E$7:$E$788,'PLAN Rekapitulacija'!$B348, 'Plan unos i pregled'!$C$7:$C$788,'PLAN Rekapitulacija'!I$4, 'Plan unos i pregled'!$A$7:$A$788,$D$3)","v":0},0,0]
[{"$f":"IF(OR(J349:K351),\"штампа\",\"не\")","v":"не"},"13.11","Трактор ИМТ 560 са елеватором ","час",2860,{"$f":"SUMIFS('Plan unos i pregled'!$I$7:$I$788,'Plan unos i pregled'!$B$7:$B$788,'PLAN Rekapitulacija'!$N$7,'Plan unos i pregled'!$M$7:$M$788,'PLAN Rekapitulacija'!$N$6, 'Plan unos i pregled'!$E$7:$E$788,'PLAN Rekapitulacija'!$B349, 'Plan unos i pregled'!$C$7:$C$788,'PLAN Rekapitulacija'!F$4, 'Plan unos i pregled'!$A$7:$A$788,$D$3)","v":0},{"$f":"SUMIFS('Plan unos i pregled'!$I$7:$I$788,'Plan unos i pregled'!$B$7:$B$788,'PLAN Rekapitulacija'!$N$7,'Plan unos i pregled'!$M$7:$M$788,'PLAN Rekapitulacija'!$N$6, 'Plan unos i pregled'!$E$7:$E$788,'PLAN Rekapitulacija'!$B349, 'Plan unos i pregled'!$C$7:$C$788,'PLAN Rekapitulacija'!G$4, 'Plan unos i pregled'!$A$7:$A$788,$D$3)","v":0},{"$f":"SUMIFS('Plan unos i pregled'!$I$7:$I$788,'Plan unos i pregled'!$B$7:$B$788,'PLAN Rekapitulacija'!$N$7,'Plan unos i pregled'!$M$7:$M$788,'PLAN Rekapitulacija'!$N$6, 'Plan unos i pregled'!$E$7:$E$788,'PLAN Rekapitulacija'!$B349, 'Plan unos i pregled'!$C$7:$C$788,'PLAN Rekapitulacija'!H$4, 'Plan unos i pregled'!$A$7:$A$788,$D$3)","v":0},{"$f":"SUMIFS('Plan unos i pregled'!$I$7:$I$788,'Plan unos i pregled'!$B$7:$B$788,'PLAN Rekapitulacija'!$N$7,'Plan unos i pregled'!$M$7:$M$788,'PLAN Rekapitulacija'!$N$6, 'Plan unos i pregled'!$E$7:$E$788,'PLAN Rekapitulacija'!$B349, 'Plan unos i pregled'!$C$7:$C$788,'PLAN Rekapitulacija'!I$4, 'Plan unos i pregled'!$A$7:$A$788,$D$3)","v":0},0,0]
[{"$f":"IF(OR(J350:K350),\"штампа\",\"не\")","v":"не"},"13.11.1","Празан ход","час",2600,{"$f":"SUMIFS('Plan unos i pregled'!$I$7:$I$788,'Plan unos i pregled'!$B$7:$B$788,'PLAN Rekapitulacija'!$N$7,'Plan unos i pregled'!$M$7:$M$788,'PLAN Rekapitulacija'!$N$6, 'Plan unos i pregled'!$E$7:$E$788,'PLAN Rekapitulacija'!$B350, 'Plan unos i pregled'!$C$7:$C$788,'PLAN Rekapitulacija'!F$4, 'Plan unos i pregled'!$A$7:$A$788,$D$3)","v":0},{"$f":"SUMIFS('Plan unos i pregled'!$I$7:$I$788,'Plan unos i pregled'!$B$7:$B$788,'PLAN Rekapitulacija'!$N$7,'Plan unos i pregled'!$M$7:$M$788,'PLAN Rekapitulacija'!$N$6, 'Plan unos i pregled'!$E$7:$E$788,'PLAN Rekapitulacija'!$B350, 'Plan unos i pregled'!$C$7:$C$788,'PLAN Rekapitulacija'!G$4, 'Plan unos i pregled'!$A$7:$A$788,$D$3)","v":0},{"$f":"SUMIFS('Plan unos i pregled'!$I$7:$I$788,'Plan unos i pregled'!$B$7:$B$788,'PLAN Rekapitulacija'!$N$7,'Plan unos i pregled'!$M$7:$M$788,'PLAN Rekapitulacija'!$N$6, 'Plan unos i pregled'!$E$7:$E$788,'PLAN Rekapitulacija'!$B350, 'Plan unos i pregled'!$C$7:$C$788,'PLAN Rekapitulacija'!H$4, 'Plan unos i pregled'!$A$7:$A$788,$D$3)","v":0},{"$f":"SUMIFS('Plan unos i pregled'!$I$7:$I$788,'Plan unos i pregled'!$B$7:$B$788,'PLAN Rekapitulacija'!$N$7,'Plan unos i pregled'!$M$7:$M$788,'PLAN Rekapitulacija'!$N$6, 'Plan unos i pregled'!$E$7:$E$788,'PLAN Rekapitulacija'!$B350, 'Plan unos i pregled'!$C$7:$C$788,'PLAN Rekapitulacija'!I$4, 'Plan unos i pregled'!$A$7:$A$788,$D$3)","v":0},0,0]
["не","13.11.2","Дежурство са возачем","час",1040,{"$f":"SUMIFS('Plan unos i pregled'!$I$7:$I$788,'Plan unos i pregled'!$B$7:$B$788,'PLAN Rekapitulacija'!$N$7,'Plan unos i pregled'!$M$7:$M$788,'PLAN Rekapitulacija'!$N$6, 'Plan unos i pregled'!$E$7:$E$788,'PLAN Rekapitulacija'!$B351, 'Plan unos i pregled'!$C$7:$C$788,'PLAN Rekapitulacija'!F$4, 'Plan unos i pregled'!$A$7:$A$788,$D$3)","v":0},{"$f":"SUMIFS('Plan unos i pregled'!$I$7:$I$788,'Plan unos i pregled'!$B$7:$B$788,'PLAN Rekapitulacija'!$N$7,'Plan unos i pregled'!$M$7:$M$788,'PLAN Rekapitulacija'!$N$6, 'Plan unos i pregled'!$E$7:$E$788,'PLAN Rekapitulacija'!$B351, 'Plan unos i pregled'!$C$7:$C$788,'PLAN Rekapitulacija'!G$4, 'Plan unos i pregled'!$A$7:$A$788,$D$3)","v":0},{"$f":"SUMIFS('Plan unos i pregled'!$I$7:$I$788,'Plan unos i pregled'!$B$7:$B$788,'PLAN Rekapitulacija'!$N$7,'Plan unos i pregled'!$M$7:$M$788,'PLAN Rekapitulacija'!$N$6, 'Plan unos i pregled'!$E$7:$E$788,'PLAN Rekapitulacija'!$B351, 'Plan unos i pregled'!$C$7:$C$788,'PLAN Rekapitulacija'!H$4, 'Plan unos i pregled'!$A$7:$A$788,$D$3)","v":0},{"$f":"SUMIFS('Plan unos i pregled'!$I$7:$I$788,'Plan unos i pregled'!$B$7:$B$788,'PLAN Rekapitulacija'!$N$7,'Plan unos i pregled'!$M$7:$M$788,'PLAN Rekapitulacija'!$N$6, 'Plan unos i pregled'!$E$7:$E$788,'PLAN Rekapitulacija'!$B351, 'Plan unos i pregled'!$C$7:$C$788,'PLAN Rekapitulacija'!I$4, 'Plan unos i pregled'!$A$7:$A$788,$D$3)","v":0},0,0]
["не","13.12","Набавка соли(транспорт се посебно наплаћује)","kg",15.95,{"$f":"SUMIFS('Plan unos i pregled'!$I$7:$I$788,'Plan unos i pregled'!$B$7:$B$788,'PLAN Rekapitulacija'!$N$7,'Plan unos i pregled'!$M$7:$M$788,'PLAN Rekapitulacija'!$N$6, 'Plan unos i pregled'!$E$7:$E$788,'PLAN Rekapitulacija'!$B352, 'Plan unos i pregled'!$C$7:$C$788,'PLAN Rekapitulacija'!F$4, 'Plan unos i pregled'!$A$7:$A$788,$D$3)","v":0},{"$f":"SUMIFS('Plan unos i pregled'!$I$7:$I$788,'Plan unos i pregled'!$B$7:$B$788,'PLAN Rekapitulacija'!$N$7,'Plan unos i pregled'!$M$7:$M$788,'PLAN Rekapitulacija'!$N$6, 'Plan unos i pregled'!$E$7:$E$788,'PLAN Rekapitulacija'!$B352, 'Plan unos i pregled'!$C$7:$C$788,'PLAN Rekapitulacija'!G$4, 'Plan unos i pregled'!$A$7:$A$788,$D$3)","v":0},{"$f":"SUMIFS('Plan unos i pregled'!$I$7:$I$788,'Plan unos i pregled'!$B$7:$B$788,'PLAN Rekapitulacija'!$N$7,'Plan unos i pregled'!$M$7:$M$788,'PLAN Rekapitulacija'!$N$6, 'Plan unos i pregled'!$E$7:$E$788,'PLAN Rekapitulacija'!$B352, 'Plan unos i pregled'!$C$7:$C$788,'PLAN Rekapitulacija'!H$4, 'Plan unos i pregled'!$A$7:$A$788,$D$3)","v":0},{"$f":"SUMIFS('Plan unos i pregled'!$I$7:$I$788,'Plan unos i pregled'!$B$7:$B$788,'PLAN Rekapitulacija'!$N$7,'Plan unos i pregled'!$M$7:$M$788,'PLAN Rekapitulacija'!$N$6, 'Plan unos i pregled'!$E$7:$E$788,'PLAN Rekapitulacija'!$B352, 'Plan unos i pregled'!$C$7:$C$788,'PLAN Rekapitulacija'!I$4, 'Plan unos i pregled'!$A$7:$A$788,$D$3)","v":0},0,0]
["не","13.13","Набавка камене дробине 2-4 mm за епоху и ручно забацивање(транспорт се посебно наплаћује)","t",827,{"$f":"SUMIFS('Plan unos i pregled'!$I$7:$I$788,'Plan unos i pregled'!$B$7:$B$788,'PLAN Rekapitulacija'!$N$7,'Plan unos i pregled'!$M$7:$M$788,'PLAN Rekapitulacija'!$N$6, 'Plan unos i pregled'!$E$7:$E$788,'PLAN Rekapitulacija'!$B353, 'Plan unos i pregled'!$C$7:$C$788,'PLAN Rekapitulacija'!F$4, 'Plan unos i pregled'!$A$7:$A$788,$D$3)","v":0},{"$f":"SUMIFS('Plan unos i pregled'!$I$7:$I$788,'Plan unos i pregled'!$B$7:$B$788,'PLAN Rekapitulacija'!$N$7,'Plan unos i pregled'!$M$7:$M$788,'PLAN Rekapitulacija'!$N$6, 'Plan unos i pregled'!$E$7:$E$788,'PLAN Rekapitulacija'!$B353, 'Plan unos i pregled'!$C$7:$C$788,'PLAN Rekapitulacija'!G$4, 'Plan unos i pregled'!$A$7:$A$788,$D$3)","v":0},{"$f":"SUMIFS('Plan unos i pregled'!$I$7:$I$788,'Plan unos i pregled'!$B$7:$B$788,'PLAN Rekapitulacija'!$N$7,'Plan unos i pregled'!$M$7:$M$788,'PLAN Rekapitulacija'!$N$6, 'Plan unos i pregled'!$E$7:$E$788,'PLAN Rekapitulacija'!$B353, 'Plan unos i pregled'!$C$7:$C$788,'PLAN Rekapitulacija'!H$4, 'Plan unos i pregled'!$A$7:$A$788,$D$3)","v":0},{"$f":"SUMIFS('Plan unos i pregled'!$I$7:$I$788,'Plan unos i pregled'!$B$7:$B$788,'PLAN Rekapitulacija'!$N$7,'Plan unos i pregled'!$M$7:$M$788,'PLAN Rekapitulacija'!$N$6, 'Plan unos i pregled'!$E$7:$E$788,'PLAN Rekapitulacija'!$B353, 'Plan unos i pregled'!$C$7:$C$788,'PLAN Rekapitulacija'!I$4, 'Plan unos i pregled'!$A$7:$A$788,$D$3)","v":0},0,0]
["не",null,"УКУПНО ДОЊИ СТРОЈ",null,null,{"$f":"SUMPRODUCT($E$326:$E$353,F326:F353)","v":0},{"$f":"SUMPRODUCT($E$326:$E$353,G326:G353)","v":0},0,0,null,{"$f":"SUM(K326:K353)","v":0}]
[{"$f":"IF(OR(J368:K368),\"штампа\",\"не\")","v":"не"},"14","Радници на пословима зимског одржавања локалних путева и улица"]
["не","14.1","Радник на зимском одржавању локалних и некатегорисаних путева","час",589.4,{"$f":"SUMIFS('Plan unos i pregled'!$I$7:$I$788,'Plan unos i pregled'!$B$7:$B$788,'PLAN Rekapitulacija'!$N$7,'Plan unos i pregled'!$M$7:$M$788,'PLAN Rekapitulacija'!$N$6, 'Plan unos i pregled'!$E$7:$E$788,'PLAN Rekapitulacija'!$B356, 'Plan unos i pregled'!$C$7:$C$788,'PLAN Rekapitulacija'!F$4, 'Plan unos i pregled'!$A$7:$A$788,$D$3)","v":0},{"$f":"SUMIFS('Plan unos i pregled'!$I$7:$I$788,'Plan unos i pregled'!$B$7:$B$788,'PLAN Rekapitulacija'!$N$7,'Plan unos i pregled'!$M$7:$M$788,'PLAN Rekapitulacija'!$N$6, 'Plan unos i pregled'!$E$7:$E$788,'PLAN Rekapitulacija'!$B356, 'Plan unos i pregled'!$C$7:$C$788,'PLAN Rekapitulacija'!G$4, 'Plan unos i pregled'!$A$7:$A$788,$D$3)","v":0},{"$f":"SUMIFS('Plan unos i pregled'!$I$7:$I$788,'Plan unos i pregled'!$B$7:$B$788,'PLAN Rekapitulacija'!$N$7,'Plan unos i pregled'!$M$7:$M$788,'PLAN Rekapitulacija'!$N$6, 'Plan unos i pregled'!$E$7:$E$788,'PLAN Rekapitulacija'!$B356, 'Plan unos i pregled'!$C$7:$C$788,'PLAN Rekapitulacija'!H$4, 'Plan unos i pregled'!$A$7:$A$788,$D$3)","v":0},{"$f":"SUMIFS('Plan unos i pregled'!$I$7:$I$788,'Plan unos i pregled'!$B$7:$B$788,'PLAN Rekapitulacija'!$N$7,'Plan unos i pregled'!$M$7:$M$788,'PLAN Rekapitulacija'!$N$6, 'Plan unos i pregled'!$E$7:$E$788,'PLAN Rekapitulacija'!$B356, 'Plan unos i pregled'!$C$7:$C$788,'PLAN Rekapitulacija'!I$4, 'Plan unos i pregled'!$A$7:$A$788,$D$3)","v":0},{"$f":"SUM(F356:I356)","v":0},{"$f":"ROUND(E356*J356,2)","v":0}]
["не","14.2","Радник на чишћењу улица","час",589.4,{"$f":"SUMIFS('Plan unos i pregled'!$I$7:$I$788,'Plan unos i pregled'!$B$7:$B$788,'PLAN Rekapitulacija'!$N$7,'Plan unos i pregled'!$M$7:$M$788,'PLAN Rekapitulacija'!$N$6, 'Plan unos i pregled'!$E$7:$E$788,'PLAN Rekapitulacija'!$B357, 'Plan unos i pregled'!$C$7:$C$788,'PLAN Rekapitulacija'!F$4, 'Plan unos i pregled'!$A$7:$A$788,$D$3)","v":0},{"$f":"SUMIFS('Plan unos i pregled'!$I$7:$I$788,'Plan unos i pregled'!$B$7:$B$788,'PLAN Rekapitulacija'!$N$7,'Plan unos i pregled'!$M$7:$M$788,'PLAN Rekapitulacija'!$N$6, 'Plan unos i pregled'!$E$7:$E$788,'PLAN Rekapitulacija'!$B357, 'Plan unos i pregled'!$C$7:$C$788,'PLAN Rekapitulacija'!G$4, 'Plan unos i pregled'!$A$7:$A$788,$D$3)","v":0},{"$f":"SUMIFS('Plan unos i pregled'!$I$7:$I$788,'Plan unos i pregled'!$B$7:$B$788,'PLAN Rekapitulacija'!$N$7,'Plan unos i pregled'!$M$7:$M$788,'PLAN Rekapitulacija'!$N$6, 'Plan unos i pregled'!$E$7:$E$788,'PLAN Rekapitulacija'!$B357, 'Plan unos i pregled'!$C$7:$C$788,'PLAN Rekapitulacija'!H$4, 'Plan unos i pregled'!$A$7:$A$788,$D$3)","v":0},{"$f":"SUMIFS('Plan unos i pregled'!$I$7:$I$788,'Plan unos i pregled'!$B$7:$B$788,'PLAN Rekapitulacija'!$N$7,'Plan unos i pregled'!$M$7:$M$788,'PLAN Rekapitulacija'!$N$6, 'Plan unos i pregled'!$E$7:$E$788,'PLAN Rekapitulacija'!$B357, 'Plan unos i pregled'!$C$7:$C$788,'PLAN Rekapitulacija'!I$4, 'Plan unos i pregled'!$A$7:$A$788,$D$3)","v":0},0,0]
["не","14.3","Радник НК, путар - Физички радник","час",928.5,{"$f":"SUMIFS('Plan unos i pregled'!$I$7:$I$788,'Plan unos i pregled'!$B$7:$B$788,'PLAN Rekapitulacija'!$N$7,'Plan unos i pregled'!$M$7:$M$788,'PLAN Rekapitulacija'!$N$6, 'Plan unos i pregled'!$E$7:$E$788,'PLAN Rekapitulacija'!$B358, 'Plan unos i pregled'!$C$7:$C$788,'PLAN Rekapitulacija'!F$4, 'Plan unos i pregled'!$A$7:$A$788,$D$3)","v":0},{"$f":"SUMIFS('Plan unos i pregled'!$I$7:$I$788,'Plan unos i pregled'!$B$7:$B$788,'PLAN Rekapitulacija'!$N$7,'Plan unos i pregled'!$M$7:$M$788,'PLAN Rekapitulacija'!$N$6, 'Plan unos i pregled'!$E$7:$E$788,'PLAN Rekapitulacija'!$B358, 'Plan unos i pregled'!$C$7:$C$788,'PLAN Rekapitulacija'!G$4, 'Plan unos i pregled'!$A$7:$A$788,$D$3)","v":0},{"$f":"SUMIFS('Plan unos i pregled'!$I$7:$I$788,'Plan unos i pregled'!$B$7:$B$788,'PLAN Rekapitulacija'!$N$7,'Plan unos i pregled'!$M$7:$M$788,'PLAN Rekapitulacija'!$N$6, 'Plan unos i pregled'!$E$7:$E$788,'PLAN Rekapitulacija'!$B358, 'Plan unos i pregled'!$C$7:$C$788,'PLAN Rekapitulacija'!H$4, 'Plan unos i pregled'!$A$7:$A$788,$D$3)","v":0},{"$f":"SUMIFS('Plan unos i pregled'!$I$7:$I$788,'Plan unos i pregled'!$B$7:$B$788,'PLAN Rekapitulacija'!$N$7,'Plan unos i pregled'!$M$7:$M$788,'PLAN Rekapitulacija'!$N$6, 'Plan unos i pregled'!$E$7:$E$788,'PLAN Rekapitulacija'!$B358, 'Plan unos i pregled'!$C$7:$C$788,'PLAN Rekapitulacija'!I$4, 'Plan unos i pregled'!$A$7:$A$788,$D$3)","v":0},0,0]
["не","14.4","Механичар","час",996,{"$f":"SUMIFS('Plan unos i pregled'!$I$7:$I$788,'Plan unos i pregled'!$B$7:$B$788,'PLAN Rekapitulacija'!$N$7,'Plan unos i pregled'!$M$7:$M$788,'PLAN Rekapitulacija'!$N$6, 'Plan unos i pregled'!$E$7:$E$788,'PLAN Rekapitulacija'!$B359, 'Plan unos i pregled'!$C$7:$C$788,'PLAN Rekapitulacija'!F$4, 'Plan unos i pregled'!$A$7:$A$788,$D$3)","v":0},{"$f":"SUMIFS('Plan unos i pregled'!$I$7:$I$788,'Plan unos i pregled'!$B$7:$B$788,'PLAN Rekapitulacija'!$N$7,'Plan unos i pregled'!$M$7:$M$788,'PLAN Rekapitulacija'!$N$6, 'Plan unos i pregled'!$E$7:$E$788,'PLAN Rekapitulacija'!$B359, 'Plan unos i pregled'!$C$7:$C$788,'PLAN Rekapitulacija'!G$4, 'Plan unos i pregled'!$A$7:$A$788,$D$3)","v":0},{"$f":"SUMIFS('Plan unos i pregled'!$I$7:$I$788,'Plan unos i pregled'!$B$7:$B$788,'PLAN Rekapitulacija'!$N$7,'Plan unos i pregled'!$M$7:$M$788,'PLAN Rekapitulacija'!$N$6, 'Plan unos i pregled'!$E$7:$E$788,'PLAN Rekapitulacija'!$B359, 'Plan unos i pregled'!$C$7:$C$788,'PLAN Rekapitulacija'!H$4, 'Plan unos i pregled'!$A$7:$A$788,$D$3)","v":0},{"$f":"SUMIFS('Plan unos i pregled'!$I$7:$I$788,'Plan unos i pregled'!$B$7:$B$788,'PLAN Rekapitulacija'!$N$7,'Plan unos i pregled'!$M$7:$M$788,'PLAN Rekapitulacija'!$N$6, 'Plan unos i pregled'!$E$7:$E$788,'PLAN Rekapitulacija'!$B359, 'Plan unos i pregled'!$C$7:$C$788,'PLAN Rekapitulacija'!I$4, 'Plan unos i pregled'!$A$7:$A$788,$D$3)","v":0},0,0]
["не","14.5","Магационер","час",825,{"$f":"SUMIFS('Plan unos i pregled'!$I$7:$I$788,'Plan unos i pregled'!$B$7:$B$788,'PLAN Rekapitulacija'!$N$7,'Plan unos i pregled'!$M$7:$M$788,'PLAN Rekapitulacija'!$N$6, 'Plan unos i pregled'!$E$7:$E$788,'PLAN Rekapitulacija'!$B360, 'Plan unos i pregled'!$C$7:$C$788,'PLAN Rekapitulacija'!F$4, 'Plan unos i pregled'!$A$7:$A$788,$D$3)","v":0},{"$f":"SUMIFS('Plan unos i pregled'!$I$7:$I$788,'Plan unos i pregled'!$B$7:$B$788,'PLAN Rekapitulacija'!$N$7,'Plan unos i pregled'!$M$7:$M$788,'PLAN Rekapitulacija'!$N$6, 'Plan unos i pregled'!$E$7:$E$788,'PLAN Rekapitulacija'!$B360, 'Plan unos i pregled'!$C$7:$C$788,'PLAN Rekapitulacija'!G$4, 'Plan unos i pregled'!$A$7:$A$788,$D$3)","v":0},{"$f":"SUMIFS('Plan unos i pregled'!$I$7:$I$788,'Plan unos i pregled'!$B$7:$B$788,'PLAN Rekapitulacija'!$N$7,'Plan unos i pregled'!$M$7:$M$788,'PLAN Rekapitulacija'!$N$6, 'Plan unos i pregled'!$E$7:$E$788,'PLAN Rekapitulacija'!$B360, 'Plan unos i pregled'!$C$7:$C$788,'PLAN Rekapitulacija'!H$4, 'Plan unos i pregled'!$A$7:$A$788,$D$3)","v":0},{"$f":"SUMIFS('Plan unos i pregled'!$I$7:$I$788,'Plan unos i pregled'!$B$7:$B$788,'PLAN Rekapitulacija'!$N$7,'Plan unos i pregled'!$M$7:$M$788,'PLAN Rekapitulacija'!$N$6, 'Plan unos i pregled'!$E$7:$E$788,'PLAN Rekapitulacija'!$B360, 'Plan unos i pregled'!$C$7:$C$788,'PLAN Rekapitulacija'!I$4, 'Plan unos i pregled'!$A$7:$A$788,$D$3)","v":0},0,0]
["не","14.6","Пословођа радних јединица","час",943,{"$f":"SUMIFS('Plan unos i pregled'!$I$7:$I$788,'Plan unos i pregled'!$B$7:$B$788,'PLAN Rekapitulacija'!$N$7,'Plan unos i pregled'!$M$7:$M$788,'PLAN Rekapitulacija'!$N$6, 'Plan unos i pregled'!$E$7:$E$788,'PLAN Rekapitulacija'!$B361, 'Plan unos i pregled'!$C$7:$C$788,'PLAN Rekapitulacija'!F$4, 'Plan unos i pregled'!$A$7:$A$788,$D$3)","v":0},{"$f":"SUMIFS('Plan unos i pregled'!$I$7:$I$788,'Plan unos i pregled'!$B$7:$B$788,'PLAN Rekapitulacija'!$N$7,'Plan unos i pregled'!$M$7:$M$788,'PLAN Rekapitulacija'!$N$6, 'Plan unos i pregled'!$E$7:$E$788,'PLAN Rekapitulacija'!$B361, 'Plan unos i pregled'!$C$7:$C$788,'PLAN Rekapitulacija'!G$4, 'Plan unos i pregled'!$A$7:$A$788,$D$3)","v":0},{"$f":"SUMIFS('Plan unos i pregled'!$I$7:$I$788,'Plan unos i pregled'!$B$7:$B$788,'PLAN Rekapitulacija'!$N$7,'Plan unos i pregled'!$M$7:$M$788,'PLAN Rekapitulacija'!$N$6, 'Plan unos i pregled'!$E$7:$E$788,'PLAN Rekapitulacija'!$B361, 'Plan unos i pregled'!$C$7:$C$788,'PLAN Rekapitulacija'!H$4, 'Plan unos i pregled'!$A$7:$A$788,$D$3)","v":0},{"$f":"SUMIFS('Plan unos i pregled'!$I$7:$I$788,'Plan unos i pregled'!$B$7:$B$788,'PLAN Rekapitulacija'!$N$7,'Plan unos i pregled'!$M$7:$M$788,'PLAN Rekapitulacija'!$N$6, 'Plan unos i pregled'!$E$7:$E$788,'PLAN Rekapitulacija'!$B361, 'Plan unos i pregled'!$C$7:$C$788,'PLAN Rekapitulacija'!I$4, 'Plan unos i pregled'!$A$7:$A$788,$D$3)","v":0},0,0]
["не","14.7","Шеф машинског парка","час",1037.24,{"$f":"SUMIFS('Plan unos i pregled'!$I$7:$I$788,'Plan unos i pregled'!$B$7:$B$788,'PLAN Rekapitulacija'!$N$7,'Plan unos i pregled'!$M$7:$M$788,'PLAN Rekapitulacija'!$N$6, 'Plan unos i pregled'!$E$7:$E$788,'PLAN Rekapitulacija'!$B362, 'Plan unos i pregled'!$C$7:$C$788,'PLAN Rekapitulacija'!F$4, 'Plan unos i pregled'!$A$7:$A$788,$D$3)","v":0},{"$f":"SUMIFS('Plan unos i pregled'!$I$7:$I$788,'Plan unos i pregled'!$B$7:$B$788,'PLAN Rekapitulacija'!$N$7,'Plan unos i pregled'!$M$7:$M$788,'PLAN Rekapitulacija'!$N$6, 'Plan unos i pregled'!$E$7:$E$788,'PLAN Rekapitulacija'!$B362, 'Plan unos i pregled'!$C$7:$C$788,'PLAN Rekapitulacija'!G$4, 'Plan unos i pregled'!$A$7:$A$788,$D$3)","v":0},{"$f":"SUMIFS('Plan unos i pregled'!$I$7:$I$788,'Plan unos i pregled'!$B$7:$B$788,'PLAN Rekapitulacija'!$N$7,'Plan unos i pregled'!$M$7:$M$788,'PLAN Rekapitulacija'!$N$6, 'Plan unos i pregled'!$E$7:$E$788,'PLAN Rekapitulacija'!$B362, 'Plan unos i pregled'!$C$7:$C$788,'PLAN Rekapitulacija'!H$4, 'Plan unos i pregled'!$A$7:$A$788,$D$3)","v":0},{"$f":"SUMIFS('Plan unos i pregled'!$I$7:$I$788,'Plan unos i pregled'!$B$7:$B$788,'PLAN Rekapitulacija'!$N$7,'Plan unos i pregled'!$M$7:$M$788,'PLAN Rekapitulacija'!$N$6, 'Plan unos i pregled'!$E$7:$E$788,'PLAN Rekapitulacija'!$B362, 'Plan unos i pregled'!$C$7:$C$788,'PLAN Rekapitulacija'!I$4, 'Plan unos i pregled'!$A$7:$A$788,$D$3)","v":0},0,0]
["не","14.8","Возач - машиниста(цена обухвата дежурство возача или руковаоца машине)","час",996,{"$f":"SUMIFS('Plan unos i pregled'!$I$7:$I$788,'Plan unos i pregled'!$B$7:$B$788,'PLAN Rekapitulacija'!$N$7,'Plan unos i pregled'!$M$7:$M$788,'PLAN Rekapitulacija'!$N$6, 'Plan unos i pregled'!$E$7:$E$788,'PLAN Rekapitulacija'!$B363, 'Plan unos i pregled'!$C$7:$C$788,'PLAN Rekapitulacija'!F$4, 'Plan unos i pregled'!$A$7:$A$788,$D$3)","v":0},{"$f":"SUMIFS('Plan unos i pregled'!$I$7:$I$788,'Plan unos i pregled'!$B$7:$B$788,'PLAN Rekapitulacija'!$N$7,'Plan unos i pregled'!$M$7:$M$788,'PLAN Rekapitulacija'!$N$6, 'Plan unos i pregled'!$E$7:$E$788,'PLAN Rekapitulacija'!$B363, 'Plan unos i pregled'!$C$7:$C$788,'PLAN Rekapitulacija'!G$4, 'Plan unos i pregled'!$A$7:$A$788,$D$3)","v":0},{"$f":"SUMIFS('Plan unos i pregled'!$I$7:$I$788,'Plan unos i pregled'!$B$7:$B$788,'PLAN Rekapitulacija'!$N$7,'Plan unos i pregled'!$M$7:$M$788,'PLAN Rekapitulacija'!$N$6, 'Plan unos i pregled'!$E$7:$E$788,'PLAN Rekapitulacija'!$B363, 'Plan unos i pregled'!$C$7:$C$788,'PLAN Rekapitulacija'!H$4, 'Plan unos i pregled'!$A$7:$A$788,$D$3)","v":0},{"$f":"SUMIFS('Plan unos i pregled'!$I$7:$I$788,'Plan unos i pregled'!$B$7:$B$788,'PLAN Rekapitulacija'!$N$7,'Plan unos i pregled'!$M$7:$M$788,'PLAN Rekapitulacija'!$N$6, 'Plan unos i pregled'!$E$7:$E$788,'PLAN Rekapitulacija'!$B363, 'Plan unos i pregled'!$C$7:$C$788,'PLAN Rekapitulacija'!I$4, 'Plan unos i pregled'!$A$7:$A$788,$D$3)","v":0},0,0]
["не","14.9","Шеф радних јединица","час",1386,{"$f":"SUMIFS('Plan unos i pregled'!$I$7:$I$788,'Plan unos i pregled'!$B$7:$B$788,'PLAN Rekapitulacija'!$N$7,'Plan unos i pregled'!$M$7:$M$788,'PLAN Rekapitulacija'!$N$6, 'Plan unos i pregled'!$E$7:$E$788,'PLAN Rekapitulacija'!$B364, 'Plan unos i pregled'!$C$7:$C$788,'PLAN Rekapitulacija'!F$4, 'Plan unos i pregled'!$A$7:$A$788,$D$3)","v":0},{"$f":"SUMIFS('Plan unos i pregled'!$I$7:$I$788,'Plan unos i pregled'!$B$7:$B$788,'PLAN Rekapitulacija'!$N$7,'Plan unos i pregled'!$M$7:$M$788,'PLAN Rekapitulacija'!$N$6, 'Plan unos i pregled'!$E$7:$E$788,'PLAN Rekapitulacija'!$B364, 'Plan unos i pregled'!$C$7:$C$788,'PLAN Rekapitulacija'!G$4, 'Plan unos i pregled'!$A$7:$A$788,$D$3)","v":0},{"$f":"SUMIFS('Plan unos i pregled'!$I$7:$I$788,'Plan unos i pregled'!$B$7:$B$788,'PLAN Rekapitulacija'!$N$7,'Plan unos i pregled'!$M$7:$M$788,'PLAN Rekapitulacija'!$N$6, 'Plan unos i pregled'!$E$7:$E$788,'PLAN Rekapitulacija'!$B364, 'Plan unos i pregled'!$C$7:$C$788,'PLAN Rekapitulacija'!H$4, 'Plan unos i pregled'!$A$7:$A$788,$D$3)","v":0},{"$f":"SUMIFS('Plan unos i pregled'!$I$7:$I$788,'Plan unos i pregled'!$B$7:$B$788,'PLAN Rekapitulacija'!$N$7,'Plan unos i pregled'!$M$7:$M$788,'PLAN Rekapitulacija'!$N$6, 'Plan unos i pregled'!$E$7:$E$788,'PLAN Rekapitulacija'!$B364, 'Plan unos i pregled'!$C$7:$C$788,'PLAN Rekapitulacija'!I$4, 'Plan unos i pregled'!$A$7:$A$788,$D$3)","v":0},0,0]
["не","14.10","Машиниста","час",928.51,{"$f":"SUMIFS('Plan unos i pregled'!$I$7:$I$788,'Plan unos i pregled'!$B$7:$B$788,'PLAN Rekapitulacija'!$N$7,'Plan unos i pregled'!$M$7:$M$788,'PLAN Rekapitulacija'!$N$6, 'Plan unos i pregled'!$E$7:$E$788,'PLAN Rekapitulacija'!$B365, 'Plan unos i pregled'!$C$7:$C$788,'PLAN Rekapitulacija'!F$4, 'Plan unos i pregled'!$A$7:$A$788,$D$3)","v":0},{"$f":"SUMIFS('Plan unos i pregled'!$I$7:$I$788,'Plan unos i pregled'!$B$7:$B$788,'PLAN Rekapitulacija'!$N$7,'Plan unos i pregled'!$M$7:$M$788,'PLAN Rekapitulacija'!$N$6, 'Plan unos i pregled'!$E$7:$E$788,'PLAN Rekapitulacija'!$B365, 'Plan unos i pregled'!$C$7:$C$788,'PLAN Rekapitulacija'!G$4, 'Plan unos i pregled'!$A$7:$A$788,$D$3)","v":0},{"$f":"SUMIFS('Plan unos i pregled'!$I$7:$I$788,'Plan unos i pregled'!$B$7:$B$788,'PLAN Rekapitulacija'!$N$7,'Plan unos i pregled'!$M$7:$M$788,'PLAN Rekapitulacija'!$N$6, 'Plan unos i pregled'!$E$7:$E$788,'PLAN Rekapitulacija'!$B365, 'Plan unos i pregled'!$C$7:$C$788,'PLAN Rekapitulacija'!H$4, 'Plan unos i pregled'!$A$7:$A$788,$D$3)","v":0},{"$f":"SUMIFS('Plan unos i pregled'!$I$7:$I$788,'Plan unos i pregled'!$B$7:$B$788,'PLAN Rekapitulacija'!$N$7,'Plan unos i pregled'!$M$7:$M$788,'PLAN Rekapitulacija'!$N$6, 'Plan unos i pregled'!$E$7:$E$788,'PLAN Rekapitulacija'!$B365, 'Plan unos i pregled'!$C$7:$C$788,'PLAN Rekapitulacija'!I$4, 'Plan unos i pregled'!$A$7:$A$788,$D$3)","v":0},0,0]
["не","14.11","Возач путничког аутомобила","час",928.51,{"$f":"SUMIFS('Plan unos i pregled'!$I$7:$I$788,'Plan unos i pregled'!$B$7:$B$788,'PLAN Rekapitulacija'!$N$7,'Plan unos i pregled'!$M$7:$M$788,'PLAN Rekapitulacija'!$N$6, 'Plan unos i pregled'!$E$7:$E$788,'PLAN Rekapitulacija'!$B366, 'Plan unos i pregled'!$C$7:$C$788,'PLAN Rekapitulacija'!F$4, 'Plan unos i pregled'!$A$7:$A$788,$D$3)","v":0},{"$f":"SUMIFS('Plan unos i pregled'!$I$7:$I$788,'Plan unos i pregled'!$B$7:$B$788,'PLAN Rekapitulacija'!$N$7,'Plan unos i pregled'!$M$7:$M$788,'PLAN Rekapitulacija'!$N$6, 'Plan unos i pregled'!$E$7:$E$788,'PLAN Rekapitulacija'!$B366, 'Plan unos i pregled'!$C$7:$C$788,'PLAN Rekapitulacija'!G$4, 'Plan unos i pregled'!$A$7:$A$788,$D$3)","v":0},{"$f":"SUMIFS('Plan unos i pregled'!$I$7:$I$788,'Plan unos i pregled'!$B$7:$B$788,'PLAN Rekapitulacija'!$N$7,'Plan unos i pregled'!$M$7:$M$788,'PLAN Rekapitulacija'!$N$6, 'Plan unos i pregled'!$E$7:$E$788,'PLAN Rekapitulacija'!$B366, 'Plan unos i pregled'!$C$7:$C$788,'PLAN Rekapitulacija'!H$4, 'Plan unos i pregled'!$A$7:$A$788,$D$3)","v":0},{"$f":"SUMIFS('Plan unos i pregled'!$I$7:$I$788,'Plan unos i pregled'!$B$7:$B$788,'PLAN Rekapitulacija'!$N$7,'Plan unos i pregled'!$M$7:$M$788,'PLAN Rekapitulacija'!$N$6, 'Plan unos i pregled'!$E$7:$E$788,'PLAN Rekapitulacija'!$B366, 'Plan unos i pregled'!$C$7:$C$788,'PLAN Rekapitulacija'!I$4, 'Plan unos i pregled'!$A$7:$A$788,$D$3)","v":0},0,0]
["не","14.12","Одговорно лице","час",1155,{"$f":"SUMIFS('Plan unos i pregled'!$I$7:$I$788,'Plan unos i pregled'!$B$7:$B$788,'PLAN Rekapitulacija'!$N$7,'Plan unos i pregled'!$M$7:$M$788,'PLAN Rekapitulacija'!$N$6, 'Plan unos i pregled'!$E$7:$E$788,'PLAN Rekapitulacija'!$B367, 'Plan unos i pregled'!$C$7:$C$788,'PLAN Rekapitulacija'!F$4, 'Plan unos i pregled'!$A$7:$A$788,$D$3)","v":0},{"$f":"SUMIFS('Plan unos i pregled'!$I$7:$I$788,'Plan unos i pregled'!$B$7:$B$788,'PLAN Rekapitulacija'!$N$7,'Plan unos i pregled'!$M$7:$M$788,'PLAN Rekapitulacija'!$N$6, 'Plan unos i pregled'!$E$7:$E$788,'PLAN Rekapitulacija'!$B367, 'Plan unos i pregled'!$C$7:$C$788,'PLAN Rekapitulacija'!G$4, 'Plan unos i pregled'!$A$7:$A$788,$D$3)","v":0},{"$f":"SUMIFS('Plan unos i pregled'!$I$7:$I$788,'Plan unos i pregled'!$B$7:$B$788,'PLAN Rekapitulacija'!$N$7,'Plan unos i pregled'!$M$7:$M$788,'PLAN Rekapitulacija'!$N$6, 'Plan unos i pregled'!$E$7:$E$788,'PLAN Rekapitulacija'!$B367, 'Plan unos i pregled'!$C$7:$C$788,'PLAN Rekapitulacija'!H$4, 'Plan unos i pregled'!$A$7:$A$788,$D$3)","v":0},{"$f":"SUMIFS('Plan unos i pregled'!$I$7:$I$788,'Plan unos i pregled'!$B$7:$B$788,'PLAN Rekapitulacija'!$N$7,'Plan unos i pregled'!$M$7:$M$788,'PLAN Rekapitulacija'!$N$6, 'Plan unos i pregled'!$E$7:$E$788,'PLAN Rekapitulacija'!$B367, 'Plan unos i pregled'!$C$7:$C$788,'PLAN Rekapitulacija'!I$4, 'Plan unos i pregled'!$A$7:$A$788,$D$3)","v":0},0,0]
["не",null,"УКУПНО ОБЈЕКТИ",null,null,{"$f":"SUMPRODUCT($E$355:$E$367,F355:F367)","v":0},{"$f":"SUMPRODUCT($E$355:$E$367,G355:G367)","v":0},0,0,null,{"$f":"SUM(K355:K367)","v":0}]
[{"$f":"IF(OR(J375:K375),\"штампа\",\"не\")","v":"не"},15,"Дезинфекција улица"]
["не","15.1.1","Ручно чишћење улица које се не чисте свакодневно","m2",1.37,{"$f":"SUMIFS('Plan unos i pregled'!$I$7:$I$788,'Plan unos i pregled'!$B$7:$B$788,'PLAN Rekapitulacija'!$N$7,'Plan unos i pregled'!$M$7:$M$788,'PLAN Rekapitulacija'!$N$6, 'Plan unos i pregled'!$E$7:$E$788,'PLAN Rekapitulacija'!$B370, 'Plan unos i pregled'!$C$7:$C$788,'PLAN Rekapitulacija'!F$4, 'Plan unos i pregled'!$A$7:$A$788,$D$3)","v":0},{"$f":"SUMIFS('Plan unos i pregled'!$I$7:$I$788,'Plan unos i pregled'!$B$7:$B$788,'PLAN Rekapitulacija'!$N$7,'Plan unos i pregled'!$M$7:$M$788,'PLAN Rekapitulacija'!$N$6, 'Plan unos i pregled'!$E$7:$E$788,'PLAN Rekapitulacija'!$B370, 'Plan unos i pregled'!$C$7:$C$788,'PLAN Rekapitulacija'!G$4, 'Plan unos i pregled'!$A$7:$A$788,$D$3)","v":0},{"$f":"SUMIFS('Plan unos i pregled'!$I$7:$I$788,'Plan unos i pregled'!$B$7:$B$788,'PLAN Rekapitulacija'!$N$7,'Plan unos i pregled'!$M$7:$M$788,'PLAN Rekapitulacija'!$N$6, 'Plan unos i pregled'!$E$7:$E$788,'PLAN Rekapitulacija'!$B370, 'Plan unos i pregled'!$C$7:$C$788,'PLAN Rekapitulacija'!H$4, 'Plan unos i pregled'!$A$7:$A$788,$D$3)","v":0},{"$f":"SUMIFS('Plan unos i pregled'!$I$7:$I$788,'Plan unos i pregled'!$B$7:$B$788,'PLAN Rekapitulacija'!$N$7,'Plan unos i pregled'!$M$7:$M$788,'PLAN Rekapitulacija'!$N$6, 'Plan unos i pregled'!$E$7:$E$788,'PLAN Rekapitulacija'!$B370, 'Plan unos i pregled'!$C$7:$C$788,'PLAN Rekapitulacija'!I$4, 'Plan unos i pregled'!$A$7:$A$788,$D$3)","v":0},{"$f":"SUM(F370:I370)","v":0},{"$f":"ROUND(E370*J370,2)","v":0}]
[{"$f":"IF(OR(J371:K373),\"штампа\",\"не\")","v":"не"},"15.2","Прање улица аутоцистерном - дезинфекција",null,0]
["не","15.2.1","Прање улица аутоцистерном - цревом","m2",2.9,{"$f":"SUMIFS('Plan unos i pregled'!$I$7:$I$788,'Plan unos i pregled'!$B$7:$B$788,'PLAN Rekapitulacija'!$N$7,'Plan unos i pregled'!$M$7:$M$788,'PLAN Rekapitulacija'!$N$6, 'Plan unos i pregled'!$E$7:$E$788,'PLAN Rekapitulacija'!$B372, 'Plan unos i pregled'!$C$7:$C$788,'PLAN Rekapitulacija'!F$4, 'Plan unos i pregled'!$A$7:$A$788,$D$3)","v":0},{"$f":"SUMIFS('Plan unos i pregled'!$I$7:$I$788,'Plan unos i pregled'!$B$7:$B$788,'PLAN Rekapitulacija'!$N$7,'Plan unos i pregled'!$M$7:$M$788,'PLAN Rekapitulacija'!$N$6, 'Plan unos i pregled'!$E$7:$E$788,'PLAN Rekapitulacija'!$B372, 'Plan unos i pregled'!$C$7:$C$788,'PLAN Rekapitulacija'!G$4, 'Plan unos i pregled'!$A$7:$A$788,$D$3)","v":0},{"$f":"SUMIFS('Plan unos i pregled'!$I$7:$I$788,'Plan unos i pregled'!$B$7:$B$788,'PLAN Rekapitulacija'!$N$7,'Plan unos i pregled'!$M$7:$M$788,'PLAN Rekapitulacija'!$N$6, 'Plan unos i pregled'!$E$7:$E$788,'PLAN Rekapitulacija'!$B372, 'Plan unos i pregled'!$C$7:$C$788,'PLAN Rekapitulacija'!H$4, 'Plan unos i pregled'!$A$7:$A$788,$D$3)","v":0},{"$f":"SUMIFS('Plan unos i pregled'!$I$7:$I$788,'Plan unos i pregled'!$B$7:$B$788,'PLAN Rekapitulacija'!$N$7,'Plan unos i pregled'!$M$7:$M$788,'PLAN Rekapitulacija'!$N$6, 'Plan unos i pregled'!$E$7:$E$788,'PLAN Rekapitulacija'!$B372, 'Plan unos i pregled'!$C$7:$C$788,'PLAN Rekapitulacija'!I$4, 'Plan unos i pregled'!$A$7:$A$788,$D$3)","v":0},{"$f":"SUM(F372:I372)","v":0},{"$f":"ROUND(E372*J372,2)","v":0}]
["не","15.2.2","Прање улица аутоцистерном - на чкољку","m2",1.3,{"$f":"SUMIFS('Plan unos i pregled'!$I$7:$I$788,'Plan unos i pregled'!$B$7:$B$788,'PLAN Rekapitulacija'!$N$7,'Plan unos i pregled'!$M$7:$M$788,'PLAN Rekapitulacija'!$N$6, 'Plan unos i pregled'!$E$7:$E$788,'PLAN Rekapitulacija'!$B373, 'Plan unos i pregled'!$C$7:$C$788,'PLAN Rekapitulacija'!F$4, 'Plan unos i pregled'!$A$7:$A$788,$D$3)","v":0},{"$f":"SUMIFS('Plan unos i pregled'!$I$7:$I$788,'Plan unos i pregled'!$B$7:$B$788,'PLAN Rekapitulacija'!$N$7,'Plan unos i pregled'!$M$7:$M$788,'PLAN Rekapitulacija'!$N$6, 'Plan unos i pregled'!$E$7:$E$788,'PLAN Rekapitulacija'!$B373, 'Plan unos i pregled'!$C$7:$C$788,'PLAN Rekapitulacija'!G$4, 'Plan unos i pregled'!$A$7:$A$788,$D$3)","v":0},{"$f":"SUMIFS('Plan unos i pregled'!$I$7:$I$788,'Plan unos i pregled'!$B$7:$B$788,'PLAN Rekapitulacija'!$N$7,'Plan unos i pregled'!$M$7:$M$788,'PLAN Rekapitulacija'!$N$6, 'Plan unos i pregled'!$E$7:$E$788,'PLAN Rekapitulacija'!$B373, 'Plan unos i pregled'!$C$7:$C$788,'PLAN Rekapitulacija'!H$4, 'Plan unos i pregled'!$A$7:$A$788,$D$3)","v":0},{"$f":"SUMIFS('Plan unos i pregled'!$I$7:$I$788,'Plan unos i pregled'!$B$7:$B$788,'PLAN Rekapitulacija'!$N$7,'Plan unos i pregled'!$M$7:$M$788,'PLAN Rekapitulacija'!$N$6, 'Plan unos i pregled'!$E$7:$E$788,'PLAN Rekapitulacija'!$B373, 'Plan unos i pregled'!$C$7:$C$788,'PLAN Rekapitulacija'!I$4, 'Plan unos i pregled'!$A$7:$A$788,$D$3)","v":0},0,0]
["не","15.3.1","Дезинфекција улица, јавних површина (леђном ручном прскалицом)","m2",6.7,{"$f":"SUMIFS('Plan unos i pregled'!$I$7:$I$788,'Plan unos i pregled'!$B$7:$B$788,'PLAN Rekapitulacija'!$N$7,'Plan unos i pregled'!$M$7:$M$788,'PLAN Rekapitulacija'!$N$6, 'Plan unos i pregled'!$E$7:$E$788,'PLAN Rekapitulacija'!$B374, 'Plan unos i pregled'!$C$7:$C$788,'PLAN Rekapitulacija'!F$4, 'Plan unos i pregled'!$A$7:$A$788,$D$3)","v":0},{"$f":"SUMIFS('Plan unos i pregled'!$I$7:$I$788,'Plan unos i pregled'!$B$7:$B$788,'PLAN Rekapitulacija'!$N$7,'Plan unos i pregled'!$M$7:$M$788,'PLAN Rekapitulacija'!$N$6, 'Plan unos i pregled'!$E$7:$E$788,'PLAN Rekapitulacija'!$B374, 'Plan unos i pregled'!$C$7:$C$788,'PLAN Rekapitulacija'!G$4, 'Plan unos i pregled'!$A$7:$A$788,$D$3)","v":0},{"$f":"SUMIFS('Plan unos i pregled'!$I$7:$I$788,'Plan unos i pregled'!$B$7:$B$788,'PLAN Rekapitulacija'!$N$7,'Plan unos i pregled'!$M$7:$M$788,'PLAN Rekapitulacija'!$N$6, 'Plan unos i pregled'!$E$7:$E$788,'PLAN Rekapitulacija'!$B374, 'Plan unos i pregled'!$C$7:$C$788,'PLAN Rekapitulacija'!H$4, 'Plan unos i pregled'!$A$7:$A$788,$D$3)","v":0},{"$f":"SUMIFS('Plan unos i pregled'!$I$7:$I$788,'Plan unos i pregled'!$B$7:$B$788,'PLAN Rekapitulacija'!$N$7,'Plan unos i pregled'!$M$7:$M$788,'PLAN Rekapitulacija'!$N$6, 'Plan unos i pregled'!$E$7:$E$788,'PLAN Rekapitulacija'!$B374, 'Plan unos i pregled'!$C$7:$C$788,'PLAN Rekapitulacija'!I$4, 'Plan unos i pregled'!$A$7:$A$788,$D$3)","v":0},{"$f":"SUM(F374:I374)","v":0},{"$f":"ROUND(E374*J374,2)","v":0}]
["не",null,"УКУПНО ГОРЊИ СТРОЈ",null,null,{"$f":"SUMPRODUCT($E$369:$E$374,F369:F374)","v":0},{"$f":"SUMPRODUCT($E$369:$E$374,G369:G374)","v":0},{"$f":"SUMPRODUCT($E$369:$E$374,H369:H374)","v":0},{"$f":"SUMPRODUCT($E$369:$E$374,I369:I374)","v":0},null,{"$f":"SUM(K369:K374)","v":0}]
["не","16","РАДОВИ ПО РАЧУНИМА","din",1,{"$f":"SUMIFS('Plan unos i pregled'!$J$7:$J$788,'Plan unos i pregled'!$B$7:$B$788,'PLAN Rekapitulacija'!$N$7,'Plan unos i pregled'!$M$7:$M$788,'PLAN Rekapitulacija'!$N$6, 'Plan unos i pregled'!$L$7:$L$788, 16, 'Plan unos i pregled'!$C$7:$C$788,'PLAN Rekapitulacija'!F$4, 'Plan unos i pregled'!$A$7:$A$788,$D$3)","v":0},{"$f":"SUMIFS('Plan unos i pregled'!$J$7:$J$788,'Plan unos i pregled'!$B$7:$B$788,'PLAN Rekapitulacija'!$N$7,'Plan unos i pregled'!$M$7:$M$788,'PLAN Rekapitulacija'!$N$6, 'Plan unos i pregled'!$L$7:$L$788, 16, 'Plan unos i pregled'!$C$7:$C$788,'PLAN Rekapitulacija'!G$4, 'Plan unos i pregled'!$A$7:$A$788,$D$3)","v":0},{"$f":"SUMIFS('Plan unos i pregled'!$J$7:$J$788,'Plan unos i pregled'!$B$7:$B$788,'PLAN Rekapitulacija'!$N$7,'Plan unos i pregled'!$M$7:$M$788,'PLAN Rekapitulacija'!$N$6, 'Plan unos i pregled'!$L$7:$L$788, 16, 'Plan unos i pregled'!$C$7:$C$788,'PLAN Rekapitulacija'!H$4, 'Plan unos i pregled'!$A$7:$A$788,$D$3)","v":0},{"$f":"SUMIFS('Plan unos i pregled'!$J$7:$J$788,'Plan unos i pregled'!$B$7:$B$788,'PLAN Rekapitulacija'!$N$7,'Plan unos i pregled'!$M$7:$M$788,'PLAN Rekapitulacija'!$N$6, 'Plan unos i pregled'!$L$7:$L$788, 16, 'Plan unos i pregled'!$C$7:$C$788,'PLAN Rekapitulacija'!I$4, 'Plan unos i pregled'!$A$7:$A$788,$D$3)","v":0},null,{"$f":"ROUND(SUM(F376:I376),2)","v":0}]
["не",null,"УКУПНО:",null,null,{"$f":"SUMPRODUCT($E376:$E376,F376:F376)","v":0},{"$f":"SUMPRODUCT($E376:$E376,G376:G376)","v":0},{"$f":"SUMPRODUCT($E376:$E376,H376:H376)","v":0},{"$f":"SUMPRODUCT($E376:$E376,I376:I376)","v":0},null,{"$f":"SUM(K376:K376)","v":0}]
["штампа",null,"РЕКАПИТУЛАЦИЈА"]
[{"$f":"IF(K379=0,\"не\",\"штампа\")","v":"не"},"1","Послови јавних овлашћења из заштите путева",null,null,{"$f":"F8","v":0},{"$f":"G8","v":0},{"$f":"H8","v":0},{"$f":"I8","v":0},null,{"$f":"K8","v":0}]
["не","2","Преглед јавних путева",null,null,{"$f":"F17","v":0},{"$f":"G17","v":0},{"$f":"H17","v":0},{"$f":"I17","v":0},null,{"$f":"K17","v":0}]
["не",3,"Одржавање саобраћајне сигнализације",null,null,{"$f":"F30","v":0},{"$f":"G30","v":0},{"$f":"H30","v":0},{"$f":"I30","v":0},null,{"$f":"K30","v":0}]
["штампа",4,"Одржавање зелених површина и спортских терена",null,null,{"$f":"F74","v":821886.6},{"$f":"G74","v":3389105.6999999997},{"$f":"H74","v":307907.09999999998},{"$f":"I74","v":1071026},null,{"$f":"K74","v":5589925.3999999994}]
["не","5","Одржавање трупа пута",null,null,{"$f":"F98","v":0},{"$f":"G98","v":0},{"$f":"H98","v":0},{"$f":"I98","v":0},null,{"$f":"K98","v":0}]
["штампа","6","Одржавање система за одводњавање површине коловоза и трупа пута",null,null,{"$f":"F168","v":370000},{"$f":"G168","v":0},{"$f":"H168","v":0},{"$f":"I168","v":0},null,{"$f":"K168","v":370000}]
["не","7","Ископ земље",null,null,{"$f":"F181","v":0},{"$f":"G181","v":0},{"$f":"H181","v":0},{"$f":"I181","v":0},null,{"$f":"K181","v":0}]
["штампа","8","Редовно одржавање асфалтних коловоза",null,null,{"$f":"F234","v":0},{"$f":"G234","v":16486.2},{"$f":"H234","v":0},{"$f":"I234","v":0},null,{"$f":"K234","v":16486.2}]
["не","9","Превоз асфалта, тампона, туцаника и осталог грађевинског материјала",null,null,{"$f":"F257","v":0},{"$f":"G257","v":0},{"$f":"H257","v":0},{"$f":"I257","v":0},null,{"$f":"K257","v":0}]
["не",10,"Цене рада радника",null,null,{"$f":"F270","v":0},{"$f":"G270","v":0},{"$f":"H270","v":0},{"$f":"I270","v":0},null,{"$f":"K270","v":0}]
["штампа","11","Цене рада механизације",null,null,{"$f":"F317","v":54050},{"$f":"G317","v":27025},{"$f":"H317","v":50225.399999999994},{"$f":"I317","v":267829.5},null,{"$f":"K317","v":399129.9}]
["не","12","Бушење испод пута са припремом терена",null,null,{"$f":"F325","v":0},{"$f":"G325","v":0},{"$f":"H325","v":0},{"$f":"I325","v":0},null,{"$f":"K325","v":0}]
["не","13","Механизација на пословима зимског одржавања локалних путева и улица",null,null,{"$f":"F354","v":0},{"$f":"G354","v":0},{"$f":"H354","v":0},{"$f":"I354","v":0},null,{"$f":"K354","v":0}]
["не","14","Радници на пословима зимског одржавања локалних путева и улица",null,null,{"$f":"F368","v":0},{"$f":"G368","v":0},{"$f":"H368","v":0},{"$f":"I368","v":0},null,{"$f":"K368","v":0}]
[{"$f":"IF(OR(J394:K394),\"штампа\",\"не\")","v":"не"},15,"Дезинфекција улица",null,null,{"$f":"F375","v":0},0,0,0,null,0]
["не","16","РАДОВИ ПО РАЧУНИМА",null,null,{"$f":"F377","v":0},0,0,0,null,0]
["штампа",null,"УКУПНО:",null,null,{"$f":"SUM(F378:F394)","v":1245936.6000000001},{"$f":"SUM(G378:G394)","v":3432616.9},{"$f":"SUM(H378:H394)","v":358132.5},{"$f":"SUM(I378:I394)","v":1338855.5},null,{"$f":"SUM(K378:K394)","v":6375541.5}]
["штампа"]
["штампа"]
["штампа"]
["штампа"]
["штампа"]
["штампа"]
["штампа"]
["штампа"]
["штампа"]

{"sheet":"Plan unos i pregled","index":1,"n_rows":788,"n_cols":26,"rows_kept":788,"cut":false,"hidden":false,"merged":[[3,18,3,21],[4,23,5,23]]}
[null,null,null,null,null,null,null,null,null,"ОДОБРИО НАДЗОРНИ ОГРАН:",null,null,"ДА"]
[null,null,null,null,null,{"$f":"IF($E2=0, \" \", VLOOKUP($E2, 'Cenovnik 2'!$A$2:$D$411, 2, FALSE))","v":" "},{"$f":"IF($E2=0, \" \", VLOOKUP($E2, 'Cenovnik 2'!$A$2:$D$411, 3, FALSE))","v":" "},{"$f":"IF($E2=0, \" \", VLOOKUP($E2, 'Cenovnik 2'!$A$2:$D$411, 4, FALSE))","v":" "},null,{"$f":"IF(ISNUMBER($H2), $H2*$I2, \"-\")","v":"-"},{"$f":"IFERROR(INDEX(LokacijeRadovaLat,MATCH(C2,LokacijaRadova,0)),\"\")","v":""},{"$f":"TEXT(LEFT($E2,FIND(\".\",$E2&\".\")-1), \"00\")","v":""},"ДА",null,null,null,null,{"$f":"IF($C2=0, \" \", VLOOKUP($C2, DrzavniPuteviRed, 2, FALSE))","v":" "},{"$f":"IF($E2=0, \" \", VLOOKUP($E2, SifrePozicijaBezTacke, 2, FALSE))","v":" "},{"$f":"LEFT($S2, 3)","v":" "},{"$f":"IF(VLOOKUP($E2,[0]!ProveraPDV,2,FALSE)=TRUE,$J2,)","v":{"$error":"#N/A"}},{"$f":"IF(VLOOKUP($E2,liste!$A$31:$B$818,2,FALSE)=TRUE,#REF!,)","v":{"$error":"#N/A"}},{"$f":"R2&\"-\"&C2","v":" -"},{"$f":"INDEX('Cenovnik 2'!$G$2:$G$411,MATCH('Plan unos i pregled'!$E2,Pozicije,0))","v":{"$error":"#N/A"}}]
[]
[null,null,null,null,null,"МЕСЕЧНИ ПЛАН",null,"УКУПНО:",{"$f":"IF( SUBTOTAL(101, S7:S788)=(INDEX(S7:S788,MIN(IF(SUBTOTAL(3,OFFSET(I7,ROW(S7:S788)-ROW(I7),0)),ROW(I7:I788)-ROW(I7)+1)))), SUBTOTAL(109, I7:I788), \"-\")","v":"-"},{"$f":"SUMPRODUCT(SUBTOTAL(9, OFFSET($J$7:$J$788, ROW($J$7:$J$788)-MIN(ROW($J$7:$J$788)),,1)), --( $M$7:$M$788=$M$1))","v":6375541.4999999981},null,null,null,null,null,null,null,null,"pomoćne kolone"]
["Година","План за месец","Објекти","Локација Радова","Број позиције","Опис позиције","Јед.\nмере","Цена","Количина","Вредност\nбез ПДВ-а","Група локације радова ЛАТ","Група радова из ценовника","Одобрење радова","Коменатар","nije popunjeno",null,null,"Ред државног пута","numerički podatak broja pozicije","prve tri cifre numeričkog podataka broja pozicije zbog računa","Provera PDV-a","Provera PDV-a za realizaciju","Državni Put","Prevoz i nabavka materijala da li je uračunat"]
[]
["2025.","АПРИЛ","Општински путеви","ОП 136-24 - Горњи Барбеш - Дукат","4.7",{"$f":"IF($E7=0, \" \", VLOOKUP($E7, 'Cenovnik 2'!$A$2:$D$411, 2, FALSE))","v":"Кошење траве са банкина самоходном моторном косачицом"},{"$f":"IF($E7=0, \" \", VLOOKUP($E7, 'Cenovnik 2'!$A$2:$D$411, 3, FALSE))","v":"m2"},{"$f":"IF($E7=0, \" \", VLOOKUP($E7, 'Cenovnik 2'!$A$2:$D$411, 4, FALSE))","v":3.99},8500,{"$f":"IF(ISNUMBER($H7), $H7*$I7, \"-\")","v":33915},{"$f":"IFERROR(INDEX(LokacijeRadovaLat,MATCH(C7,LokacijaRadova,0)),\"\")","v":"OP"},{"$f":"TEXT(LEFT($E7,FIND(\".\",$E7&\".\")-1), \"00\")","v":"04"},"ДА",null,null,null,null,{"$f":"IF($C7=0, \" \", VLOOKUP($C7, DrzavniPuteviRed, 2, FALSE))","v":{"$error":"#NAME?"}},{"$f":"IF($E7=0, \" \", VLOOKUP($E7, SifrePozicijaBezTacke, 2, FALSE))","v":47},{"$f":"LEFT($S7, 3)","v":"47"},{"$f":"IF(VLOOKUP($E7,[0]!ProveraPDV,2,FALSE)=TRUE,$J7,)","v":{"$error":"#N/A"}},{"$f":"IF(VLOOKUP($E7,liste!$A$31:$B$818,2,FALSE)=TRUE,#REF!,)","v":{"$error":"#N/A"}},{"$f":"R7&\"-\"&C7","v":{"$error":"#NAME?"}},{"$f":"INDEX('Cenovnik 2'!$G$2:$G$411,MATCH('Plan unos i pregled'!$E7,Pozicije,0))","v":"nebitno"},null,"plaćeno"]
["2025.","АПРИЛ","Општински путеви","ОП 136-23 - Топоница - Ново Село","4.7",{"$f":"IF($E8=0, \" \", VLOOKUP($E8, 'Cenovnik 2'!$A$2:$D$411, 2, FALSE))","v":"Кошење траве са банкина самоходном моторном косачицом"},{"$f":"IF($E8=0, \" \", VLOOKUP($E8, 'Cenovnik 2'!$A$2:$D$411, 3, FALSE))","v":"m2"},{"$f":"IF($E8=0, \" \", VLOOKUP($E8, 'Cenovnik 2'!$A$2:$D$411, 4, FALSE))","v":3.99},9400,37506,"OP","04","ДА",null,null,null,null,{"$error":"#NAME?"},47,"47",{"$f":"IF(VLOOKUP($E8,[0]!ProveraPDV,2,FALSE)=TRUE,$J8,)","v":{"$error":"#N/A"}},{"$f":"IF(VLOOKUP($E8,liste!$A$31:$B$818,2,FALSE)=TRUE,#REF!,)","v":{"$error":"#N/A"}},{"$error":"#NAME?"},{"$f":"INDEX('Cenovnik 2'!$G$2:$G$411,MATCH('Plan unos i pregled'!$E8,Pozicije,0))","v":"nebitno"},null,"plaćeno"]
["2025.","АПРИЛ","Општински путеви","ОП 136-21 - Држ.пут II А  бр. 225 - Виландрица","4.7",{"$f":"IF($E9=0, \" \", VLOOKUP($E9, 'Cenovnik 2'!$A$2:$D$411, 2, FALSE))","v":"Кошење траве са банкина самоходном моторном косачицом"},{"$f":"IF($E9=0, \" \", VLOOKUP($E9, 'Cenovnik 2'!$A$2:$D$411, 3, FALSE))","v":"m2"},{"$f":"IF($E9=0, \" \", VLOOKUP($E9, 'Cenovnik 2'!$A$2:$D$411, 4, FALSE))","v":3.99},1550,6184.5,"OP","04","ДА",null,null,null,null,{"$error":"#NAME?"},47,"47",{"$f":"IF(VLOOKUP($E9,[0]!ProveraPDV,2,FALSE)=TRUE,$J9,)","v":{"$error":"#N/A"}},{"$f":"IF(VLOOKUP($E9,liste!$A$31:$B$818,2,FALSE)=TRUE,#REF!,)","v":{"$error":"#N/A"}},{"$error":"#NAME?"},{"$f":"INDEX('Cenovnik 2'!$G$2:$G$411,MATCH('Plan unos i pregled'!$E9,Pozicije,0))","v":"nebitno"},null,"plaćeno"]
["2025.","АПРИЛ","Улице","Горњи Барбеш - Добросава Стојановића","4.7",{"$f":"IF($E10=0, \" \", VLOOKUP($E10, 'Cenovnik 2'!$A$2:$D$411, 2, FALSE))","v":"Кошење траве са банкина самоходном моторном косачицом"},{"$f":"IF($E10=0, \" \", VLOOKUP($E10, 'Cenovnik 2'!$A$2:$D$411, 3, FALSE))","v":"m2"},{"$f":"IF($E10=0, \" \", VLOOKUP($E10, 'Cenovnik 2'!$A$2:$D$411, 4, FALSE))","v":3.99},1570,6264.3,"Ul","04","ДА",null,null,null,null,{"$error":"#NAME?"},47,"47",{"$f":"IF(VLOOKUP($E10,[0]!ProveraPDV,2,FALSE)=TRUE,$J10,)","v":{"$error":"#N/A"}},{"$f":"IF(VLOOKUP($E10,liste!$A$31:$B$818,2,FALSE)=TRUE,#REF!,)","v":{"$error":"#N/A"}},{"$error":"#NAME?"},{"$f":"INDEX('Cenovnik 2'!$G$2:$G$411,MATCH('Plan unos i pregled'!$E10,Pozicije,0))","v":"nebitno"},null,"plaćeno"]
["2025.","АПРИЛ","Улице","Горњи Барбеш - Браће Живковића","4.7",{"$f":"IF($E11=0, \" \", VLOOKUP($E11, 'Cenovnik 2'!$A$2:$D$411, 2, FALSE))","v":"Кошење траве са банкина самоходном моторном косачицом"},{"$f":"IF($E11=0, \" \", VLOOKUP($E11, 'Cenovnik 2'!$A$2:$D$411, 3, FALSE))","v":"m2"},{"$f":"IF($E11=0, \" \", VLOOKUP($E11, 'Cenovnik 2'!$A$2:$D$411, 4, FALSE))","v":3.99},739,2948.61,"Ul","04","ДА",null,null,null,null,{"$error":"#NAME?"},47,"47",{"$f":"IF(VLOOKUP($E11,[0]!ProveraPDV,2,FALSE)=TRUE,$J11,)","v":{"$error":"#N/A"}},{"$f":"IF(VLOOKUP($E11,liste!$A$31:$B$818,2,FALSE)=TRUE,#REF!,)","v":{"$error":"#N/A"}},{"$error":"#NAME?"},{"$f":"INDEX('Cenovnik 2'!$G$2:$G$411,MATCH('Plan unos i pregled'!$E11,Pozicije,0))","v":"nebitno"},null,"plaćeno"]
["2025.","АПРИЛ","Улице","Горњи Барбеш - Десете Бригаде","4.7",{"$f":"IF($E12=0, \" \", VLOOKUP($E12, 'Cenovnik 2'!$A$2:$D$411, 2, FALSE))","v":"Кошење траве са банкина самоходном моторном косачицом"},{"$f":"IF($E12=0, \" \", VLOOKUP($E12, 'Cenovnik 2'!$A$2:$D$411, 3, FALSE))","v":"m2"},{"$f":"IF($E12=0, \" \", VLOOKUP($E12, 'Cenovnik 2'!$A$2:$D$411, 4, FALSE))","v":3.99},583,2326.17,"Ul","04","ДА",null,null,null,null,{"$error":"#NAME?"},47,"47",{"$f":"IF(VLOOKUP($E12,[0]!ProveraPDV,2,FALSE)=TRUE,$J12,)","v":{"$error":"#N/A"}},{"$f":"IF(VLOOKUP($E12,liste!$A$31:$B$818,2,FALSE)=TRUE,#REF!,)","v":{"$error":"#N/A"}},{"$error":"#NAME?"},{"$f":"INDEX('Cenovnik 2'!$G$2:$G$411,MATCH('Plan unos i pregled'!$E12,Pozicije,0))","v":"nebitno"},null,"plaćeno"]
["2025.","АПРИЛ","Улице","Горњи Барбеш - Тодора Јованчића","4.7",{"$f":"IF($E13=0, \" \", VLOOKUP($E13, 'Cenovnik 2'!$A$2:$D$411, 2, FALSE))","v":"Кошење траве са банкина самоходном моторном косачицом"},{"$f":"IF($E13=0, \" \", VLOOKUP($E13, 'Cenovnik 2'!$A$2:$D$411, 3, FALSE))","v":"m2"},{"$f":"IF($E13=0, \" \", VLOOKUP($E13, 'Cenovnik 2'!$A$2:$D$411, 4, FALSE))","v":3.99},544,2170.56,"Ul","04","ДА",null,null,null,null,{"$error":"#NAME?"},47,"47",{"$f":"IF(VLOOKUP($E13,[0]!ProveraPDV,2,FALSE)=TRUE,$J13,)","v":{"$error":"#N/A"}},{"$f":"IF(VLOOKUP($E13,liste!$A$31:$B$818,2,FALSE)=TRUE,#REF!,)","v":{"$error":"#N/A"}},{"$error":"#NAME?"},{"$f":"INDEX('Cenovnik 2'!$G$2:$G$411,MATCH('Plan unos i pregled'!$E13,Pozicije,0))","v":"nebitno"},null,"plaćeno"]
["2025.","АПРИЛ","Улице","Горњи Барбеш - Владимира Тасића","4.7",{"$f":"IF($E14=0, \" \", VLOOKUP($E14, 'Cenovnik 2'!$A$2:$D$411, 2, FALSE))","v":"Кошење траве са банкина самоходном моторном косачицом"},{"$f":"IF($E14=0, \" \", VLOOKUP($E14, 'Cenovnik 2'!$A$2:$D$411, 3, FALSE))","v":"m2"},{"$f":"IF($E14=0, \" \", VLOOKUP($E14, 'Cenovnik 2'!$A$2:$D$411, 4, FALSE))","v":3.99},679,2709.21,"Ul","04","ДА",null,null,null,null,{"$error":"#NAME?"},47,"47",{"$f":"IF(VLOOKUP($E14,[0]!ProveraPDV,2,FALSE)=TRUE,$J14,)","v":{"$error":"#N/A"}},{"$f":"IF(VLOOKUP($E14,liste!$A$31:$B$818,2,FALSE)=TRUE,#REF!,)","v":{"$error":"#N/A"}},{"$error":"#NAME?"},{"$f":"INDEX('Cenovnik 2'!$G$2:$G$411,MATCH('Plan unos i pregled'!$E14,Pozicije,0))","v":"nebitno"},null,"plaćeno"]
["2025.","АПРИЛ","Улице","Горњи Барбеш - Свете Петке","4.7",{"$f":"IF($E15=0, \" \", VLOOKUP($E15, 'Cenovnik 2'!$A$2:$D$411, 2, FALSE))","v":"Кошење траве са банкина самоходном моторном косачицом"},{"$f":"IF($E15=0, \" \", VLOOKUP($E15, 'Cenovnik 2'!$A$2:$D$411, 3, FALSE))","v":"m2"},{"$f":"IF($E15=0, \" \", VLOOKUP($E15, 'Cenovnik 2'!$A$2:$D$411, 4, FALSE))","v":3.99},326,1300.74,"Ul","04","ДА",null,null,null,null,{"$error":"#NAME?"},47,"47",{"$f":"IF(VLOOKUP($E15,[0]!ProveraPDV,2,FALSE)=TRUE,$J15,)","v":{"$error":"#N/A"}},{"$f":"IF(VLOOKUP($E15,liste!$A$31:$B$818,2,FALSE)=TRUE,#REF!,)","v":{"$error":"#N/A"}},{"$error":"#NAME?"},{"$f":"INDEX('Cenovnik 2'!$G$2:$G$411,MATCH('Plan unos i pregled'!$E15,Pozicije,0))","v":"nebitno"},null,"plaćeno"]
["2025.","АПРИЛ","Улице","Горњи Барбеш - Теслина","4.7",{"$f":"IF($E16=0, \" \", VLOOKUP($E16, 'Cenovnik 2'!$A$2:$D$411, 2, FALSE))","v":"Кошење траве са банкина самоходном моторном косачицом"},{"$f":"IF($E16=0, \" \", VLOOKUP($E16, 'Cenovnik 2'!$A$2:$D$411, 3, FALSE))","v":"m2"},{"$f":"IF($E16=0, \" \", VLOOKUP($E16, 'Cenovnik 2'!$A$2:$D$411, 4, FALSE))","v":3.99},456,1819.44,"Ul","04","ДА",null,null,null,null,{"$error":"#NAME?"},47,"47",{"$f":"IF(VLOOKUP($E16,[0]!ProveraPDV,2,FALSE)=TRUE,$J16,)","v":{"$error":"#N/A"}},{"$f":"IF(VLOOKUP($E16,liste!$A$31:$B$818,2,FALSE)=TRUE,#REF!,)","v":{"$error":"#N/A"}},{"$error":"#NAME?"},{"$f":"INDEX('Cenovnik 2'!$G$2:$G$411,MATCH('Plan unos i pregled'!$E16,Pozicije,0))","v":"nebitno"},null,"plaćeno"]
["2025.","АПРИЛ","Општински путеви","ОП 136-22 - Држ.пут II А  бр. 225 - Дукат","4.7",{"$f":"IF($E17=0, \" \", VLOOKUP($E17, 'Cenovnik 2'!$A$2:$D$411, 2, FALSE))","v":"Кошење траве са банкина самоходном моторном косачицом"},{"$f":"IF($E17=0, \" \", VLOOKUP($E17, 'Cenovnik 2'!$A$2:$D$411, 3, FALSE))","v":"m2"},{"$f":"IF($E17=0, \" \", VLOOKUP($E17, 'Cenovnik 2'!$A$2:$D$411, 4, FALSE))","v":3.99},5800,23142,"OP","04","ДА",null,null,null,null,{"$error":"#NAME?"},47,"47",{"$f":"IF(VLOOKUP($E17,[0]!ProveraPDV,2,FALSE)=TRUE,$J17,)","v":{"$error":"#N/A"}},{"$f":"IF(VLOOKUP($E17,liste!$A$31:$B$818,2,FALSE)=TRUE,#REF!,)","v":{"$error":"#N/A"}},{"$error":"#NAME?"},{"$f":"INDEX('Cenovnik 2'!$G$2:$G$411,MATCH('Plan unos i pregled'!$E17,Pozicije,0))","v":"nebitno"},null,"plaćeno"]
["2025.","АПРИЛ","Општински путеви","ОП 136-24 - Горњи Барбеш - Дукат","4.22",{"$f":"IF($E18=0, \" \", VLOOKUP($E18, 'Cenovnik 2'!$A$2:$D$411, 2, FALSE))","v":"Сечење густог шибља преко 50 ком на m²"},{"$f":"IF($E18=0, \" \", VLOOKUP($E18, 'Cenovnik 2'!$A$2:$D$411, 3, FALSE))","v":"m2"},{"$f":"IF($E18=0, \" \", VLOOKUP($E18, 'Cenovnik 2'!$A$2:$D$411, 4, FALSE))","v":60},950,57000,"OP","04","ДА",null,null,null,null,{"$f":"IF($C18=0, \" \", VLOOKUP($C18, DrzavniPuteviRed, 2, FALSE))","v":{"$error":"#NAME?"}},422,"422",{"$f":"IF(VLOOKUP($E18,[0]!ProveraPDV,2,FALSE)=TRUE,$J18,)","v":{"$error":"#N/A"}},{"$f":"IF(VLOOKUP($E18,liste!$A$31:$B$818,2,FALSE)=TRUE,#REF!,)","v":{"$error":"#N/A"}},{"$error":"#NAME?"},{"$f":"INDEX('Cenovnik 2'!$G$2:$G$411,MATCH('Plan unos i pregled'!$E18,Pozicije,0))","v":"nebitno"},null,"plaćeno"]
["2025.","АПРИЛ","Општински путеви","ОП 136-23 - Топоница - Ново Село","4.22",{"$f":"IF($E19=0, \" \", VLOOKUP($E19, 'Cenovnik 2'!$A$2:$D$411, 2, FALSE))","v":"Сечење густог шибља преко 50 ком на m²"},{"$f":"IF($E19=0, \" \", VLOOKUP($E19, 'Cenovnik 2'!$A$2:$D$411, 3, FALSE))","v":"m2"},{"$f":"IF($E19=0, \" \", VLOOKUP($E19, 'Cenovnik 2'!$A$2:$D$411, 4, FALSE))","v":60},1500,90000,"OP","04","ДА",null,null,null,null,{"$error":"#NAME?"},422,"422",{"$f":"IF(VLOOKUP($E19,[0]!ProveraPDV,2,FALSE)=TRUE,$J19,)","v":{"$error":"#N/A"}},{"$f":"IF(VLOOKUP($E19,liste!$A$31:$B$818,2,FALSE)=TRUE,#REF!,)","v":{"$error":"#N/A"}},{"$error":"#NAME?"},{"$f":"INDEX('Cenovnik 2'!$G$2:$G$411,MATCH('Plan unos i pregled'!$E19,Pozicije,0))","v":"nebitno"},null,"plaćeno"]
["2025.","АПРИЛ","Општински путеви","ОП 136-21 - Држ.пут II А  бр. 225 - Виландрица","4.22",{"$f":"IF($E20=0, \" \", VLOOKUP($E20, 'Cenovnik 2'!$A$2:$D$411, 2, FALSE))","v":"Сечење густог шибља преко 50 ком на m²"},{"$f":"IF($E20=0, \" \", VLOOKUP($E20, 'Cenovnik 2'!$A$2:$D$411, 3, FALSE))","v":"m2"},{"$f":"IF($E20=0, \" \", VLOOKUP($E20, 'Cenovnik 2'!$A$2:$D$411, 4, FALSE))","v":60},300,18000,"OP","04","ДА",null,null,null,null,{"$error":"#NAME?"},422,"422",{"$f":"IF(VLOOKUP($E20,[0]!ProveraPDV,2,FALSE)=TRUE,$J20,)","v":{"$error":"#N/A"}},{"$f":"IF(VLOOKUP($E20,liste!$A$31:$B$818,2,FALSE)=TRUE,#REF!,)","v":{"$error":"#N/A"}},{"$error":"#NAME?"},{"$f":"INDEX('Cenovnik 2'!$G$2:$G$411,MATCH('Plan unos i pregled'!$E20,Pozicije,0))","v":"nebitno"},null,"plaćeno"]
["2025.","АПРИЛ","Улице","Горњи Барбеш - Добросава Стојановића","4.22",{"$f":"IF($E21=0, \" \", VLOOKUP($E21, 'Cenovnik 2'!$A$2:$D$411, 2, FALSE))","v":"Сечење густог шибља преко 50 ком на m²"},{"$f":"IF($E21=0, \" \", VLOOKUP($E21, 'Cenovnik 2'!$A$2:$D$411, 3, FALSE))","v":"m2"},{"$f":"IF($E21=0, \" \", VLOOKUP($E21, 'Cenovnik 2'!$A$2:$D$411, 4, FALSE))","v":60},150,9000,"Ul","04","ДА",null,null,null,null,{"$error":"#NAME?"},422,"422",{"$f":"IF(VLOOKUP($E21,[0]!ProveraPDV,2,FALSE)=TRUE,$J21,)","v":{"$error":"#N/A"}},{"$f":"IF(VLOOKUP($E21,liste!$A$31:$B$818,2,FALSE)=TRUE,#REF!,)","v":{"$error":"#N/A"}},{"$error":"#NAME?"},{"$f":"INDEX('Cenovnik 2'!$G$2:$G$411,MATCH('Plan unos i pregled'!$E21,Pozicije,0))","v":"nebitno"},null,"plaćeno"]
["2025.","АПРИЛ","Улице","Горњи Барбеш - Браће Живковића","4.22",{"$f":"IF($E22=0, \" \", VLOOKUP($E22, 'Cenovnik 2'!$A$2:$D$411, 2, FALSE))","v":"Сечење густог шибља преко 50 ком на m²"},{"$f":"IF($E22=0, \" \", VLOOKUP($E22, 'Cenovnik 2'!$A$2:$D$411, 3, FALSE))","v":"m2"},{"$f":"IF($E22=0, \" \", VLOOKUP($E22, 'Cenovnik 2'!$A$2:$D$411, 4, FALSE))","v":60},150,9000,"Ul","04","ДА",null,null,null,null,{"$error":"#NAME?"},422,"422",{"$f":"IF(VLOOKUP($E22,[0]!ProveraPDV,2,FALSE)=TRUE,$J22,)","v":{"$error":"#N/A"}},{"$f":"IF(VLOOKUP($E22,liste!$A$31:$B$818,2,FALSE)=TRUE,#REF!,)","v":{"$error":"#N/A"}},{"$error":"#NAME?"},{"$f":"INDEX('Cenovnik 2'!$G$2:$G$411,MATCH('Plan unos i pregled'!$E22,Pozicije,0))","v":"nebitno"},null,"plaćeno"]
["2025.","АПРИЛ","Улице","Горњи Барбеш - Десете Бригаде","4.22",{"$f":"IF($E23=0, \" \", VLOOKUP($E23, 'Cenovnik 2'!$A$2:$D$411, 2, FALSE))","v":"Сечење густог шибља преко 50 ком на m²"},{"$f":"IF($E23=0, \" \", VLOOKUP($E23, 'Cenovnik 2'!$A$2:$D$411, 3, FALSE))","v":"m2"},{"$f":"IF($E23=0, \" \", VLOOKUP($E23, 'Cenovnik 2'!$A$2:$D$411, 4, FALSE))","v":60},150,9000,"Ul","04","ДА",null,null,null,null,{"$error":"#NAME?"},422,"422",{"$f":"IF(VLOOKUP($E23,[0]!ProveraPDV,2,FALSE)=TRUE,$J23,)","v":{"$error":"#N/A"}},{"$f":"IF(VLOOKUP($E23,liste!$A$31:$B$818,2,FALSE)=TRUE,#REF!,)","v":{"$error":"#N/A"}},{"$error":"#NAME?"},{"$f":"INDEX('Cenovnik 2'!$G$2:$G$411,MATCH('Plan unos i pregled'!$E23,Pozicije,0))","v":"nebitno"},null,"plaćeno"]
["2025.","АПРИЛ","Улице","Горњи Барбеш - Тодора Јованчића","4.22",{"$f":"IF($E24=0, \" \", VLOOKUP($E24, 'Cenovnik 2'!$A$2:$D$411, 2, FALSE))","v":"Сечење густог шибља преко 50 ком на m²"},{"$f":"IF($E24=0, \" \", VLOOKUP($E24, 'Cenovnik 2'!$A$2:$D$411, 3, FALSE))","v":"m2"},{"$f":"IF($E24=0, \" \", VLOOKUP($E24, 'Cenovnik 2'!$A$2:$D$411, 4, FALSE))","v":60},150,9000,"Ul","04","ДА",null,null,null,null,{"$error":"#NAME?"},422,"422",{"$f":"IF(VLOOKUP($E24,[0]!ProveraPDV,2,FALSE)=TRUE,$J24,)","v":{"$error":"#N/A"}},{"$f":"IF(VLOOKUP($E24,liste!$A$31:$B$818,2,FALSE)=TRUE,#REF!,)","v":{"$error":"#N/A"}},{"$error":"#NAME?"},{"$f":"INDEX('Cenovnik 2'!$G$2:$G$411,MATCH('Plan unos i pregled'!$E24,Pozicije,0))","v":"nebitno"},null,"plaćeno"]
["2025.","АПРИЛ","Улице","Горњи Барбеш - Владимира Тасића","4.22",{"$f":"IF($E25=0, \" \", VLOOKUP($E25, 'Cenovnik 2'!$A$2:$D$411, 2, FALSE))","v":"Сечење густог шибља преко 50 ком на m²"},{"$f":"IF($E25=0, \" \", VLOOKUP($E25, 'Cenovnik 2'!$A$2:$D$411, 3, FALSE))","v":"m2"},{"$f":"IF($E25=0, \" \", VLOOKUP($E25, 'Cenovnik 2'!$A$2:$D$411, 4, FALSE))","v":60},150,9000,"Ul","04","ДА",null,null,null,null,{"$error":"#NAME?"},{"$f":"IF($E25=0, \" \", VLOOKUP($E25, SifrePozicijaBezTacke, 2, FALSE))","v":422},"422",{"$f":"IF(VLOOKUP($E25,[0]!ProveraPDV,2,FALSE)=TRUE,$J25,)","v":{"$error":"#N/A"}},{"$f":"IF(VLOOKUP($E25,liste!$A$31:$B$818,2,FALSE)=TRUE,#REF!,)","v":{"$error":"#N/A"}},{"$error":"#NAME?"},{"$f":"INDEX('Cenovnik 2'!$G$2:$G$411,MATCH('Plan unos i pregled'!$E25,Pozicije,0))","v":"nebitno"},null,"plaćeno"]
["2025.","АПРИЛ","Улице","Горњи Барбеш - Свете Петке","4.22",{"$f":"IF($E26=0, \" \", VLOOKUP($E26, 'Cenovnik 2'!$A$2:$D$411, 2, FALSE))","v":"Сечење густог шибља преко 50 ком на m²"},{"$f":"IF($E26=0, \" \", VLOOKUP($E26, 'Cenovnik 2'!$A$2:$D$411, 3, FALSE))","v":"m2"},{"$f":"IF($E26=0, \" \", VLOOKUP($E26, 'Cenovnik 2'!$A$2:$D$411, 4, FALSE))","v":60},150,9000,"Ul","04","ДА",null,null,null,null,{"$error":"#NAME?"},422,"422",{"$f":"IF(VLOOKUP($E26,[0]!ProveraPDV,2,FALSE)=TRUE,$J26,)","v":{"$error":"#N/A"}},{"$f":"IF(VLOOKUP($E26,liste!$A$31:$B$818,2,FALSE)=TRUE,#REF!,)","v":{"$error":"#N/A"}},{"$error":"#NAME?"},{"$f":"INDEX('Cenovnik 2'!$G$2:$G$411,MATCH('Plan unos i pregled'!$E26,Pozicije,0))","v":"nebitno"},null,"plaćeno"]
["2025.","АПРИЛ","Улице","Горњи Барбеш - Теслина","4.22",{"$f":"IF($E27=0, \" \", VLOOKUP($E27, 'Cenovnik 2'!$A$2:$D$411, 2, FALSE))","v":"Сечење густог шибља преко 50 ком на m²"},{"$f":"IF($E27=0, \" \", VLOOKUP($E27, 'Cenovnik 2'!$A$2:$D$411, 3, FALSE))","v":"m2"},{"$f":"IF($E27=0, \" \", VLOOKUP($E27, 'Cenovnik 2'!$A$2:$D$411, 4, FALSE))","v":60},150,9000,"Ul","04","ДА",null,null,null,null,{"$error":"#NAME?"},422,"422",{"$f":"IF(VLOOKUP($E27,[0]!ProveraPDV,2,FALSE)=TRUE,$J27,)","v":{"$error":"#N/A"}},{"$f":"IF(VLOOKUP($E27,liste!$A$31:$B$818,2,FALSE)=TRUE,#REF!,)","v":{"$error":"#N/A"}},{"$error":"#NAME?"},{"$f":"INDEX('Cenovnik 2'!$G$2:$G$411,MATCH('Plan unos i pregled'!$E27,Pozicije,0))","v":"nebitno"},null,"plaćeno"]
["2025.","АПРИЛ","Општински путеви","ОП 136-3 - Гаџин Хан - Копривница","4.22",{"$f":"IF($E28=0, \" \", VLOOKUP($E28, 'Cenovnik 2'!$A$2:$D$411, 2, FALSE))","v":"Сечење густог шибља преко 50 ком на m²"},{"$f":"IF($E28=0, \" \", VLOOKUP($E28, 'Cenovnik 2'!$A$2:$D$411, 3, FALSE))","v":"m2"},{"$f":"IF($E28=0, \" \", VLOOKUP($E28, 'Cenovnik 2'!$A$2:$D$411, 4, FALSE))","v":60},981,58860,"OP","04","ДА",null,null,null,null,{"$error":"#NAME?"},422,"422",{"$f":"IF(VLOOKUP($E28,[0]!ProveraPDV,2,FALSE)=TRUE,$J28,)","v":{"$error":"#N/A"}},{"$f":"IF(VLOOKUP($E28,liste!$A$31:$B$818,2,FALSE)=TRUE,#REF!,)","v":{"$error":"#N/A"}},{"$error":"#NAME?"},{"$f":"INDEX('Cenovnik 2'!$G$2:$G$411,MATCH('Plan unos i pregled'!$E28,Pozicije,0))","v":"nebitno"},null,"plaćeno"]
["2025.","АПРИЛ","Општински путеви","ОП 136-29 - Гаџин Хан - Јагличје","4.22",{"$f":"IF($E29=0, \" \", VLOOKUP($E29, 'Cenovnik 2'!$A$2:$D$411, 2, FALSE))","v":"Сечење густог шибља преко 50 ком на m²"},{"$f":"IF($E29=0, \" \", VLOOKUP($E29, 'Cenovnik 2'!$A$2:$D$411, 3, FALSE))","v":"m2"},{"$f":"IF($E29=0, \" \", VLOOKUP($E29, 'Cenovnik 2'!$A$2:$D$411, 4, FALSE))","v":60},1480,88800,"OP","04","ДА",null,null,null,null,{"$error":"#NAME?"},422,"422",{"$f":"IF(VLOOKUP($E29,[0]!ProveraPDV,2,FALSE)=TRUE,$J29,)","v":{"$error":"#N/A"}},{"$f":"IF(VLOOKUP($E29,liste!$A$31:$B$818,2,FALSE)=TRUE,#REF!,)","v":{"$error":"#N/A"}},{"$error":"#NAME?"},{"$f":"INDEX('Cenovnik 2'!$G$2:$G$411,MATCH('Plan unos i pregled'!$E29,Pozicije,0))","v":"nebitno"},null,"plaćeno"]
["2025.","АПРИЛ","Улице","Гркиња - Некатегорисан пут","4.22",{"$f":"IF($E30=0, \" \", VLOOKUP($E30, 'Cenovnik 2'!$A$2:$D$411, 2, FALSE))","v":"Сечење густог шибља преко 50 ком на m²"},{"$f":"IF($E30=0, \" \", VLOOKUP($E30, 'Cenovnik 2'!$A$2:$D$411, 3, FALSE))","v":"m2"},{"$f":"IF($E30=0, \" \", VLOOKUP($E30, 'Cenovnik 2'!$A$2:$D$411, 4, FALSE))","v":60},240,14400,"Ul","04","ДА","8180/1 KO Grkinja",null,null,null,{"$error":"#NAME?"},422,"422",{"$f":"IF(VLOOKUP($E30,[0]!ProveraPDV,2,FALSE)=TRUE,$J30,)","v":{"$error":"#N/A"}},{"$f":"IF(VLOOKUP($E30,liste!$A$31:$B$818,2,FALSE)=TRUE,#REF!,)","v":{"$error":"#N/A"}},{"$error":"#NAME?"},{"$f":"INDEX('Cenovnik 2'!$G$2:$G$411,MATCH('Plan unos i pregled'!$E30,Pozicije,0))","v":"nebitno"},null,"plaćeno"]
["2025.","АПРИЛ","Улице","Горње Власе - Некатегорисан пут","4.22",{"$f":"IF($E31=0, \" \", VLOOKUP($E31, 'Cenovnik 2'!$A$2:$D$411, 2, FALSE))","v":"Сечење густог шибља преко 50 ком на m²"},{"$f":"IF($E31=0, \" \", VLOOKUP($E31, 'Cenovnik 2'!$A$2:$D$411, 3, FALSE))","v":"m2"},{"$f":"IF($E31=0, \" \", VLOOKUP($E31, 'Cenovnik 2'!$A$2:$D$411, 4, FALSE))","v":60},240,14400,"Ul","04","ДА","5569 KO Gornje Vlase",null,null,null,{"$error":"#NAME?"},422,"422",{"$f":"IF(VLOOKUP($E31,[0]!ProveraPDV,2,FALSE)=TRUE,$J31,)","v":{"$error":"#N/A"}},{"$f":"IF(VLOOKUP($E31,liste!$A$31:$B$818,2,FALSE)=TRUE,#REF!,)","v":{"$error":"#N/A"}},{"$error":"#NAME?"},{"$f":"INDEX('Cenovnik 2'!$G$2:$G$411,MATCH('Plan unos i pregled'!$E31,Pozicije,0))","v":"nebitno"},null,"plaćeno"]
["2025.","АПРИЛ","Улице","Горње Власе - Некатегорисан пут","4.22",{"$f":"IF($E32=0, \" \", VLOOKUP($E32, 'Cenovnik 2'!$A$2:$D$411, 2, FALSE))","v":"Сечење густог шибља преко 50 ком на m²"},{"$f":"IF($E32=0, \" \", VLOOKUP($E32, 'Cenovnik 2'!$A$2:$D$411, 3, FALSE))","v":"m2"},{"$f":"IF($E32=0, \" \", VLOOKUP($E32, 'Cenovnik 2'!$A$2:$D$411, 4, FALSE))","v":60},240,14400,"Ul","04","ДА","2463 KO Gornje Vlase",null,null,null,{"$error":"#NAME?"},422,"422",{"$f":"IF(VLOOKUP($E32,[0]!ProveraPDV,2,FALSE)=TRUE,$J32,)","v":{"$error":"#N/A"}},{"$f":"IF(VLOOKUP($E32,liste!$A$31:$B$818,2,FALSE)=TRUE,#REF!,)","v":{"$error":"#N/A"}},{"$error":"#NAME?"},{"$f":"INDEX('Cenovnik 2'!$G$2:$G$411,MATCH('Plan unos i pregled'!$E32,Pozicije,0))","v":"nebitno"},null,"plaćeno"]
["2025.","АПРИЛ","Улице","Горње Власе - Некатегорисан пут","4.22",{"$f":"IF($E33=0, \" \", VLOOKUP($E33, 'Cenovnik 2'!$A$2:$D$411, 2, FALSE))","v":"Сечење густог шибља преко 50 ком на m²"},{"$f":"IF($E33=0, \" \", VLOOKUP($E33, 'Cenovnik 2'!$A$2:$D$411, 3, FALSE))","v":"m2"},{"$f":"IF($E33=0, \" \", VLOOKUP($E33, 'Cenovnik 2'!$A$2:$D$411, 4, FALSE))","v":60},240,14400,"Ul","04","ДА","2470/3 KO Gornje Vlase",null,null,null,{"$error":"#NAME?"},422,"422",{"$f":"IF(VLOOKUP($E33,[0]!ProveraPDV,2,FALSE)=TRUE,$J33,)","v":{"$error":"#N/A"}},{"$f":"IF(VLOOKUP($E33,liste!$A$31:$B$818,2,FALSE)=TRUE,#REF!,)","v":{"$error":"#N/A"}},{"$error":"#NAME?"},{"$f":"INDEX('Cenovnik 2'!$G$2:$G$411,MATCH('Plan unos i pregled'!$E33,Pozicije,0))","v":"nebitno"},null,"plaćeno"]
["2025.","АПРИЛ","Улице","Горње Власе - Милоша Обилића","4.22",{"$f":"IF($E34=0, \" \", VLOOKUP($E34, 'Cenovnik 2'!$A$2:$D$411, 2, FALSE))","v":"Сечење густог шибља преко 50 ком на m²"},{"$f":"IF($E34=0, \" \", VLOOKUP($E34, 'Cenovnik 2'!$A$2:$D$411, 3, FALSE))","v":"m2"},{"$f":"IF($E34=0, \" \", VLOOKUP($E34, 'Cenovnik 2'!$A$2:$D$411, 4, FALSE))","v":60},240,14400,"Ul","04","ДА","2420 KO Gornje Vlase",null,null,null,{"$error":"#NAME?"},422,"422",{"$f":"IF(VLOOKUP($E34,[0]!ProveraPDV,2,FALSE)=TRUE,$J34,)","v":{"$error":"#N/A"}},{"$f":"IF(VLOOKUP($E34,liste!$A$31:$B$818,2,FALSE)=TRUE,#REF!,)","v":{"$error":"#N/A"}},{"$error":"#NAME?"},{"$f":"INDEX('Cenovnik 2'!$G$2:$G$411,MATCH('Plan unos i pregled'!$E34,Pozicije,0))","v":"nebitno"},null,"plaćeno"]
["2025.","АПРИЛ","Општински путеви","ОП 136-31 - Дуга Пољана - Ћелије","4.22",{"$f":"IF($E35=0, \" \", VLOOKUP($E35, 'Cenovnik 2'!$A$2:$D$411, 2, FALSE))","v":"Сечење густог шибља преко 50 ком на m²"},{"$f":"IF($E35=0, \" \", VLOOKUP($E35, 'Cenovnik 2'!$A$2:$D$411, 3, FALSE))","v":"m2"},{"$f":"IF($E35=0, \" \", VLOOKUP($E35, 'Cenovnik 2'!$A$2:$D$411, 4, FALSE))","v":60},1158,69480,"OP","04","ДА",null,null,null,null,{"$error":"#NAME?"},422,"422",{"$f":"IF(VLOOKUP($E35,[0]!ProveraPDV,2,FALSE)=TRUE,$J35,)","v":{"$error":"#N/A"}},{"$f":"IF(VLOOKUP($E35,liste!$A$31:$B$818,2,FALSE)=TRUE,#REF!,)","v":{"$error":"#N/A"}},{"$error":"#NAME?"},{"$f":"INDEX('Cenovnik 2'!$G$2:$G$411,MATCH('Plan unos i pregled'!$E35,Pozicije,0))","v":"nebitno"}]
["2025.","АПРИЛ","Улице","Гркиња - Некатегорисан пут","4.22",{"$f":"IF($E36=0, \" \", VLOOKUP($E36, 'Cenovnik 2'!$A$2:$D$411, 2, FALSE))","v":"Сечење густог шибља преко 50 ком на m²"},{"$f":"IF($E36=0, \" \", VLOOKUP($E36, 'Cenovnik 2'!$A$2:$D$411, 3, FALSE))","v":"m2"},{"$f":"IF($E36=0, \" \", VLOOKUP($E36, 'Cenovnik 2'!$A$2:$D$411, 4, FALSE))","v":60},20,1200,"Ul","04","ДА","8562 KO Grkinja",null,null,null,{"$error":"#NAME?"},422,"422",{"$f":"IF(VLOOKUP($E36,[0]!ProveraPDV,2,FALSE)=TRUE,$J36,)","v":{"$error":"#N/A"}},{"$f":"IF(VLOOKUP($E36,liste!$A$31:$B$818,2,FALSE)=TRUE,#REF!,)","v":{"$error":"#N/A"}},{"$error":"#NAME?"},{"$f":"INDEX('Cenovnik 2'!$G$2:$G$411,MATCH('Plan unos i pregled'!$E36,Pozicije,0))","v":"nebitno"},null,"plaćeno"]
["2025.","АПРИЛ","Улице","Гркиња - Некатегорисан пут","4.22",{"$f":"IF($E37=0, \" \", VLOOKUP($E37, 'Cenovnik 2'!$A$2:$D$411, 2, FALSE))","v":"Сечење густог шибља преко 50 ком на m²"},{"$f":"IF($E37=0, \" \", VLOOKUP($E37, 'Cenovnik 2'!$A$2:$D$411, 3, FALSE))","v":"m2"},{"$f":"IF($E37=0, \" \", VLOOKUP($E37, 'Cenovnik 2'!$A$2:$D$411, 4, FALSE))","v":60},20,1200,"Ul","04","ДА","4969 KO Grkinja",null,null,null,{"$error":"#NAME?"},422,"422",{"$f":"IF(VLOOKUP($E37,[0]!ProveraPDV,2,FALSE)=TRUE,$J37,)","v":{"$error":"#N/A"}},{"$f":"IF(VLOOKUP($E37,liste!$A$31:$B$818,2,FALSE)=TRUE,#REF!,)","v":{"$error":"#N/A"}},{"$error":"#NAME?"},{"$f":"INDEX('Cenovnik 2'!$G$2:$G$411,MATCH('Plan unos i pregled'!$E37,Pozicije,0))","v":"nebitno"},null,"plaćeno"]
["2025.","АПРИЛ","Улице","Гркиња - Некатегорисан пут","4.22",{"$f":"IF($E38=0, \" \", VLOOKUP($E38, 'Cenovnik 2'!$A$2:$D$411, 2, FALSE))","v":"Сечење густог шибља преко 50 ком на m²"},{"$f":"IF($E38=0, \" \", VLOOKUP($E38, 'Cenovnik 2'!$A$2:$D$411, 3, FALSE))","v":"m2"},{"$f":"IF($E38=0, \" \", VLOOKUP($E38, 'Cenovnik 2'!$A$2:$D$411, 4, FALSE))","v":60},20,1200,"Ul","04","ДА","8507/1 KO Grkinja",null,null,null,{"$error":"#NAME?"},422,"422",{"$f":"IF(VLOOKUP($E38,[0]!ProveraPDV,2,FALSE)=TRUE,$J38,)","v":{"$error":"#N/A"}},{"$f":"IF(VLOOKUP($E38,liste!$A$31:$B$818,2,FALSE)=TRUE,#REF!,)","v":{"$error":"#N/A"}},{"$error":"#NAME?"},{"$f":"INDEX('Cenovnik 2'!$G$2:$G$411,MATCH('Plan unos i pregled'!$E38,Pozicije,0))","v":"nebitno"},null,"plaćeno"]
["2025.","АПРИЛ","Улице","Гркиња - Некатегорисан пут","4.22",{"$f":"IF($E39=0, \" \", VLOOKUP($E39, 'Cenovnik 2'!$A$2:$D$411, 2, FALSE))","v":"Сечење густог шибља преко 50 ком на m²"},{"$f":"IF($E39=0, \" \", VLOOKUP($E39, 'Cenovnik 2'!$A$2:$D$411, 3, FALSE))","v":"m2"},{"$f":"IF($E39=0, \" \", VLOOKUP($E39, 'Cenovnik 2'!$A$2:$D$411, 4, FALSE))","v":60},20,1200,{"$f":"IFERROR(INDEX(LokacijeRadovaLat,MATCH(C39,LokacijaRadova,0)),\"\")","v":"Ul"},"04","ДА","8178 KO Grkinja",null,null,null,{"$error":"#NAME?"},422,"422",{"$f":"IF(VLOOKUP($E39,[0]!ProveraPDV,2,FALSE)=TRUE,$J39,)","v":{"$error":"#N/A"}},{"$f":"IF(VLOOKUP($E39,liste!$A$31:$B$818,2,FALSE)=TRUE,#REF!,)","v":{"$error":"#N/A"}},{"$f":"R39&\"-\"&C39","v":{"$error":"#NAME?"}},{"$f":"INDEX('Cenovnik 2'!$G$2:$G$411,MATCH('Plan unos i pregled'!$E39,Pozicije,0))","v":"nebitno"},null,"plaćeno"]
["2025.","АПРИЛ","Улице","Гркиња - Некатегорисан пут","4.22",{"$f":"IF($E40=0, \" \", VLOOKUP($E40, 'Cenovnik 2'!$A$2:$D$411, 2, FALSE))","v":"Сечење густог шибља преко 50 ком на m²"},{"$f":"IF($E40=0, \" \", VLOOKUP($E40, 'Cenovnik 2'!$A$2:$D$411, 3, FALSE))","v":"m2"},{"$f":"IF($E40=0, \" \", VLOOKUP($E40, 'Cenovnik 2'!$A$2:$D$411, 4, FALSE))","v":60},20,1200,"Ul","04","ДА","8563/1 KO Grkinja",null,null,null,{"$error":"#NAME?"},422,"422",{"$f":"IF(VLOOKUP($E40,[0]!ProveraPDV,2,FALSE)=TRUE,$J40,)","v":{"$error":"#N/A"}},{"$f":"IF(VLOOKUP($E40,liste!$A$31:$B$818,2,FALSE)=TRUE,#REF!,)","v":{"$error":"#N/A"}},{"$error":"#NAME?"},{"$f":"INDEX('Cenovnik 2'!$G$2:$G$411,MATCH('Plan unos i pregled'!$E40,Pozicije,0))","v":"nebitno"},null,"plaćeno"]
["2025.","АПРИЛ","Улице","Гркиња - Некатегорисан пут","4.22",{"$f":"IF($E41=0, \" \", VLOOKUP($E41, 'Cenovnik 2'!$A$2:$D$411, 2, FALSE))","v":"Сечење густог шибља преко 50 ком на m²"},{"$f":"IF($E41=0, \" \", VLOOKUP($E41, 'Cenovnik 2'!$A$2:$D$411, 3, FALSE))","v":"m2"},{"$f":"IF($E41=0, \" \", VLOOKUP($E41, 'Cenovnik 2'!$A$2:$D$411, 4, FALSE))","v":60},20,1200,"Ul","04","ДА","8166/2 KO Grkinja",null,null,null,{"$error":"#NAME?"},422,"422",{"$f":"IF(VLOOKUP($E41,[0]!ProveraPDV,2,FALSE)=TRUE,$J41,)","v":{"$error":"#N/A"}},{"$f":"IF(VLOOKUP($E41,liste!$A$31:$B$818,2,FALSE)=TRUE,#REF!,)","v":{"$error":"#N/A"}},{"$error":"#NAME?"},{"$f":"INDEX('Cenovnik 2'!$G$2:$G$411,MATCH('Plan unos i pregled'!$E41,Pozicije,0))","v":"nebitno"},null,"plaćeno"]
["2025.","АПРИЛ","Улице","Гркиња - Некатегорисан пут","4.22",{"$f":"IF($E42=0, \" \", VLOOKUP($E42, 'Cenovnik 2'!$A$2:$D$411, 2, FALSE))","v":"Сечење густог шибља преко 50 ком на m²"},{"$f":"IF($E42=0, \" \", VLOOKUP($E42, 'Cenovnik 2'!$A$2:$D$411, 3, FALSE))","v":"m2"},{"$f":"IF($E42=0, \" \", VLOOKUP($E42, 'Cenovnik 2'!$A$2:$D$411, 4, FALSE))","v":60},20,1200,"Ul","04","ДА","8315 KO Grkinja",null,null,null,{"$error":"#NAME?"},422,"422",{"$f":"IF(VLOOKUP($E42,[0]!ProveraPDV,2,FALSE)=TRUE,$J42,)","v":{"$error":"#N/A"}},{"$f":"IF(VLOOKUP($E42,liste!$A$31:$B$818,2,FALSE)=TRUE,#REF!,)","v":{"$error":"#N/A"}},{"$error":"#NAME?"},{"$f":"INDEX('Cenovnik 2'!$G$2:$G$411,MATCH('Plan unos i pregled'!$E42,Pozicije,0))","v":"nebitno"},null,"plaćeno"]
["2025.","АПРИЛ","Улице","Гркиња - Некатегорисан пут","4.22",{"$f":"IF($E43=0, \" \", VLOOKUP($E43, 'Cenovnik 2'!$A$2:$D$411, 2, FALSE))","v":"Сечење густог шибља преко 50 ком на m²"},{"$f":"IF($E43=0, \" \", VLOOKUP($E43, 'Cenovnik 2'!$A$2:$D$411, 3, FALSE))","v":"m2"},{"$f":"IF($E43=0, \" \", VLOOKUP($E43, 'Cenovnik 2'!$A$2:$D$411, 4, FALSE))","v":60},20,1200,"Ul","04","ДА","6077 KO Grkinja",null,null,null,{"$error":"#NAME?"},422,"422",{"$f":"IF(VLOOKUP($E43,[0]!ProveraPDV,2,FALSE)=TRUE,$J43,)","v":{"$error":"#N/A"}},{"$f":"IF(VLOOKUP($E43,liste!$A$31:$B$818,2,FALSE)=TRUE,#REF!,)","v":{"$error":"#N/A"}},{"$error":"#NAME?"},{"$f":"INDEX('Cenovnik 2'!$G$2:$G$411,MATCH('Plan unos i pregled'!$E43,Pozicije,0))","v":"nebitno"},null,"plaćeno"]
["2025.","АПРИЛ","Улице","Гркиња - Некатегорисан пут","4.22",{"$f":"IF($E44=0, \" \", VLOOKUP($E44, 'Cenovnik 2'!$A$2:$D$411, 2, FALSE))","v":"Сечење густог шибља преко 50 ком на m²"},{"$f":"IF($E44=0, \" \", VLOOKUP($E44, 'Cenovnik 2'!$A$2:$D$411, 3, FALSE))","v":"m2"},{"$f":"IF($E44=0, \" \", VLOOKUP($E44, 'Cenovnik 2'!$A$2:$D$411, 4, FALSE))","v":60},20,1200,"Ul","04","ДА","6056 KO Grkinja",null,null,null,{"$error":"#NAME?"},422,"422",{"$f":"IF(VLOOKUP($E44,[0]!ProveraPDV,2,FALSE)=TRUE,$J44,)","v":{"$error":"#N/A"}},{"$f":"IF(VLOOKUP($E44,liste!$A$31:$B$818,2,FALSE)=TRUE,#REF!,)","v":{"$error":"#N/A"}},{"$error":"#NAME?"},{"$f":"INDEX('Cenovnik 2'!$G$2:$G$411,MATCH('Plan unos i pregled'!$E44,Pozicije,0))","v":"nebitno"},null,"plaćeno"]
["2025.","АПРИЛ","Улице","Гркиња - Некатегорисан пут","4.22",{"$f":"IF($E45=0, \" \", VLOOKUP($E45, 'Cenovnik 2'!$A$2:$D$411, 2, FALSE))","v":"Сечење густог шибља преко 50 ком на m²"},{"$f":"IF($E45=0, \" \", VLOOKUP($E45, 'Cenovnik 2'!$A$2:$D$411, 3, FALSE))","v":"m2"},{"$f":"IF($E45=0, \" \", VLOOKUP($E45, 'Cenovnik 2'!$A$2:$D$411, 4, FALSE))","v":60},20,1200,"Ul","04","ДА","8177 KO Grkinja",null,null,null,{"$error":"#NAME?"},422,"422",{"$f":"IF(VLOOKUP($E45,[0]!ProveraPDV,2,FALSE)=TRUE,$J45,)","v":{"$error":"#N/A"}},{"$f":"IF(VLOOKUP($E45,liste!$A$31:$B$818,2,FALSE)=TRUE,#REF!,)","v":{"$error":"#N/A"}},{"$error":"#NAME?"},{"$f":"INDEX('Cenovnik 2'!$G$2:$G$411,MATCH('Plan unos i pregled'!$E45,Pozicije,0))","v":"nebitno"},null,"plaćeno"]
["2025.","АПРИЛ","Општински путеви","ОП 136-20 - Гркиња - Горње Власе","4.22",{"$f":"IF($E46=0, \" \", VLOOKUP($E46, 'Cenovnik 2'!$A$2:$D$411, 2, FALSE))","v":"Сечење густог шибља преко 50 ком на m²"},{"$f":"IF($E46=0, \" \", VLOOKUP($E46, 'Cenovnik 2'!$A$2:$D$411, 3, FALSE))","v":"m2"},{"$f":"IF($E46=0, \" \", VLOOKUP($E46, 'Cenovnik 2'!$A$2:$D$411, 4, FALSE))","v":60},1450,87000,"OP","04","ДА",null,null,null,null,{"$error":"#NAME?"},422,"422",{"$f":"IF(VLOOKUP($E46,[0]!ProveraPDV,2,FALSE)=TRUE,$J46,)","v":{"$error":"#N/A"}},{"$f":"IF(VLOOKUP($E46,liste!$A$31:$B$818,2,FALSE)=TRUE,#REF!,)","v":{"$error":"#N/A"}},{"$error":"#NAME?"},{"$f":"INDEX('Cenovnik 2'!$G$2:$G$411,MATCH('Plan unos i pregled'!$E46,Pozicije,0))","v":"nebitno"},null,"plaćeno"]
["2025.","АПРИЛ","Општински путеви","ОП 136-22 - Држ.пут II А  бр. 225 - Дукат","4.22",{"$f":"IF($E47=0, \" \", VLOOKUP($E47, 'Cenovnik 2'!$A$2:$D$411, 2, FALSE))","v":"Сечење густог шибља преко 50 ком на m²"},{"$f":"IF($E47=0, \" \", VLOOKUP($E47, 'Cenovnik 2'!$A$2:$D$411, 3, FALSE))","v":"m2"},{"$f":"IF($E47=0, \" \", VLOOKUP($E47, 'Cenovnik 2'!$A$2:$D$411, 4, FALSE))","v":60},1000,60000,"OP","04","ДА",null,null,null,null,{"$error":"#NAME?"},422,"422",{"$f":"IF(VLOOKUP($E47,[0]!ProveraPDV,2,FALSE)=TRUE,$J47,)","v":{"$error":"#N/A"}},{"$f":"IF(VLOOKUP($E47,liste!$A$31:$B$818,2,FALSE)=TRUE,#REF!,)","v":{"$error":"#N/A"}},{"$error":"#NAME?"},{"$f":"INDEX('Cenovnik 2'!$G$2:$G$411,MATCH('Plan unos i pregled'!$E47,Pozicije,0))","v":"nebitno"},null,"plaćeno"]
["2025.","АПРИЛ","Улице","Личје - Милоша Обилића","4.19.1",{"$f":"IF($E48=0, \" \", VLOOKUP($E48, 'Cenovnik 2'!$A$2:$D$411, 2, FALSE))","v":"Кресање грана са одлагањем на страну моторном тестером. Пречник грана од 0 - 10 cm"},{"$f":"IF($E48=0, \" \", VLOOKUP($E48, 'Cenovnik 2'!$A$2:$D$411, 3, FALSE))","v":"ком"},{"$f":"IF($E48=0, \" \", VLOOKUP($E48, 'Cenovnik 2'!$A$2:$D$411, 4, FALSE))","v":256.38},78,19997.64,"Ul","04","ДА","85 KO Ličje",null,null,null,{"$error":"#NAME?"},4191,"419",{"$f":"IF(VLOOKUP($E48,[0]!ProveraPDV,2,FALSE)=TRUE,$J48,)","v":{"$error":"#N/A"}},{"$f":"IF(VLOOKUP($E48,liste!$A$31:$B$818,2,FALSE)=TRUE,#REF!,)","v":{"$error":"#N/A"}},{"$error":"#NAME?"},{"$f":"INDEX('Cenovnik 2'!$G$2:$G$411,MATCH('Plan unos i pregled'!$E48,Pozicije,0))","v":"nebitno"},null,"plaćeno"]
["2025.","АПРИЛ","Улице","Личје - Некатегорисан пут","4.19.1",{"$f":"IF($E49=0, \" \", VLOOKUP($E49, 'Cenovnik 2'!$A$2:$D$411, 2, FALSE))","v":"Кресање грана са одлагањем на страну моторном тестером. Пречник грана од 0 - 10 cm"},{"$f":"IF($E49=0, \" \", VLOOKUP($E49, 'Cenovnik 2'!$A$2:$D$411, 3, FALSE))","v":"ком"},{"$f":"IF($E49=0, \" \", VLOOKUP($E49, 'Cenovnik 2'!$A$2:$D$411, 4, FALSE))","v":256.38},900,230742,"Ul","04","ДА","9827 KO Ličje",null,null,null,{"$error":"#NAME?"},4191,"419",{"$f":"IF(VLOOKUP($E49,[0]!ProveraPDV,2,FALSE)=TRUE,$J49,)","v":{"$error":"#N/A"}},{"$f":"IF(VLOOKUP($E49,liste!$A$31:$B$818,2,FALSE)=TRUE,#REF!,)","v":{"$error":"#N/A"}},{"$error":"#NAME?"},{"$f":"INDEX('Cenovnik 2'!$G$2:$G$411,MATCH('Plan unos i pregled'!$E49,Pozicije,0))","v":"nebitno"},null,"plaćeno"]
["2025.","АПРИЛ","Улице","Тасковићи - Вељка Влаховића","4.19.1",{"$f":"IF($E50=0, \" \", VLOOKUP($E50, 'Cenovnik 2'!$A$2:$D$411, 2, FALSE))","v":"Кресање грана са одлагањем на страну моторном тестером. Пречник грана од 0 - 10 cm"},{"$f":"IF($E50=0, \" \", VLOOKUP($E50, 'Cenovnik 2'!$A$2:$D$411, 3, FALSE))","v":"ком"},{"$f":"IF($E50=0, \" \", VLOOKUP($E50, 'Cenovnik 2'!$A$2:$D$411, 4, FALSE))","v":256.38},880,225614.4,"Ul","04","ДА","9668 KO Taskovići",null,null,null,{"$error":"#NAME?"},4191,"419",{"$f":"IF(VLOOKUP($E50,[0]!ProveraPDV,2,FALSE)=TRUE,$J50,)","v":{"$error":"#N/A"}},{"$f":"IF(VLOOKUP($E50,liste!$A$31:$B$818,2,FALSE)=TRUE,#REF!,)","v":{"$error":"#N/A"}},{"$error":"#NAME?"},{"$f":"INDEX('Cenovnik 2'!$G$2:$G$411,MATCH('Plan unos i pregled'!$E50,Pozicije,0))","v":"nebitno"},null,"plaćeno"]
["2025.","АПРИЛ","Улице","Марина Кутина - Јакова Станковића","4.19.1",{"$f":"IF($E51=0, \" \", VLOOKUP($E51, 'Cenovnik 2'!$A$2:$D$411, 2, FALSE))","v":"Кресање грана са одлагањем на страну моторном тестером. Пречник грана од 0 - 10 cm"},{"$f":"IF($E51=0, \" \", VLOOKUP($E51, 'Cenovnik 2'!$A$2:$D$411, 3, FALSE))","v":"ком"},{"$f":"IF($E51=0, \" \", VLOOKUP($E51, 'Cenovnik 2'!$A$2:$D$411, 4, FALSE))","v":256.38},1065,273044.7,"Ul","04","ДА","3038/1 KO Marina Kutina",null,null,null,{"$error":"#NAME?"},4191,"419",{"$f":"IF(VLOOKUP($E51,[0]!ProveraPDV,2,FALSE)=TRUE,$J51,)","v":{"$error":"#N/A"}},{"$f":"IF(VLOOKUP($E51,liste!$A$31:$B$818,2,FALSE)=TRUE,#REF!,)","v":{"$error":"#N/A"}},{"$error":"#NAME?"},{"$f":"INDEX('Cenovnik 2'!$G$2:$G$411,MATCH('Plan unos i pregled'!$E51,Pozicije,0))","v":"nebitno"},null,"plaćeno"]
["2025.","АПРИЛ","Улице","Марина Кутина - Некатегорисан пут","4.19.1",{"$f":"IF($E52=0, \" \", VLOOKUP($E52, 'Cenovnik 2'!$A$2:$D$411, 2, FALSE))","v":"Кресање грана са одлагањем на страну моторном тестером. Пречник грана од 0 - 10 cm"},{"$f":"IF($E52=0, \" \", VLOOKUP($E52, 'Cenovnik 2'!$A$2:$D$411, 3, FALSE))","v":"ком"},{"$f":"IF($E52=0, \" \", VLOOKUP($E52, 'Cenovnik 2'!$A$2:$D$411, 4, FALSE))","v":256.38},null,0,"Ul","04","ДА","3036/1 KO Marina Kutina",null,null,null,{"$error":"#NAME?"},4191,"419",{"$f":"IF(VLOOKUP($E52,[0]!ProveraPDV,2,FALSE)=TRUE,$J52,)","v":{"$error":"#N/A"}},{"$f":"IF(VLOOKUP($E52,liste!$A$31:$B$818,2,FALSE)=TRUE,#REF!,)","v":{"$error":"#N/A"}},{"$error":"#NAME?"},{"$f":"INDEX('Cenovnik 2'!$G$2:$G$411,MATCH('Plan unos i pregled'!$E52,Pozicije,0))","v":"nebitno"}]
["2025.","АПРИЛ","Улице","Доње Драговље - Некатегорисан пут","4.19.1",{"$f":"IF($E53=0, \" \", VLOOKUP($E53, 'Cenovnik 2'!$A$2:$D$411, 2, FALSE))","v":"Кресање грана са одлагањем на страну моторном тестером. Пречник грана од 0 - 10 cm"},{"$f":"IF($E53=0, \" \", VLOOKUP($E53, 'Cenovnik 2'!$A$2:$D$411, 3, FALSE))","v":"ком"},{"$f":"IF($E53=0, \" \", VLOOKUP($E53, 'Cenovnik 2'!$A$2:$D$411, 4, FALSE))","v":256.38},null,0,"Ul","04","ДА","1054/1 KO Donje Dragovlje",null,null,null,{"$error":"#NAME?"},4191,"419",{"$f":"IF(VLOOKUP($E53,[0]!ProveraPDV,2,FALSE)=TRUE,$J53,)","v":{"$error":"#N/A"}},{"$f":"IF(VLOOKUP($E53,liste!$A$31:$B$818,2,FALSE)=TRUE,#REF!,)","v":{"$error":"#N/A"}},{"$error":"#NAME?"},{"$f":"INDEX('Cenovnik 2'!$G$2:$G$411,MATCH('Plan unos i pregled'!$E53,Pozicije,0))","v":"nebitno"}]
["2025.","АПРИЛ","Улице","Доње Драговље - Некатегорисан пут","4.19.1",{"$f":"IF($E54=0, \" \", VLOOKUP($E54, 'Cenovnik 2'!$A$2:$D$411, 2, FALSE))","v":"Кресање грана са одлагањем на страну моторном тестером. Пречник грана од 0 - 10 cm"},{"$f":"IF($E54=0, \" \", VLOOKUP($E54, 'Cenovnik 2'!$A$2:$D$411, 3, FALSE))","v":"ком"},{"$f":"IF($E54=0, \" \", VLOOKUP($E54, 'Cenovnik 2'!$A$2:$D$411, 4, FALSE))","v":256.38},null,0,"Ul","04","ДА","1102 KO Donje Dragovlje",null,null,null,{"$error":"#NAME?"},4191,"419",{"$f":"IF(VLOOKUP($E54,[0]!ProveraPDV,2,FALSE)=TRUE,$J54,)","v":{"$error":"#N/A"}},{"$f":"IF(VLOOKUP($E54,liste!$A$31:$B$818,2,FALSE)=TRUE,#REF!,)","v":{"$error":"#N/A"}},{"$error":"#NAME?"},{"$f":"INDEX('Cenovnik 2'!$G$2:$G$411,MATCH('Plan unos i pregled'!$E54,Pozicije,0))","v":"nebitno"}]
["2025.","АПРИЛ","Улице","Доње Драговље - Некатегорисан пут","4.19.1",{"$f":"IF($E55=0, \" \", VLOOKUP($E55, 'Cenovnik 2'!$A$2:$D$411, 2, FALSE))","v":"Кресање грана са одлагањем на страну моторном тестером. Пречник грана од 0 - 10 cm"},{"$f":"IF($E55=0, \" \", VLOOKUP($E55, 'Cenovnik 2'!$A$2:$D$411, 3, FALSE))","v":"ком"},{"$f":"IF($E55=0, \" \", VLOOKUP($E55, 'Cenovnik 2'!$A$2:$D$411, 4, FALSE))","v":256.38},null,0,"Ul","04","ДА","7492 KO Donje Dragovlje",null,null,null,{"$error":"#NAME?"},4191,"419",{"$f":"IF(VLOOKUP($E55,[0]!ProveraPDV,2,FALSE)=TRUE,$J55,)","v":{"$error":"#N/A"}},{"$f":"IF(VLOOKUP($E55,liste!$A$31:$B$818,2,FALSE)=TRUE,#REF!,)","v":{"$error":"#N/A"}},{"$error":"#NAME?"},{"$f":"INDEX('Cenovnik 2'!$G$2:$G$411,MATCH('Plan unos i pregled'!$E55,Pozicije,0))","v":"nebitno"}]
["2025.","АПРИЛ","Улице","Чагровац - Некатегорисан пут","4.19.1",{"$f":"IF($E56=0, \" \", VLOOKUP($E56, 'Cenovnik 2'!$A$2:$D$411, 2, FALSE))","v":"Кресање грана са одлагањем на страну моторном тестером. Пречник грана од 0 - 10 cm"},{"$f":"IF($E56=0, \" \", VLOOKUP($E56, 'Cenovnik 2'!$A$2:$D$411, 3, FALSE))","v":"ком"},{"$f":"IF($E56=0, \" \", VLOOKUP($E56, 'Cenovnik 2'!$A$2:$D$411, 4, FALSE))","v":256.38},null,0,"Ul","04","ДА","2137 KO Čagrovac",null,null,null,{"$error":"#NAME?"},4191,"419",{"$f":"IF(VLOOKUP($E56,[0]!ProveraPDV,2,FALSE)=TRUE,$J56,)","v":{"$error":"#N/A"}},{"$f":"IF(VLOOKUP($E56,liste!$A$31:$B$818,2,FALSE)=TRUE,#REF!,)","v":{"$error":"#N/A"}},{"$error":"#NAME?"},{"$f":"INDEX('Cenovnik 2'!$G$2:$G$411,MATCH('Plan unos i pregled'!$E56,Pozicije,0))","v":"nebitno"}]
["2025.","АПРИЛ","Улице","Чагровац - Некатегорисан пут","4.19.1",{"$f":"IF($E57=0, \" \", VLOOKUP($E57, 'Cenovnik 2'!$A$2:$D$411, 2, FALSE))","v":"Кресање грана са одлагањем на страну моторном тестером. Пречник грана од 0 - 10 cm"},{"$f":"IF($E57=0, \" \", VLOOKUP($E57, 'Cenovnik 2'!$A$2:$D$411, 3, FALSE))","v":"ком"},{"$f":"IF($E57=0, \" \", VLOOKUP($E57, 'Cenovnik 2'!$A$2:$D$411, 4, FALSE))","v":256.38},null,{"$f":"IF(ISNUMBER($H57), $H57*$I57, \"-\")","v":0},"Ul",{"$f":"TEXT(LEFT($E57,FIND(\".\",$E57&\".\")-1), \"00\")","v":"04"},"ДА","7319 KO Čagrovac",null,null,null,{"$error":"#NAME?"},4191,{"$f":"LEFT($S57, 3)","v":"419"},{"$f":"IF(VLOOKUP($E57,[0]!ProveraPDV,2,FALSE)=TRUE,$J57,)","v":{"$error":"#N/A"}},{"$f":"IF(VLOOKUP($E57,liste!$A$31:$B$818,2,FALSE)=TRUE,#REF!,)","v":{"$error":"#N/A"}},{"$error":"#NAME?"},{"$f":"INDEX('Cenovnik 2'!$G$2:$G$411,MATCH('Plan unos i pregled'!$E57,Pozicije,0))","v":"nebitno"}]
["2025.","АПРИЛ","Улице","Доњи Душник - Некатегорисан пут","4.19.1",{"$f":"IF($E58=0, \" \", VLOOKUP($E58, 'Cenovnik 2'!$A$2:$D$411, 2, FALSE))","v":"Кресање грана са одлагањем на страну моторном тестером. Пречник грана од 0 - 10 cm"},{"$f":"IF($E58=0, \" \", VLOOKUP($E58, 'Cenovnik 2'!$A$2:$D$411, 3, FALSE))","v":"ком"},{"$f":"IF($E58=0, \" \", VLOOKUP($E58, 'Cenovnik 2'!$A$2:$D$411, 4, FALSE))","v":256.38},null,0,"Ul","04","ДА","Prilaz groblju",null,null,null,{"$error":"#NAME?"},4191,"419",{"$f":"IF(VLOOKUP($E58,[0]!ProveraPDV,2,FALSE)=TRUE,$J58,)","v":{"$error":"#N/A"}},{"$f":"IF(VLOOKUP($E58,liste!$A$31:$B$818,2,FALSE)=TRUE,#REF!,)","v":{"$error":"#N/A"}},{"$error":"#NAME?"},{"$f":"INDEX('Cenovnik 2'!$G$2:$G$411,MATCH('Plan unos i pregled'!$E58,Pozicije,0))","v":"nebitno"}]
["2025.","АПРИЛ","Општински путеви","ОП 136-2 - Барје - Равна Дубрава","4.19.1",{"$f":"IF($E59=0, \" \", VLOOKUP($E59, 'Cenovnik 2'!$A$2:$D$411, 2, FALSE))","v":"Кресање грана са одлагањем на страну моторном тестером. Пречник грана од 0 - 10 cm"},{"$f":"IF($E59=0, \" \", VLOOKUP($E59, 'Cenovnik 2'!$A$2:$D$411, 3, FALSE))","v":"ком"},{"$f":"IF($E59=0, \" \", VLOOKUP($E59, 'Cenovnik 2'!$A$2:$D$411, 4, FALSE))","v":256.38},null,0,"OP","04","ДА",null,null,null,null,{"$error":"#NAME?"},4191,"419",{"$f":"IF(VLOOKUP($E59,[0]!ProveraPDV,2,FALSE)=TRUE,$J59,)","v":{"$error":"#N/A"}},{"$f":"IF(VLOOKUP($E59,liste!$A$31:$B$818,2,FALSE)=TRUE,#REF!,)","v":{"$error":"#N/A"}},{"$error":"#NAME?"},{"$f":"INDEX('Cenovnik 2'!$G$2:$G$411,MATCH('Plan unos i pregled'!$E59,Pozicije,0))","v":"nebitno"}]
["2025.","АПРИЛ","Општински путеви","ОП 136-5 - Доњи Душник - Горњи Душник","4.19.1",{"$f":"IF($E60=0, \" \", VLOOKUP($E60, 'Cenovnik 2'!$A$2:$D$411, 2, FALSE))","v":"Кресање грана са одлагањем на страну моторном тестером. Пречник грана од 0 - 10 cm"},{"$f":"IF($E60=0, \" \", VLOOKUP($E60, 'Cenovnik 2'!$A$2:$D$411, 3, FALSE))","v":"ком"},{"$f":"IF($E60=0, \" \", VLOOKUP($E60, 'Cenovnik 2'!$A$2:$D$411, 4, FALSE))","v":256.38},null,0,"OP","04","ДА","Prilaz groblju",null,null,null,{"$error":"#NAME?"},4191,"419",{"$f":"IF(VLOOKUP($E60,[0]!ProveraPDV,2,FALSE)=TRUE,$J60,)","v":{"$error":"#N/A"}},{"$f":"IF(VLOOKUP($E60,liste!$A$31:$B$818,2,FALSE)=TRUE,#REF!,)","v":{"$error":"#N/A"}},{"$error":"#NAME?"},{"$f":"INDEX('Cenovnik 2'!$G$2:$G$411,MATCH('Plan unos i pregled'!$E60,Pozicije,0))","v":"nebitno"}]
["2025.","АПРИЛ","Улице","Доње Драговље - Некатегорисан пут","4.19.1",{"$f":"IF($E61=0, \" \", VLOOKUP($E61, 'Cenovnik 2'!$A$2:$D$411, 2, FALSE))","v":"Кресање грана са одлагањем на страну моторном тестером. Пречник грана од 0 - 10 cm"},{"$f":"IF($E61=0, \" \", VLOOKUP($E61, 'Cenovnik 2'!$A$2:$D$411, 3, FALSE))","v":"ком"},{"$f":"IF($E61=0, \" \", VLOOKUP($E61, 'Cenovnik 2'!$A$2:$D$411, 4, FALSE))","v":256.38},null,0,"Ul","04","ДА",null,null,null,null,{"$error":"#NAME?"},4191,"419",{"$f":"IF(VLOOKUP($E61,[0]!ProveraPDV,2,FALSE)=TRUE,$J61,)","v":{"$error":"#N/A"}},{"$f":"IF(VLOOKUP($E61,liste!$A$31:$B$818,2,FALSE)=TRUE,#REF!,)","v":{"$error":"#N/A"}},{"$error":"#NAME?"},{"$f":"INDEX('Cenovnik 2'!$G$2:$G$411,MATCH('Plan unos i pregled'!$E61,Pozicije,0))","v":"nebitno"}]
["2025.","АПРИЛ","Фудбалски терени","Гаџин Хан-Фудбалски терен: П1-9100","11.30",{"$f":"IF($E62=0, \" \", VLOOKUP($E62, 'Cenovnik 2'!$A$2:$D$411, 2, FALSE))","v":"Моторна косачица за траву (спортски терени)"},{"$f":"IF($E62=0, \" \", VLOOKUP($E62, 'Cenovnik 2'!$A$2:$D$411, 3, FALSE))","v":"m2"},{"$f":"IF($E62=0, \" \", VLOOKUP($E62, 'Cenovnik 2'!$A$2:$D$411, 4, FALSE))","v":2.13},27300,58149,"FT","11","ДА",null,null,null,null,{"$error":"#NAME?"},1130,"113",{"$f":"IF(VLOOKUP($E62,[0]!ProveraPDV,2,FALSE)=TRUE,$J62,)","v":{"$error":"#N/A"}},{"$f":"IF(VLOOKUP($E62,liste!$A$31:$B$818,2,FALSE)=TRUE,#REF!,)","v":{"$error":"#N/A"}},{"$error":"#NAME?"},{"$f":"INDEX('Cenovnik 2'!$G$2:$G$411,MATCH('Plan unos i pregled'!$E62,Pozicije,0))","v":"nebitno"}]
["2025.","АПРИЛ","Фудбалски терени","Тасковићи-Фудбалски терен: П1-6050","11.30",{"$f":"IF($E63=0, \" \", VLOOKUP($E63, 'Cenovnik 2'!$A$2:$D$411, 2, FALSE))","v":"Моторна косачица за траву (спортски терени)"},{"$f":"IF($E63=0, \" \", VLOOKUP($E63, 'Cenovnik 2'!$A$2:$D$411, 3, FALSE))","v":"m2"},{"$f":"IF($E63=0, \" \", VLOOKUP($E63, 'Cenovnik 2'!$A$2:$D$411, 4, FALSE))","v":2.13},16980,36167.4,"FT","11","ДА",null,null,null,null,{"$error":"#NAME?"},1130,"113",{"$f":"IF(VLOOKUP($E63,[0]!ProveraPDV,2,FALSE)=TRUE,$J63,)","v":{"$error":"#N/A"}},{"$f":"IF(VLOOKUP($E63,liste!$A$31:$B$818,2,FALSE)=TRUE,#REF!,)","v":{"$error":"#N/A"}},{"$error":"#NAME?"},{"$f":"INDEX('Cenovnik 2'!$G$2:$G$411,MATCH('Plan unos i pregled'!$E63,Pozicije,0))","v":"nebitno"}]
["2025.","АПРИЛ","Фудбалски терени","Гркиња-Фудбалски Терен: П1-5460","11.30",{"$f":"IF($E64=0, \" \", VLOOKUP($E64, 'Cenovnik 2'!$A$2:$D$411, 2, FALSE))","v":"Моторна косачица за траву (спортски терени)"},{"$f":"IF($E64=0, \" \", VLOOKUP($E64, 'Cenovnik 2'!$A$2:$D$411, 3, FALSE))","v":"m2"},{"$f":"IF($E64=0, \" \", VLOOKUP($E64, 'Cenovnik 2'!$A$2:$D$411, 4, FALSE))","v":2.13},9740,20746.2,"FT","11","ДА",null,null,null,null,{"$error":"#NAME?"},1130,"113",{"$f":"IF(VLOOKUP($E64,[0]!ProveraPDV,2,FALSE)=TRUE,$J64,)","v":{"$error":"#N/A"}},{"$f":"IF(VLOOKUP($E64,liste!$A$31:$B$818,2,FALSE)=TRUE,#REF!,)","v":{"$error":"#N/A"}},{"$error":"#NAME?"},{"$f":"INDEX('Cenovnik 2'!$G$2:$G$411,MATCH('Plan unos i pregled'!$E64,Pozicije,0))","v":"nebitno"}]
["2025.","АПРИЛ","Фудбалски терени","Марина Кутина-Фудбалски терен: П1-5490","11.30",{"$f":"IF($E65=0, \" \", VLOOKUP($E65, 'Cenovnik 2'!$A$2:$D$411, 2, FALSE))","v":"Моторна косачица за траву (спортски терени)"},{"$f":"IF($E65=0, \" \", VLOOKUP($E65, 'Cenovnik 2'!$A$2:$D$411, 3, FALSE))","v":"m2"},{"$f":"IF($E65=0, \" \", VLOOKUP($E65, 'Cenovnik 2'!$A$2:$D$411, 4, FALSE))","v":2.13},10980,23387.399999999998,"FT","11","ДА",null,null,null,null,{"$error":"#NAME?"},1130,"113",{"$f":"IF(VLOOKUP($E65,[0]!ProveraPDV,2,FALSE)=TRUE,$J65,)","v":{"$error":"#N/A"}},{"$f":"IF(VLOOKUP($E65,liste!$A$31:$B$818,2,FALSE)=TRUE,#REF!,)","v":{"$error":"#N/A"}},{"$error":"#NAME?"},{"$f":"INDEX('Cenovnik 2'!$G$2:$G$411,MATCH('Plan unos i pregled'!$E65,Pozicije,0))","v":"nebitno"}]
["2025.","АПРИЛ","Фудбалски терени","Заплањска Топоница-Фудбалски Терен: П1-5600","11.30",{"$f":"IF($E66=0, \" \", VLOOKUP($E66, 'Cenovnik 2'!$A$2:$D$411, 2, FALSE))","v":"Моторна косачица за траву (спортски терени)"},{"$f":"IF($E66=0, \" \", VLOOKUP($E66, 'Cenovnik 2'!$A$2:$D$411, 3, FALSE))","v":"m2"},{"$f":"IF($E66=0, \" \", VLOOKUP($E66, 'Cenovnik 2'!$A$2:$D$411, 4, FALSE))","v":2.13},12100,25773,"FT","11","ДА",null,null,null,null,{"$error":"#NAME?"},1130,"113",{"$f":"IF(VLOOKUP($E66,[0]!ProveraPDV,2,FALSE)=TRUE,$J66,)","v":{"$error":"#N/A"}},{"$f":"IF(VLOOKUP($E66,liste!$A$31:$B$818,2,FALSE)=TRUE,#REF!,)","v":{"$error":"#N/A"}},{"$error":"#NAME?"},{"$f":"INDEX('Cenovnik 2'!$G$2:$G$411,MATCH('Plan unos i pregled'!$E66,Pozicije,0))","v":"nebitno"}]
["2025.","АПРИЛ","Фудбалски терени","Гаџин Хан-Фудбалски терен: П1-9100","4.11",{"$f":"IF($E67=0, \" \", VLOOKUP($E67, 'Cenovnik 2'!$A$2:$D$411, 2, FALSE))","v":"Обележавање фудбалског терена (по фактури добављача), ценом није обухваћен превоз и рад радника"},{"$f":"IF($E67=0, \" \", VLOOKUP($E67, 'Cenovnik 2'!$A$2:$D$411, 3, FALSE))","v":"m"},{"$f":"IF($E67=0, \" \", VLOOKUP($E67, 'Cenovnik 2'!$A$2:$D$411, 4, FALSE))","v":26.8},2520,67536,"FT","04","ДА",null,null,null,null,{"$error":"#NAME?"},411,"411",{"$f":"IF(VLOOKUP($E67,[0]!ProveraPDV,2,FALSE)=TRUE,$J67,)","v":{"$error":"#N/A"}},{"$f":"IF(VLOOKUP($E67,liste!$A$31:$B$818,2,FALSE)=TRUE,#REF!,)","v":{"$error":"#N/A"}},{"$error":"#NAME?"},{"$f":"INDEX('Cenovnik 2'!$G$2:$G$411,MATCH('Plan unos i pregled'!$E67,Pozicije,0))","v":"nebitno"}]
["2025.","АПРИЛ","Фудбалски терени","Тасковићи-Фудбалски терен: П1-6050","4.11",{"$f":"IF($E68=0, \" \", VLOOKUP($E68, 'Cenovnik 2'!$A$2:$D$411, 2, FALSE))","v":"Обележавање фудбалског терена (по фактури добављача), ценом није обухваћен превоз и рад радника"},{"$f":"IF($E68=0, \" \", VLOOKUP($E68, 'Cenovnik 2'!$A$2:$D$411, 3, FALSE))","v":"m"},{"$f":"IF($E68=0, \" \", VLOOKUP($E68, 'Cenovnik 2'!$A$2:$D$411, 4, FALSE))","v":26.8},2700,72360,"FT","04","ДА",null,null,null,null,{"$error":"#NAME?"},411,"411",{"$f":"IF(VLOOKUP($E68,[0]!ProveraPDV,2,FALSE)=TRUE,$J68,)","v":{"$error":"#N/A"}},{"$f":"IF(VLOOKUP($E68,liste!$A$31:$B$818,2,FALSE)=TRUE,#REF!,)","v":{"$error":"#N/A"}},{"$error":"#NAME?"},{"$f":"INDEX('Cenovnik 2'!$G$2:$G$411,MATCH('Plan unos i pregled'!$E68,Pozicije,0))","v":"nebitno"},null,"plaćeno"]
["2025.","АПРИЛ","Фудбалски терени","Гркиња-Фудбалски Терен: П1-5460","4.11",{"$f":"IF($E69=0, \" \", VLOOKUP($E69, 'Cenovnik 2'!$A$2:$D$411, 2, FALSE))","v":"Обележавање фудбалског терена (по фактури добављача), ценом није обухваћен превоз и рад радника"},{"$f":"IF($E69=0, \" \", VLOOKUP($E69, 'Cenovnik 2'!$A$2:$D$411, 3, FALSE))","v":"m"},{"$f":"IF($E69=0, \" \", VLOOKUP($E69, 'Cenovnik 2'!$A$2:$D$411, 4, FALSE))","v":26.8},1100,29480,"FT","04","ДА",null,null,null,null,{"$error":"#NAME?"},411,"411",{"$f":"IF(VLOOKUP($E69,[0]!ProveraPDV,2,FALSE)=TRUE,$J69,)","v":{"$error":"#N/A"}},{"$f":"IF(VLOOKUP($E69,liste!$A$31:$B$818,2,FALSE)=TRUE,#REF!,)","v":{"$error":"#N/A"}},{"$error":"#NAME?"},{"$f":"INDEX('Cenovnik 2'!$G$2:$G$411,MATCH('Plan unos i pregled'!$E69,Pozicije,0))","v":"nebitno"},null,"plaćeno"]
["2025.","АПРИЛ","Фудбалски терени","Марина Кутина-Фудбалски терен: П1-5490","4.11",{"$f":"IF($E70=0, \" \", VLOOKUP($E70, 'Cenovnik 2'!$A$2:$D$411, 2, FALSE))","v":"Обележавање фудбалског терена (по фактури добављача), ценом није обухваћен превоз и рад радника"},{"$f":"IF($E70=0, \" \", VLOOKUP($E70, 'Cenovnik 2'!$A$2:$D$411, 3, FALSE))","v":"m"},{"$f":"IF($E70=0, \" \", VLOOKUP($E70, 'Cenovnik 2'!$A$2:$D$411, 4, FALSE))","v":26.8},1150,30820,"FT","04","ДА",null,null,null,null,{"$error":"#NAME?"},411,"411",{"$f":"IF(VLOOKUP($E70,[0]!ProveraPDV,2,FALSE)=TRUE,$J70,)","v":{"$error":"#N/A"}},{"$f":"IF(VLOOKUP($E70,liste!$A$31:$B$818,2,FALSE)=TRUE,#REF!,)","v":{"$error":"#N/A"}},{"$error":"#NAME?"},{"$f":"INDEX('Cenovnik 2'!$G$2:$G$411,MATCH('Plan unos i pregled'!$E70,Pozicije,0))","v":"nebitno"},null,"plaćeno"]
["2025.","АПРИЛ","Фудбалски терени","Заплањска Топоница-Фудбалски Терен: П1-5600","4.11",{"$f":"IF($E71=0, \" \", VLOOKUP($E71, 'Cenovnik 2'!$A$2:$D$411, 2, FALSE))","v":"Обележавање фудбалског терена (по фактури добављача), ценом није обухваћен превоз и рад радника"},{"$f":"IF($E71=0, \" \", VLOOKUP($E71, 'Cenovnik 2'!$A$2:$D$411, 3, FALSE))","v":"m"},{"$f":"IF($E71=0, \" \", VLOOKUP($E71, 'Cenovnik 2'!$A$2:$D$411, 4, FALSE))","v":26.8},1208,32374.400000000001,{"$f":"IFERROR(INDEX(LokacijeRadovaLat,MATCH(C71,LokacijaRadova,0)),\"\")","v":"FT"},"04","ДА",null,null,null,null,{"$error":"#NAME?"},411,"411",{"$f":"IF(VLOOKUP($E71,[0]!ProveraPDV,2,FALSE)=TRUE,$J71,)","v":{"$error":"#N/A"}},{"$f":"IF(VLOOKUP($E71,liste!$A$31:$B$818,2,FALSE)=TRUE,#REF!,)","v":{"$error":"#N/A"}},{"$f":"R71&\"-\"&C71","v":{"$error":"#NAME?"}},{"$f":"INDEX('Cenovnik 2'!$G$2:$G$411,MATCH('Plan unos i pregled'!$E71,Pozicije,0))","v":"nebitno"},null,"plaćeno"]
["2025.","АПРИЛ","Фудбалски терени","Гаџин Хан-Фудбалски терен: П1-9100","11.5",{"$f":"IF($E72=0, \" \", VLOOKUP($E72, 'Cenovnik 2'!$A$2:$D$411, 2, FALSE))","v":"Ваљак од 2 t"},{"$f":"IF($E72=0, \" \", VLOOKUP($E72, 'Cenovnik 2'!$A$2:$D$411, 3, FALSE))","v":"час"},{"$f":"IF($E72=0, \" \", VLOOKUP($E72, 'Cenovnik 2'!$A$2:$D$411, 4, FALSE))","v":2875},6,17250,"FT","11","ДА",null,null,null,null,{"$error":"#NAME?"},115,"115",{"$f":"IF(VLOOKUP($E72,[0]!ProveraPDV,2,FALSE)=TRUE,$J72,)","v":{"$error":"#N/A"}},{"$f":"IF(VLOOKUP($E72,liste!$A$31:$B$818,2,FALSE)=TRUE,#REF!,)","v":{"$error":"#N/A"}},{"$error":"#NAME?"},{"$f":"INDEX('Cenovnik 2'!$G$2:$G$411,MATCH('Plan unos i pregled'!$E72,Pozicije,0))","v":"nebitno"}]
["2025.","АПРИЛ","Фудбалски терени","Тасковићи-Фудбалски терен: П1-6050","11.5",{"$f":"IF($E73=0, \" \", VLOOKUP($E73, 'Cenovnik 2'!$A$2:$D$411, 2, FALSE))","v":"Ваљак од 2 t"},{"$f":"IF($E73=0, \" \", VLOOKUP($E73, 'Cenovnik 2'!$A$2:$D$411, 3, FALSE))","v":"час"},{"$f":"IF($E73=0, \" \", VLOOKUP($E73, 'Cenovnik 2'!$A$2:$D$411, 4, FALSE))","v":2875},6,17250,"FT","11","ДА",null,null,null,null,{"$error":"#NAME?"},115,"115",{"$f":"IF(VLOOKUP($E73,[0]!ProveraPDV,2,FALSE)=TRUE,$J73,)","v":{"$error":"#N/A"}},{"$f":"IF(VLOOKUP($E73,liste!$A$31:$B$818,2,FALSE)=TRUE,#REF!,)","v":{"$error":"#N/A"}},{"$error":"#NAME?"},{"$f":"INDEX('Cenovnik 2'!$G$2:$G$411,MATCH('Plan unos i pregled'!$E73,Pozicije,0))","v":"nebitno"}]
["2025.","АПРИЛ","Фудбалски терени","Гркиња-Фудбалски Терен: П1-5460","11.5",{"$f":"IF($E74=0, \" \", VLOOKUP($E74, 'Cenovnik 2'!$A$2:$D$411, 2, FALSE))","v":"Ваљак од 2 t"},{"$f":"IF($E74=0, \" \", VLOOKUP($E74, 'Cenovnik 2'!$A$2:$D$411, 3, FALSE))","v":"час"},{"$f":"IF($E74=0, \" \", VLOOKUP($E74, 'Cenovnik 2'!$A$2:$D$411, 4, FALSE))","v":2875},6,17250,"FT","11","ДА",null,null,null,null,{"$error":"#NAME?"},115,"115",{"$f":"IF(VLOOKUP($E74,[0]!ProveraPDV,2,FALSE)=TRUE,$J74,)","v":{"$error":"#N/A"}},{"$f":"IF(VLOOKUP($E74,liste!$A$31:$B$818,2,FALSE)=TRUE,#REF!,)","v":{"$error":"#N/A"}},{"$error":"#NAME?"},{"$f":"INDEX('Cenovnik 2'!$G$2:$G$411,MATCH('Plan unos i pregled'!$E74,Pozicije,0))","v":"nebitno"}]
["2025.","АПРИЛ","Јавне зелене површине","Гаџин Хан-Кеј: П 1-1381","11.30",{"$f":"IF($E75=0, \" \", VLOOKUP($E75, 'Cenovnik 2'!$A$2:$D$411, 2, FALSE))","v":"Моторна косачица за траву (спортски терени)"},{"$f":"IF($E75=0, \" \", VLOOKUP($E75, 'Cenovnik 2'!$A$2:$D$411, 3, FALSE))","v":"m2"},{"$f":"IF($E75=0, \" \", VLOOKUP($E75, 'Cenovnik 2'!$A$2:$D$411, 4, FALSE))","v":2.13},4464,9508.32,"JZP","11","ДА","P1",null,null,null,{"$error":"#NAME?"},1130,"113",{"$f":"IF(VLOOKUP($E75,[0]!ProveraPDV,2,FALSE)=TRUE,$J75,)","v":{"$error":"#N/A"}},{"$f":"IF(VLOOKUP($E75,liste!$A$31:$B$818,2,FALSE)=TRUE,#REF!,)","v":{"$error":"#N/A"}},{"$error":"#NAME?"},{"$f":"INDEX('Cenovnik 2'!$G$2:$G$411,MATCH('Plan unos i pregled'!$E75,Pozicije,0))","v":"nebitno"}]
["2025.","АПРИЛ","Јавне зелене површине","Гаџин Хан-Кеј: П 2-4326","11.30",{"$f":"IF($E76=0, \" \", VLOOKUP($E76, 'Cenovnik 2'!$A$2:$D$411, 2, FALSE))","v":"Моторна косачица за траву (спортски терени)"},{"$f":"IF($E76=0, \" \", VLOOKUP($E76, 'Cenovnik 2'!$A$2:$D$411, 3, FALSE))","v":"m2"},{"$f":"IF($E76=0, \" \", VLOOKUP($E76, 'Cenovnik 2'!$A$2:$D$411, 4, FALSE))","v":2.13},7984,17005.919999999998,"JZP","11","ДА","P2 i P3",null,null,null,{"$error":"#NAME?"},1130,"113",{"$f":"IF(VLOOKUP($E76,[0]!ProveraPDV,2,FALSE)=TRUE,$J76,)","v":{"$error":"#N/A"}},{"$f":"IF(VLOOKUP($E76,liste!$A$31:$B$818,2,FALSE)=TRUE,#REF!,)","v":{"$error":"#N/A"}},{"$error":"#NAME?"},{"$f":"INDEX('Cenovnik 2'!$G$2:$G$411,MATCH('Plan unos i pregled'!$E76,Pozicije,0))","v":"nebitno"}]
["2025.","АПРИЛ","Јавне зелене површине","Доњи Душник -Задружни дом-Дом културе: П 1-1922","11.30",{"$f":"IF($E77=0, \" \", VLOOKUP($E77, 'Cenovnik 2'!$A$2:$D$411, 2, FALSE))","v":"Моторна косачица за траву (спортски терени)"},{"$f":"IF($E77=0, \" \", VLOOKUP($E77, 'Cenovnik 2'!$A$2:$D$411, 3, FALSE))","v":"m2"},{"$f":"IF($E77=0, \" \", VLOOKUP($E77, 'Cenovnik 2'!$A$2:$D$411, 4, FALSE))","v":2.13},5990,12758.699999999999,"JZP","11","ДА",null,null,null,null,{"$error":"#NAME?"},1130,"113",{"$f":"IF(VLOOKUP($E77,[0]!ProveraPDV,2,FALSE)=TRUE,$J77,)","v":{"$error":"#N/A"}},{"$f":"IF(VLOOKUP($E77,liste!$A$31:$B$818,2,FALSE)=TRUE,#REF!,)","v":{"$error":"#N/A"}},{"$error":"#NAME?"},{"$f":"INDEX('Cenovnik 2'!$G$2:$G$411,MATCH('Plan unos i pregled'!$E77,Pozicije,0))","v":"nebitno"}]
["2025.","АПРИЛ","Јавне зелене површине","Гаџин Хан-Дом културе: П 1-560","11.30",{"$f":"IF($E78=0, \" \", VLOOKUP($E78, 'Cenovnik 2'!$A$2:$D$411, 2, FALSE))","v":"Моторна косачица за траву (спортски терени)"},{"$f":"IF($E78=0, \" \", VLOOKUP($E78, 'Cenovnik 2'!$A$2:$D$411, 3, FALSE))","v":"m2"},{"$f":"IF($E78=0, \" \", VLOOKUP($E78, 'Cenovnik 2'!$A$2:$D$411, 4, FALSE))","v":2.13},1901,4049.1299999999997,"JZP","11","ДА","P1, P2, P3 i P4",null,null,null,{"$error":"#NAME?"},1130,"113",{"$f":"IF(VLOOKUP($E78,[0]!ProveraPDV,2,FALSE)=TRUE,$J78,)","v":{"$error":"#N/A"}},{"$f":"IF(VLOOKUP($E78,liste!$A$31:$B$818,2,FALSE)=TRUE,#REF!,)","v":{"$error":"#N/A"}},{"$error":"#NAME?"},{"$f":"INDEX('Cenovnik 2'!$G$2:$G$411,MATCH('Plan unos i pregled'!$E78,Pozicije,0))","v":"nebitno"}]
["2025.","АПРИЛ","Јавне зелене површине","Гаџин Хан-Дом културе: П 3-848","11.30",{"$f":"IF($E79=0, \" \", VLOOKUP($E79, 'Cenovnik 2'!$A$2:$D$411, 2, FALSE))","v":"Моторна косачица за траву (спортски терени)"},{"$f":"IF($E79=0, \" \", VLOOKUP($E79, 'Cenovnik 2'!$A$2:$D$411, 3, FALSE))","v":"m2"},{"$f":"IF($E79=0, \" \", VLOOKUP($E79, 'Cenovnik 2'!$A$2:$D$411, 4, FALSE))","v":2.13},1600,3408,"JZP","11","ДА","P1, P2, P3",null,null,null,{"$error":"#NAME?"},1130,"113",{"$f":"IF(VLOOKUP($E79,[0]!ProveraPDV,2,FALSE)=TRUE,$J79,)","v":{"$error":"#N/A"}},{"$f":"IF(VLOOKUP($E79,liste!$A$31:$B$818,2,FALSE)=TRUE,#REF!,)","v":{"$error":"#N/A"}},{"$error":"#NAME?"},{"$f":"INDEX('Cenovnik 2'!$G$2:$G$411,MATCH('Plan unos i pregled'!$E79,Pozicije,0))","v":"nebitno"}]
["2025.","АПРИЛ","Јавне зелене површине","Горњи Душник-Црква: П 1-2466","11.30",{"$f":"IF($E80=0, \" \", VLOOKUP($E80, 'Cenovnik 2'!$A$2:$D$411, 2, FALSE))","v":"Моторна косачица за траву (спортски терени)"},{"$f":"IF($E80=0, \" \", VLOOKUP($E80, 'Cenovnik 2'!$A$2:$D$411, 3, FALSE))","v":"m2"},{"$f":"IF($E80=0, \" \", VLOOKUP($E80, 'Cenovnik 2'!$A$2:$D$411, 4, FALSE))","v":2.13},3699,7878.87,"JZP","11","ДА",null,null,null,null,{"$error":"#NAME?"},1130,"113",{"$f":"IF(VLOOKUP($E80,[0]!ProveraPDV,2,FALSE)=TRUE,$J80,)","v":{"$error":"#N/A"}},{"$f":"IF(VLOOKUP($E80,liste!$A$31:$B$818,2,FALSE)=TRUE,#REF!,)","v":{"$error":"#N/A"}},{"$error":"#NAME?"},{"$f":"INDEX('Cenovnik 2'!$G$2:$G$411,MATCH('Plan unos i pregled'!$E80,Pozicije,0))","v":"nebitno"}]
["2025.","АПРИЛ","Јавне зелене површине","Гаџин Хан-Кеј: П 1-1318","4.6",{"$f":"IF($E81=0, \" \", VLOOKUP($E81, 'Cenovnik 2'!$A$2:$D$411, 2, FALSE))","v":"Кошење парковског травњака тримером"},{"$f":"IF($E81=0, \" \", VLOOKUP($E81, 'Cenovnik 2'!$A$2:$D$411, 3, FALSE))","v":"m2"},{"$f":"IF($E81=0, \" \", VLOOKUP($E81, 'Cenovnik 2'!$A$2:$D$411, 4, FALSE))","v":6.5},1441,9366.5,"JZP","04","ДА",null,null,null,null,{"$error":"#NAME?"},46,"46",{"$f":"IF(VLOOKUP($E81,[0]!ProveraPDV,2,FALSE)=TRUE,$J81,)","v":{"$error":"#N/A"}},{"$f":"IF(VLOOKUP($E81,liste!$A$31:$B$818,2,FALSE)=TRUE,#REF!,)","v":{"$error":"#N/A"}},{"$error":"#NAME?"},{"$f":"INDEX('Cenovnik 2'!$G$2:$G$411,MATCH('Plan unos i pregled'!$E81,Pozicije,0))","v":"nebitno"}]
["2025.","АПРИЛ","Јавне зелене површине","Гаџин Хан-Дом културе: П 1-560","4.6",{"$f":"IF($E82=0, \" \", VLOOKUP($E82, 'Cenovnik 2'!$A$2:$D$411, 2, FALSE))","v":"Кошење парковског травњака тримером"},{"$f":"IF($E82=0, \" \", VLOOKUP($E82, 'Cenovnik 2'!$A$2:$D$411, 3, FALSE))","v":"m2"},{"$f":"IF($E82=0, \" \", VLOOKUP($E82, 'Cenovnik 2'!$A$2:$D$411, 4, FALSE))","v":6.5},1570,10205,"JZP","04","ДА",null,null,null,null,{"$f":"IF($C82=0, \" \", VLOOKUP($C82, DrzavniPuteviRed, 2, FALSE))","v":{"$error":"#NAME?"}},46,"46",{"$f":"IF(VLOOKUP($E82,[0]!ProveraPDV,2,FALSE)=TRUE,$J82,)","v":{"$error":"#N/A"}},{"$f":"IF(VLOOKUP($E82,liste!$A$31:$B$818,2,FALSE)=TRUE,#REF!,)","v":{"$error":"#N/A"}},{"$error":"#NAME?"},{"$f":"INDEX('Cenovnik 2'!$G$2:$G$411,MATCH('Plan unos i pregled'!$E82,Pozicije,0))","v":"nebitno"}]
["2025.","АПРИЛ","Јавне зелене површине","Гаџин Хан-Спортска Хала: П 1-325","4.6",{"$f":"IF($E83=0, \" \", VLOOKUP($E83, 'Cenovnik 2'!$A$2:$D$411, 2, FALSE))","v":"Кошење парковског травњака тримером"},{"$f":"IF($E83=0, \" \", VLOOKUP($E83, 'Cenovnik 2'!$A$2:$D$411, 3, FALSE))","v":"m2"},{"$f":"IF($E83=0, \" \", VLOOKUP($E83, 'Cenovnik 2'!$A$2:$D$411, 4, FALSE))","v":6.5},760,4940,"JZP","04","ДА",null,null,null,null,{"$error":"#NAME?"},46,"46",{"$f":"IF(VLOOKUP($E83,[0]!ProveraPDV,2,FALSE)=TRUE,$J83,)","v":{"$error":"#N/A"}},{"$f":"IF(VLOOKUP($E83,liste!$A$31:$B$818,2,FALSE)=TRUE,#REF!,)","v":{"$error":"#N/A"}},{"$error":"#NAME?"},{"$f":"INDEX('Cenovnik 2'!$G$2:$G$411,MATCH('Plan unos i pregled'!$E83,Pozicije,0))","v":"nebitno"}]
["2025.","АПРИЛ","Јавне зелене површине","Гаџин Хан-Кеј: П 1-1318","4.6",{"$f":"IF($E84=0, \" \", VLOOKUP($E84, 'Cenovnik 2'!$A$2:$D$411, 2, FALSE))","v":"Кошење парковског травњака тримером"},{"$f":"IF($E84=0, \" \", VLOOKUP($E84, 'Cenovnik 2'!$A$2:$D$411, 3, FALSE))","v":"m2"},{"$f":"IF($E84=0, \" \", VLOOKUP($E84, 'Cenovnik 2'!$A$2:$D$411, 4, FALSE))","v":6.5},1180,7670,"JZP","04","ДА",null,null,null,null,{"$error":"#NAME?"},46,"46",{"$f":"IF(VLOOKUP($E84,[0]!ProveraPDV,2,FALSE)=TRUE,$J84,)","v":{"$error":"#N/A"}},{"$f":"IF(VLOOKUP($E84,liste!$A$31:$B$818,2,FALSE)=TRUE,#REF!,)","v":{"$error":"#N/A"}},{"$error":"#NAME?"},{"$f":"INDEX('Cenovnik 2'!$G$2:$G$411,MATCH('Plan unos i pregled'!$E84,Pozicije,0))","v":"nebitno"}]
["2025.","АПРИЛ","Јавне зелене површине","Доњи Душник-Туристичка организација: П 5-762","4.6",{"$f":"IF($E85=0, \" \", VLOOKUP($E85, 'Cenovnik 2'!$A$2:$D$411, 2, FALSE))","v":"Кошење парковског травњака тримером"},{"$f":"IF($E85=0, \" \", VLOOKUP($E85, 'Cenovnik 2'!$A$2:$D$411, 3, FALSE))","v":"m2"},{"$f":"IF($E85=0, \" \", VLOOKUP($E85, 'Cenovnik 2'!$A$2:$D$411, 4, FALSE))","v":6.5},648,4212,"JZP","04","ДА",null,null,null,null,{"$error":"#NAME?"},46,"46",{"$f":"IF(VLOOKUP($E85,[0]!ProveraPDV,2,FALSE)=TRUE,$J85,)","v":{"$error":"#N/A"}},{"$f":"IF(VLOOKUP($E85,liste!$A$31:$B$818,2,FALSE)=TRUE,#REF!,)","v":{"$error":"#N/A"}},{"$error":"#NAME?"},{"$f":"INDEX('Cenovnik 2'!$G$2:$G$411,MATCH('Plan unos i pregled'!$E85,Pozicije,0))","v":"nebitno"}]
["2025.","АПРИЛ","Улице","Равна Дубрава - Некатегорисан пут","4.6",{"$f":"IF($E86=0, \" \", VLOOKUP($E86, 'Cenovnik 2'!$A$2:$D$411, 2, FALSE))","v":"Кошење парковског травњака тримером"},{"$f":"IF($E86=0, \" \", VLOOKUP($E86, 'Cenovnik 2'!$A$2:$D$411, 3, FALSE))","v":"m2"},{"$f":"IF($E86=0, \" \", VLOOKUP($E86, 'Cenovnik 2'!$A$2:$D$411, 4, FALSE))","v":6.5},8000,52000,"Ul","04","ДА","Ravna Dubrava 2231; 2233",null,null,null,{"$error":"#NAME?"},46,"46",{"$f":"IF(VLOOKUP($E86,[0]!ProveraPDV,2,FALSE)=TRUE,$J86,)","v":{"$error":"#N/A"}},{"$f":"IF(VLOOKUP($E86,liste!$A$31:$B$818,2,FALSE)=TRUE,#REF!,)","v":{"$error":"#N/A"}},{"$error":"#NAME?"},{"$f":"INDEX('Cenovnik 2'!$G$2:$G$411,MATCH('Plan unos i pregled'!$E86,Pozicije,0))","v":"nebitno"}]
["2025.","АПРИЛ","Јавне зелене површине","Горњи Душник-Основна школа: П 1-2320","4.6",{"$f":"IF($E87=0, \" \", VLOOKUP($E87, 'Cenovnik 2'!$A$2:$D$411, 2, FALSE))","v":"Кошење парковског травњака тримером"},{"$f":"IF($E87=0, \" \", VLOOKUP($E87, 'Cenovnik 2'!$A$2:$D$411, 3, FALSE))","v":"m2"},{"$f":"IF($E87=0, \" \", VLOOKUP($E87, 'Cenovnik 2'!$A$2:$D$411, 4, FALSE))","v":6.5},4640,30160,"JZP","04","ДА",null,null,null,null,{"$error":"#NAME?"},46,"46",{"$f":"IF(VLOOKUP($E87,[0]!ProveraPDV,2,FALSE)=TRUE,$J87,)","v":{"$error":"#N/A"}},{"$f":"IF(VLOOKUP($E87,liste!$A$31:$B$818,2,FALSE)=TRUE,#REF!,)","v":{"$error":"#N/A"}},{"$error":"#NAME?"},{"$f":"INDEX('Cenovnik 2'!$G$2:$G$411,MATCH('Plan unos i pregled'!$E87,Pozicije,0))","v":"nebitno"}]
["2025.","АПРИЛ","Улице","Гаџин Хан - Некатегорисан пут","4.26",{"$f":"IF($E88=0, \" \", VLOOKUP($E88, 'Cenovnik 2'!$A$2:$D$411, 2, FALSE))","v":"Кошење траве на слободним површинама косачицом прикљученом на трактор"},{"$f":"IF($E88=0, \" \", VLOOKUP($E88, 'Cenovnik 2'!$A$2:$D$411, 3, FALSE))","v":"m2"},{"$f":"IF($E88=0, \" \", VLOOKUP($E88, 'Cenovnik 2'!$A$2:$D$411, 4, FALSE))","v":4.3499999999999996},1315,5720.2499999999991,"Ul","04","ДА","G. Han 4004; 4003/1",null,null,null,{"$error":"#NAME?"},426,"426",{"$f":"IF(VLOOKUP($E88,[0]!ProveraPDV,2,FALSE)=TRUE,$J88,)","v":{"$error":"#N/A"}},{"$f":"IF(VLOOKUP($E88,liste!$A$31:$B$818,2,FALSE)=TRUE,#REF!,)","v":{"$error":"#N/A"}},{"$error":"#NAME?"},{"$f":"INDEX('Cenovnik 2'!$G$2:$G$411,MATCH('Plan unos i pregled'!$E88,Pozicije,0))","v":"nebitno"}]
["2025.","АПРИЛ","Улице","Гаџин Хан - Некатегорисан пут","4.26",{"$f":"IF($E89=0, \" \", VLOOKUP($E89, 'Cenovnik 2'!$A$2:$D$411, 2, FALSE))","v":"Кошење траве на слободним површинама косачицом прикљученом на трактор"},{"$f":"IF($E89=0, \" \", VLOOKUP($E89, 'Cenovnik 2'!$A$2:$D$411, 3, FALSE))","v":"m2"},{"$f":"IF($E89=0, \" \", VLOOKUP($E89, 'Cenovnik 2'!$A$2:$D$411, 4, FALSE))","v":4.3499999999999996},1058,4602.2999999999993,"Ul","04","ДА","G. Han 4003/3; 3998; 4001/4 ",null,null,null,{"$error":"#NAME?"},{"$f":"IF($E89=0, \" \", VLOOKUP($E89, SifrePozicijaBezTacke, 2, FALSE))","v":426},"426",{"$f":"IF(VLOOKUP($E89,[0]!ProveraPDV,2,FALSE)=TRUE,$J89,)","v":{"$error":"#N/A"}},{"$f":"IF(VLOOKUP($E89,liste!$A$31:$B$818,2,FALSE)=TRUE,#REF!,)","v":{"$error":"#N/A"}},{"$error":"#NAME?"},{"$f":"INDEX('Cenovnik 2'!$G$2:$G$411,MATCH('Plan unos i pregled'!$E89,Pozicije,0))","v":"nebitno"}]
["2025.","АПРИЛ","Јавне зелене површине","Заплањска Топоница-Вртић \"Прва радост\": П1-1493","4.26",{"$f":"IF($E90=0, \" \", VLOOKUP($E90, 'Cenovnik 2'!$A$2:$D$411, 2, FALSE))","v":"Кошење траве на слободним површинама косачицом прикљученом на трактор"},{"$f":"IF($E90=0, \" \", VLOOKUP($E90, 'Cenovnik 2'!$A$2:$D$411, 3, FALSE))","v":"m2"},{"$f":"IF($E90=0, \" \", VLOOKUP($E90, 'Cenovnik 2'!$A$2:$D$411, 4, FALSE))","v":4.3499999999999996},2110,9178.5,"JZP","04","ДА",null,null,null,null,{"$error":"#NAME?"},426,"426",{"$f":"IF(VLOOKUP($E90,[0]!ProveraPDV,2,FALSE)=TRUE,$J90,)","v":{"$error":"#N/A"}},{"$f":"IF(VLOOKUP($E90,liste!$A$31:$B$818,2,FALSE)=TRUE,#REF!,)","v":{"$error":"#N/A"}},{"$error":"#NAME?"},{"$f":"INDEX('Cenovnik 2'!$G$2:$G$411,MATCH('Plan unos i pregled'!$E90,Pozicije,0))","v":"nebitno"}]
["2025.","АПРИЛ","Јавне зелене површине","Заплањска Топоница-Школа: П1-4834","4.26",{"$f":"IF($E91=0, \" \", VLOOKUP($E91, 'Cenovnik 2'!$A$2:$D$411, 2, FALSE))","v":"Кошење траве на слободним површинама косачицом прикљученом на трактор"},{"$f":"IF($E91=0, \" \", VLOOKUP($E91, 'Cenovnik 2'!$A$2:$D$411, 3, FALSE))","v":"m2"},{"$f":"IF($E91=0, \" \", VLOOKUP($E91, 'Cenovnik 2'!$A$2:$D$411, 4, FALSE))","v":4.3499999999999996},2150,9352.5,"JZP","04","ДА",null,null,null,null,{"$error":"#NAME?"},426,"426",{"$f":"IF(VLOOKUP($E91,[0]!ProveraPDV,2,FALSE)=TRUE,$J91,)","v":{"$error":"#N/A"}},{"$f":"IF(VLOOKUP($E91,liste!$A$31:$B$818,2,FALSE)=TRUE,#REF!,)","v":{"$error":"#N/A"}},{"$error":"#NAME?"},{"$f":"INDEX('Cenovnik 2'!$G$2:$G$411,MATCH('Plan unos i pregled'!$E91,Pozicije,0))","v":"nebitno"}]
["2025.","АПРИЛ","Јавне зелене површине","Гаџин Хан-Крст: П1-686","4.26",{"$f":"IF($E92=0, \" \", VLOOKUP($E92, 'Cenovnik 2'!$A$2:$D$411, 2, FALSE))","v":"Кошење траве на слободним површинама косачицом прикљученом на трактор"},{"$f":"IF($E92=0, \" \", VLOOKUP($E92, 'Cenovnik 2'!$A$2:$D$411, 3, FALSE))","v":"m2"},{"$f":"IF($E92=0, \" \", VLOOKUP($E92, 'Cenovnik 2'!$A$2:$D$411, 4, FALSE))","v":4.3499999999999996},1207,5250.45,"JZP","04","ДА",null,null,null,null,{"$error":"#NAME?"},426,"426",{"$f":"IF(VLOOKUP($E92,[0]!ProveraPDV,2,FALSE)=TRUE,$J92,)","v":{"$error":"#N/A"}},{"$f":"IF(VLOOKUP($E92,liste!$A$31:$B$818,2,FALSE)=TRUE,#REF!,)","v":{"$error":"#N/A"}},{"$error":"#NAME?"},{"$f":"INDEX('Cenovnik 2'!$G$2:$G$411,MATCH('Plan unos i pregled'!$E92,Pozicije,0))","v":"nebitno"}]
["2025.","АПРИЛ","Улице","Равна Дубрава - Некатегорисан пут","4.26",{"$f":"IF($E93=0, \" \", VLOOKUP($E93, 'Cenovnik 2'!$A$2:$D$411, 2, FALSE))","v":"Кошење траве на слободним површинама косачицом прикљученом на трактор"},{"$f":"IF($E93=0, \" \", VLOOKUP($E93, 'Cenovnik 2'!$A$2:$D$411, 3, FALSE))","v":"m2"},{"$f":"IF($E93=0, \" \", VLOOKUP($E93, 'Cenovnik 2'!$A$2:$D$411, 4, FALSE))","v":4.3499999999999996},40000,174000,"Ul","04","ДА","Ravna Dubrava 3007",null,null,null,{"$error":"#NAME?"},426,"426",{"$f":"IF(VLOOKUP($E93,[0]!ProveraPDV,2,FALSE)=TRUE,$J93,)","v":{"$error":"#N/A"}},{"$f":"IF(VLOOKUP($E93,liste!$A$31:$B$818,2,FALSE)=TRUE,#REF!,)","v":{"$error":"#N/A"}},{"$error":"#NAME?"},{"$f":"INDEX('Cenovnik 2'!$G$2:$G$411,MATCH('Plan unos i pregled'!$E93,Pozicije,0))","v":"nebitno"}]
["2025.","АПРИЛ","Улице","Гркиња - Некатегорисан пут","8.2",{"$f":"IF($E94=0, \" \", VLOOKUP($E94, 'Cenovnik 2'!$A$2:$D$411, 2, FALSE))","v":"Поправка неасвалтираног каменог застора брдском дробином из сипара или шљунком са спрудишта.\nЦена обухвата: машинско прикупљање материјала, риљање старог застора, разастирање, планирање дробљеног каменог агрегата и сабијање ваљком уз потребно квашење. Превоз материјала и менаизације се обрачунава посебно."},{"$f":"IF($E94=0, \" \", VLOOKUP($E94, 'Cenovnik 2'!$A$2:$D$411, 3, FALSE))","v":"m3"},{"$f":"IF($E94=0, \" \", VLOOKUP($E94, 'Cenovnik 2'!$A$2:$D$411, 4, FALSE))","v":2547.6999999999998},53.29,135766.93299999999,"Ul","08","ДА","8304 KO Grkinja",null,null,null,{"$error":"#NAME?"},82,"82",{"$f":"IF(VLOOKUP($E94,[0]!ProveraPDV,2,FALSE)=TRUE,$J94,)","v":135766.93299999999},{"$f":"IF(VLOOKUP($E94,liste!$A$31:$B$818,2,FALSE)=TRUE,#REF!,)","v":{"$error":"#REF!"}},{"$error":"#NAME?"},{"$f":"INDEX('Cenovnik 2'!$G$2:$G$411,MATCH('Plan unos i pregled'!$E94,Pozicije,0))","v":"nebitno"}]
["2025.","АПРИЛ","Улице","Гркиња - Некатегорисан пут","8.2",{"$f":"IF($E95=0, \" \", VLOOKUP($E95, 'Cenovnik 2'!$A$2:$D$411, 2, FALSE))","v":"Поправка неасвалтираног каменог застора брдском дробином из сипара или шљунком са спрудишта.\nЦена обухвата: машинско прикупљање материјала, риљање старог застора, разастирање, планирање дробљеног каменог агрегата и сабијање ваљком уз потребно квашење. Превоз материјала и менаизације се обрачунава посебно."},{"$f":"IF($E95=0, \" \", VLOOKUP($E95, 'Cenovnik 2'!$A$2:$D$411, 3, FALSE))","v":"m3"},{"$f":"IF($E95=0, \" \", VLOOKUP($E95, 'Cenovnik 2'!$A$2:$D$411, 4, FALSE))","v":2547.6999999999998},25.93,66061.86099999999,"Ul","08","ДА","8516/2 KO Grkinja",null,null,null,{"$error":"#NAME?"},82,"82",{"$f":"IF(VLOOKUP($E95,[0]!ProveraPDV,2,FALSE)=TRUE,$J95,)","v":66061.86099999999},{"$f":"IF(VLOOKUP($E95,liste!$A$31:$B$818,2,FALSE)=TRUE,#REF!,)","v":{"$error":"#REF!"}},{"$error":"#NAME?"},{"$f":"INDEX('Cenovnik 2'!$G$2:$G$411,MATCH('Plan unos i pregled'!$E95,Pozicije,0))","v":"nebitno"}]
["2025.","АПРИЛ","Улице","Гркиња - Некатегорисан пут","8.2",{"$f":"IF($E96=0, \" \", VLOOKUP($E96, 'Cenovnik 2'!$A$2:$D$411, 2, FALSE))","v":"Поправка неасвалтираног каменог застора брдском дробином из сипара или шљунком са спрудишта.\nЦена обухвата: машинско прикупљање материјала, риљање старог застора, разастирање, планирање дробљеног каменог агрегата и сабијање ваљком уз потребно квашење. Превоз материјала и менаизације се обрачунава посебно."},{"$f":"IF($E96=0, \" \", VLOOKUP($E96, 'Cenovnik 2'!$A$2:$D$411, 3, FALSE))","v":"m3"},{"$f":"IF($E96=0, \" \", VLOOKUP($E96, 'Cenovnik 2'!$A$2:$D$411, 4, FALSE))","v":2547.6999999999998},42.9,109296.32999999999,"Ul","08","ДА","8459 KO Grkinja",null,null,null,{"$error":"#NAME?"},82,"82",{"$f":"IF(VLOOKUP($E96,[0]!ProveraPDV,2,FALSE)=TRUE,$J96,)","v":109296.32999999999},{"$f":"IF(VLOOKUP($E96,liste!$A$31:$B$818,2,FALSE)=TRUE,#REF!,)","v":{"$error":"#REF!"}},{"$error":"#NAME?"},{"$f":"INDEX('Cenovnik 2'!$G$2:$G$411,MATCH('Plan unos i pregled'!$E96,Pozicije,0))","v":"nebitno"}]
["2025.","АПРИЛ","Улице","Гркиња - Некатегорисан пут","8.2",{"$f":"IF($E97=0, \" \", VLOOKUP($E97, 'Cenovnik 2'!$A$2:$D$411, 2, FALSE))","v":"Поправка неасвалтираног каменог застора брдском дробином из сипара или шљунком са спрудишта.\nЦена обухвата: машинско прикупљање материјала, риљање старог застора, разастирање, планирање дробљеног каменог агрегата и сабијање ваљком уз потребно квашење. Превоз материјала и менаизације се обрачунава посебно."},{"$f":"IF($E97=0, \" \", VLOOKUP($E97, 'Cenovnik 2'!$A$2:$D$411, 3, FALSE))","v":"m3"},{"$f":"IF($E97=0, \" \", VLOOKUP($E97, 'Cenovnik 2'!$A$2:$D$411, 4, FALSE))","v":2547.6999999999998},17.36,44228.071999999993,"Ul","08","ДА","KO Grkinja",null,null,null,{"$error":"#NAME?"},82,"82",{"$f":"IF(VLOOKUP($E97,[0]!ProveraPDV,2,FALSE)=TRUE,$J97,)","v":44228.071999999993},{"$f":"IF(VLOOKUP($E97,liste!$A$31:$B$818,2,FALSE)=TRUE,#REF!,)","v":{"$error":"#REF!"}},{"$error":"#NAME?"},{"$f":"INDEX('Cenovnik 2'!$G$2:$G$411,MATCH('Plan unos i pregled'!$E97,Pozicije,0))","v":"nebitno"}]
["2025.","АПРИЛ","Улице","Горње Власе - Милоша Обилића","8.2",{"$f":"IF($E98=0, \" \", VLOOKUP($E98, 'Cenovnik 2'!$A$2:$D$411, 2, FALSE))","v":"Поправка неасвалтираног каменог застора брдском дробином из сипара или шљунком са спрудишта.\nЦена обухвата: машинско прикупљање материјала, риљање старог застора, разастирање, планирање дробљеног каменог агрегата и сабијање ваљком уз потребно квашење. Превоз материјала и менаизације се обрачунава посебно."},{"$f":"IF($E98=0, \" \", VLOOKUP($E98, 'Cenovnik 2'!$A$2:$D$411, 3, FALSE))","v":"m3"},{"$f":"IF($E98=0, \" \", VLOOKUP($E98, 'Cenovnik 2'!$A$2:$D$411, 4, FALSE))","v":2547.6999999999998},120,305724,"Ul","08","ДА",null,null,null,null,{"$error":"#NAME?"},82,"82",{"$f":"IF(VLOOKUP($E98,[0]!ProveraPDV,2,FALSE)=TRUE,$J98,)","v":305724},{"$f":"IF(VLOOKUP($E98,liste!$A$31:$B$818,2,FALSE)=TRUE,#REF!,)","v":{"$error":"#REF!"}},{"$error":"#NAME?"},{"$f":"INDEX('Cenovnik 2'!$G$2:$G$411,MATCH('Plan unos i pregled'!$E98,Pozicije,0))","v":"nebitno"}]
["2025.","АПРИЛ","Улице","Горње Власе - Милоша Обилића","8.29",{"$f":"IF($E99=0, \" \", VLOOKUP($E99, 'Cenovnik 2'!$A$2:$D$411, 2, FALSE))","v":"Набавка дробљеног кречњачког каменог агрегата фракције 0-31,5 mm "},{"$f":"IF($E99=0, \" \", VLOOKUP($E99, 'Cenovnik 2'!$A$2:$D$411, 3, FALSE))","v":"t"},{"$f":"IF($E99=0, \" \", VLOOKUP($E99, 'Cenovnik 2'!$A$2:$D$411, 4, FALSE))","v":645},530,341850,"Ul","08","ДА",null,null,null,null,{"$error":"#NAME?"},829,"829",{"$f":"IF(VLOOKUP($E99,[0]!ProveraPDV,2,FALSE)=TRUE,$J99,)","v":341850},{"$f":"IF(VLOOKUP($E99,liste!$A$31:$B$818,2,FALSE)=TRUE,#REF!,)","v":{"$error":"#REF!"}},{"$error":"#NAME?"},{"$f":"INDEX('Cenovnik 2'!$G$2:$G$411,MATCH('Plan unos i pregled'!$E99,Pozicije,0))","v":"nebitno"}]
["2025.","АПРИЛ","Улице","Горње Власе - Милоша Обилића","9.1.7",{"$f":"IF($E100=0, \" \", VLOOKUP($E100, 'Cenovnik 2'!$A$2:$D$411, 2, FALSE))","v":"Камион носивости од 8 - 25 тона 30-40 km"},{"$f":"IF($E100=0, \" \", VLOOKUP($E100, 'Cenovnik 2'!$A$2:$D$411, 3, FALSE))","v":"t"},{"$f":"IF($E100=0, \" \", VLOOKUP($E100, 'Cenovnik 2'!$A$2:$D$411, 4, FALSE))","v":719.21},530,381181.30000000005,"Ul","09","ДА",null,null,null,null,{"$error":"#NAME?"},917,"917",{"$f":"IF(VLOOKUP($E100,[0]!ProveraPDV,2,FALSE)=TRUE,$J100,)","v":{"$error":"#N/A"}},{"$f":"IF(VLOOKUP($E100,liste!$A$31:$B$818,2,FALSE)=TRUE,#REF!,)","v":{"$error":"#N/A"}},{"$error":"#NAME?"},{"$f":"INDEX('Cenovnik 2'!$G$2:$G$411,MATCH('Plan unos i pregled'!$E100,Pozicije,0))","v":"nebitno"}]
["2025.","АПРИЛ","Улице","Гркиња - Некатегорисан пут","6.15.1",{"$f":"IF($E101=0, \" \", VLOOKUP($E101, 'Cenovnik 2'!$A$2:$D$411, 2, FALSE))","v":"Уградње цеви на подлози од бетона d = 10 cm МБ 20 Ø 300 mm"},{"$f":"IF($E101=0, \" \", VLOOKUP($E101, 'Cenovnik 2'!$A$2:$D$411, 3, FALSE))","v":"m"},{"$f":"IF($E101=0, \" \", VLOOKUP($E101, 'Cenovnik 2'!$A$2:$D$411, 4, FALSE))","v":1188.32},4,4753.28,"Ul","06","ДА","8304 KO Grkinja",null,null,null,{"$error":"#NAME?"},6151,"615",{"$f":"IF(VLOOKUP($E101,[0]!ProveraPDV,2,FALSE)=TRUE,$J101,)","v":{"$error":"#N/A"}},{"$f":"IF(VLOOKUP($E101,liste!$A$31:$B$818,2,FALSE)=TRUE,#REF!,)","v":{"$error":"#N/A"}},{"$error":"#NAME?"},{"$f":"INDEX('Cenovnik 2'!$G$2:$G$411,MATCH('Plan unos i pregled'!$E101,Pozicije,0))","v":"nebitno"}]
["2025.","АПРИЛ","Општински путеви","ОП 136-6 - Држ.пут II А  бр. 224 - Сопотница - Калетинац","6.2.2",{"$f":"IF($E102=0, \" \", VLOOKUP($E102, 'Cenovnik 2'!$A$2:$D$411, 2, FALSE))","v":"Ручно чишћење ригола и берми од наноса у слоју до d = 10 cm. Цена обухвата: чишћење риголе или берме са уклањањем материјала одбацивањем на страну или утоваром у колица и одвозом до 20 м. \n- Са одвозом материјала до 20 м"},{"$f":"IF($E102=0, \" \", VLOOKUP($E102, 'Cenovnik 2'!$A$2:$D$411, 3, FALSE))","v":"m"},{"$f":"IF($E102=0, \" \", VLOOKUP($E102, 'Cenovnik 2'!$A$2:$D$411, 4, FALSE))","v":138.63999999999999},2739,379734.95999999996,"OP","06","ДА",null,null,null,null,{"$error":"#NAME?"},622,"622",{"$f":"IF(VLOOKUP($E102,[0]!ProveraPDV,2,FALSE)=TRUE,$J102,)","v":{"$error":"#N/A"}},{"$f":"IF(VLOOKUP($E102,liste!$A$31:$B$818,2,FALSE)=TRUE,#REF!,)","v":{"$error":"#N/A"}},{"$error":"#NAME?"},{"$f":"INDEX('Cenovnik 2'!$G$2:$G$411,MATCH('Plan unos i pregled'!$E102,Pozicije,0))","v":"nebitno"}]
["2025.","МАЈ","Општински путеви","ОП 136-4 - Доњи Душник - Гаре","4.7",{"$f":"IF($E103=0, \" \", VLOOKUP($E103, 'Cenovnik 2'!$A$2:$D$411, 2, FALSE))","v":"Кошење траве са банкина самоходном моторном косачицом"},{"$f":"IF($E103=0, \" \", VLOOKUP($E103, 'Cenovnik 2'!$A$2:$D$411, 3, FALSE))","v":"m2"},{"$f":"IF($E103=0, \" \", VLOOKUP($E103, 'Cenovnik 2'!$A$2:$D$411, 4, FALSE))","v":3.99},10000,39900,{"$f":"IFERROR(INDEX(LokacijeRadovaLat,MATCH(C103,LokacijaRadova,0)),\"\")","v":"OP"},"04","ДА",null,null,null,null,{"$error":"#NAME?"},47,"47",{"$f":"IF(VLOOKUP($E103,[0]!ProveraPDV,2,FALSE)=TRUE,$J103,)","v":{"$error":"#N/A"}},{"$f":"IF(VLOOKUP($E103,liste!$A$31:$B$818,2,FALSE)=TRUE,#REF!,)","v":{"$error":"#N/A"}},{"$f":"R103&\"-\"&C103","v":{"$error":"#NAME?"}},{"$f":"INDEX('Cenovnik 2'!$G$2:$G$411,MATCH('Plan unos i pregled'!$E103,Pozicije,0))","v":"nebitno"}]
["2025.","МАЈ","Општински путеви","ОП 136-11 - Држ.пут II А  бр. 224 - Семче","4.7",{"$f":"IF($E104=0, \" \", VLOOKUP($E104, 'Cenovnik 2'!$A$2:$D$411, 2, FALSE))","v":"Кошење траве са банкина самоходном моторном косачицом"},{"$f":"IF($E104=0, \" \", VLOOKUP($E104, 'Cenovnik 2'!$A$2:$D$411, 3, FALSE))","v":"m2"},{"$f":"IF($E104=0, \" \", VLOOKUP($E104, 'Cenovnik 2'!$A$2:$D$411, 4, FALSE))","v":3.99},2700,10773,"OP","04","ДА",null,null,null,null,{"$error":"#NAME?"},47,"47",{"$f":"IF(VLOOKUP($E104,[0]!ProveraPDV,2,FALSE)=TRUE,$J104,)","v":{"$error":"#N/A"}},{"$f":"IF(VLOOKUP($E104,liste!$A$31:$B$818,2,FALSE)=TRUE,#REF!,)","v":{"$error":"#N/A"}},{"$error":"#NAME?"},{"$f":"INDEX('Cenovnik 2'!$G$2:$G$411,MATCH('Plan unos i pregled'!$E104,Pozicije,0))","v":"nebitno"}]
["2025.","МАЈ","Општински путеви","ОП 136-33 - Мали Вртоп - Велики Вртоп-Шебет","4.7",{"$f":"IF($E105=0, \" \", VLOOKUP($E105, 'Cenovnik 2'!$A$2:$D$411, 2, FALSE))","v":"Кошење траве са банкина самоходном моторном косачицом"},{"$f":"IF($E105=0, \" \", VLOOKUP($E105, 'Cenovnik 2'!$A$2:$D$411, 3, FALSE))","v":"m2"},{"$f":"IF($E105=0, \" \", VLOOKUP($E105, 'Cenovnik 2'!$A$2:$D$411, 4, FALSE))","v":3.99},7000,27930,"OP","04","ДА",null,null,null,null,{"$error":"#NAME?"},47,"47",{"$f":"IF(VLOOKUP($E105,[0]!ProveraPDV,2,FALSE)=TRUE,$J105,)","v":{"$error":"#N/A"}},{"$f":"IF(VLOOKUP($E105,liste!$A$31:$B$818,2,FALSE)=TRUE,#REF!,)","v":{"$error":"#N/A"}},{"$error":"#NAME?"},{"$f":"INDEX('Cenovnik 2'!$G$2:$G$411,MATCH('Plan unos i pregled'!$E105,Pozicije,0))","v":"nebitno"}]
["2025.","МАЈ","Општински путеви","ОП 136-34 - Мали Вртоп - Барје","4.7",{"$f":"IF($E106=0, \" \", VLOOKUP($E106, 'Cenovnik 2'!$A$2:$D$411, 2, FALSE))","v":"Кошење траве са банкина самоходном моторном косачицом"},{"$f":"IF($E106=0, \" \", VLOOKUP($E106, 'Cenovnik 2'!$A$2:$D$411, 3, FALSE))","v":"m2"},{"$f":"IF($E106=0, \" \", VLOOKUP($E106, 'Cenovnik 2'!$A$2:$D$411, 4, FALSE))","v":3.99},3000,11970,"OP","04","ДА",null,null,null,null,{"$error":"#NAME?"},47,"47",{"$f":"IF(VLOOKUP($E106,[0]!ProveraPDV,2,FALSE)=TRUE,$J106,)","v":{"$error":"#N/A"}},{"$f":"IF(VLOOKUP($E106,liste!$A$31:$B$818,2,FALSE)=TRUE,#REF!,)","v":{"$error":"#N/A"}},{"$error":"#NAME?"},{"$f":"INDEX('Cenovnik 2'!$G$2:$G$411,MATCH('Plan unos i pregled'!$E106,Pozicije,0))","v":"nebitno"}]
["2025.","МАЈ","Општински путеви","ОП 136-39 - Велики Крчимир - Штрбовац","4.7",{"$f":"IF($E107=0, \" \", VLOOKUP($E107, 'Cenovnik 2'!$A$2:$D$411, 2, FALSE))","v":"Кошење траве са банкина самоходном моторном косачицом"},{"$f":"IF($E107=0, \" \", VLOOKUP($E107, 'Cenovnik 2'!$A$2:$D$411, 3, FALSE))","v":"m2"},{"$f":"IF($E107=0, \" \", VLOOKUP($E107, 'Cenovnik 2'!$A$2:$D$411, 4, FALSE))","v":3.99},6200,24738,"OP","04","ДА",null,null,null,null,{"$error":"#NAME?"},47,"47",{"$f":"IF(VLOOKUP($E107,[0]!ProveraPDV,2,FALSE)=TRUE,$J107,)","v":{"$error":"#N/A"}},{"$f":"IF(VLOOKUP($E107,liste!$A$31:$B$818,2,FALSE)=TRUE,#REF!,)","v":{"$error":"#N/A"}},{"$error":"#NAME?"},{"$f":"INDEX('Cenovnik 2'!$G$2:$G$411,MATCH('Plan unos i pregled'!$E107,Pozicije,0))","v":"nebitno"}]
["2025.","МАЈ","Општински путеви","ОП 136-38 - Мали Крчимир - Велики Крчимир","4.7",{"$f":"IF($E108=0, \" \", VLOOKUP($E108, 'Cenovnik 2'!$A$2:$D$411, 2, FALSE))","v":"Кошење траве са банкина самоходном моторном косачицом"},{"$f":"IF($E108=0, \" \", VLOOKUP($E108, 'Cenovnik 2'!$A$2:$D$411, 3, FALSE))","v":"m2"},{"$f":"IF($E108=0, \" \", VLOOKUP($E108, 'Cenovnik 2'!$A$2:$D$411, 4, FALSE))","v":3.99},4000,15960,"OP","04","ДА",null,null,null,null,{"$error":"#NAME?"},47,"47",{"$f":"IF(VLOOKUP($E108,[0]!ProveraPDV,2,FALSE)=TRUE,$J108,)","v":{"$error":"#N/A"}},{"$f":"IF(VLOOKUP($E108,liste!$A$31:$B$818,2,FALSE)=TRUE,#REF!,)","v":{"$error":"#N/A"}},{"$error":"#NAME?"},{"$f":"INDEX('Cenovnik 2'!$G$2:$G$411,MATCH('Plan unos i pregled'!$E108,Pozicije,0))","v":"nebitno"}]
["2025.","МАЈ","Општински путеви","ОП 136-36 - Пут за Мали Крчимир","4.7",{"$f":"IF($E109=0, \" \", VLOOKUP($E109, 'Cenovnik 2'!$A$2:$D$411, 2, FALSE))","v":"Кошење траве са банкина самоходном моторном косачицом"},{"$f":"IF($E109=0, \" \", VLOOKUP($E109, 'Cenovnik 2'!$A$2:$D$411, 3, FALSE))","v":"m2"},{"$f":"IF($E109=0, \" \", VLOOKUP($E109, 'Cenovnik 2'!$A$2:$D$411, 4, FALSE))","v":3.99},1800,7182,"OP","04","ДА",null,null,null,null,{"$error":"#NAME?"},47,"47",{"$f":"IF(VLOOKUP($E109,[0]!ProveraPDV,2,FALSE)=TRUE,$J109,)","v":{"$error":"#N/A"}},{"$f":"IF(VLOOKUP($E109,liste!$A$31:$B$818,2,FALSE)=TRUE,#REF!,)","v":{"$error":"#N/A"}},{"$error":"#NAME?"},{"$f":"INDEX('Cenovnik 2'!$G$2:$G$411,MATCH('Plan unos i pregled'!$E109,Pozicije,0))","v":"nebitno"}]
["2025.","МАЈ","Општински путеви","ОП 136-27 - Барје - Горње Драговље","4.7",{"$f":"IF($E110=0, \" \", VLOOKUP($E110, 'Cenovnik 2'!$A$2:$D$411, 2, FALSE))","v":"Кошење траве са банкина самоходном моторном косачицом"},{"$f":"IF($E110=0, \" \", VLOOKUP($E110, 'Cenovnik 2'!$A$2:$D$411, 3, FALSE))","v":"m2"},{"$f":"IF($E110=0, \" \", VLOOKUP($E110, 'Cenovnik 2'!$A$2:$D$411, 4, FALSE))","v":3.99},null,0,"OP","04","НЕ",null,null,null,null,{"$error":"#NAME?"},47,"47",{"$f":"IF(VLOOKUP($E110,[0]!ProveraPDV,2,FALSE)=TRUE,$J110,)","v":{"$error":"#N/A"}},{"$f":"IF(VLOOKUP($E110,liste!$A$31:$B$818,2,FALSE)=TRUE,#REF!,)","v":{"$error":"#N/A"}},{"$error":"#NAME?"},{"$f":"INDEX('Cenovnik 2'!$G$2:$G$411,MATCH('Plan unos i pregled'!$E110,Pozicije,0))","v":"nebitno"}]
["2025.","МАЈ","Општински путеви","ОП 136-19 - Тасковићи - Гркиња","4.7",{"$f":"IF($E111=0, \" \", VLOOKUP($E111, 'Cenovnik 2'!$A$2:$D$411, 2, FALSE))","v":"Кошење траве са банкина самоходном моторном косачицом"},{"$f":"IF($E111=0, \" \", VLOOKUP($E111, 'Cenovnik 2'!$A$2:$D$411, 3, FALSE))","v":"m2"},{"$f":"IF($E111=0, \" \", VLOOKUP($E111, 'Cenovnik 2'!$A$2:$D$411, 4, FALSE))","v":3.99},10800,43092,"OP","04","ДА",null,null,null,null,{"$error":"#NAME?"},47,"47",{"$f":"IF(VLOOKUP($E111,[0]!ProveraPDV,2,FALSE)=TRUE,$J111,)","v":{"$error":"#N/A"}},{"$f":"IF(VLOOKUP($E111,liste!$A$31:$B$818,2,FALSE)=TRUE,#REF!,)","v":{"$error":"#N/A"}},{"$error":"#NAME?"},{"$f":"INDEX('Cenovnik 2'!$G$2:$G$411,MATCH('Plan unos i pregled'!$E111,Pozicije,0))","v":"nebitno"}]
["2025.","МАЈ","Општински путеви","ОП 136-14 - Држ.пут II А  бр. 224 - Сопотница","4.7",{"$f":"IF($E112=0, \" \", VLOOKUP($E112, 'Cenovnik 2'!$A$2:$D$411, 2, FALSE))","v":"Кошење траве са банкина самоходном моторном косачицом"},{"$f":"IF($E112=0, \" \", VLOOKUP($E112, 'Cenovnik 2'!$A$2:$D$411, 3, FALSE))","v":"m2"},{"$f":"IF($E112=0, \" \", VLOOKUP($E112, 'Cenovnik 2'!$A$2:$D$411, 4, FALSE))","v":3.99},4200,16758,"OP","04","ДА",null,null,null,null,{"$error":"#NAME?"},47,"47",{"$f":"IF(VLOOKUP($E112,[0]!ProveraPDV,2,FALSE)=TRUE,$J112,)","v":{"$error":"#N/A"}},{"$f":"IF(VLOOKUP($E112,liste!$A$31:$B$818,2,FALSE)=TRUE,#REF!,)","v":{"$error":"#N/A"}},{"$error":"#NAME?"},{"$f":"INDEX('Cenovnik 2'!$G$2:$G$411,MATCH('Plan unos i pregled'!$E112,Pozicije,0))","v":"nebitno"}]
["2025.","МАЈ","Општински путеви","ОП 136-6 - Држ.пут II А  бр. 224 - Сопотница - Калетинац","4.7",{"$f":"IF($E113=0, \" \", VLOOKUP($E113, 'Cenovnik 2'!$A$2:$D$411, 2, FALSE))","v":"Кошење траве са банкина самоходном моторном косачицом"},{"$f":"IF($E113=0, \" \", VLOOKUP($E113, 'Cenovnik 2'!$A$2:$D$411, 3, FALSE))","v":"m2"},{"$f":"IF($E113=0, \" \", VLOOKUP($E113, 'Cenovnik 2'!$A$2:$D$411, 4, FALSE))","v":3.99},16200,64638,"OP","04","ДА",null,null,null,null,{"$error":"#NAME?"},47,"47",{"$f":"IF(VLOOKUP($E113,[0]!ProveraPDV,2,FALSE)=TRUE,$J113,)","v":{"$error":"#N/A"}},{"$f":"IF(VLOOKUP($E113,liste!$A$31:$B$818,2,FALSE)=TRUE,#REF!,)","v":{"$error":"#N/A"}},{"$error":"#NAME?"},{"$f":"INDEX('Cenovnik 2'!$G$2:$G$411,MATCH('Plan unos i pregled'!$E113,Pozicije,0))","v":"nebitno"}]
["2025.","МАЈ","Општински путеви","ОП 136-40 - Топоница - Грданица","4.7",{"$f":"IF($E114=0, \" \", VLOOKUP($E114, 'Cenovnik 2'!$A$2:$D$411, 2, FALSE))","v":"Кошење траве са банкина самоходном моторном косачицом"},{"$f":"IF($E114=0, \" \", VLOOKUP($E114, 'Cenovnik 2'!$A$2:$D$411, 3, FALSE))","v":"m2"},{"$f":"IF($E114=0, \" \", VLOOKUP($E114, 'Cenovnik 2'!$A$2:$D$411, 4, FALSE))","v":3.99},4600,18354,"OP","04","ДА",null,null,null,null,{"$f":"IF($C114=0, \" \", VLOOKUP($C114, DrzavniPuteviRed, 2, FALSE))","v":{"$error":"#NAME?"}},47,"47",{"$f":"IF(VLOOKUP($E114,[0]!ProveraPDV,2,FALSE)=TRUE,$J114,)","v":{"$error":"#N/A"}},{"$f":"IF(VLOOKUP($E114,liste!$A$31:$B$818,2,FALSE)=TRUE,#REF!,)","v":{"$error":"#N/A"}},{"$error":"#NAME?"},{"$f":"INDEX('Cenovnik 2'!$G$2:$G$411,MATCH('Plan unos i pregled'!$E114,Pozicije,0))","v":"nebitno"}]
["2025.","МАЈ","Општински путеви","ОП 136-9 - Држ.пут II А  бр. 224 - Горње Драговље (Воденица)","4.7",{"$f":"IF($E115=0, \" \", VLOOKUP($E115, 'Cenovnik 2'!$A$2:$D$411, 2, FALSE))","v":"Кошење траве са банкина самоходном моторном косачицом"},{"$f":"IF($E115=0, \" \", VLOOKUP($E115, 'Cenovnik 2'!$A$2:$D$411, 3, FALSE))","v":"m2"},{"$f":"IF($E115=0, \" \", VLOOKUP($E115, 'Cenovnik 2'!$A$2:$D$411, 4, FALSE))","v":3.99},1160,4628.4000000000005,"OP","04","ДА",null,null,null,null,{"$error":"#NAME?"},47,"47",{"$f":"IF(VLOOKUP($E115,[0]!ProveraPDV,2,FALSE)=TRUE,$J115,)","v":{"$error":"#N/A"}},{"$f":"IF(VLOOKUP($E115,liste!$A$31:$B$818,2,FALSE)=TRUE,#REF!,)","v":{"$error":"#N/A"}},{"$error":"#NAME?"},{"$f":"INDEX('Cenovnik 2'!$G$2:$G$411,MATCH('Plan unos i pregled'!$E115,Pozicije,0))","v":"nebitno"}]
["2025.","МАЈ","Општински путеви","ОП 136-28 - Лички Ханови - Ступница","4.7",{"$f":"IF($E116=0, \" \", VLOOKUP($E116, 'Cenovnik 2'!$A$2:$D$411, 2, FALSE))","v":"Кошење траве са банкина самоходном моторном косачицом"},{"$f":"IF($E116=0, \" \", VLOOKUP($E116, 'Cenovnik 2'!$A$2:$D$411, 3, FALSE))","v":"m2"},{"$f":"IF($E116=0, \" \", VLOOKUP($E116, 'Cenovnik 2'!$A$2:$D$411, 4, FALSE))","v":3.99},1260,5027.4000000000005,"OP","04","ДА",null,null,null,null,{"$error":"#NAME?"},47,"47",{"$f":"IF(VLOOKUP($E116,[0]!ProveraPDV,2,FALSE)=TRUE,$J116,)","v":{"$error":"#N/A"}},{"$f":"IF(VLOOKUP($E116,liste!$A$31:$B$818,2,FALSE)=TRUE,#REF!,)","v":{"$error":"#N/A"}},{"$error":"#NAME?"},{"$f":"INDEX('Cenovnik 2'!$G$2:$G$411,MATCH('Plan unos i pregled'!$E116,Pozicije,0))","v":"nebitno"}]
["2025.","МАЈ","Општински путеви","ОП 136-4 - Доњи Душник - Гаре","4.22",{"$f":"IF($E117=0, \" \", VLOOKUP($E117, 'Cenovnik 2'!$A$2:$D$411, 2, FALSE))","v":"Сечење густог шибља преко 50 ком на m²"},{"$f":"IF($E117=0, \" \", VLOOKUP($E117, 'Cenovnik 2'!$A$2:$D$411, 3, FALSE))","v":"m2"},{"$f":"IF($E117=0, \" \", VLOOKUP($E117, 'Cenovnik 2'!$A$2:$D$411, 4, FALSE))","v":60},2040,122400,"OP","04","ДА",null,null,null,null,{"$error":"#NAME?"},422,"422",{"$f":"IF(VLOOKUP($E117,[0]!ProveraPDV,2,FALSE)=TRUE,$J117,)","v":{"$error":"#N/A"}},{"$f":"IF(VLOOKUP($E117,liste!$A$31:$B$818,2,FALSE)=TRUE,#REF!,)","v":{"$error":"#N/A"}},{"$error":"#NAME?"},{"$f":"INDEX('Cenovnik 2'!$G$2:$G$411,MATCH('Plan unos i pregled'!$E117,Pozicije,0))","v":"nebitno"}]
["2025.","МАЈ","Општински путеви","ОП 136-11 - Држ.пут II А  бр. 224 - Семче","4.22",{"$f":"IF($E118=0, \" \", VLOOKUP($E118, 'Cenovnik 2'!$A$2:$D$411, 2, FALSE))","v":"Сечење густог шибља преко 50 ком на m²"},{"$f":"IF($E118=0, \" \", VLOOKUP($E118, 'Cenovnik 2'!$A$2:$D$411, 3, FALSE))","v":"m2"},{"$f":"IF($E118=0, \" \", VLOOKUP($E118, 'Cenovnik 2'!$A$2:$D$411, 4, FALSE))","v":60},440,26400,"OP","04","ДА",null,null,null,null,{"$error":"#NAME?"},422,"422",{"$f":"IF(VLOOKUP($E118,[0]!ProveraPDV,2,FALSE)=TRUE,$J118,)","v":{"$error":"#N/A"}},{"$f":"IF(VLOOKUP($E118,liste!$A$31:$B$818,2,FALSE)=TRUE,#REF!,)","v":{"$error":"#N/A"}},{"$error":"#NAME?"},{"$f":"INDEX('Cenovnik 2'!$G$2:$G$411,MATCH('Plan unos i pregled'!$E118,Pozicije,0))","v":"nebitno"}]
["2025.","МАЈ","Општински путеви","ОП 136-33 - Мали Вртоп - Велики Вртоп-Шебет","4.22",{"$f":"IF($E119=0, \" \", VLOOKUP($E119, 'Cenovnik 2'!$A$2:$D$411, 2, FALSE))","v":"Сечење густог шибља преко 50 ком на m²"},{"$f":"IF($E119=0, \" \", VLOOKUP($E119, 'Cenovnik 2'!$A$2:$D$411, 3, FALSE))","v":"m2"},{"$f":"IF($E119=0, \" \", VLOOKUP($E119, 'Cenovnik 2'!$A$2:$D$411, 4, FALSE))","v":60},1400,84000,"OP","04","ДА",null,null,null,null,{"$error":"#NAME?"},422,"422",{"$f":"IF(VLOOKUP($E119,[0]!ProveraPDV,2,FALSE)=TRUE,$J119,)","v":{"$error":"#N/A"}},{"$f":"IF(VLOOKUP($E119,liste!$A$31:$B$818,2,FALSE)=TRUE,#REF!,)","v":{"$error":"#N/A"}},{"$error":"#NAME?"},{"$f":"INDEX('Cenovnik 2'!$G$2:$G$411,MATCH('Plan unos i pregled'!$E119,Pozicije,0))","v":"nebitno"}]
["2025.","МАЈ","Општински путеви","ОП 136-34 - Мали Вртоп - Барје","4.22",{"$f":"IF($E120=0, \" \", VLOOKUP($E120, 'Cenovnik 2'!$A$2:$D$411, 2, FALSE))","v":"Сечење густог шибља преко 50 ком на m²"},{"$f":"IF($E120=0, \" \", VLOOKUP($E120, 'Cenovnik 2'!$A$2:$D$411, 3, FALSE))","v":"m2"},{"$f":"IF($E120=0, \" \", VLOOKUP($E120, 'Cenovnik 2'!$A$2:$D$411, 4, FALSE))","v":60},600,36000,"OP","04","ДА",null,null,null,null,{"$error":"#NAME?"},422,"422",{"$f":"IF(VLOOKUP($E120,[0]!ProveraPDV,2,FALSE)=TRUE,$J120,)","v":{"$error":"#N/A"}},{"$f":"IF(VLOOKUP($E120,liste!$A$31:$B$818,2,FALSE)=TRUE,#REF!,)","v":{"$error":"#N/A"}},{"$error":"#NAME?"},{"$f":"INDEX('Cenovnik 2'!$G$2:$G$411,MATCH('Plan unos i pregled'!$E120,Pozicije,0))","v":"nebitno"},null,"plaćeno"]
["2025.","МАЈ","Општински путеви","ОП 136-39 - Велики Крчимир - Штрбовац","4.22",{"$f":"IF($E121=0, \" \", VLOOKUP($E121, 'Cenovnik 2'!$A$2:$D$411, 2, FALSE))","v":"Сечење густог шибља преко 50 ком на m²"},{"$f":"IF($E121=0, \" \", VLOOKUP($E121, 'Cenovnik 2'!$A$2:$D$411, 3, FALSE))","v":"m2"},{"$f":"IF($E121=0, \" \", VLOOKUP($E121, 'Cenovnik 2'!$A$2:$D$411, 4, FALSE))","v":60},1240,{"$f":"IF(ISNUMBER($H121), $H121*$I121, \"-\")","v":74400},"OP",{"$f":"TEXT(LEFT($E121,FIND(\".\",$E121&\".\")-1), \"00\")","v":"04"},"ДА",null,null,null,null,{"$error":"#NAME?"},{"$f":"IF($E121=0, \" \", VLOOKUP($E121, SifrePozicijaBezTacke, 2, FALSE))","v":422},{"$f":"LEFT($S121, 3)","v":"422"},{"$f":"IF(VLOOKUP($E121,[0]!ProveraPDV,2,FALSE)=TRUE,$J121,)","v":{"$error":"#N/A"}},{"$f":"IF(VLOOKUP($E121,liste!$A$31:$B$818,2,FALSE)=TRUE,#REF!,)","v":{"$error":"#N/A"}},{"$error":"#NAME?"},{"$f":"INDEX('Cenovnik 2'!$G$2:$G$411,MATCH('Plan unos i pregled'!$E121,Pozicije,0))","v":"nebitno"}]
["2025.","МАЈ","Општински путеви","ОП 136-38 - Мали Крчимир - Велики Крчимир","4.22",{"$f":"IF($E122=0, \" \", VLOOKUP($E122, 'Cenovnik 2'!$A$2:$D$411, 2, FALSE))","v":"Сечење густог шибља преко 50 ком на m²"},{"$f":"IF($E122=0, \" \", VLOOKUP($E122, 'Cenovnik 2'!$A$2:$D$411, 3, FALSE))","v":"m2"},{"$f":"IF($E122=0, \" \", VLOOKUP($E122, 'Cenovnik 2'!$A$2:$D$411, 4, FALSE))","v":60},800,48000,"OP","04","ДА",null,null,null,null,{"$error":"#NAME?"},422,"422",{"$f":"IF(VLOOKUP($E122,[0]!ProveraPDV,2,FALSE)=TRUE,$J122,)","v":{"$error":"#N/A"}},{"$f":"IF(VLOOKUP($E122,liste!$A$31:$B$818,2,FALSE)=TRUE,#REF!,)","v":{"$error":"#N/A"}},{"$error":"#NAME?"},{"$f":"INDEX('Cenovnik 2'!$G$2:$G$411,MATCH('Plan unos i pregled'!$E122,Pozicije,0))","v":"nebitno"}]
["2025.","МАЈ","Општински путеви","ОП 136-36 - Пут за Мали Крчимир","4.22",{"$f":"IF($E123=0, \" \", VLOOKUP($E123, 'Cenovnik 2'!$A$2:$D$411, 2, FALSE))","v":"Сечење густог шибља преко 50 ком на m²"},{"$f":"IF($E123=0, \" \", VLOOKUP($E123, 'Cenovnik 2'!$A$2:$D$411, 3, FALSE))","v":"m2"},{"$f":"IF($E123=0, \" \", VLOOKUP($E123, 'Cenovnik 2'!$A$2:$D$411, 4, FALSE))","v":60},360,21600,"OP","04","ДА",null,null,null,null,{"$error":"#NAME?"},422,"422",{"$f":"IF(VLOOKUP($E123,[0]!ProveraPDV,2,FALSE)=TRUE,$J123,)","v":{"$error":"#N/A"}},{"$f":"IF(VLOOKUP($E123,liste!$A$31:$B$818,2,FALSE)=TRUE,#REF!,)","v":{"$error":"#N/A"}},{"$error":"#NAME?"},{"$f":"INDEX('Cenovnik 2'!$G$2:$G$411,MATCH('Plan unos i pregled'!$E123,Pozicije,0))","v":"nebitno"}]
["2025.","МАЈ","Општински путеви","ОП 136-27 - Барје - Горње Драговље","4.22",{"$f":"IF($E124=0, \" \", VLOOKUP($E124, 'Cenovnik 2'!$A$2:$D$411, 2, FALSE))","v":"Сечење густог шибља преко 50 ком на m²"},{"$f":"IF($E124=0, \" \", VLOOKUP($E124, 'Cenovnik 2'!$A$2:$D$411, 3, FALSE))","v":"m2"},{"$f":"IF($E124=0, \" \", VLOOKUP($E124, 'Cenovnik 2'!$A$2:$D$411, 4, FALSE))","v":60},920,55200,"OP","04","ДА",null,null,null,null,{"$error":"#NAME?"},422,"422",{"$f":"IF(VLOOKUP($E124,[0]!ProveraPDV,2,FALSE)=TRUE,$J124,)","v":{"$error":"#N/A"}},{"$f":"IF(VLOOKUP($E124,liste!$A$31:$B$818,2,FALSE)=TRUE,#REF!,)","v":{"$error":"#N/A"}},{"$error":"#NAME?"},{"$f":"INDEX('Cenovnik 2'!$G$2:$G$411,MATCH('Plan unos i pregled'!$E124,Pozicije,0))","v":"nebitno"},null,"plaćeno"]
["2025.","МАЈ","Општински путеви","ОП 136-19 - Тасковићи - Гркиња","4.22",{"$f":"IF($E125=0, \" \", VLOOKUP($E125, 'Cenovnik 2'!$A$2:$D$411, 2, FALSE))","v":"Сечење густог шибља преко 50 ком на m²"},{"$f":"IF($E125=0, \" \", VLOOKUP($E125, 'Cenovnik 2'!$A$2:$D$411, 3, FALSE))","v":"m2"},{"$f":"IF($E125=0, \" \", VLOOKUP($E125, 'Cenovnik 2'!$A$2:$D$411, 4, FALSE))","v":60},2160,129600,"OP","04","ДА",null,null,null,null,{"$error":"#NAME?"},422,"422",{"$f":"IF(VLOOKUP($E125,[0]!ProveraPDV,2,FALSE)=TRUE,$J125,)","v":{"$error":"#N/A"}},{"$f":"IF(VLOOKUP($E125,liste!$A$31:$B$818,2,FALSE)=TRUE,#REF!,)","v":{"$error":"#N/A"}},{"$error":"#NAME?"},{"$f":"INDEX('Cenovnik 2'!$G$2:$G$411,MATCH('Plan unos i pregled'!$E125,Pozicije,0))","v":"nebitno"}]
["2025.","МАЈ","Општински путеви","ОП 136-14 - Држ.пут II А  бр. 224 - Сопотница","4.22",{"$f":"IF($E126=0, \" \", VLOOKUP($E126, 'Cenovnik 2'!$A$2:$D$411, 2, FALSE))","v":"Сечење густог шибља преко 50 ком на m²"},{"$f":"IF($E126=0, \" \", VLOOKUP($E126, 'Cenovnik 2'!$A$2:$D$411, 3, FALSE))","v":"m2"},{"$f":"IF($E126=0, \" \", VLOOKUP($E126, 'Cenovnik 2'!$A$2:$D$411, 4, FALSE))","v":60},840,50400,"OP","04","ДА",null,null,null,null,{"$error":"#NAME?"},422,"422",{"$f":"IF(VLOOKUP($E126,[0]!ProveraPDV,2,FALSE)=TRUE,$J126,)","v":{"$error":"#N/A"}},{"$f":"IF(VLOOKUP($E126,liste!$A$31:$B$818,2,FALSE)=TRUE,#REF!,)","v":{"$error":"#N/A"}},{"$error":"#NAME?"},{"$f":"INDEX('Cenovnik 2'!$G$2:$G$411,MATCH('Plan unos i pregled'!$E126,Pozicije,0))","v":"nebitno"},null,"plaćeno"]
["2025.","МАЈ","Општински путеви","ОП 136-6 - Држ.пут II А  бр. 224 - Сопотница - Калетинац","4.22",{"$f":"IF($E127=0, \" \", VLOOKUP($E127, 'Cenovnik 2'!$A$2:$D$411, 2, FALSE))","v":"Сечење густог шибља преко 50 ком на m²"},{"$f":"IF($E127=0, \" \", VLOOKUP($E127, 'Cenovnik 2'!$A$2:$D$411, 3, FALSE))","v":"m2"},{"$f":"IF($E127=0, \" \", VLOOKUP($E127, 'Cenovnik 2'!$A$2:$D$411, 4, FALSE))","v":60},3240,194400,"OP","04","ДА",null,null,null,null,{"$error":"#NAME?"},422,"422",{"$f":"IF(VLOOKUP($E127,[0]!ProveraPDV,2,FALSE)=TRUE,$J127,)","v":{"$error":"#N/A"}},{"$f":"IF(VLOOKUP($E127,liste!$A$31:$B$818,2,FALSE)=TRUE,#REF!,)","v":{"$error":"#N/A"}},{"$error":"#NAME?"},{"$f":"INDEX('Cenovnik 2'!$G$2:$G$411,MATCH('Plan unos i pregled'!$E127,Pozicije,0))","v":"nebitno"},null,"plaćeno"]
["2025.","МАЈ","Општински путеви","ОП 136-40 - Топоница - Грданица","4.22",{"$f":"IF($E128=0, \" \", VLOOKUP($E128, 'Cenovnik 2'!$A$2:$D$411, 2, FALSE))","v":"Сечење густог шибља преко 50 ком на m²"},{"$f":"IF($E128=0, \" \", VLOOKUP($E128, 'Cenovnik 2'!$A$2:$D$411, 3, FALSE))","v":"m2"},{"$f":"IF($E128=0, \" \", VLOOKUP($E128, 'Cenovnik 2'!$A$2:$D$411, 4, FALSE))","v":60},920,55200,"OP","04","ДА",null,null,null,null,{"$error":"#NAME?"},422,"422",{"$f":"IF(VLOOKUP($E128,[0]!ProveraPDV,2,FALSE)=TRUE,$J128,)","v":{"$error":"#N/A"}},{"$f":"IF(VLOOKUP($E128,liste!$A$31:$B$818,2,FALSE)=TRUE,#REF!,)","v":{"$error":"#N/A"}},{"$error":"#NAME?"},{"$f":"INDEX('Cenovnik 2'!$G$2:$G$411,MATCH('Plan unos i pregled'!$E128,Pozicije,0))","v":"nebitno"}]
["2025.","МАЈ","Општински путеви","ОП 136-40 - Топоница - Грданица","4.22",{"$f":"IF($E129=0, \" \", VLOOKUP($E129, 'Cenovnik 2'!$A$2:$D$411, 2, FALSE))","v":"Сечење густог шибља преко 50 ком на m²"},{"$f":"IF($E129=0, \" \", VLOOKUP($E129, 'Cenovnik 2'!$A$2:$D$411, 3, FALSE))","v":"m2"},{"$f":"IF($E129=0, \" \", VLOOKUP($E129, 'Cenovnik 2'!$A$2:$D$411, 4, FALSE))","v":60},920,55200,"OP","04","ДА",null,null,null,null,{"$error":"#NAME?"},422,"422",{"$f":"IF(VLOOKUP($E129,[0]!ProveraPDV,2,FALSE)=TRUE,$J129,)","v":{"$error":"#N/A"}},{"$f":"IF(VLOOKUP($E129,liste!$A$31:$B$818,2,FALSE)=TRUE,#REF!,)","v":{"$error":"#N/A"}},{"$error":"#NAME?"},{"$f":"INDEX('Cenovnik 2'!$G$2:$G$411,MATCH('Plan unos i pregled'!$E129,Pozicije,0))","v":"nebitno"}]
["2025.","МАЈ","Општински путеви","ОП 136-9 - Држ.пут II А  бр. 224 - Горње Драговље (Воденица)","4.22",{"$f":"IF($E130=0, \" \", VLOOKUP($E130, 'Cenovnik 2'!$A$2:$D$411, 2, FALSE))","v":"Сечење густог шибља преко 50 ком на m²"},{"$f":"IF($E130=0, \" \", VLOOKUP($E130, 'Cenovnik 2'!$A$2:$D$411, 3, FALSE))","v":"m2"},{"$f":"IF($E130=0, \" \", VLOOKUP($E130, 'Cenovnik 2'!$A$2:$D$411, 4, FALSE))","v":60},1160,69600,"OP","04","ДА",null,null,null,null,{"$error":"#NAME?"},422,"422",{"$f":"IF(VLOOKUP($E130,[0]!ProveraPDV,2,FALSE)=TRUE,$J130,)","v":{"$error":"#N/A"}},{"$f":"IF(VLOOKUP($E130,liste!$A$31:$B$818,2,FALSE)=TRUE,#REF!,)","v":{"$error":"#N/A"}},{"$error":"#NAME?"},{"$f":"INDEX('Cenovnik 2'!$G$2:$G$411,MATCH('Plan unos i pregled'!$E130,Pozicije,0))","v":"nebitno"}]
["2025.","МАЈ","Општински путеви","ОП 136-28 - Лички Ханови - Ступница","4.22",{"$f":"IF($E131=0, \" \", VLOOKUP($E131, 'Cenovnik 2'!$A$2:$D$411, 2, FALSE))","v":"Сечење густог шибља преко 50 ком на m²"},{"$f":"IF($E131=0, \" \", VLOOKUP($E131, 'Cenovnik 2'!$A$2:$D$411, 3, FALSE))","v":"m2"},{"$f":"IF($E131=0, \" \", VLOOKUP($E131, 'Cenovnik 2'!$A$2:$D$411, 4, FALSE))","v":60},1260,75600,"OP","04","ДА",null,null,null,null,{"$error":"#NAME?"},422,"422",{"$f":"IF(VLOOKUP($E131,[0]!ProveraPDV,2,FALSE)=TRUE,$J131,)","v":{"$error":"#N/A"}},{"$f":"IF(VLOOKUP($E131,liste!$A$31:$B$818,2,FALSE)=TRUE,#REF!,)","v":{"$error":"#N/A"}},{"$error":"#NAME?"},{"$f":"INDEX('Cenovnik 2'!$G$2:$G$411,MATCH('Plan unos i pregled'!$E131,Pozicije,0))","v":"nebitno"}]
["2025.","МАЈ","Општински путеви","ОП 136-4 - Доњи Душник - Гаре","4.19.1",{"$f":"IF($E132=0, \" \", VLOOKUP($E132, 'Cenovnik 2'!$A$2:$D$411, 2, FALSE))","v":"Кресање грана са одлагањем на страну моторном тестером. Пречник грана од 0 - 10 cm"},{"$f":"IF($E132=0, \" \", VLOOKUP($E132, 'Cenovnik 2'!$A$2:$D$411, 3, FALSE))","v":"ком"},{"$f":"IF($E132=0, \" \", VLOOKUP($E132, 'Cenovnik 2'!$A$2:$D$411, 4, FALSE))","v":256.38},1400,358932,"OP","04","ДА",null,null,null,null,{"$error":"#NAME?"},4191,"419",{"$f":"IF(VLOOKUP($E132,[0]!ProveraPDV,2,FALSE)=TRUE,$J132,)","v":{"$error":"#N/A"}},{"$f":"IF(VLOOKUP($E132,liste!$A$31:$B$818,2,FALSE)=TRUE,#REF!,)","v":{"$error":"#N/A"}},{"$error":"#NAME?"},{"$f":"INDEX('Cenovnik 2'!$G$2:$G$411,MATCH('Plan unos i pregled'!$E132,Pozicije,0))","v":"nebitno"}]
["2025.","МАЈ","Општински путеви","ОП 136-11 - Држ.пут II А  бр. 224 - Семче","4.19.1",{"$f":"IF($E133=0, \" \", VLOOKUP($E133, 'Cenovnik 2'!$A$2:$D$411, 2, FALSE))","v":"Кресање грана са одлагањем на страну моторном тестером. Пречник грана од 0 - 10 cm"},{"$f":"IF($E133=0, \" \", VLOOKUP($E133, 'Cenovnik 2'!$A$2:$D$411, 3, FALSE))","v":"ком"},{"$f":"IF($E133=0, \" \", VLOOKUP($E133, 'Cenovnik 2'!$A$2:$D$411, 4, FALSE))","v":256.38},210,53839.799999999996,"OP","04","ДА",null,null,null,null,{"$error":"#NAME?"},4191,"419",{"$f":"IF(VLOOKUP($E133,[0]!ProveraPDV,2,FALSE)=TRUE,$J133,)","v":{"$error":"#N/A"}},{"$f":"IF(VLOOKUP($E133,liste!$A$31:$B$818,2,FALSE)=TRUE,#REF!,)","v":{"$error":"#N/A"}},{"$error":"#NAME?"},{"$f":"INDEX('Cenovnik 2'!$G$2:$G$411,MATCH('Plan unos i pregled'!$E133,Pozicije,0))","v":"nebitno"}]
["2025.","МАЈ","Општински путеви","ОП 136-33 - Мали Вртоп - Велики Вртоп-Шебет","4.19.1",{"$f":"IF($E134=0, \" \", VLOOKUP($E134, 'Cenovnik 2'!$A$2:$D$411, 2, FALSE))","v":"Кресање грана са одлагањем на страну моторном тестером. Пречник грана од 0 - 10 cm"},{"$f":"IF($E134=0, \" \", VLOOKUP($E134, 'Cenovnik 2'!$A$2:$D$411, 3, FALSE))","v":"ком"},{"$f":"IF($E134=0, \" \", VLOOKUP($E134, 'Cenovnik 2'!$A$2:$D$411, 4, FALSE))","v":256.38},840,215359.19999999998,"OP","04","ДА",null,null,null,null,{"$error":"#NAME?"},4191,"419",{"$f":"IF(VLOOKUP($E134,[0]!ProveraPDV,2,FALSE)=TRUE,$J134,)","v":{"$error":"#N/A"}},{"$f":"IF(VLOOKUP($E134,liste!$A$31:$B$818,2,FALSE)=TRUE,#REF!,)","v":{"$error":"#N/A"}},{"$error":"#NAME?"},{"$f":"INDEX('Cenovnik 2'!$G$2:$G$411,MATCH('Plan unos i pregled'!$E134,Pozicije,0))","v":"nebitno"}]
["2025.","МАЈ","Општински путеви","ОП 136-34 - Мали Вртоп - Барје","4.19.1",{"$f":"IF($E135=0, \" \", VLOOKUP($E135, 'Cenovnik 2'!$A$2:$D$411, 2, FALSE))","v":"Кресање грана са одлагањем на страну моторном тестером. Пречник грана од 0 - 10 cm"},{"$f":"IF($E135=0, \" \", VLOOKUP($E135, 'Cenovnik 2'!$A$2:$D$411, 3, FALSE))","v":"ком"},{"$f":"IF($E135=0, \" \", VLOOKUP($E135, 'Cenovnik 2'!$A$2:$D$411, 4, FALSE))","v":256.38},210,53839.799999999996,{"$f":"IFERROR(INDEX(LokacijeRadovaLat,MATCH(C135,LokacijaRadova,0)),\"\")","v":"OP"},"04","ДА",null,null,null,null,{"$error":"#NAME?"},4191,"419",{"$f":"IF(VLOOKUP($E135,[0]!ProveraPDV,2,FALSE)=TRUE,$J135,)","v":{"$error":"#N/A"}},{"$f":"IF(VLOOKUP($E135,liste!$A$31:$B$818,2,FALSE)=TRUE,#REF!,)","v":{"$error":"#N/A"}},{"$f":"R135&\"-\"&C135","v":{"$error":"#NAME?"}},{"$f":"INDEX('Cenovnik 2'!$G$2:$G$411,MATCH('Plan unos i pregled'!$E135,Pozicije,0))","v":"nebitno"}]
["2025.","МАЈ","Општински путеви","ОП 136-39 - Велики Крчимир - Штрбовац","4.19.1",{"$f":"IF($E136=0, \" \", VLOOKUP($E136, 'Cenovnik 2'!$A$2:$D$411, 2, FALSE))","v":"Кресање грана са одлагањем на страну моторном тестером. Пречник грана од 0 - 10 cm"},{"$f":"IF($E136=0, \" \", VLOOKUP($E136, 'Cenovnik 2'!$A$2:$D$411, 3, FALSE))","v":"ком"},{"$f":"IF($E136=0, \" \", VLOOKUP($E136, 'Cenovnik 2'!$A$2:$D$411, 4, FALSE))","v":256.38},2100,538398,"OP","04","ДА",null,null,null,null,{"$error":"#NAME?"},4191,"419",{"$f":"IF(VLOOKUP($E136,[0]!ProveraPDV,2,FALSE)=TRUE,$J136,)","v":{"$error":"#N/A"}},{"$f":"IF(VLOOKUP($E136,liste!$A$31:$B$818,2,FALSE)=TRUE,#REF!,)","v":{"$error":"#N/A"}},{"$error":"#NAME?"},{"$f":"INDEX('Cenovnik 2'!$G$2:$G$411,MATCH('Plan unos i pregled'!$E136,Pozicije,0))","v":"nebitno"}]
["2025.","МАЈ","Општински путеви","ОП 136-38 - Мали Крчимир - Велики Крчимир","4.19.1",{"$f":"IF($E137=0, \" \", VLOOKUP($E137, 'Cenovnik 2'!$A$2:$D$411, 2, FALSE))","v":"Кресање грана са одлагањем на страну моторном тестером. Пречник грана од 0 - 10 cm"},{"$f":"IF($E137=0, \" \", VLOOKUP($E137, 'Cenovnik 2'!$A$2:$D$411, 3, FALSE))","v":"ком"},{"$f":"IF($E137=0, \" \", VLOOKUP($E137, 'Cenovnik 2'!$A$2:$D$411, 4, FALSE))","v":256.38},560,143572.79999999999,"OP","04","ДА",null,null,null,null,{"$error":"#NAME?"},4191,"419",{"$f":"IF(VLOOKUP($E137,[0]!ProveraPDV,2,FALSE)=TRUE,$J137,)","v":{"$error":"#N/A"}},{"$f":"IF(VLOOKUP($E137,liste!$A$31:$B$818,2,FALSE)=TRUE,#REF!,)","v":{"$error":"#N/A"}},{"$error":"#NAME?"},{"$f":"INDEX('Cenovnik 2'!$G$2:$G$411,MATCH('Plan unos i pregled'!$E137,Pozicije,0))","v":"nebitno"}]
["2025.","МАЈ","Општински путеви","ОП 136-36 - Пут за Мали Крчимир","4.19.1",{"$f":"IF($E138=0, \" \", VLOOKUP($E138, 'Cenovnik 2'!$A$2:$D$411, 2, FALSE))","v":"Кресање грана са одлагањем на страну моторном тестером. Пречник грана од 0 - 10 cm"},{"$f":"IF($E138=0, \" \", VLOOKUP($E138, 'Cenovnik 2'!$A$2:$D$411, 3, FALSE))","v":"ком"},{"$f":"IF($E138=0, \" \", VLOOKUP($E138, 'Cenovnik 2'!$A$2:$D$411, 4, FALSE))","v":256.38},140,35893.199999999997,"OP","04","ДА",null,null,null,null,{"$error":"#NAME?"},4191,"419",{"$f":"IF(VLOOKUP($E138,[0]!ProveraPDV,2,FALSE)=TRUE,$J138,)","v":{"$error":"#N/A"}},{"$f":"IF(VLOOKUP($E138,liste!$A$31:$B$818,2,FALSE)=TRUE,#REF!,)","v":{"$error":"#N/A"}},{"$error":"#NAME?"},{"$f":"INDEX('Cenovnik 2'!$G$2:$G$411,MATCH('Plan unos i pregled'!$E138,Pozicije,0))","v":"nebitno"}]
["2025.","МАЈ","Општински путеви","ОП 136-27 - Барје - Горње Драговље","4.19.1",{"$f":"IF($E139=0, \" \", VLOOKUP($E139, 'Cenovnik 2'!$A$2:$D$411, 2, FALSE))","v":"Кресање грана са одлагањем на страну моторном тестером. Пречник грана од 0 - 10 cm"},{"$f":"IF($E139=0, \" \", VLOOKUP($E139, 'Cenovnik 2'!$A$2:$D$411, 3, FALSE))","v":"ком"},{"$f":"IF($E139=0, \" \", VLOOKUP($E139, 'Cenovnik 2'!$A$2:$D$411, 4, FALSE))","v":256.38},560,143572.79999999999,"OP","04","ДА",null,null,null,null,{"$error":"#NAME?"},4191,"419",{"$f":"IF(VLOOKUP($E139,[0]!ProveraPDV,2,FALSE)=TRUE,$J139,)","v":{"$error":"#N/A"}},{"$f":"IF(VLOOKUP($E139,liste!$A$31:$B$818,2,FALSE)=TRUE,#REF!,)","v":{"$error":"#N/A"}},{"$error":"#NAME?"},{"$f":"INDEX('Cenovnik 2'!$G$2:$G$411,MATCH('Plan unos i pregled'!$E139,Pozicije,0))","v":"nebitno"}]
["2025.","МАЈ","Општински путеви","ОП 136-19 - Тасковићи - Гркиња","4.19.1",{"$f":"IF($E140=0, \" \", VLOOKUP($E140, 'Cenovnik 2'!$A$2:$D$411, 2, FALSE))","v":"Кресање грана са одлагањем на страну моторном тестером. Пречник грана од 0 - 10 cm"},{"$f":"IF($E140=0, \" \", VLOOKUP($E140, 'Cenovnik 2'!$A$2:$D$411, 3, FALSE))","v":"ком"},{"$f":"IF($E140=0, \" \", VLOOKUP($E140, 'Cenovnik 2'!$A$2:$D$411, 4, FALSE))","v":256.38},1750,448665,"OP","04","ДА",null,null,null,null,{"$error":"#NAME?"},4191,"419",{"$f":"IF(VLOOKUP($E140,[0]!ProveraPDV,2,FALSE)=TRUE,$J140,)","v":{"$error":"#N/A"}},{"$f":"IF(VLOOKUP($E140,liste!$A$31:$B$818,2,FALSE)=TRUE,#REF!,)","v":{"$error":"#N/A"}},{"$error":"#NAME?"},{"$f":"INDEX('Cenovnik 2'!$G$2:$G$411,MATCH('Plan unos i pregled'!$E140,Pozicije,0))","v":"nebitno"}]
["2025.","МАЈ","Општински путеви","ОП 136-14 - Држ.пут II А  бр. 224 - Сопотница","4.19.1",{"$f":"IF($E141=0, \" \", VLOOKUP($E141, 'Cenovnik 2'!$A$2:$D$411, 2, FALSE))","v":"Кресање грана са одлагањем на страну моторном тестером. Пречник грана од 0 - 10 cm"},{"$f":"IF($E141=0, \" \", VLOOKUP($E141, 'Cenovnik 2'!$A$2:$D$411, 3, FALSE))","v":"ком"},{"$f":"IF($E141=0, \" \", VLOOKUP($E141, 'Cenovnik 2'!$A$2:$D$411, 4, FALSE))","v":256.38},350,89733,"OP","04","ДА",null,null,null,null,{"$error":"#NAME?"},4191,"419",{"$f":"IF(VLOOKUP($E141,[0]!ProveraPDV,2,FALSE)=TRUE,$J141,)","v":{"$error":"#N/A"}},{"$f":"IF(VLOOKUP($E141,liste!$A$31:$B$818,2,FALSE)=TRUE,#REF!,)","v":{"$error":"#N/A"}},{"$error":"#NAME?"},{"$f":"INDEX('Cenovnik 2'!$G$2:$G$411,MATCH('Plan unos i pregled'!$E141,Pozicije,0))","v":"nebitno"}]
["2025.","МАЈ","Општински путеви","ОП 136-6 - Држ.пут II А  бр. 224 - Сопотница - Калетинац","4.19.1",{"$f":"IF($E142=0, \" \", VLOOKUP($E142, 'Cenovnik 2'!$A$2:$D$411, 2, FALSE))","v":"Кресање грана са одлагањем на страну моторном тестером. Пречник грана од 0 - 10 cm"},{"$f":"IF($E142=0, \" \", VLOOKUP($E142, 'Cenovnik 2'!$A$2:$D$411, 3, FALSE))","v":"ком"},{"$f":"IF($E142=0, \" \", VLOOKUP($E142, 'Cenovnik 2'!$A$2:$D$411, 4, FALSE))","v":256.38},2800,717864,"OP","04","ДА",null,null,null,null,{"$error":"#NAME?"},4191,"419",{"$f":"IF(VLOOKUP($E142,[0]!ProveraPDV,2,FALSE)=TRUE,$J142,)","v":{"$error":"#N/A"}},{"$f":"IF(VLOOKUP($E142,liste!$A$31:$B$818,2,FALSE)=TRUE,#REF!,)","v":{"$error":"#N/A"}},{"$error":"#NAME?"},{"$f":"INDEX('Cenovnik 2'!$G$2:$G$411,MATCH('Plan unos i pregled'!$E142,Pozicije,0))","v":"nebitno"}]
["2025.","МАЈ","Општински путеви","ОП 136-40 - Топоница - Грданица","4.19.1",{"$f":"IF($E143=0, \" \", VLOOKUP($E143, 'Cenovnik 2'!$A$2:$D$411, 2, FALSE))","v":"Кресање грана са одлагањем на страну моторном тестером. Пречник грана од 0 - 10 cm"},{"$f":"IF($E143=0, \" \", VLOOKUP($E143, 'Cenovnik 2'!$A$2:$D$411, 3, FALSE))","v":"ком"},{"$f":"IF($E143=0, \" \", VLOOKUP($E143, 'Cenovnik 2'!$A$2:$D$411, 4, FALSE))","v":256.38},700,179466,"OP","04","ДА",null,null,null,null,{"$error":"#NAME?"},4191,"419",{"$f":"IF(VLOOKUP($E143,[0]!ProveraPDV,2,FALSE)=TRUE,$J143,)","v":{"$error":"#N/A"}},{"$f":"IF(VLOOKUP($E143,liste!$A$31:$B$818,2,FALSE)=TRUE,#REF!,)","v":{"$error":"#N/A"}},{"$error":"#NAME?"},{"$f":"INDEX('Cenovnik 2'!$G$2:$G$411,MATCH('Plan unos i pregled'!$E143,Pozicije,0))","v":"nebitno"}]
["2025.","МАЈ","Општински путеви","ОП 136-9 - Држ.пут II А  бр. 224 - Горње Драговље (Воденица)","4.19.1",{"$f":"IF($E144=0, \" \", VLOOKUP($E144, 'Cenovnik 2'!$A$2:$D$411, 2, FALSE))","v":"Кресање грана са одлагањем на страну моторном тестером. Пречник грана од 0 - 10 cm"},{"$f":"IF($E144=0, \" \", VLOOKUP($E144, 'Cenovnik 2'!$A$2:$D$411, 3, FALSE))","v":"ком"},{"$f":"IF($E144=0, \" \", VLOOKUP($E144, 'Cenovnik 2'!$A$2:$D$411, 4, FALSE))","v":256.38},700,179466,"OP","04","ДА",null,null,null,null,{"$error":"#NAME?"},4191,"419",{"$f":"IF(VLOOKUP($E144,[0]!ProveraPDV,2,FALSE)=TRUE,$J144,)","v":{"$error":"#N/A"}},{"$f":"IF(VLOOKUP($E144,liste!$A$31:$B$818,2,FALSE)=TRUE,#REF!,)","v":{"$error":"#N/A"}},{"$error":"#NAME?"},{"$f":"INDEX('Cenovnik 2'!$G$2:$G$411,MATCH('Plan unos i pregled'!$E144,Pozicije,0))","v":"nebitno"}]
["2025.","МАЈ","Општински путеви","ОП 136-28 - Лички Ханови - Ступница","4.19.1",{"$f":"IF($E145=0, \" \", VLOOKUP($E145, 'Cenovnik 2'!$A$2:$D$411, 2, FALSE))","v":"Кресање грана са одлагањем на страну моторном тестером. Пречник грана од 0 - 10 cm"},{"$f":"IF($E145=0, \" \", VLOOKUP($E145, 'Cenovnik 2'!$A$2:$D$411, 3, FALSE))","v":"ком"},{"$f":"IF($E145=0, \" \", VLOOKUP($E145, 'Cenovnik 2'!$A$2:$D$411, 4, FALSE))","v":256.38},1400,358932,"OP","04","ДА",null,null,null,null,{"$error":"#NAME?"},4191,"419",{"$f":"IF(VLOOKUP($E145,[0]!ProveraPDV,2,FALSE)=TRUE,$J145,)","v":{"$error":"#N/A"}},{"$f":"IF(VLOOKUP($E145,liste!$A$31:$B$818,2,FALSE)=TRUE,#REF!,)","v":{"$error":"#N/A"}},{"$error":"#NAME?"},{"$f":"INDEX('Cenovnik 2'!$G$2:$G$411,MATCH('Plan unos i pregled'!$E145,Pozicije,0))","v":"nebitno"}]
["2025.","МАЈ","Фудбалски терени","Гаџин Хан-Фудбалски терен: П1-9100","11.30",{"$f":"IF($E146=0, \" \", VLOOKUP($E146, 'Cenovnik 2'!$A$2:$D$411, 2, FALSE))","v":"Моторна косачица за траву (спортски терени)"},{"$f":"IF($E146=0, \" \", VLOOKUP($E146, 'Cenovnik 2'!$A$2:$D$411, 3, FALSE))","v":"m2"},{"$f":"IF($E146=0, \" \", VLOOKUP($E146, 'Cenovnik 2'!$A$2:$D$411, 4, FALSE))","v":2.13},36400,77532,"FT","11","ДА","4 košenja",null,null,null,{"$error":"#NAME?"},1130,"113",{"$f":"IF(VLOOKUP($E146,[0]!ProveraPDV,2,FALSE)=TRUE,$J146,)","v":{"$error":"#N/A"}},{"$f":"IF(VLOOKUP($E146,liste!$A$31:$B$818,2,FALSE)=TRUE,#REF!,)","v":{"$error":"#N/A"}},{"$error":"#NAME?"},{"$f":"INDEX('Cenovnik 2'!$G$2:$G$411,MATCH('Plan unos i pregled'!$E146,Pozicije,0))","v":"nebitno"}]
["2025.","МАЈ","Фудбалски терени","Тасковићи-Фудбалски терен: П1-6050","11.30",{"$f":"IF($E147=0, \" \", VLOOKUP($E147, 'Cenovnik 2'!$A$2:$D$411, 2, FALSE))","v":"Моторна косачица за траву (спортски терени)"},{"$f":"IF($E147=0, \" \", VLOOKUP($E147, 'Cenovnik 2'!$A$2:$D$411, 3, FALSE))","v":"m2"},{"$f":"IF($E147=0, \" \", VLOOKUP($E147, 'Cenovnik 2'!$A$2:$D$411, 4, FALSE))","v":2.13},22640,48223.199999999997,"FT","11","ДА","4 košenja",null,null,null,{"$error":"#NAME?"},1130,"113",{"$f":"IF(VLOOKUP($E147,[0]!ProveraPDV,2,FALSE)=TRUE,$J147,)","v":{"$error":"#N/A"}},{"$f":"IF(VLOOKUP($E147,liste!$A$31:$B$818,2,FALSE)=TRUE,#REF!,)","v":{"$error":"#N/A"}},{"$error":"#NAME?"},{"$f":"INDEX('Cenovnik 2'!$G$2:$G$411,MATCH('Plan unos i pregled'!$E147,Pozicije,0))","v":"nebitno"}]
["2025.","МАЈ","Фудбалски терени","Гркиња-Фудбалски Терен: П1-5460","11.30",{"$f":"IF($E148=0, \" \", VLOOKUP($E148, 'Cenovnik 2'!$A$2:$D$411, 2, FALSE))","v":"Моторна косачица за траву (спортски терени)"},{"$f":"IF($E148=0, \" \", VLOOKUP($E148, 'Cenovnik 2'!$A$2:$D$411, 3, FALSE))","v":"m2"},{"$f":"IF($E148=0, \" \", VLOOKUP($E148, 'Cenovnik 2'!$A$2:$D$411, 4, FALSE))","v":2.13},9740,20746.2,"FT","11","ДА","2 košenja",null,null,null,{"$error":"#NAME?"},1130,"113",{"$f":"IF(VLOOKUP($E148,[0]!ProveraPDV,2,FALSE)=TRUE,$J148,)","v":{"$error":"#N/A"}},{"$f":"IF(VLOOKUP($E148,liste!$A$31:$B$818,2,FALSE)=TRUE,#REF!,)","v":{"$error":"#N/A"}},{"$error":"#NAME?"},{"$f":"INDEX('Cenovnik 2'!$G$2:$G$411,MATCH('Plan unos i pregled'!$E148,Pozicije,0))","v":"nebitno"}]
["2025.","МАЈ","Фудбалски терени","Марина Кутина-Фудбалски терен: П1-5490","11.30",{"$f":"IF($E149=0, \" \", VLOOKUP($E149, 'Cenovnik 2'!$A$2:$D$411, 2, FALSE))","v":"Моторна косачица за траву (спортски терени)"},{"$f":"IF($E149=0, \" \", VLOOKUP($E149, 'Cenovnik 2'!$A$2:$D$411, 3, FALSE))","v":"m2"},{"$f":"IF($E149=0, \" \", VLOOKUP($E149, 'Cenovnik 2'!$A$2:$D$411, 4, FALSE))","v":2.13},10980,23387.399999999998,"FT","11","ДА","2 košenja",null,null,null,{"$error":"#NAME?"},1130,"113",{"$f":"IF(VLOOKUP($E149,[0]!ProveraPDV,2,FALSE)=TRUE,$J149,)","v":{"$error":"#N/A"}},{"$f":"IF(VLOOKUP($E149,liste!$A$31:$B$818,2,FALSE)=TRUE,#REF!,)","v":{"$error":"#N/A"}},{"$error":"#NAME?"},{"$f":"INDEX('Cenovnik 2'!$G$2:$G$411,MATCH('Plan unos i pregled'!$E149,Pozicije,0))","v":"nebitno"}]
["2025.","МАЈ","Фудбалски терени","Заплањска Топоница-Фудбалски Терен: П1-5600","11.30",{"$f":"IF($E150=0, \" \", VLOOKUP($E150, 'Cenovnik 2'!$A$2:$D$411, 2, FALSE))","v":"Моторна косачица за траву (спортски терени)"},{"$f":"IF($E150=0, \" \", VLOOKUP($E150, 'Cenovnik 2'!$A$2:$D$411, 3, FALSE))","v":"m2"},{"$f":"IF($E150=0, \" \", VLOOKUP($E150, 'Cenovnik 2'!$A$2:$D$411, 4, FALSE))","v":2.13},12100,25773,"FT","11","ДА","2 košenja",null,null,null,{"$error":"#NAME?"},1130,"113",{"$f":"IF(VLOOKUP($E150,[0]!ProveraPDV,2,FALSE)=TRUE,$J150,)","v":{"$error":"#N/A"}},{"$f":"IF(VLOOKUP($E150,liste!$A$31:$B$818,2,FALSE)=TRUE,#REF!,)","v":{"$error":"#N/A"}},{"$error":"#NAME?"},{"$f":"INDEX('Cenovnik 2'!$G$2:$G$411,MATCH('Plan unos i pregled'!$E150,Pozicije,0))","v":"nebitno"}]
["2025.","МАЈ","Фудбалски терени","Гаџин Хан-Фудбалски терен: П1-9100","4.11",{"$f":"IF($E151=0, \" \", VLOOKUP($E151, 'Cenovnik 2'!$A$2:$D$411, 2, FALSE))","v":"Обележавање фудбалског терена (по фактури добављача), ценом није обухваћен превоз и рад радника"},{"$f":"IF($E151=0, \" \", VLOOKUP($E151, 'Cenovnik 2'!$A$2:$D$411, 3, FALSE))","v":"m"},{"$f":"IF($E151=0, \" \", VLOOKUP($E151, 'Cenovnik 2'!$A$2:$D$411, 4, FALSE))","v":26.8},2520,67536,"FT","04","ДА","4 obeležavanja",null,null,null,{"$error":"#NAME?"},411,"411",{"$f":"IF(VLOOKUP($E151,[0]!ProveraPDV,2,FALSE)=TRUE,$J151,)","v":{"$error":"#N/A"}},{"$f":"IF(VLOOKUP($E151,liste!$A$31:$B$818,2,FALSE)=TRUE,#REF!,)","v":{"$error":"#N/A"}},{"$error":"#NAME?"},{"$f":"INDEX('Cenovnik 2'!$G$2:$G$411,MATCH('Plan unos i pregled'!$E151,Pozicije,0))","v":"nebitno"}]
["2025.","МАЈ","Фудбалски терени","Тасковићи-Фудбалски терен: П1-6050","4.11",{"$f":"IF($E152=0, \" \", VLOOKUP($E152, 'Cenovnik 2'!$A$2:$D$411, 2, FALSE))","v":"Обележавање фудбалског терена (по фактури добављача), ценом није обухваћен превоз и рад радника"},{"$f":"IF($E152=0, \" \", VLOOKUP($E152, 'Cenovnik 2'!$A$2:$D$411, 3, FALSE))","v":"m"},{"$f":"IF($E152=0, \" \", VLOOKUP($E152, 'Cenovnik 2'!$A$2:$D$411, 4, FALSE))","v":26.8},2700,72360,"FT","04","ДА","4 obeležavanja",null,null,null,{"$error":"#NAME?"},411,"411",{"$f":"IF(VLOOKUP($E152,[0]!ProveraPDV,2,FALSE)=TRUE,$J152,)","v":{"$error":"#N/A"}},{"$f":"IF(VLOOKUP($E152,liste!$A$31:$B$818,2,FALSE)=TRUE,#REF!,)","v":{"$error":"#N/A"}},{"$error":"#NAME?"},{"$f":"INDEX('Cenovnik 2'!$G$2:$G$411,MATCH('Plan unos i pregled'!$E152,Pozicije,0))","v":"nebitno"},null,"plaćeno"]
["2025.","МАЈ","Фудбалски терени","Гркиња-Фудбалски Терен: П1-5460","4.11",{"$f":"IF($E153=0, \" \", VLOOKUP($E153, 'Cenovnik 2'!$A$2:$D$411, 2, FALSE))","v":"Обележавање фудбалског терена (по фактури добављача), ценом није обухваћен превоз и рад радника"},{"$f":"IF($E153=0, \" \", VLOOKUP($E153, 'Cenovnik 2'!$A$2:$D$411, 3, FALSE))","v":"m"},{"$f":"IF($E153=0, \" \", VLOOKUP($E153, 'Cenovnik 2'!$A$2:$D$411, 4, FALSE))","v":26.8},1100,29480,"FT","04","ДА","2 obeležavanja",null,null,null,{"$error":"#NAME?"},411,"411",{"$f":"IF(VLOOKUP($E153,[0]!ProveraPDV,2,FALSE)=TRUE,$J153,)","v":{"$error":"#N/A"}},{"$f":"IF(VLOOKUP($E153,liste!$A$31:$B$818,2,FALSE)=TRUE,#REF!,)","v":{"$error":"#N/A"}},{"$error":"#NAME?"},{"$f":"INDEX('Cenovnik 2'!$G$2:$G$411,MATCH('Plan unos i pregled'!$E153,Pozicije,0))","v":"nebitno"}]
["2025.","МАЈ","Фудбалски терени","Марина Кутина-Фудбалски терен: П1-5490","4.11",{"$f":"IF($E154=0, \" \", VLOOKUP($E154, 'Cenovnik 2'!$A$2:$D$411, 2, FALSE))","v":"Обележавање фудбалског терена (по фактури добављача), ценом није обухваћен превоз и рад радника"},{"$f":"IF($E154=0, \" \", VLOOKUP($E154, 'Cenovnik 2'!$A$2:$D$411, 3, FALSE))","v":"m"},{"$f":"IF($E154=0, \" \", VLOOKUP($E154, 'Cenovnik 2'!$A$2:$D$411, 4, FALSE))","v":26.8},1150,30820,"FT","04","ДА","2 obeležavanja",null,null,null,{"$error":"#NAME?"},411,"411",{"$f":"IF(VLOOKUP($E154,[0]!ProveraPDV,2,FALSE)=TRUE,$J154,)","v":{"$error":"#N/A"}},{"$f":"IF(VLOOKUP($E154,liste!$A$31:$B$818,2,FALSE)=TRUE,#REF!,)","v":{"$error":"#N/A"}},{"$error":"#NAME?"},{"$f":"INDEX('Cenovnik 2'!$G$2:$G$411,MATCH('Plan unos i pregled'!$E154,Pozicije,0))","v":"nebitno"}]
["2025.","МАЈ","Фудбалски терени","Заплањска Топоница-Фудбалски Терен: П1-5600","4.11",{"$f":"IF($E155=0, \" \", VLOOKUP($E155, 'Cenovnik 2'!$A$2:$D$411, 2, FALSE))","v":"Обележавање фудбалског терена (по фактури добављача), ценом није обухваћен превоз и рад радника"},{"$f":"IF($E155=0, \" \", VLOOKUP($E155, 'Cenovnik 2'!$A$2:$D$411, 3, FALSE))","v":"m"},{"$f":"IF($E155=0, \" \", VLOOKUP($E155, 'Cenovnik 2'!$A$2:$D$411, 4, FALSE))","v":26.8},1208,32374.400000000001,"FT","04","ДА","2 obeležavanja",null,null,null,{"$error":"#NAME?"},411,"411",{"$f":"IF(VLOOKUP($E155,[0]!ProveraPDV,2,FALSE)=TRUE,$J155,)","v":{"$error":"#N/A"}},{"$f":"IF(VLOOKUP($E155,liste!$A$31:$B$818,2,FALSE)=TRUE,#REF!,)","v":{"$error":"#N/A"}},{"$error":"#NAME?"},{"$f":"INDEX('Cenovnik 2'!$G$2:$G$411,MATCH('Plan unos i pregled'!$E155,Pozicije,0))","v":"nebitno"}]
["2025.","МАЈ","Фудбалски терени","Гаџин Хан-Фудбалски терен: П1-9100","4.12",{"$f":"IF($E156=0, \" \", VLOOKUP($E156, 'Cenovnik 2'!$A$2:$D$411, 2, FALSE))","v":"Поливање травњака (ценом није обухваћен рад радника)"},{"$f":"IF($E156=0, \" \", VLOOKUP($E156, 'Cenovnik 2'!$A$2:$D$411, 3, FALSE))","v":"m2"},{"$f":"IF($E156=0, \" \", VLOOKUP($E156, 'Cenovnik 2'!$A$2:$D$411, 4, FALSE))","v":3.1},111000,344100,"FT","04","ДА","15 dana",null,null,null,{"$error":"#NAME?"},412,"412",{"$f":"IF(VLOOKUP($E156,[0]!ProveraPDV,2,FALSE)=TRUE,$J156,)","v":{"$error":"#N/A"}},{"$f":"IF(VLOOKUP($E156,liste!$A$31:$B$818,2,FALSE)=TRUE,#REF!,)","v":{"$error":"#N/A"}},{"$error":"#NAME?"},{"$f":"INDEX('Cenovnik 2'!$G$2:$G$411,MATCH('Plan unos i pregled'!$E156,Pozicije,0))","v":"nebitno"}]
["2025.","МАЈ","Фудбалски терени","Гаџин Хан-Фудбалски терен: П1-9100","11.5",{"$f":"IF($E157=0, \" \", VLOOKUP($E157, 'Cenovnik 2'!$A$2:$D$411, 2, FALSE))","v":"Ваљак од 2 t"},{"$f":"IF($E157=0, \" \", VLOOKUP($E157, 'Cenovnik 2'!$A$2:$D$411, 3, FALSE))","v":"час"},{"$f":"IF($E157=0, \" \", VLOOKUP($E157, 'Cenovnik 2'!$A$2:$D$411, 4, FALSE))","v":2875},12,34500,"FT","11","ДА","2 valjanja",null,null,null,{"$error":"#NAME?"},115,"115",{"$f":"IF(VLOOKUP($E157,[0]!ProveraPDV,2,FALSE)=TRUE,$J157,)","v":{"$error":"#N/A"}},{"$f":"IF(VLOOKUP($E157,liste!$A$31:$B$818,2,FALSE)=TRUE,#REF!,)","v":{"$error":"#N/A"}},{"$error":"#NAME?"},{"$f":"INDEX('Cenovnik 2'!$G$2:$G$411,MATCH('Plan unos i pregled'!$E157,Pozicije,0))","v":"nebitno"}]
["2025.","МАЈ","Фудбалски терени","Тасковићи-Фудбалски терен: П1-6050","11.5",{"$f":"IF($E158=0, \" \", VLOOKUP($E158, 'Cenovnik 2'!$A$2:$D$411, 2, FALSE))","v":"Ваљак од 2 t"},{"$f":"IF($E158=0, \" \", VLOOKUP($E158, 'Cenovnik 2'!$A$2:$D$411, 3, FALSE))","v":"час"},{"$f":"IF($E158=0, \" \", VLOOKUP($E158, 'Cenovnik 2'!$A$2:$D$411, 4, FALSE))","v":2875},6,17250,"FT","11","ДА","1 valjanje",null,null,null,{"$error":"#NAME?"},115,"115",{"$f":"IF(VLOOKUP($E158,[0]!ProveraPDV,2,FALSE)=TRUE,$J158,)","v":{"$error":"#N/A"}},{"$f":"IF(VLOOKUP($E158,liste!$A$31:$B$818,2,FALSE)=TRUE,#REF!,)","v":{"$error":"#N/A"}},{"$error":"#NAME?"},{"$f":"INDEX('Cenovnik 2'!$G$2:$G$411,MATCH('Plan unos i pregled'!$E158,Pozicije,0))","v":"nebitno"}]
["2025.","МАЈ","Фудбалски терени","Гркиња-Фудбалски Терен: П1-5460","11.5",{"$f":"IF($E159=0, \" \", VLOOKUP($E159, 'Cenovnik 2'!$A$2:$D$411, 2, FALSE))","v":"Ваљак од 2 t"},{"$f":"IF($E159=0, \" \", VLOOKUP($E159, 'Cenovnik 2'!$A$2:$D$411, 3, FALSE))","v":"час"},{"$f":"IF($E159=0, \" \", VLOOKUP($E159, 'Cenovnik 2'!$A$2:$D$411, 4, FALSE))","v":2875},6,17250,"FT","11","ДА","1 valjanje",null,null,null,{"$error":"#NAME?"},115,"115",{"$f":"IF(VLOOKUP($E159,[0]!ProveraPDV,2,FALSE)=TRUE,$J159,)","v":{"$error":"#N/A"}},{"$f":"IF(VLOOKUP($E159,liste!$A$31:$B$818,2,FALSE)=TRUE,#REF!,)","v":{"$error":"#N/A"}},{"$error":"#NAME?"},{"$f":"INDEX('Cenovnik 2'!$G$2:$G$411,MATCH('Plan unos i pregled'!$E159,Pozicije,0))","v":"nebitno"}]
["2025.","МАЈ","Фудбалски терени","Марина Кутина-Фудбалски терен: П1-5490","11.5",{"$f":"IF($E160=0, \" \", VLOOKUP($E160, 'Cenovnik 2'!$A$2:$D$411, 2, FALSE))","v":"Ваљак од 2 t"},{"$f":"IF($E160=0, \" \", VLOOKUP($E160, 'Cenovnik 2'!$A$2:$D$411, 3, FALSE))","v":"час"},{"$f":"IF($E160=0, \" \", VLOOKUP($E160, 'Cenovnik 2'!$A$2:$D$411, 4, FALSE))","v":2875},6,17250,"FT","11","ДА","1 valjanje",null,null,null,{"$error":"#NAME?"},115,"115",{"$f":"IF(VLOOKUP($E160,[0]!ProveraPDV,2,FALSE)=TRUE,$J160,)","v":{"$error":"#N/A"}},{"$f":"IF(VLOOKUP($E160,liste!$A$31:$B$818,2,FALSE)=TRUE,#REF!,)","v":{"$error":"#N/A"}},{"$error":"#NAME?"},{"$f":"INDEX('Cenovnik 2'!$G$2:$G$411,MATCH('Plan unos i pregled'!$E160,Pozicije,0))","v":"nebitno"}]
["2025.","МАЈ","Фудбалски терени","Заплањска Топоница-Фудбалски Терен: П1-5600","11.5",{"$f":"IF($E161=0, \" \", VLOOKUP($E161, 'Cenovnik 2'!$A$2:$D$411, 2, FALSE))","v":"Ваљак од 2 t"},{"$f":"IF($E161=0, \" \", VLOOKUP($E161, 'Cenovnik 2'!$A$2:$D$411, 3, FALSE))","v":"час"},{"$f":"IF($E161=0, \" \", VLOOKUP($E161, 'Cenovnik 2'!$A$2:$D$411, 4, FALSE))","v":2875},6,17250,"FT","11","ДА","1 valjanje",null,null,null,{"$error":"#NAME?"},115,"115",{"$f":"IF(VLOOKUP($E161,[0]!ProveraPDV,2,FALSE)=TRUE,$J161,)","v":{"$error":"#N/A"}},{"$f":"IF(VLOOKUP($E161,liste!$A$31:$B$818,2,FALSE)=TRUE,#REF!,)","v":{"$error":"#N/A"}},{"$error":"#NAME?"},{"$f":"INDEX('Cenovnik 2'!$G$2:$G$411,MATCH('Plan unos i pregled'!$E161,Pozicije,0))","v":"nebitno"}]
["2025.","МАЈ","Јавне зелене површине","Гаџин Хан-Кеј: П 3-3036","4.26",{"$f":"IF($E162=0, \" \", VLOOKUP($E162, 'Cenovnik 2'!$A$2:$D$411, 2, FALSE))","v":"Кошење траве на слободним површинама косачицом прикљученом на трактор"},{"$f":"IF($E162=0, \" \", VLOOKUP($E162, 'Cenovnik 2'!$A$2:$D$411, 3, FALSE))","v":"m2"},{"$f":"IF($E162=0, \" \", VLOOKUP($E162, 'Cenovnik 2'!$A$2:$D$411, 4, FALSE))","v":4.3499999999999996},2230,9700.5,"JZP","04","ДА",null,null,null,null,{"$error":"#NAME?"},426,"426",{"$f":"IF(VLOOKUP($E162,[0]!ProveraPDV,2,FALSE)=TRUE,$J162,)","v":{"$error":"#N/A"}},{"$f":"IF(VLOOKUP($E162,liste!$A$31:$B$818,2,FALSE)=TRUE,#REF!,)","v":{"$error":"#N/A"}},{"$error":"#NAME?"},{"$f":"INDEX('Cenovnik 2'!$G$2:$G$411,MATCH('Plan unos i pregled'!$E162,Pozicije,0))","v":"nebitno"}]
["2025.","МАЈ","Јавне зелене површине","Гаџин Хан-Кеј: П 2-4326","4.26",{"$f":"IF($E163=0, \" \", VLOOKUP($E163, 'Cenovnik 2'!$A$2:$D$411, 2, FALSE))","v":"Кошење траве на слободним површинама косачицом прикљученом на трактор"},{"$f":"IF($E163=0, \" \", VLOOKUP($E163, 'Cenovnik 2'!$A$2:$D$411, 3, FALSE))","v":"m2"},{"$f":"IF($E163=0, \" \", VLOOKUP($E163, 'Cenovnik 2'!$A$2:$D$411, 4, FALSE))","v":4.3499999999999996},2872,12493.199999999999,"JZP","04","ДА",null,null,null,null,{"$error":"#NAME?"},426,"426",{"$f":"IF(VLOOKUP($E163,[0]!ProveraPDV,2,FALSE)=TRUE,$J163,)","v":{"$error":"#N/A"}},{"$f":"IF(VLOOKUP($E163,liste!$A$31:$B$818,2,FALSE)=TRUE,#REF!,)","v":{"$error":"#N/A"}},{"$error":"#NAME?"},{"$f":"INDEX('Cenovnik 2'!$G$2:$G$411,MATCH('Plan unos i pregled'!$E163,Pozicije,0))","v":"nebitno"}]
["2025.","МАЈ","Јавне зелене површине","Гаџин Хан-Дом здравља: П 3-2091","4.26",{"$f":"IF($E164=0, \" \", VLOOKUP($E164, 'Cenovnik 2'!$A$2:$D$411, 2, FALSE))","v":"Кошење траве на слободним површинама косачицом прикљученом на трактор"},{"$f":"IF($E164=0, \" \", VLOOKUP($E164, 'Cenovnik 2'!$A$2:$D$411, 3, FALSE))","v":"m2"},{"$f":"IF($E164=0, \" \", VLOOKUP($E164, 'Cenovnik 2'!$A$2:$D$411, 4, FALSE))","v":4.3499999999999996},1901,8269.3499999999985,"JZP","04","ДА",null,null,null,null,{"$error":"#NAME?"},426,"426",{"$f":"IF(VLOOKUP($E164,[0]!ProveraPDV,2,FALSE)=TRUE,$J164,)","v":{"$error":"#N/A"}},{"$f":"IF(VLOOKUP($E164,liste!$A$31:$B$818,2,FALSE)=TRUE,#REF!,)","v":{"$error":"#N/A"}},{"$error":"#NAME?"},{"$f":"INDEX('Cenovnik 2'!$G$2:$G$411,MATCH('Plan unos i pregled'!$E164,Pozicije,0))","v":"nebitno"}]
["2025.","МАЈ","Јавне зелене површине","Горњи Душник-Црква: П 1-2466","4.26",{"$f":"IF($E165=0, \" \", VLOOKUP($E165, 'Cenovnik 2'!$A$2:$D$411, 2, FALSE))","v":"Кошење траве на слободним површинама косачицом прикљученом на трактор"},{"$f":"IF($E165=0, \" \", VLOOKUP($E165, 'Cenovnik 2'!$A$2:$D$411, 3, FALSE))","v":"m2"},{"$f":"IF($E165=0, \" \", VLOOKUP($E165, 'Cenovnik 2'!$A$2:$D$411, 4, FALSE))","v":4.3499999999999996},3699,16090.649999999998,"JZP","04","ДА",null,null,null,null,{"$error":"#NAME?"},426,"426",{"$f":"IF(VLOOKUP($E165,[0]!ProveraPDV,2,FALSE)=TRUE,$J165,)","v":{"$error":"#N/A"}},{"$f":"IF(VLOOKUP($E165,liste!$A$31:$B$818,2,FALSE)=TRUE,#REF!,)","v":{"$error":"#N/A"}},{"$error":"#NAME?"},{"$f":"INDEX('Cenovnik 2'!$G$2:$G$411,MATCH('Plan unos i pregled'!$E165,Pozicije,0))","v":"nebitno"}]
["2025.","МАЈ","Јавне зелене површине","Доњи Душник-Туристичка организација: П 6-974","4.6",{"$f":"IF($E166=0, \" \", VLOOKUP($E166, 'Cenovnik 2'!$A$2:$D$411, 2, FALSE))","v":"Кошење парковског травњака тримером"},{"$f":"IF($E166=0, \" \", VLOOKUP($E166, 'Cenovnik 2'!$A$2:$D$411, 3, FALSE))","v":"m2"},{"$f":"IF($E166=0, \" \", VLOOKUP($E166, 'Cenovnik 2'!$A$2:$D$411, 4, FALSE))","v":6.5},2345,15242.5,"JZP","04","ДА",null,null,null,null,{"$error":"#NAME?"},46,"46",{"$f":"IF(VLOOKUP($E166,[0]!ProveraPDV,2,FALSE)=TRUE,$J166,)","v":{"$error":"#N/A"}},{"$f":"IF(VLOOKUP($E166,liste!$A$31:$B$818,2,FALSE)=TRUE,#REF!,)","v":{"$error":"#N/A"}},{"$error":"#NAME?"},{"$f":"INDEX('Cenovnik 2'!$G$2:$G$411,MATCH('Plan unos i pregled'!$E166,Pozicije,0))","v":"nebitno"}]
["2025.","МАЈ","Јавне зелене површине","Сопотница-Задружни Дом: П1-668","4.6",{"$f":"IF($E167=0, \" \", VLOOKUP($E167, 'Cenovnik 2'!$A$2:$D$411, 2, FALSE))","v":"Кошење парковског травњака тримером"},{"$f":"IF($E167=0, \" \", VLOOKUP($E167, 'Cenovnik 2'!$A$2:$D$411, 3, FALSE))","v":"m2"},{"$f":"IF($E167=0, \" \", VLOOKUP($E167, 'Cenovnik 2'!$A$2:$D$411, 4, FALSE))","v":6.5},668,4342,{"$f":"IFERROR(INDEX(LokacijeRadovaLat,MATCH(C167,LokacijaRadova,0)),\"\")","v":"JZP"},"04","ДА","Nije definisana površina",null,null,null,{"$error":"#NAME?"},46,"46",{"$f":"IF(VLOOKUP($E167,[0]!ProveraPDV,2,FALSE)=TRUE,$J167,)","v":{"$error":"#N/A"}},{"$f":"IF(VLOOKUP($E167,liste!$A$31:$B$818,2,FALSE)=TRUE,#REF!,)","v":{"$error":"#N/A"}},{"$f":"R167&\"-\"&C167","v":{"$error":"#NAME?"}},{"$f":"INDEX('Cenovnik 2'!$G$2:$G$411,MATCH('Plan unos i pregled'!$E167,Pozicije,0))","v":"nebitno"}]
["2025.","МАЈ","Јавне зелене површине","Сопотница-Основна Школа: П1-2190","4.6",{"$f":"IF($E168=0, \" \", VLOOKUP($E168, 'Cenovnik 2'!$A$2:$D$411, 2, FALSE))","v":"Кошење парковског травњака тримером"},{"$f":"IF($E168=0, \" \", VLOOKUP($E168, 'Cenovnik 2'!$A$2:$D$411, 3, FALSE))","v":"m2"},{"$f":"IF($E168=0, \" \", VLOOKUP($E168, 'Cenovnik 2'!$A$2:$D$411, 4, FALSE))","v":6.5},2190,14235,"JZP","04","ДА","Nije definisana površina",null,null,null,{"$error":"#NAME?"},46,"46",{"$f":"IF(VLOOKUP($E168,[0]!ProveraPDV,2,FALSE)=TRUE,$J168,)","v":{"$error":"#N/A"}},{"$f":"IF(VLOOKUP($E168,liste!$A$31:$B$818,2,FALSE)=TRUE,#REF!,)","v":{"$error":"#N/A"}},{"$error":"#NAME?"},{"$f":"INDEX('Cenovnik 2'!$G$2:$G$411,MATCH('Plan unos i pregled'!$E168,Pozicije,0))","v":"nebitno"}]
["2025.","МАЈ","Јавне зелене површине","Горњи Душник-Основна школа: П 1-2320","4.6",{"$f":"IF($E169=0, \" \", VLOOKUP($E169, 'Cenovnik 2'!$A$2:$D$411, 2, FALSE))","v":"Кошење парковског травњака тримером"},{"$f":"IF($E169=0, \" \", VLOOKUP($E169, 'Cenovnik 2'!$A$2:$D$411, 3, FALSE))","v":"m2"},{"$f":"IF($E169=0, \" \", VLOOKUP($E169, 'Cenovnik 2'!$A$2:$D$411, 4, FALSE))","v":6.5},3880,25220,"JZP","04","ДА",null,null,null,null,{"$error":"#NAME?"},46,"46",{"$f":"IF(VLOOKUP($E169,[0]!ProveraPDV,2,FALSE)=TRUE,$J169,)","v":{"$error":"#N/A"}},{"$f":"IF(VLOOKUP($E169,liste!$A$31:$B$818,2,FALSE)=TRUE,#REF!,)","v":{"$error":"#N/A"}},{"$error":"#NAME?"},{"$f":"INDEX('Cenovnik 2'!$G$2:$G$411,MATCH('Plan unos i pregled'!$E169,Pozicije,0))","v":"nebitno"}]
["2025.","МАЈ","Јавне зелене површине","Доњи Душник -Задружни дом-Дом културе: П 1-1922","4.26",{"$f":"IF($E170=0, \" \", VLOOKUP($E170, 'Cenovnik 2'!$A$2:$D$411, 2, FALSE))","v":"Кошење траве на слободним површинама косачицом прикљученом на трактор"},{"$f":"IF($E170=0, \" \", VLOOKUP($E170, 'Cenovnik 2'!$A$2:$D$411, 3, FALSE))","v":"m2"},{"$f":"IF($E170=0, \" \", VLOOKUP($E170, 'Cenovnik 2'!$A$2:$D$411, 4, FALSE))","v":4.3499999999999996},3688,16042.8,"JZP","04","ДА",null,null,null,null,{"$error":"#NAME?"},426,"426",{"$f":"IF(VLOOKUP($E170,[0]!ProveraPDV,2,FALSE)=TRUE,$J170,)","v":{"$error":"#N/A"}},{"$f":"IF(VLOOKUP($E170,liste!$A$31:$B$818,2,FALSE)=TRUE,#REF!,)","v":{"$error":"#N/A"}},{"$error":"#NAME?"},{"$f":"INDEX('Cenovnik 2'!$G$2:$G$411,MATCH('Plan unos i pregled'!$E170,Pozicije,0))","v":"nebitno"}]
["2025.","МАЈ","Улице","Личје - Милоша Обилића","8.2",{"$f":"IF($E171=0, \" \", VLOOKUP($E171, 'Cenovnik 2'!$A$2:$D$411, 2, FALSE))","v":"Поправка неасвалтираног каменог застора брдском дробином из сипара или шљунком са спрудишта.\nЦена обухвата: машинско прикупљање материјала, риљање старог застора, разастирање, планирање дробљеног каменог агрегата и сабијање ваљком уз потребно квашење. Превоз материјала и менаизације се обрачунава посебно."},{"$f":"IF($E171=0, \" \", VLOOKUP($E171, 'Cenovnik 2'!$A$2:$D$411, 3, FALSE))","v":"m3"},{"$f":"IF($E171=0, \" \", VLOOKUP($E171, 'Cenovnik 2'!$A$2:$D$411, 4, FALSE))","v":2547.6999999999998},193.87,493922.59899999999,"Ul","08","ДА","Kp.br. 9827 KO Ličje",null,null,null,{"$error":"#NAME?"},82,"82",{"$f":"IF(VLOOKUP($E171,[0]!ProveraPDV,2,FALSE)=TRUE,$J171,)","v":493922.59899999999},{"$f":"IF(VLOOKUP($E171,liste!$A$31:$B$818,2,FALSE)=TRUE,#REF!,)","v":{"$error":"#REF!"}},{"$error":"#NAME?"},{"$f":"INDEX('Cenovnik 2'!$G$2:$G$411,MATCH('Plan unos i pregled'!$E171,Pozicije,0))","v":"nebitno"}]
["2025.","МАЈ","Улице","Личје - Милоша Обилића","8.29",{"$f":"IF($E172=0, \" \", VLOOKUP($E172, 'Cenovnik 2'!$A$2:$D$411, 2, FALSE))","v":"Набавка дробљеног кречњачког каменог агрегата фракције 0-31,5 mm "},{"$f":"IF($E172=0, \" \", VLOOKUP($E172, 'Cenovnik 2'!$A$2:$D$411, 3, FALSE))","v":"t"},{"$f":"IF($E172=0, \" \", VLOOKUP($E172, 'Cenovnik 2'!$A$2:$D$411, 4, FALSE))","v":645},290.82,187578.9,"Ul","08","ДА","Kp.br. 9827 KO Ličje",null,null,null,{"$error":"#NAME?"},829,"829",{"$f":"IF(VLOOKUP($E172,[0]!ProveraPDV,2,FALSE)=TRUE,$J172,)","v":187578.9},{"$f":"IF(VLOOKUP($E172,liste!$A$31:$B$818,2,FALSE)=TRUE,#REF!,)","v":{"$error":"#REF!"}},{"$error":"#NAME?"},{"$f":"INDEX('Cenovnik 2'!$G$2:$G$411,MATCH('Plan unos i pregled'!$E172,Pozicije,0))","v":"nebitno"}]
["2025.","МАЈ","Улице","Личје - Милоша Обилића","9.1.11",{"$f":"IF($E173=0, \" \", VLOOKUP($E173, 'Cenovnik 2'!$A$2:$D$411, 2, FALSE))","v":"Камион носивости од 8 - 25 тона 55-60 km"},{"$f":"IF($E173=0, \" \", VLOOKUP($E173, 'Cenovnik 2'!$A$2:$D$411, 3, FALSE))","v":"t"},{"$f":"IF($E173=0, \" \", VLOOKUP($E173, 'Cenovnik 2'!$A$2:$D$411, 4, FALSE))","v":1086.8499999999999},290.82,316077.71699999995,"Ul","09","ДА",null,null,null,null,{"$error":"#NAME?"},9111,"911",{"$f":"IF(VLOOKUP($E173,[0]!ProveraPDV,2,FALSE)=TRUE,$J173,)","v":{"$error":"#N/A"}},{"$f":"IF(VLOOKUP($E173,liste!$A$31:$B$818,2,FALSE)=TRUE,#REF!,)","v":{"$error":"#N/A"}},{"$error":"#NAME?"},{"$f":"INDEX('Cenovnik 2'!$G$2:$G$411,MATCH('Plan unos i pregled'!$E173,Pozicije,0))","v":"nebitno"}]
["2025.","МАЈ","Улице","Личје - 29. Новембар","8.2",{"$f":"IF($E174=0, \" \", VLOOKUP($E174, 'Cenovnik 2'!$A$2:$D$411, 2, FALSE))","v":"Поправка неасвалтираног каменог застора брдском дробином из сипара или шљунком са спрудишта.\nЦена обухвата: машинско прикупљање материјала, риљање старог застора, разастирање, планирање дробљеног каменог агрегата и сабијање ваљком уз потребно квашење. Превоз материјала и менаизације се обрачунава посебно."},{"$f":"IF($E174=0, \" \", VLOOKUP($E174, 'Cenovnik 2'!$A$2:$D$411, 3, FALSE))","v":"m3"},{"$f":"IF($E174=0, \" \", VLOOKUP($E174, 'Cenovnik 2'!$A$2:$D$411, 4, FALSE))","v":2547.6999999999998},193.87,493922.59899999999,"Ul","08","ДА","Kp.br. 9832 KO Ličje",null,null,null,{"$error":"#NAME?"},82,"82",{"$f":"IF(VLOOKUP($E174,[0]!ProveraPDV,2,FALSE)=TRUE,$J174,)","v":493922.59899999999},{"$f":"IF(VLOOKUP($E174,liste!$A$31:$B$818,2,FALSE)=TRUE,#REF!,)","v":{"$error":"#REF!"}},{"$error":"#NAME?"},{"$f":"INDEX('Cenovnik 2'!$G$2:$G$411,MATCH('Plan unos i pregled'!$E174,Pozicije,0))","v":"nebitno"}]
["2025.","МАЈ","Улице","Личје - 29. Новембар","8.29",{"$f":"IF($E175=0, \" \", VLOOKUP($E175, 'Cenovnik 2'!$A$2:$D$411, 2, FALSE))","v":"Набавка дробљеног кречњачког каменог агрегата фракције 0-31,5 mm "},{"$f":"IF($E175=0, \" \", VLOOKUP($E175, 'Cenovnik 2'!$A$2:$D$411, 3, FALSE))","v":"t"},{"$f":"IF($E175=0, \" \", VLOOKUP($E175, 'Cenovnik 2'!$A$2:$D$411, 4, FALSE))","v":645},290.82,187578.9,"Ul","08","ДА","Kp.br. 9832 KO Ličje",null,null,null,{"$error":"#NAME?"},829,"829",{"$f":"IF(VLOOKUP($E175,[0]!ProveraPDV,2,FALSE)=TRUE,$J175,)","v":187578.9},{"$f":"IF(VLOOKUP($E175,liste!$A$31:$B$818,2,FALSE)=TRUE,#REF!,)","v":{"$error":"#REF!"}},{"$error":"#NAME?"},{"$f":"INDEX('Cenovnik 2'!$G$2:$G$411,MATCH('Plan unos i pregled'!$E175,Pozicije,0))","v":"nebitno"}]
["2025.","МАЈ","Улице","Личје - 29. Новембар","9.1.11",{"$f":"IF($E176=0, \" \", VLOOKUP($E176, 'Cenovnik 2'!$A$2:$D$411, 2, FALSE))","v":"Камион носивости од 8 - 25 тона 55-60 km"},{"$f":"IF($E176=0, \" \", VLOOKUP($E176, 'Cenovnik 2'!$A$2:$D$411, 3, FALSE))","v":"t"},{"$f":"IF($E176=0, \" \", VLOOKUP($E176, 'Cenovnik 2'!$A$2:$D$411, 4, FALSE))","v":1086.8499999999999},290.82,316077.71699999995,"Ul","09","ДА",null,null,null,null,{"$error":"#NAME?"},9111,"911",{"$f":"IF(VLOOKUP($E176,[0]!ProveraPDV,2,FALSE)=TRUE,$J176,)","v":{"$error":"#N/A"}},{"$f":"IF(VLOOKUP($E176,liste!$A$31:$B$818,2,FALSE)=TRUE,#REF!,)","v":{"$error":"#N/A"}},{"$error":"#NAME?"},{"$f":"INDEX('Cenovnik 2'!$G$2:$G$411,MATCH('Plan unos i pregled'!$E176,Pozicije,0))","v":"nebitno"}]
["2025.","МАЈ","Улице","Горње Власе - Некатегорисан пут","8.2",{"$f":"IF($E177=0, \" \", VLOOKUP($E177, 'Cenovnik 2'!$A$2:$D$411, 2, FALSE))","v":"Поправка неасвалтираног каменог застора брдском дробином из сипара или шљунком са спрудишта.\nЦена обухвата: машинско прикупљање материјала, риљање старог застора, разастирање, планирање дробљеног каменог агрегата и сабијање ваљком уз потребно квашење. Превоз материјала и менаизације се обрачунава посебно."},{"$f":"IF($E177=0, \" \", VLOOKUP($E177, 'Cenovnik 2'!$A$2:$D$411, 3, FALSE))","v":"m3"},{"$f":"IF($E177=0, \" \", VLOOKUP($E177, 'Cenovnik 2'!$A$2:$D$411, 4, FALSE))","v":2547.6999999999998},276.79000000000002,705177.88300000003,"Ul","08","НЕ","Kp.br. 537 KO Gornje Vlase privatna parcela",null,null,null,{"$error":"#NAME?"},82,"82",{"$f":"IF(VLOOKUP($E177,[0]!ProveraPDV,2,FALSE)=TRUE,$J177,)","v":705177.88300000003},{"$f":"IF(VLOOKUP($E177,liste!$A$31:$B$818,2,FALSE)=TRUE,#REF!,)","v":{"$error":"#REF!"}},{"$error":"#NAME?"},{"$f":"INDEX('Cenovnik 2'!$G$2:$G$411,MATCH('Plan unos i pregled'!$E177,Pozicije,0))","v":"nebitno"}]
["2025.","МАЈ","Улице","Горње Власе - Некатегорисан пут","8.29",{"$f":"IF($E178=0, \" \", VLOOKUP($E178, 'Cenovnik 2'!$A$2:$D$411, 2, FALSE))","v":"Набавка дробљеног кречњачког каменог агрегата фракције 0-31,5 mm "},{"$f":"IF($E178=0, \" \", VLOOKUP($E178, 'Cenovnik 2'!$A$2:$D$411, 3, FALSE))","v":"t"},{"$f":"IF($E178=0, \" \", VLOOKUP($E178, 'Cenovnik 2'!$A$2:$D$411, 4, FALSE))","v":645},416,268320,"Ul","08","НЕ","Kp.br. 537 KO Gornje Vlase privatna parcela",null,null,null,{"$f":"IF($C178=0, \" \", VLOOKUP($C178, DrzavniPuteviRed, 2, FALSE))","v":{"$error":"#NAME?"}},829,"829",{"$f":"IF(VLOOKUP($E178,[0]!ProveraPDV,2,FALSE)=TRUE,$J178,)","v":268320},{"$f":"IF(VLOOKUP($E178,liste!$A$31:$B$818,2,FALSE)=TRUE,#REF!,)","v":{"$error":"#REF!"}},{"$error":"#NAME?"},{"$f":"INDEX('Cenovnik 2'!$G$2:$G$411,MATCH('Plan unos i pregled'!$E178,Pozicije,0))","v":"nebitno"}]
["2025.","МАЈ","Улице","Горње Власе - Некатегорисан пут","9.1.8",{"$f":"IF($E179=0, \" \", VLOOKUP($E179, 'Cenovnik 2'!$A$2:$D$411, 2, FALSE))","v":"Камион носивости од 8 - 25 тона 40-45 km"},{"$f":"IF($E179=0, \" \", VLOOKUP($E179, 'Cenovnik 2'!$A$2:$D$411, 3, FALSE))","v":"t"},{"$f":"IF($E179=0, \" \", VLOOKUP($E179, 'Cenovnik 2'!$A$2:$D$411, 4, FALSE))","v":792.74},416,329779.84000000003,"Ul","09","НЕ","Kp.br. 537 KO Gornje Vlase privatna parcela",null,null,null,{"$error":"#NAME?"},918,"918",{"$f":"IF(VLOOKUP($E179,[0]!ProveraPDV,2,FALSE)=TRUE,$J179,)","v":{"$error":"#N/A"}},{"$f":"IF(VLOOKUP($E179,liste!$A$31:$B$818,2,FALSE)=TRUE,#REF!,)","v":{"$error":"#N/A"}},{"$error":"#NAME?"},{"$f":"INDEX('Cenovnik 2'!$G$2:$G$411,MATCH('Plan unos i pregled'!$E179,Pozicije,0))","v":"nebitno"}]
["2025.","МАЈ","Улице","Горње Власе - Некатегорисан пут","8.2",{"$f":"IF($E180=0, \" \", VLOOKUP($E180, 'Cenovnik 2'!$A$2:$D$411, 2, FALSE))","v":"Поправка неасвалтираног каменог застора брдском дробином из сипара или шљунком са спрудишта.\nЦена обухвата: машинско прикупљање материјала, риљање старог застора, разастирање, планирање дробљеног каменог агрегата и сабијање ваљком уз потребно квашење. Превоз материјала и менаизације се обрачунава посебно."},{"$f":"IF($E180=0, \" \", VLOOKUP($E180, 'Cenovnik 2'!$A$2:$D$411, 3, FALSE))","v":"m3"},{"$f":"IF($E180=0, \" \", VLOOKUP($E180, 'Cenovnik 2'!$A$2:$D$411, 4, FALSE))","v":2547.6999999999998},138.38999999999999,352576.20299999992,"Ul","08","ДА","Kp.br. 637 KO Gornje Vlase",null,null,null,{"$error":"#NAME?"},82,"82",{"$f":"IF(VLOOKUP($E180,[0]!ProveraPDV,2,FALSE)=TRUE,$J180,)","v":352576.20299999992},{"$f":"IF(VLOOKUP($E180,liste!$A$31:$B$818,2,FALSE)=TRUE,#REF!,)","v":{"$error":"#REF!"}},{"$error":"#NAME?"},{"$f":"INDEX('Cenovnik 2'!$G$2:$G$411,MATCH('Plan unos i pregled'!$E180,Pozicije,0))","v":"nebitno"}]
["2025.","МАЈ","Улице","Горње Власе - Некатегорисан пут","8.29",{"$f":"IF($E181=0, \" \", VLOOKUP($E181, 'Cenovnik 2'!$A$2:$D$411, 2, FALSE))","v":"Набавка дробљеног кречњачког каменог агрегата фракције 0-31,5 mm "},{"$f":"IF($E181=0, \" \", VLOOKUP($E181, 'Cenovnik 2'!$A$2:$D$411, 3, FALSE))","v":"t"},{"$f":"IF($E181=0, \" \", VLOOKUP($E181, 'Cenovnik 2'!$A$2:$D$411, 4, FALSE))","v":645},208,134160,"Ul","08","ДА","Kp.br. 637 KO Gornje Vlase",null,null,null,{"$error":"#NAME?"},829,"829",{"$f":"IF(VLOOKUP($E181,[0]!ProveraPDV,2,FALSE)=TRUE,$J181,)","v":134160},{"$f":"IF(VLOOKUP($E181,liste!$A$31:$B$818,2,FALSE)=TRUE,#REF!,)","v":{"$error":"#REF!"}},{"$error":"#NAME?"},{"$f":"INDEX('Cenovnik 2'!$G$2:$G$411,MATCH('Plan unos i pregled'!$E181,Pozicije,0))","v":"nebitno"}]
["2025.","МАЈ","Улице","Горње Власе - Некатегорисан пут","9.1.8",{"$f":"IF($E182=0, \" \", VLOOKUP($E182, 'Cenovnik 2'!$A$2:$D$411, 2, FALSE))","v":"Камион носивости од 8 - 25 тона 40-45 km"},{"$f":"IF($E182=0, \" \", VLOOKUP($E182, 'Cenovnik 2'!$A$2:$D$411, 3, FALSE))","v":"t"},{"$f":"IF($E182=0, \" \", VLOOKUP($E182, 'Cenovnik 2'!$A$2:$D$411, 4, FALSE))","v":792.74},208,164889.92000000001,"Ul","09","ДА",null,null,null,null,{"$error":"#NAME?"},918,"918",{"$f":"IF(VLOOKUP($E182,[0]!ProveraPDV,2,FALSE)=TRUE,$J182,)","v":{"$error":"#N/A"}},{"$f":"IF(VLOOKUP($E182,liste!$A$31:$B$818,2,FALSE)=TRUE,#REF!,)","v":{"$error":"#N/A"}},{"$error":"#NAME?"},{"$f":"INDEX('Cenovnik 2'!$G$2:$G$411,MATCH('Plan unos i pregled'!$E182,Pozicije,0))","v":"nebitno"}]
["2025.","МАЈ","Улице","Гаџин Хан - Бранка Миљковића","4.7",{"$f":"IF($E183=0, \" \", VLOOKUP($E183, 'Cenovnik 2'!$A$2:$D$411, 2, FALSE))","v":"Кошење траве са банкина самоходном моторном косачицом"},{"$f":"IF($E183=0, \" \", VLOOKUP($E183, 'Cenovnik 2'!$A$2:$D$411, 3, FALSE))","v":"m2"},{"$f":"IF($E183=0, \" \", VLOOKUP($E183, 'Cenovnik 2'!$A$2:$D$411, 4, FALSE))","v":3.99},2480,9895.2000000000007,"Ul","04","ДА","додатни радови \nпо налогу ОУ",null,null,null,{"$error":"#NAME?"},47,"47",{"$f":"IF(VLOOKUP($E183,[0]!ProveraPDV,2,FALSE)=TRUE,$J183,)","v":{"$error":"#N/A"}},{"$f":"IF(VLOOKUP($E183,liste!$A$31:$B$818,2,FALSE)=TRUE,#REF!,)","v":{"$error":"#N/A"}},{"$error":"#NAME?"},{"$f":"INDEX('Cenovnik 2'!$G$2:$G$411,MATCH('Plan unos i pregled'!$E183,Pozicije,0))","v":"nebitno"}]
["2025.","МАЈ","Улице","Гаџин Хан - 12. Октобра","4.7",{"$f":"IF($E184=0, \" \", VLOOKUP($E184, 'Cenovnik 2'!$A$2:$D$411, 2, FALSE))","v":"Кошење траве са банкина самоходном моторном косачицом"},{"$f":"IF($E184=0, \" \", VLOOKUP($E184, 'Cenovnik 2'!$A$2:$D$411, 3, FALSE))","v":"m2"},{"$f":"IF($E184=0, \" \", VLOOKUP($E184, 'Cenovnik 2'!$A$2:$D$411, 4, FALSE))","v":3.99},850,3391.5,"Ul",null,"ДА","додатни радови \nпо налогу ОУ",null,null,null,{"$error":"#NAME?"},47,"47",{"$f":"IF(VLOOKUP($E184,[0]!ProveraPDV,2,FALSE)=TRUE,$J184,)","v":{"$error":"#N/A"}},{"$f":"IF(VLOOKUP($E184,liste!$A$31:$B$818,2,FALSE)=TRUE,#REF!,)","v":{"$error":"#N/A"}},{"$error":"#NAME?"},{"$f":"INDEX('Cenovnik 2'!$G$2:$G$411,MATCH('Plan unos i pregled'!$E184,Pozicije,0))","v":"nebitno"}]
["2025.","МАЈ","Улице","Гаџин Хан - 1. Мај","4.7",{"$f":"IF($E185=0, \" \", VLOOKUP($E185, 'Cenovnik 2'!$A$2:$D$411, 2, FALSE))","v":"Кошење траве са банкина самоходном моторном косачицом"},{"$f":"IF($E185=0, \" \", VLOOKUP($E185, 'Cenovnik 2'!$A$2:$D$411, 3, FALSE))","v":"m2"},{"$f":"IF($E185=0, \" \", VLOOKUP($E185, 'Cenovnik 2'!$A$2:$D$411, 4, FALSE))","v":3.99},810,{"$f":"IF(ISNUMBER($H185), $H185*$I185, \"-\")","v":3231.9},"Ul",{"$f":"TEXT(LEFT($E185,FIND(\".\",$E185&\".\")-1), \"00\")","v":"04"},"ДА","додатни радови \nпо налогу ОУ",null,null,null,{"$f":"IF($C185=0, \" \", VLOOKUP($C185, DrzavniPuteviRed, 2, FALSE))","v":{"$error":"#NAME?"}},{"$f":"IF($E185=0, \" \", VLOOKUP($E185, SifrePozicijaBezTacke, 2, FALSE))","v":47},{"$f":"LEFT($S185, 3)","v":"47"},{"$f":"IF(VLOOKUP($E185,[0]!ProveraPDV,2,FALSE)=TRUE,$J185,)","v":{"$error":"#N/A"}},{"$f":"IF(VLOOKUP($E185,liste!$A$31:$B$818,2,FALSE)=TRUE,#REF!,)","v":{"$error":"#N/A"}},{"$f":"R185&\"-\"&C185","v":{"$error":"#NAME?"}},{"$f":"INDEX('Cenovnik 2'!$G$2:$G$411,MATCH('Plan unos i pregled'!$E185,Pozicije,0))","v":"nebitno"}]
["2025.","МАЈ","Улице","Гаџин Хан - Драгутина Матића","4.7",{"$f":"IF($E186=0, \" \", VLOOKUP($E186, 'Cenovnik 2'!$A$2:$D$411, 2, FALSE))","v":"Кошење траве са банкина самоходном моторном косачицом"},{"$f":"IF($E186=0, \" \", VLOOKUP($E186, 'Cenovnik 2'!$A$2:$D$411, 3, FALSE))","v":"m2"},{"$f":"IF($E186=0, \" \", VLOOKUP($E186, 'Cenovnik 2'!$A$2:$D$411, 4, FALSE))","v":3.99},2400,{"$f":"IF(ISNUMBER($H186), $H186*$I186, \"-\")","v":9576},"Ul",{"$f":"TEXT(LEFT($E186,FIND(\".\",$E186&\".\")-1), \"00\")","v":"04"},"ДА","додатни радови \nпо налогу ОУ",null,null,null,{"$f":"IF($C186=0, \" \", VLOOKUP($C186, DrzavniPuteviRed, 2, FALSE))","v":{"$error":"#NAME?"}},47,{"$f":"LEFT($S186, 3)","v":"47"},{"$f":"IF(VLOOKUP($E186,[0]!ProveraPDV,2,FALSE)=TRUE,$J186,)","v":{"$error":"#N/A"}},{"$f":"IF(VLOOKUP($E186,liste!$A$31:$B$818,2,FALSE)=TRUE,#REF!,)","v":{"$error":"#N/A"}},{"$f":"R186&\"-\"&C186","v":{"$error":"#NAME?"}},{"$f":"INDEX('Cenovnik 2'!$G$2:$G$411,MATCH('Plan unos i pregled'!$E186,Pozicije,0))","v":"nebitno"}]
["2025.","МАЈ","Улице","Гаџин Хан - Витка Раденковића","4.7",{"$f":"IF($E187=0, \" \", VLOOKUP($E187, 'Cenovnik 2'!$A$2:$D$411, 2, FALSE))","v":"Кошење траве са банкина самоходном моторном косачицом"},{"$f":"IF($E187=0, \" \", VLOOKUP($E187, 'Cenovnik 2'!$A$2:$D$411, 3, FALSE))","v":"m2"},{"$f":"IF($E187=0, \" \", VLOOKUP($E187, 'Cenovnik 2'!$A$2:$D$411, 4, FALSE))","v":3.99},860,3431.4,"Ul","04","ДА","додатни радови \nпо налогу ОУ",null,null,null,{"$f":"IF($C187=0, \" \", VLOOKUP($C187, DrzavniPuteviRed, 2, FALSE))","v":{"$error":"#NAME?"}},47,"47",{"$f":"IF(VLOOKUP($E187,[0]!ProveraPDV,2,FALSE)=TRUE,$J187,)","v":{"$error":"#N/A"}},{"$f":"IF(VLOOKUP($E187,liste!$A$31:$B$818,2,FALSE)=TRUE,#REF!,)","v":{"$error":"#N/A"}},{"$error":"#NAME?"},{"$f":"INDEX('Cenovnik 2'!$G$2:$G$411,MATCH('Plan unos i pregled'!$E187,Pozicije,0))","v":"nebitno"}]
["2025.","МАЈ","Улице","Гаџин Хан - Свети Никола","4.7",{"$f":"IF($E188=0, \" \", VLOOKUP($E188, 'Cenovnik 2'!$A$2:$D$411, 2, FALSE))","v":"Кошење траве са банкина самоходном моторном косачицом"},{"$f":"IF($E188=0, \" \", VLOOKUP($E188, 'Cenovnik 2'!$A$2:$D$411, 3, FALSE))","v":"m2"},{"$f":"IF($E188=0, \" \", VLOOKUP($E188, 'Cenovnik 2'!$A$2:$D$411, 4, FALSE))","v":3.99},1220,4867.8,"Ul","04","ДА","додатни радови \nпо налогу ОУ",null,null,null,{"$f":"IF($C188=0, \" \", VLOOKUP($C188, DrzavniPuteviRed, 2, FALSE))","v":{"$error":"#NAME?"}},47,"47",{"$f":"IF(VLOOKUP($E188,[0]!ProveraPDV,2,FALSE)=TRUE,$J188,)","v":{"$error":"#N/A"}},{"$f":"IF(VLOOKUP($E188,liste!$A$31:$B$818,2,FALSE)=TRUE,#REF!,)","v":{"$error":"#N/A"}},{"$error":"#NAME?"},{"$f":"INDEX('Cenovnik 2'!$G$2:$G$411,MATCH('Plan unos i pregled'!$E188,Pozicije,0))","v":"nebitno"}]
["2025.","МАЈ","Јавне зелене површине","Гаџин Хан-Кеј: П 3-3036","4.6",{"$f":"IF($E189=0, \" \", VLOOKUP($E189, 'Cenovnik 2'!$A$2:$D$411, 2, FALSE))","v":"Кошење парковског травњака тримером"},{"$f":"IF($E189=0, \" \", VLOOKUP($E189, 'Cenovnik 2'!$A$2:$D$411, 3, FALSE))","v":"m2"},{"$f":"IF($E189=0, \" \", VLOOKUP($E189, 'Cenovnik 2'!$A$2:$D$411, 4, FALSE))","v":6.5},1035,6727.5,"JZP","04","ДА","додатни радови \nпо налогу ОУ",null,null,null,{"$f":"IF($C189=0, \" \", VLOOKUP($C189, DrzavniPuteviRed, 2, FALSE))","v":{"$error":"#NAME?"}},46,"46",{"$f":"IF(VLOOKUP($E189,[0]!ProveraPDV,2,FALSE)=TRUE,$J189,)","v":{"$error":"#N/A"}},{"$f":"IF(VLOOKUP($E189,liste!$A$31:$B$818,2,FALSE)=TRUE,#REF!,)","v":{"$error":"#N/A"}},{"$error":"#NAME?"},{"$f":"INDEX('Cenovnik 2'!$G$2:$G$411,MATCH('Plan unos i pregled'!$E189,Pozicije,0))","v":"nebitno"}]
["2025.","МАЈ","Улице","Гаџин Хан - Милоша Обилића","4.6",{"$f":"IF($E190=0, \" \", VLOOKUP($E190, 'Cenovnik 2'!$A$2:$D$411, 2, FALSE))","v":"Кошење парковског травњака тримером"},{"$f":"IF($E190=0, \" \", VLOOKUP($E190, 'Cenovnik 2'!$A$2:$D$411, 3, FALSE))","v":"m2"},{"$f":"IF($E190=0, \" \", VLOOKUP($E190, 'Cenovnik 2'!$A$2:$D$411, 4, FALSE))","v":6.5},820,5330,"Ul","04","ДА","додатни радови \nпо налогу ОУ",null,null,null,{"$f":"IF($C190=0, \" \", VLOOKUP($C190, DrzavniPuteviRed, 2, FALSE))","v":{"$error":"#NAME?"}},46,"46",{"$f":"IF(VLOOKUP($E190,[0]!ProveraPDV,2,FALSE)=TRUE,$J190,)","v":{"$error":"#N/A"}},{"$f":"IF(VLOOKUP($E190,liste!$A$31:$B$818,2,FALSE)=TRUE,#REF!,)","v":{"$error":"#N/A"}},{"$error":"#NAME?"},{"$f":"INDEX('Cenovnik 2'!$G$2:$G$411,MATCH('Plan unos i pregled'!$E190,Pozicije,0))","v":"nebitno"}]
["2025.","МАЈ","Улице","Гаџин Хан - Вука Караџића","4.6",{"$f":"IF($E191=0, \" \", VLOOKUP($E191, 'Cenovnik 2'!$A$2:$D$411, 2, FALSE))","v":"Кошење парковског травњака тримером"},{"$f":"IF($E191=0, \" \", VLOOKUP($E191, 'Cenovnik 2'!$A$2:$D$411, 3, FALSE))","v":"m2"},{"$f":"IF($E191=0, \" \", VLOOKUP($E191, 'Cenovnik 2'!$A$2:$D$411, 4, FALSE))","v":6.5},280,1820,"Ul","04","ДА","додатни радови \nпо налогу ОУ",null,null,null,{"$f":"IF($C191=0, \" \", VLOOKUP($C191, DrzavniPuteviRed, 2, FALSE))","v":{"$error":"#NAME?"}},46,"46",{"$f":"IF(VLOOKUP($E191,[0]!ProveraPDV,2,FALSE)=TRUE,$J191,)","v":{"$error":"#N/A"}},{"$f":"IF(VLOOKUP($E191,liste!$A$31:$B$818,2,FALSE)=TRUE,#REF!,)","v":{"$error":"#N/A"}},{"$error":"#NAME?"},{"$f":"INDEX('Cenovnik 2'!$G$2:$G$411,MATCH('Plan unos i pregled'!$E191,Pozicije,0))","v":"nebitno"}]
["2025.","МАЈ","Улице","Гаџин Хан - Милоша Обилића","4.22",{"$f":"IF($E192=0, \" \", VLOOKUP($E192, 'Cenovnik 2'!$A$2:$D$411, 2, FALSE))","v":"Сечење густог шибља преко 50 ком на m²"},{"$f":"IF($E192=0, \" \", VLOOKUP($E192, 'Cenovnik 2'!$A$2:$D$411, 3, FALSE))","v":"m2"},{"$f":"IF($E192=0, \" \", VLOOKUP($E192, 'Cenovnik 2'!$A$2:$D$411, 4, FALSE))","v":60},260,15600,"Ul","04","ДА","додатни радови \nпо налогу ОУ",null,null,null,{"$f":"IF($C192=0, \" \", VLOOKUP($C192, DrzavniPuteviRed, 2, FALSE))","v":{"$error":"#NAME?"}},422,"422",{"$f":"IF(VLOOKUP($E192,[0]!ProveraPDV,2,FALSE)=TRUE,$J192,)","v":{"$error":"#N/A"}},{"$f":"IF(VLOOKUP($E192,liste!$A$31:$B$818,2,FALSE)=TRUE,#REF!,)","v":{"$error":"#N/A"}},{"$error":"#NAME?"},{"$f":"INDEX('Cenovnik 2'!$G$2:$G$411,MATCH('Plan unos i pregled'!$E192,Pozicije,0))","v":"nebitno"}]
["2025.","МАЈ","Улице","Гаџин Хан - Вука Караџића","4.22",{"$f":"IF($E193=0, \" \", VLOOKUP($E193, 'Cenovnik 2'!$A$2:$D$411, 2, FALSE))","v":"Сечење густог шибља преко 50 ком на m²"},{"$f":"IF($E193=0, \" \", VLOOKUP($E193, 'Cenovnik 2'!$A$2:$D$411, 3, FALSE))","v":"m2"},{"$f":"IF($E193=0, \" \", VLOOKUP($E193, 'Cenovnik 2'!$A$2:$D$411, 4, FALSE))","v":60},260,15600,"Ul","04","ДА","додатни радови \nпо налогу ОУ",null,null,null,{"$f":"IF($C193=0, \" \", VLOOKUP($C193, DrzavniPuteviRed, 2, FALSE))","v":{"$error":"#NAME?"}},422,"422",{"$f":"IF(VLOOKUP($E193,[0]!ProveraPDV,2,FALSE)=TRUE,$J193,)","v":{"$error":"#N/A"}},{"$f":"IF(VLOOKUP($E193,liste!$A$31:$B$818,2,FALSE)=TRUE,#REF!,)","v":{"$error":"#N/A"}},{"$error":"#NAME?"},{"$f":"INDEX('Cenovnik 2'!$G$2:$G$411,MATCH('Plan unos i pregled'!$E193,Pozicije,0))","v":"nebitno"}]
["2025.","МАЈ","Улице","Гаџин Хан - Милоша Обилића","15.1.1",{"$f":"IF($E194=0, \" \", VLOOKUP($E194, 'Cenovnik 2'!$A$2:$D$411, 2, FALSE))","v":"Ручно чишћење улица које се не чисте свакодневно"},{"$f":"IF($E194=0, \" \", VLOOKUP($E194, 'Cenovnik 2'!$A$2:$D$411, 3, FALSE))","v":"m2"},{"$f":"IF($E194=0, \" \", VLOOKUP($E194, 'Cenovnik 2'!$A$2:$D$411, 4, FALSE))","v":1.37},4100,5617,"Ul","15","ДА","додатни радови \nпо налогу ОУ",null,null,null,{"$f":"IF($C194=0, \" \", VLOOKUP($C194, DrzavniPuteviRed, 2, FALSE))","v":{"$error":"#NAME?"}},1511,"151",{"$f":"IF(VLOOKUP($E194,[0]!ProveraPDV,2,FALSE)=TRUE,$J194,)","v":{"$error":"#N/A"}},{"$f":"IF(VLOOKUP($E194,liste!$A$31:$B$818,2,FALSE)=TRUE,#REF!,)","v":{"$error":"#N/A"}},{"$error":"#NAME?"},{"$f":"INDEX('Cenovnik 2'!$G$2:$G$411,MATCH('Plan unos i pregled'!$E194,Pozicije,0))","v":"nebitno"}]
["2025.","МАЈ","Јавне зелене површине","Гаџин Хан-Дом културе: П 3-848","4.2",{"$f":"IF($E195=0, \" \", VLOOKUP($E195, 'Cenovnik 2'!$A$2:$D$411, 2, FALSE))","v":"Ручно сакупљање отпадака са парковских површина."},{"$f":"IF($E195=0, \" \", VLOOKUP($E195, 'Cenovnik 2'!$A$2:$D$411, 3, FALSE))","v":"m2"},{"$f":"IF($E195=0, \" \", VLOOKUP($E195, 'Cenovnik 2'!$A$2:$D$411, 4, FALSE))","v":4},878,3512,"JZP","04","ДА","додатни радови \nпо налогу ОУ",null,null,null,{"$f":"IF($C195=0, \" \", VLOOKUP($C195, DrzavniPuteviRed, 2, FALSE))","v":{"$error":"#NAME?"}},42,"42",{"$f":"IF(VLOOKUP($E195,[0]!ProveraPDV,2,FALSE)=TRUE,$J195,)","v":{"$error":"#N/A"}},{"$f":"IF(VLOOKUP($E195,liste!$A$31:$B$818,2,FALSE)=TRUE,#REF!,)","v":{"$error":"#N/A"}},{"$error":"#NAME?"},{"$f":"INDEX('Cenovnik 2'!$G$2:$G$411,MATCH('Plan unos i pregled'!$E195,Pozicije,0))","v":"nebitno"}]
["2025.","МАЈ","Јавне зелене површине","Гаџин Хан-ОШ Витко и Света: П 1-435","4.2",{"$f":"IF($E196=0, \" \", VLOOKUP($E196, 'Cenovnik 2'!$A$2:$D$411, 2, FALSE))","v":"Ручно сакупљање отпадака са парковских површина."},{"$f":"IF($E196=0, \" \", VLOOKUP($E196, 'Cenovnik 2'!$A$2:$D$411, 3, FALSE))","v":"m2"},{"$f":"IF($E196=0, \" \", VLOOKUP($E196, 'Cenovnik 2'!$A$2:$D$411, 4, FALSE))","v":4},435,1740,"JZP","04","ДА","додатни радови \nпо налогу ОУ",null,null,null,{"$f":"IF($C196=0, \" \", VLOOKUP($C196, DrzavniPuteviRed, 2, FALSE))","v":{"$error":"#NAME?"}},42,"42",{"$f":"IF(VLOOKUP($E196,[0]!ProveraPDV,2,FALSE)=TRUE,$J196,)","v":{"$error":"#N/A"}},{"$f":"IF(VLOOKUP($E196,liste!$A$31:$B$818,2,FALSE)=TRUE,#REF!,)","v":{"$error":"#N/A"}},{"$error":"#NAME?"},{"$f":"INDEX('Cenovnik 2'!$G$2:$G$411,MATCH('Plan unos i pregled'!$E196,Pozicije,0))","v":"nebitno"}]
["2025.","МАЈ","Јавне зелене површине","Гаџин Хан-Крст: П1-686","4.2",{"$f":"IF($E197=0, \" \", VLOOKUP($E197, 'Cenovnik 2'!$A$2:$D$411, 2, FALSE))","v":"Ручно сакупљање отпадака са парковских површина."},{"$f":"IF($E197=0, \" \", VLOOKUP($E197, 'Cenovnik 2'!$A$2:$D$411, 3, FALSE))","v":"m2"},{"$f":"IF($E197=0, \" \", VLOOKUP($E197, 'Cenovnik 2'!$A$2:$D$411, 4, FALSE))","v":4},1035,4140,"JZP","04","ДА","додатни радови \nпо налогу ОУ",null,null,null,{"$f":"IF($C197=0, \" \", VLOOKUP($C197, DrzavniPuteviRed, 2, FALSE))","v":{"$error":"#NAME?"}},42,"42",{"$f":"IF(VLOOKUP($E197,[0]!ProveraPDV,2,FALSE)=TRUE,$J197,)","v":{"$error":"#N/A"}},{"$f":"IF(VLOOKUP($E197,liste!$A$31:$B$818,2,FALSE)=TRUE,#REF!,)","v":{"$error":"#N/A"}},{"$error":"#NAME?"},{"$f":"INDEX('Cenovnik 2'!$G$2:$G$411,MATCH('Plan unos i pregled'!$E197,Pozicije,0))","v":"nebitno"}]
["2025.","МАЈ","Јавне зелене површине","Гаџин Хан-Дом културе: П 2-312","4.2",{"$f":"IF($E198=0, \" \", VLOOKUP($E198, 'Cenovnik 2'!$A$2:$D$411, 2, FALSE))","v":"Ручно сакупљање отпадака са парковских површина."},{"$f":"IF($E198=0, \" \", VLOOKUP($E198, 'Cenovnik 2'!$A$2:$D$411, 3, FALSE))","v":"m2"},{"$f":"IF($E198=0, \" \", VLOOKUP($E198, 'Cenovnik 2'!$A$2:$D$411, 4, FALSE))","v":4},320,1280,"JZP","04","ДА","додатни радови \nпо налогу ОУ",null,null,null,{"$f":"IF($C198=0, \" \", VLOOKUP($C198, DrzavniPuteviRed, 2, FALSE))","v":{"$error":"#NAME?"}},42,"42",{"$f":"IF(VLOOKUP($E198,[0]!ProveraPDV,2,FALSE)=TRUE,$J198,)","v":{"$error":"#N/A"}},{"$f":"IF(VLOOKUP($E198,liste!$A$31:$B$818,2,FALSE)=TRUE,#REF!,)","v":{"$error":"#N/A"}},{"$error":"#NAME?"},{"$f":"INDEX('Cenovnik 2'!$G$2:$G$411,MATCH('Plan unos i pregled'!$E198,Pozicije,0))","v":"nebitno"}]
["2025.","ЈУН","Општински путеви","ОП 136-6 - Држ.пут II А  бр. 224 - Сопотница - Калетинац","4.7",{"$f":"IF($E199=0, \" \", VLOOKUP($E199, 'Cenovnik 2'!$A$2:$D$411, 2, FALSE))","v":"Кошење траве са банкина самоходном моторном косачицом"},{"$f":"IF($E199=0, \" \", VLOOKUP($E199, 'Cenovnik 2'!$A$2:$D$411, 3, FALSE))","v":"m2"},{"$f":"IF($E199=0, \" \", VLOOKUP($E199, 'Cenovnik 2'!$A$2:$D$411, 4, FALSE))","v":3.99},5064,20205.36,"OP","04","ДА","2 кошења",null,null,null,{"$f":"IF($C199=0, \" \", VLOOKUP($C199, DrzavniPuteviRed, 2, FALSE))","v":{"$error":"#NAME?"}},47,"47",{"$f":"IF(VLOOKUP($E199,[0]!ProveraPDV,2,FALSE)=TRUE,$J199,)","v":{"$error":"#N/A"}},{"$f":"IF(VLOOKUP($E199,liste!$A$31:$B$818,2,FALSE)=TRUE,#REF!,)","v":{"$error":"#N/A"}},{"$error":"#NAME?"},{"$f":"INDEX('Cenovnik 2'!$G$2:$G$411,MATCH('Plan unos i pregled'!$E199,Pozicije,0))","v":"nebitno"}]
["2025.","ЈУН","Општински путеви","ОП 136-5 - Доњи Душник - Горњи Душник","4.7",{"$f":"IF($E200=0, \" \", VLOOKUP($E200, 'Cenovnik 2'!$A$2:$D$411, 2, FALSE))","v":"Кошење траве са банкина самоходном моторном косачицом"},{"$f":"IF($E200=0, \" \", VLOOKUP($E200, 'Cenovnik 2'!$A$2:$D$411, 3, FALSE))","v":"m2"},{"$f":"IF($E200=0, \" \", VLOOKUP($E200, 'Cenovnik 2'!$A$2:$D$411, 4, FALSE))","v":3.99},8160,32558.400000000001,"OP","04","ДА","2 кошења",null,null,null,{"$f":"IF($C200=0, \" \", VLOOKUP($C200, DrzavniPuteviRed, 2, FALSE))","v":{"$error":"#NAME?"}},47,"47",{"$f":"IF(VLOOKUP($E200,[0]!ProveraPDV,2,FALSE)=TRUE,$J200,)","v":{"$error":"#N/A"}},{"$f":"IF(VLOOKUP($E200,liste!$A$31:$B$818,2,FALSE)=TRUE,#REF!,)","v":{"$error":"#N/A"}},{"$error":"#NAME?"},{"$f":"INDEX('Cenovnik 2'!$G$2:$G$411,MATCH('Plan unos i pregled'!$E200,Pozicije,0))","v":"nebitno"}]
["2025.","ЈУН","Општински путеви","ОП 136-32 - Миљковац - Горњи Душник","4.7",{"$f":"IF($E201=0, \" \", VLOOKUP($E201, 'Cenovnik 2'!$A$2:$D$411, 2, FALSE))","v":"Кошење траве са банкина самоходном моторном косачицом"},{"$f":"IF($E201=0, \" \", VLOOKUP($E201, 'Cenovnik 2'!$A$2:$D$411, 3, FALSE))","v":"m2"},{"$f":"IF($E201=0, \" \", VLOOKUP($E201, 'Cenovnik 2'!$A$2:$D$411, 4, FALSE))","v":3.99},2800,11172,"OP","04","ДА","2 кошења",null,null,null,{"$f":"IF($C201=0, \" \", VLOOKUP($C201, DrzavniPuteviRed, 2, FALSE))","v":{"$error":"#NAME?"}},47,"47",{"$f":"IF(VLOOKUP($E201,[0]!ProveraPDV,2,FALSE)=TRUE,$J201,)","v":{"$error":"#N/A"}},{"$f":"IF(VLOOKUP($E201,liste!$A$31:$B$818,2,FALSE)=TRUE,#REF!,)","v":{"$error":"#N/A"}},{"$error":"#NAME?"},{"$f":"INDEX('Cenovnik 2'!$G$2:$G$411,MATCH('Plan unos i pregled'!$E201,Pozicije,0))","v":"nebitno"}]
["2025.","ЈУН","Општински путеви","ОП 136-7 - Држ.пут II А  бр. 224 - Доње Драговље","4.7",{"$f":"IF($E202=0, \" \", VLOOKUP($E202, 'Cenovnik 2'!$A$2:$D$411, 2, FALSE))","v":"Кошење траве са банкина самоходном моторном косачицом"},{"$f":"IF($E202=0, \" \", VLOOKUP($E202, 'Cenovnik 2'!$A$2:$D$411, 3, FALSE))","v":"m2"},{"$f":"IF($E202=0, \" \", VLOOKUP($E202, 'Cenovnik 2'!$A$2:$D$411, 4, FALSE))","v":3.99},7656,30547.440000000002,"OP","04","ДА","2 кошења",null,null,null,{"$f":"IF($C202=0, \" \", VLOOKUP($C202, DrzavniPuteviRed, 2, FALSE))","v":{"$error":"#NAME?"}},47,"47",{"$f":"IF(VLOOKUP($E202,[0]!ProveraPDV,2,FALSE)=TRUE,$J202,)","v":{"$error":"#N/A"}},{"$f":"IF(VLOOKUP($E202,liste!$A$31:$B$818,2,FALSE)=TRUE,#REF!,)","v":{"$error":"#N/A"}},{"$error":"#NAME?"},{"$f":"INDEX('Cenovnik 2'!$G$2:$G$411,MATCH('Plan unos i pregled'!$E202,Pozicije,0))","v":"nebitno"}]
["2025.","ЈУН","Општински путеви","ОП 136-11 - Држ.пут II А  бр. 224 - Семче","4.7",{"$f":"IF($E203=0, \" \", VLOOKUP($E203, 'Cenovnik 2'!$A$2:$D$411, 2, FALSE))","v":"Кошење траве са банкина самоходном моторном косачицом"},{"$f":"IF($E203=0, \" \", VLOOKUP($E203, 'Cenovnik 2'!$A$2:$D$411, 3, FALSE))","v":"m2"},{"$f":"IF($E203=0, \" \", VLOOKUP($E203, 'Cenovnik 2'!$A$2:$D$411, 4, FALSE))","v":3.99},4920,19630.8,"OP","04","ДА","2 кошења",null,null,null,{"$f":"IF($C203=0, \" \", VLOOKUP($C203, DrzavniPuteviRed, 2, FALSE))","v":{"$error":"#NAME?"}},47,"47",{"$f":"IF(VLOOKUP($E203,[0]!ProveraPDV,2,FALSE)=TRUE,$J203,)","v":{"$error":"#N/A"}},{"$f":"IF(VLOOKUP($E203,liste!$A$31:$B$818,2,FALSE)=TRUE,#REF!,)","v":{"$error":"#N/A"}},{"$error":"#NAME?"},{"$f":"INDEX('Cenovnik 2'!$G$2:$G$411,MATCH('Plan unos i pregled'!$E203,Pozicije,0))","v":"nebitno"}]
["2025.","ЈУН","Општински путеви","ОП 136-35 - Семче - Мали Крчимир","4.7",{"$f":"IF($E204=0, \" \", VLOOKUP($E204, 'Cenovnik 2'!$A$2:$D$411, 2, FALSE))","v":"Кошење траве са банкина самоходном моторном косачицом"},{"$f":"IF($E204=0, \" \", VLOOKUP($E204, 'Cenovnik 2'!$A$2:$D$411, 3, FALSE))","v":"m2"},{"$f":"IF($E204=0, \" \", VLOOKUP($E204, 'Cenovnik 2'!$A$2:$D$411, 4, FALSE))","v":3.99},3148,12560.52,"OP","04","ДА","2 кошења",null,null,null,{"$f":"IF($C204=0, \" \", VLOOKUP($C204, DrzavniPuteviRed, 2, FALSE))","v":{"$error":"#NAME?"}},47,"47",{"$f":"IF(VLOOKUP($E204,[0]!ProveraPDV,2,FALSE)=TRUE,$J204,)","v":{"$error":"#N/A"}},{"$f":"IF(VLOOKUP($E204,liste!$A$31:$B$818,2,FALSE)=TRUE,#REF!,)","v":{"$error":"#N/A"}},{"$error":"#NAME?"},{"$f":"INDEX('Cenovnik 2'!$G$2:$G$411,MATCH('Plan unos i pregled'!$E204,Pozicije,0))","v":"nebitno"}]
["2025.","ЈУН","Општински путеви","ОП 136-38 - Мали Крчимир - Велики Крчимир","4.7",{"$f":"IF($E205=0, \" \", VLOOKUP($E205, 'Cenovnik 2'!$A$2:$D$411, 2, FALSE))","v":"Кошење траве са банкина самоходном моторном косачицом"},{"$f":"IF($E205=0, \" \", VLOOKUP($E205, 'Cenovnik 2'!$A$2:$D$411, 3, FALSE))","v":"m2"},{"$f":"IF($E205=0, \" \", VLOOKUP($E205, 'Cenovnik 2'!$A$2:$D$411, 4, FALSE))","v":3.99},4500,17955,"OP","04","ДА","2 кошења",null,null,null,{"$f":"IF($C205=0, \" \", VLOOKUP($C205, DrzavniPuteviRed, 2, FALSE))","v":{"$error":"#NAME?"}},47,"47",{"$f":"IF(VLOOKUP($E205,[0]!ProveraPDV,2,FALSE)=TRUE,$J205,)","v":{"$error":"#N/A"}},{"$f":"IF(VLOOKUP($E205,liste!$A$31:$B$818,2,FALSE)=TRUE,#REF!,)","v":{"$error":"#N/A"}},{"$error":"#NAME?"},{"$f":"INDEX('Cenovnik 2'!$G$2:$G$411,MATCH('Plan unos i pregled'!$E205,Pozicije,0))","v":"nebitno"}]
["2025.","ЈУН","Општински путеви","ОП 136-2 - Барје - Равна Дубрава","4.7",{"$f":"IF($E206=0, \" \", VLOOKUP($E206, 'Cenovnik 2'!$A$2:$D$411, 2, FALSE))","v":"Кошење траве са банкина самоходном моторном косачицом"},{"$f":"IF($E206=0, \" \", VLOOKUP($E206, 'Cenovnik 2'!$A$2:$D$411, 3, FALSE))","v":"m2"},{"$f":"IF($E206=0, \" \", VLOOKUP($E206, 'Cenovnik 2'!$A$2:$D$411, 4, FALSE))","v":3.99},6818,27203.82,"OP","04","ДА","2 кошења",null,null,null,{"$f":"IF($C206=0, \" \", VLOOKUP($C206, DrzavniPuteviRed, 2, FALSE))","v":{"$error":"#NAME?"}},47,"47",{"$f":"IF(VLOOKUP($E206,[0]!ProveraPDV,2,FALSE)=TRUE,$J206,)","v":{"$error":"#N/A"}},{"$f":"IF(VLOOKUP($E206,liste!$A$31:$B$818,2,FALSE)=TRUE,#REF!,)","v":{"$error":"#N/A"}},{"$error":"#NAME?"},{"$f":"INDEX('Cenovnik 2'!$G$2:$G$411,MATCH('Plan unos i pregled'!$E206,Pozicije,0))","v":"nebitno"}]
["2025.","ЈУН","Општински путеви","ОП 136-13 - Равна Дубрава - Комарица","4.7",{"$f":"IF($E207=0, \" \", VLOOKUP($E207, 'Cenovnik 2'!$A$2:$D$411, 2, FALSE))","v":"Кошење траве са банкина самоходном моторном косачицом"},{"$f":"IF($E207=0, \" \", VLOOKUP($E207, 'Cenovnik 2'!$A$2:$D$411, 3, FALSE))","v":"m2"},{"$f":"IF($E207=0, \" \", VLOOKUP($E207, 'Cenovnik 2'!$A$2:$D$411, 4, FALSE))","v":3.99},5848,23333.52,"OP","04","ДА","2 кошења",null,null,null,{"$f":"IF($C207=0, \" \", VLOOKUP($C207, DrzavniPuteviRed, 2, FALSE))","v":{"$error":"#NAME?"}},47,"47",{"$f":"IF(VLOOKUP($E207,[0]!ProveraPDV,2,FALSE)=TRUE,$J207,)","v":{"$error":"#N/A"}},{"$f":"IF(VLOOKUP($E207,liste!$A$31:$B$818,2,FALSE)=TRUE,#REF!,)","v":{"$error":"#N/A"}},{"$error":"#NAME?"},{"$f":"INDEX('Cenovnik 2'!$G$2:$G$411,MATCH('Plan unos i pregled'!$E207,Pozicije,0))","v":"nebitno"}]
["2025.","ЈУН","Општински путеви","ОП 136-10 - Држ.пут II А  бр. 224 - Личје","4.7",{"$f":"IF($E208=0, \" \", VLOOKUP($E208, 'Cenovnik 2'!$A$2:$D$411, 2, FALSE))","v":"Кошење траве са банкина самоходном моторном косачицом"},{"$f":"IF($E208=0, \" \", VLOOKUP($E208, 'Cenovnik 2'!$A$2:$D$411, 3, FALSE))","v":"m2"},{"$f":"IF($E208=0, \" \", VLOOKUP($E208, 'Cenovnik 2'!$A$2:$D$411, 4, FALSE))","v":3.99},6840,27291.600000000002,"OP","04","ДА","2 кошења",null,null,null,{"$f":"IF($C208=0, \" \", VLOOKUP($C208, DrzavniPuteviRed, 2, FALSE))","v":{"$error":"#NAME?"}},47,"47",{"$f":"IF(VLOOKUP($E208,[0]!ProveraPDV,2,FALSE)=TRUE,$J208,)","v":{"$error":"#N/A"}},{"$f":"IF(VLOOKUP($E208,liste!$A$31:$B$818,2,FALSE)=TRUE,#REF!,)","v":{"$error":"#N/A"}},{"$error":"#NAME?"},{"$f":"INDEX('Cenovnik 2'!$G$2:$G$411,MATCH('Plan unos i pregled'!$E208,Pozicije,0))","v":"nebitno"}]
["2025.","ЈУН","Општински путеви","ОП 136-12 - Држ.пут II А  бр. 224 - Личје, Букиче","4.7",{"$f":"IF($E209=0, \" \", VLOOKUP($E209, 'Cenovnik 2'!$A$2:$D$411, 2, FALSE))","v":"Кошење траве са банкина самоходном моторном косачицом"},{"$f":"IF($E209=0, \" \", VLOOKUP($E209, 'Cenovnik 2'!$A$2:$D$411, 3, FALSE))","v":"m2"},{"$f":"IF($E209=0, \" \", VLOOKUP($E209, 'Cenovnik 2'!$A$2:$D$411, 4, FALSE))","v":3.99},2850,11371.5,"OP","04","ДА","2 кошења",null,null,null,{"$f":"IF($C209=0, \" \", VLOOKUP($C209, DrzavniPuteviRed, 2, FALSE))","v":{"$error":"#NAME?"}},47,"47",{"$f":"IF(VLOOKUP($E209,[0]!ProveraPDV,2,FALSE)=TRUE,$J209,)","v":{"$error":"#N/A"}},{"$f":"IF(VLOOKUP($E209,liste!$A$31:$B$818,2,FALSE)=TRUE,#REF!,)","v":{"$error":"#N/A"}},{"$error":"#NAME?"},{"$f":"INDEX('Cenovnik 2'!$G$2:$G$411,MATCH('Plan unos i pregled'!$E209,Pozicije,0))","v":"nebitno"}]
["2025.","ЈУН","Општински путеви","ОП 136-17 - Краставче - Дуга Пољана","4.7",{"$f":"IF($E210=0, \" \", VLOOKUP($E210, 'Cenovnik 2'!$A$2:$D$411, 2, FALSE))","v":"Кошење траве са банкина самоходном моторном косачицом"},{"$f":"IF($E210=0, \" \", VLOOKUP($E210, 'Cenovnik 2'!$A$2:$D$411, 3, FALSE))","v":"m2"},{"$f":"IF($E210=0, \" \", VLOOKUP($E210, 'Cenovnik 2'!$A$2:$D$411, 4, FALSE))","v":3.99},3980,15880.2,"OP","04","ДА","2 кошења",null,null,null,{"$f":"IF($C210=0, \" \", VLOOKUP($C210, DrzavniPuteviRed, 2, FALSE))","v":{"$error":"#NAME?"}},47,"47",{"$f":"IF(VLOOKUP($E210,[0]!ProveraPDV,2,FALSE)=TRUE,$J210,)","v":{"$error":"#N/A"}},{"$f":"IF(VLOOKUP($E210,liste!$A$31:$B$818,2,FALSE)=TRUE,#REF!,)","v":{"$error":"#N/A"}},{"$error":"#NAME?"},{"$f":"INDEX('Cenovnik 2'!$G$2:$G$411,MATCH('Plan unos i pregled'!$E210,Pozicije,0))","v":"nebitno"}]
["2025.","ЈУН","Општински путеви","ОП 136-6 - Држ.пут II А  бр. 224 - Сопотница - Калетинац","4.19.1",{"$f":"IF($E211=0, \" \", VLOOKUP($E211, 'Cenovnik 2'!$A$2:$D$411, 2, FALSE))","v":"Кресање грана са одлагањем на страну моторном тестером. Пречник грана од 0 - 10 cm"},{"$f":"IF($E211=0, \" \", VLOOKUP($E211, 'Cenovnik 2'!$A$2:$D$411, 3, FALSE))","v":"ком"},{"$f":"IF($E211=0, \" \", VLOOKUP($E211, 'Cenovnik 2'!$A$2:$D$411, 4, FALSE))","v":256.38},630,161519.4,"OP","04","ДА","2 кресаа",null,null,null,{"$f":"IF($C211=0, \" \", VLOOKUP($C211, DrzavniPuteviRed, 2, FALSE))","v":{"$error":"#NAME?"}},4191,"419",{"$f":"IF(VLOOKUP($E211,[0]!ProveraPDV,2,FALSE)=TRUE,$J211,)","v":{"$error":"#N/A"}},{"$f":"IF(VLOOKUP($E211,liste!$A$31:$B$818,2,FALSE)=TRUE,#REF!,)","v":{"$error":"#N/A"}},{"$error":"#NAME?"},{"$f":"INDEX('Cenovnik 2'!$G$2:$G$411,MATCH('Plan unos i pregled'!$E211,Pozicije,0))","v":"nebitno"}]
["2025.","ЈУН","Општински путеви","ОП 136-5 - Доњи Душник - Горњи Душник","4.19.1",{"$f":"IF($E212=0, \" \", VLOOKUP($E212, 'Cenovnik 2'!$A$2:$D$411, 2, FALSE))","v":"Кресање грана са одлагањем на страну моторном тестером. Пречник грана од 0 - 10 cm"},{"$f":"IF($E212=0, \" \", VLOOKUP($E212, 'Cenovnik 2'!$A$2:$D$411, 3, FALSE))","v":"ком"},{"$f":"IF($E212=0, \" \", VLOOKUP($E212, 'Cenovnik 2'!$A$2:$D$411, 4, FALSE))","v":256.38},940,240997.19999999998,"OP","04","ДА","2 кресаа",null,null,null,{"$f":"IF($C212=0, \" \", VLOOKUP($C212, DrzavniPuteviRed, 2, FALSE))","v":{"$error":"#NAME?"}},4191,"419",{"$f":"IF(VLOOKUP($E212,[0]!ProveraPDV,2,FALSE)=TRUE,$J212,)","v":{"$error":"#N/A"}},{"$f":"IF(VLOOKUP($E212,liste!$A$31:$B$818,2,FALSE)=TRUE,#REF!,)","v":{"$error":"#N/A"}},{"$error":"#NAME?"},{"$f":"INDEX('Cenovnik 2'!$G$2:$G$411,MATCH('Plan unos i pregled'!$E212,Pozicije,0))","v":"nebitno"}]
["2025.","ЈУН","Општински путеви","ОП 136-32 - Миљковац - Горњи Душник","4.19.1",{"$f":"IF($E213=0, \" \", VLOOKUP($E213, 'Cenovnik 2'!$A$2:$D$411, 2, FALSE))","v":"Кресање грана са одлагањем на страну моторном тестером. Пречник грана од 0 - 10 cm"},{"$f":"IF($E213=0, \" \", VLOOKUP($E213, 'Cenovnik 2'!$A$2:$D$411, 3, FALSE))","v":"ком"},{"$f":"IF($E213=0, \" \", VLOOKUP($E213, 'Cenovnik 2'!$A$2:$D$411, 4, FALSE))","v":256.38},840,215359.19999999998,"OP","04","ДА","2 кресаа",null,null,null,{"$f":"IF($C213=0, \" \", VLOOKUP($C213, DrzavniPuteviRed, 2, FALSE))","v":{"$error":"#NAME?"}},4191,"419",{"$f":"IF(VLOOKUP($E213,[0]!ProveraPDV,2,FALSE)=TRUE,$J213,)","v":{"$error":"#N/A"}},{"$f":"IF(VLOOKUP($E213,liste!$A$31:$B$818,2,FALSE)=TRUE,#REF!,)","v":{"$error":"#N/A"}},{"$error":"#NAME?"},{"$f":"INDEX('Cenovnik 2'!$G$2:$G$411,MATCH('Plan unos i pregled'!$E213,Pozicije,0))","v":"nebitno"}]
["2025.","ЈУН","Општински путеви","ОП 136-7 - Држ.пут II А  бр. 224 - Доње Драговље","4.19.1",{"$f":"IF($E214=0, \" \", VLOOKUP($E214, 'Cenovnik 2'!$A$2:$D$411, 2, FALSE))","v":"Кресање грана са одлагањем на страну моторном тестером. Пречник грана од 0 - 10 cm"},{"$f":"IF($E214=0, \" \", VLOOKUP($E214, 'Cenovnik 2'!$A$2:$D$411, 3, FALSE))","v":"ком"},{"$f":"IF($E214=0, \" \", VLOOKUP($E214, 'Cenovnik 2'!$A$2:$D$411, 4, FALSE))","v":256.38},980,251252.4,"OP","04","ДА","2 кресаа",null,null,null,{"$f":"IF($C214=0, \" \", VLOOKUP($C214, DrzavniPuteviRed, 2, FALSE))","v":{"$error":"#NAME?"}},4191,"419",{"$f":"IF(VLOOKUP($E214,[0]!ProveraPDV,2,FALSE)=TRUE,$J214,)","v":{"$error":"#N/A"}},{"$f":"IF(VLOOKUP($E214,liste!$A$31:$B$818,2,FALSE)=TRUE,#REF!,)","v":{"$error":"#N/A"}},{"$error":"#NAME?"},{"$f":"INDEX('Cenovnik 2'!$G$2:$G$411,MATCH('Plan unos i pregled'!$E214,Pozicije,0))","v":"nebitno"}]
["2025.","ЈУН","Општински путеви","ОП 136-7 - Држ.пут II А  бр. 224 - Доње Драговље","4.19.1",{"$f":"IF($E215=0, \" \", VLOOKUP($E215, 'Cenovnik 2'!$A$2:$D$411, 2, FALSE))","v":"Кресање грана са одлагањем на страну моторном тестером. Пречник грана од 0 - 10 cm"},{"$f":"IF($E215=0, \" \", VLOOKUP($E215, 'Cenovnik 2'!$A$2:$D$411, 3, FALSE))","v":"ком"},{"$f":"IF($E215=0, \" \", VLOOKUP($E215, 'Cenovnik 2'!$A$2:$D$411, 4, FALSE))","v":256.38},340,87169.2,"OP","04","ДА","2 кресаа",null,null,null,{"$f":"IF($C215=0, \" \", VLOOKUP($C215, DrzavniPuteviRed, 2, FALSE))","v":{"$error":"#NAME?"}},4191,"419",{"$f":"IF(VLOOKUP($E215,[0]!ProveraPDV,2,FALSE)=TRUE,$J215,)","v":{"$error":"#N/A"}},{"$f":"IF(VLOOKUP($E215,liste!$A$31:$B$818,2,FALSE)=TRUE,#REF!,)","v":{"$error":"#N/A"}},{"$error":"#NAME?"},{"$f":"INDEX('Cenovnik 2'!$G$2:$G$411,MATCH('Plan unos i pregled'!$E215,Pozicije,0))","v":"nebitno"}]
["2025.","ЈУН","Општински путеви","ОП 136-2 - Барје - Равна Дубрава","4.19.1",{"$f":"IF($E216=0, \" \", VLOOKUP($E216, 'Cenovnik 2'!$A$2:$D$411, 2, FALSE))","v":"Кресање грана са одлагањем на страну моторном тестером. Пречник грана од 0 - 10 cm"},{"$f":"IF($E216=0, \" \", VLOOKUP($E216, 'Cenovnik 2'!$A$2:$D$411, 3, FALSE))","v":"ком"},{"$f":"IF($E216=0, \" \", VLOOKUP($E216, 'Cenovnik 2'!$A$2:$D$411, 4, FALSE))","v":256.38},790,202540.19999999998,"OP","04","ДА","2 кресаа",null,null,null,{"$f":"IF($C216=0, \" \", VLOOKUP($C216, DrzavniPuteviRed, 2, FALSE))","v":{"$error":"#NAME?"}},4191,"419",{"$f":"IF(VLOOKUP($E216,[0]!ProveraPDV,2,FALSE)=TRUE,$J216,)","v":{"$error":"#N/A"}},{"$f":"IF(VLOOKUP($E216,liste!$A$31:$B$818,2,FALSE)=TRUE,#REF!,)","v":{"$error":"#N/A"}},{"$error":"#NAME?"},{"$f":"INDEX('Cenovnik 2'!$G$2:$G$411,MATCH('Plan unos i pregled'!$E216,Pozicije,0))","v":"nebitno"}]
["2025.","ЈУН","Општински путеви","ОП 136-35 - Семче - Мали Крчимир","4.19.1",{"$f":"IF($E217=0, \" \", VLOOKUP($E217, 'Cenovnik 2'!$A$2:$D$411, 2, FALSE))","v":"Кресање грана са одлагањем на страну моторном тестером. Пречник грана од 0 - 10 cm"},{"$f":"IF($E217=0, \" \", VLOOKUP($E217, 'Cenovnik 2'!$A$2:$D$411, 3, FALSE))","v":"ком"},{"$f":"IF($E217=0, \" \", VLOOKUP($E217, 'Cenovnik 2'!$A$2:$D$411, 4, FALSE))","v":256.38},370,94860.599999999991,"OP","04","ДА","2 кресаа",null,null,null,{"$f":"IF($C217=0, \" \", VLOOKUP($C217, DrzavniPuteviRed, 2, FALSE))","v":{"$error":"#NAME?"}},4191,"419",{"$f":"IF(VLOOKUP($E217,[0]!ProveraPDV,2,FALSE)=TRUE,$J217,)","v":{"$error":"#N/A"}},{"$f":"IF(VLOOKUP($E217,liste!$A$31:$B$818,2,FALSE)=TRUE,#REF!,)","v":{"$error":"#N/A"}},{"$error":"#NAME?"},{"$f":"INDEX('Cenovnik 2'!$G$2:$G$411,MATCH('Plan unos i pregled'!$E217,Pozicije,0))","v":"nebitno"}]
["2025.","ЈУН","Општински путеви","ОП 136-38 - Мали Крчимир - Велики Крчимир","4.19.1",{"$f":"IF($E218=0, \" \", VLOOKUP($E218, 'Cenovnik 2'!$A$2:$D$411, 2, FALSE))","v":"Кресање грана са одлагањем на страну моторном тестером. Пречник грана од 0 - 10 cm"},{"$f":"IF($E218=0, \" \", VLOOKUP($E218, 'Cenovnik 2'!$A$2:$D$411, 3, FALSE))","v":"ком"},{"$f":"IF($E218=0, \" \", VLOOKUP($E218, 'Cenovnik 2'!$A$2:$D$411, 4, FALSE))","v":256.38},960,246124.79999999999,"OP","04","ДА","2 кресаа",null,null,null,{"$f":"IF($C218=0, \" \", VLOOKUP($C218, DrzavniPuteviRed, 2, FALSE))","v":{"$error":"#NAME?"}},4191,"419",{"$f":"IF(VLOOKUP($E218,[0]!ProveraPDV,2,FALSE)=TRUE,$J218,)","v":{"$error":"#N/A"}},{"$f":"IF(VLOOKUP($E218,liste!$A$31:$B$818,2,FALSE)=TRUE,#REF!,)","v":{"$error":"#N/A"}},{"$error":"#NAME?"},{"$f":"INDEX('Cenovnik 2'!$G$2:$G$411,MATCH('Plan unos i pregled'!$E218,Pozicije,0))","v":"nebitno"}]
["2025.","ЈУН","Општински путеви","ОП 136-2 - Барје - Равна Дубрава","4.19.1",{"$f":"IF($E219=0, \" \", VLOOKUP($E219, 'Cenovnik 2'!$A$2:$D$411, 2, FALSE))","v":"Кресање грана са одлагањем на страну моторном тестером. Пречник грана од 0 - 10 cm"},{"$f":"IF($E219=0, \" \", VLOOKUP($E219, 'Cenovnik 2'!$A$2:$D$411, 3, FALSE))","v":"ком"},{"$f":"IF($E219=0, \" \", VLOOKUP($E219, 'Cenovnik 2'!$A$2:$D$411, 4, FALSE))","v":256.38},660,169210.8,"OP","04","ДА","2 кресаа",null,null,null,{"$f":"IF($C219=0, \" \", VLOOKUP($C219, DrzavniPuteviRed, 2, FALSE))","v":{"$error":"#NAME?"}},4191,"419",{"$f":"IF(VLOOKUP($E219,[0]!ProveraPDV,2,FALSE)=TRUE,$J219,)","v":{"$error":"#N/A"}},{"$f":"IF(VLOOKUP($E219,liste!$A$31:$B$818,2,FALSE)=TRUE,#REF!,)","v":{"$error":"#N/A"}},{"$error":"#NAME?"},{"$f":"INDEX('Cenovnik 2'!$G$2:$G$411,MATCH('Plan unos i pregled'!$E219,Pozicije,0))","v":"nebitno"}]
["2025.","ЈУН","Општински путеви","ОП 136-13 - Равна Дубрава - Комарица","4.19.1",{"$f":"IF($E220=0, \" \", VLOOKUP($E220, 'Cenovnik 2'!$A$2:$D$411, 2, FALSE))","v":"Кресање грана са одлагањем на страну моторном тестером. Пречник грана од 0 - 10 cm"},{"$f":"IF($E220=0, \" \", VLOOKUP($E220, 'Cenovnik 2'!$A$2:$D$411, 3, FALSE))","v":"ком"},{"$f":"IF($E220=0, \" \", VLOOKUP($E220, 'Cenovnik 2'!$A$2:$D$411, 4, FALSE))","v":256.38},840,215359.19999999998,"OP","04","ДА","2 кресаа",null,null,null,{"$f":"IF($C220=0, \" \", VLOOKUP($C220, DrzavniPuteviRed, 2, FALSE))","v":{"$error":"#NAME?"}},4191,"419",{"$f":"IF(VLOOKUP($E220,[0]!ProveraPDV,2,FALSE)=TRUE,$J220,)","v":{"$error":"#N/A"}},{"$f":"IF(VLOOKUP($E220,liste!$A$31:$B$818,2,FALSE)=TRUE,#REF!,)","v":{"$error":"#N/A"}},{"$error":"#NAME?"},{"$f":"INDEX('Cenovnik 2'!$G$2:$G$411,MATCH('Plan unos i pregled'!$E220,Pozicije,0))","v":"nebitno"}]
["2025.","ЈУН","Општински путеви","ОП 136-10 - Држ.пут II А  бр. 224 - Личје","4.19.1",{"$f":"IF($E221=0, \" \", VLOOKUP($E221, 'Cenovnik 2'!$A$2:$D$411, 2, FALSE))","v":"Кресање грана са одлагањем на страну моторном тестером. Пречник грана од 0 - 10 cm"},{"$f":"IF($E221=0, \" \", VLOOKUP($E221, 'Cenovnik 2'!$A$2:$D$411, 3, FALSE))","v":"ком"},{"$f":"IF($E221=0, \" \", VLOOKUP($E221, 'Cenovnik 2'!$A$2:$D$411, 4, FALSE))","v":256.38},550,141009,"OP","04","ДА","2 кресаа",null,null,null,{"$f":"IF($C221=0, \" \", VLOOKUP($C221, DrzavniPuteviRed, 2, FALSE))","v":{"$error":"#NAME?"}},4191,"419",{"$f":"IF(VLOOKUP($E221,[0]!ProveraPDV,2,FALSE)=TRUE,$J221,)","v":{"$error":"#N/A"}},{"$f":"IF(VLOOKUP($E221,liste!$A$31:$B$818,2,FALSE)=TRUE,#REF!,)","v":{"$error":"#N/A"}},{"$error":"#NAME?"},{"$f":"INDEX('Cenovnik 2'!$G$2:$G$411,MATCH('Plan unos i pregled'!$E221,Pozicije,0))","v":"nebitno"}]
["2025.","ЈУН","Општински путеви","ОП 136-12 - Држ.пут II А  бр. 224 - Личје, Букиче","4.19.1",{"$f":"IF($E222=0, \" \", VLOOKUP($E222, 'Cenovnik 2'!$A$2:$D$411, 2, FALSE))","v":"Кресање грана са одлагањем на страну моторном тестером. Пречник грана од 0 - 10 cm"},{"$f":"IF($E222=0, \" \", VLOOKUP($E222, 'Cenovnik 2'!$A$2:$D$411, 3, FALSE))","v":"ком"},{"$f":"IF($E222=0, \" \", VLOOKUP($E222, 'Cenovnik 2'!$A$2:$D$411, 4, FALSE))","v":256.38},750,192285,"OP","04","ДА","2 кресаа",null,null,null,{"$f":"IF($C222=0, \" \", VLOOKUP($C222, DrzavniPuteviRed, 2, FALSE))","v":{"$error":"#NAME?"}},4191,"419",{"$f":"IF(VLOOKUP($E222,[0]!ProveraPDV,2,FALSE)=TRUE,$J222,)","v":{"$error":"#N/A"}},{"$f":"IF(VLOOKUP($E222,liste!$A$31:$B$818,2,FALSE)=TRUE,#REF!,)","v":{"$error":"#N/A"}},{"$error":"#NAME?"},{"$f":"INDEX('Cenovnik 2'!$G$2:$G$411,MATCH('Plan unos i pregled'!$E222,Pozicije,0))","v":"nebitno"}]
["2025.","ЈУН","Општински путеви","ОП 136-17 - Краставче - Дуга Пољана","4.19.1",{"$f":"IF($E223=0, \" \", VLOOKUP($E223, 'Cenovnik 2'!$A$2:$D$411, 2, FALSE))","v":"Кресање грана са одлагањем на страну моторном тестером. Пречник грана од 0 - 10 cm"},{"$f":"IF($E223=0, \" \", VLOOKUP($E223, 'Cenovnik 2'!$A$2:$D$411, 3, FALSE))","v":"ком"},{"$f":"IF($E223=0, \" \", VLOOKUP($E223, 'Cenovnik 2'!$A$2:$D$411, 4, FALSE))","v":256.38},960,246124.79999999999,"OP","04","ДА","2 кресаа",null,null,null,{"$f":"IF($C223=0, \" \", VLOOKUP($C223, DrzavniPuteviRed, 2, FALSE))","v":{"$error":"#NAME?"}},4191,"419",{"$f":"IF(VLOOKUP($E223,[0]!ProveraPDV,2,FALSE)=TRUE,$J223,)","v":{"$error":"#N/A"}},{"$f":"IF(VLOOKUP($E223,liste!$A$31:$B$818,2,FALSE)=TRUE,#REF!,)","v":{"$error":"#N/A"}},{"$error":"#NAME?"},{"$f":"INDEX('Cenovnik 2'!$G$2:$G$411,MATCH('Plan unos i pregled'!$E223,Pozicije,0))","v":"nebitno"}]
["2025.","ЈУН","Фудбалски терени","Гаџин Хан-Фудбалски терен: П1-9100","11.30",{"$f":"IF($E224=0, \" \", VLOOKUP($E224, 'Cenovnik 2'!$A$2:$D$411, 2, FALSE))","v":"Моторна косачица за траву (спортски терени)"},{"$f":"IF($E224=0, \" \", VLOOKUP($E224, 'Cenovnik 2'!$A$2:$D$411, 3, FALSE))","v":"m2"},{"$f":"IF($E224=0, \" \", VLOOKUP($E224, 'Cenovnik 2'!$A$2:$D$411, 4, FALSE))","v":2.13},36400,77532,"FT","11","ДА","4 кошења",null,null,null,{"$f":"IF($C224=0, \" \", VLOOKUP($C224, DrzavniPuteviRed, 2, FALSE))","v":{"$error":"#NAME?"}},1130,"113",{"$f":"IF(VLOOKUP($E224,[0]!ProveraPDV,2,FALSE)=TRUE,$J224,)","v":{"$error":"#N/A"}},{"$f":"IF(VLOOKUP($E224,liste!$A$31:$B$818,2,FALSE)=TRUE,#REF!,)","v":{"$error":"#N/A"}},{"$error":"#NAME?"},{"$f":"INDEX('Cenovnik 2'!$G$2:$G$411,MATCH('Plan unos i pregled'!$E224,Pozicije,0))","v":"nebitno"}]
["2025.","ЈУН","Фудбалски терени","Тасковићи-Фудбалски терен: П1-6050","11.30",{"$f":"IF($E225=0, \" \", VLOOKUP($E225, 'Cenovnik 2'!$A$2:$D$411, 2, FALSE))","v":"Моторна косачица за траву (спортски терени)"},{"$f":"IF($E225=0, \" \", VLOOKUP($E225, 'Cenovnik 2'!$A$2:$D$411, 3, FALSE))","v":"m2"},{"$f":"IF($E225=0, \" \", VLOOKUP($E225, 'Cenovnik 2'!$A$2:$D$411, 4, FALSE))","v":2.13},22640,48223.199999999997,"FT","11","ДА","4 кошења",null,null,null,{"$f":"IF($C225=0, \" \", VLOOKUP($C225, DrzavniPuteviRed, 2, FALSE))","v":{"$error":"#NAME?"}},1130,"113",{"$f":"IF(VLOOKUP($E225,[0]!ProveraPDV,2,FALSE)=TRUE,$J225,)","v":{"$error":"#N/A"}},{"$f":"IF(VLOOKUP($E225,liste!$A$31:$B$818,2,FALSE)=TRUE,#REF!,)","v":{"$error":"#N/A"}},{"$error":"#NAME?"},{"$f":"INDEX('Cenovnik 2'!$G$2:$G$411,MATCH('Plan unos i pregled'!$E225,Pozicije,0))","v":"nebitno"},null,24200]
["2025.","ЈУН","Фудбалски терени","Гркиња-Фудбалски Терен: П1-5460","11.30",{"$f":"IF($E226=0, \" \", VLOOKUP($E226, 'Cenovnik 2'!$A$2:$D$411, 2, FALSE))","v":"Моторна косачица за траву (спортски терени)"},{"$f":"IF($E226=0, \" \", VLOOKUP($E226, 'Cenovnik 2'!$A$2:$D$411, 3, FALSE))","v":"m2"},{"$f":"IF($E226=0, \" \", VLOOKUP($E226, 'Cenovnik 2'!$A$2:$D$411, 4, FALSE))","v":2.13},5460,11629.8,"FT","11","ДА","1 кошење",null,null,null,{"$f":"IF($C226=0, \" \", VLOOKUP($C226, DrzavniPuteviRed, 2, FALSE))","v":{"$error":"#NAME?"}},1130,"113",{"$f":"IF(VLOOKUP($E226,[0]!ProveraPDV,2,FALSE)=TRUE,$J226,)","v":{"$error":"#N/A"}},{"$f":"IF(VLOOKUP($E226,liste!$A$31:$B$818,2,FALSE)=TRUE,#REF!,)","v":{"$error":"#N/A"}},{"$error":"#NAME?"},{"$f":"INDEX('Cenovnik 2'!$G$2:$G$411,MATCH('Plan unos i pregled'!$E226,Pozicije,0))","v":"nebitno"}]
["2025.","ЈУН","Фудбалски терени","Заплањска Топоница-Фудбалски Терен: П1-5600","11.30",{"$f":"IF($E227=0, \" \", VLOOKUP($E227, 'Cenovnik 2'!$A$2:$D$411, 2, FALSE))","v":"Моторна косачица за траву (спортски терени)"},{"$f":"IF($E227=0, \" \", VLOOKUP($E227, 'Cenovnik 2'!$A$2:$D$411, 3, FALSE))","v":"m2"},{"$f":"IF($E227=0, \" \", VLOOKUP($E227, 'Cenovnik 2'!$A$2:$D$411, 4, FALSE))","v":2.13},5600,11928,"FT","11","ДА","1 кошење",null,null,null,{"$f":"IF($C227=0, \" \", VLOOKUP($C227, DrzavniPuteviRed, 2, FALSE))","v":{"$error":"#NAME?"}},1130,"113",{"$f":"IF(VLOOKUP($E227,[0]!ProveraPDV,2,FALSE)=TRUE,$J227,)","v":{"$error":"#N/A"}},{"$f":"IF(VLOOKUP($E227,liste!$A$31:$B$818,2,FALSE)=TRUE,#REF!,)","v":{"$error":"#N/A"}},{"$error":"#NAME?"},{"$f":"INDEX('Cenovnik 2'!$G$2:$G$411,MATCH('Plan unos i pregled'!$E227,Pozicije,0))","v":"nebitno"}]
["2025.","ЈУН","Јавне зелене површине","Доњи Душник-Туристичка организација: П 6-974","11.30",{"$f":"IF($E228=0, \" \", VLOOKUP($E228, 'Cenovnik 2'!$A$2:$D$411, 2, FALSE))","v":"Моторна косачица за траву (спортски терени)"},{"$f":"IF($E228=0, \" \", VLOOKUP($E228, 'Cenovnik 2'!$A$2:$D$411, 3, FALSE))","v":"m2"},{"$f":"IF($E228=0, \" \", VLOOKUP($E228, 'Cenovnik 2'!$A$2:$D$411, 4, FALSE))","v":2.13},5540,11800.199999999999,"JZP","11","ДА"," 2 кошење",null,null,null,{"$f":"IF($C228=0, \" \", VLOOKUP($C228, DrzavniPuteviRed, 2, FALSE))","v":{"$error":"#NAME?"}},1130,"113",{"$f":"IF(VLOOKUP($E228,[0]!ProveraPDV,2,FALSE)=TRUE,$J228,)","v":{"$error":"#N/A"}},{"$f":"IF(VLOOKUP($E228,liste!$A$31:$B$818,2,FALSE)=TRUE,#REF!,)","v":{"$error":"#N/A"}},{"$error":"#NAME?"},{"$f":"INDEX('Cenovnik 2'!$G$2:$G$411,MATCH('Plan unos i pregled'!$E228,Pozicije,0))","v":"nebitno"}]
["2025.","ЈУН","Фудбалски терени","Марина Кутина-Фудбалски терен: П1-5490","11.30",{"$f":"IF($E229=0, \" \", VLOOKUP($E229, 'Cenovnik 2'!$A$2:$D$411, 2, FALSE))","v":"Моторна косачица за траву (спортски терени)"},{"$f":"IF($E229=0, \" \", VLOOKUP($E229, 'Cenovnik 2'!$A$2:$D$411, 3, FALSE))","v":"m2"},{"$f":"IF($E229=0, \" \", VLOOKUP($E229, 'Cenovnik 2'!$A$2:$D$411, 4, FALSE))","v":2.13},10980,23387.399999999998,"FT","11","ДА","2 кошења",null,null,null,{"$f":"IF($C229=0, \" \", VLOOKUP($C229, DrzavniPuteviRed, 2, FALSE))","v":{"$error":"#NAME?"}},1130,"113",{"$f":"IF(VLOOKUP($E229,[0]!ProveraPDV,2,FALSE)=TRUE,$J229,)","v":{"$error":"#N/A"}},{"$f":"IF(VLOOKUP($E229,liste!$A$31:$B$818,2,FALSE)=TRUE,#REF!,)","v":{"$error":"#N/A"}},{"$error":"#NAME?"},{"$f":"INDEX('Cenovnik 2'!$G$2:$G$411,MATCH('Plan unos i pregled'!$E229,Pozicije,0))","v":"nebitno"}]
["2025.","ЈУН","Фудбалски терени","Гаџин Хан-Фудбалски терен: П1-9100","4.11",{"$f":"IF($E230=0, \" \", VLOOKUP($E230, 'Cenovnik 2'!$A$2:$D$411, 2, FALSE))","v":"Обележавање фудбалског терена (по фактури добављача), ценом није обухваћен превоз и рад радника"},{"$f":"IF($E230=0, \" \", VLOOKUP($E230, 'Cenovnik 2'!$A$2:$D$411, 3, FALSE))","v":"m"},{"$f":"IF($E230=0, \" \", VLOOKUP($E230, 'Cenovnik 2'!$A$2:$D$411, 4, FALSE))","v":26.8},9100,243880,{"$f":"IFERROR(INDEX(LokacijeRadovaLat,MATCH(C230,LokacijaRadova,0)),\"\")","v":"FT"},"04","ДА","4 обележавања",null,null,null,{"$f":"IF($C230=0, \" \", VLOOKUP($C230, DrzavniPuteviRed, 2, FALSE))","v":{"$error":"#NAME?"}},411,"411",{"$f":"IF(VLOOKUP($E230,[0]!ProveraPDV,2,FALSE)=TRUE,$J230,)","v":{"$error":"#N/A"}},{"$f":"IF(VLOOKUP($E230,liste!$A$31:$B$818,2,FALSE)=TRUE,#REF!,)","v":{"$error":"#N/A"}},{"$error":"#NAME?"},{"$f":"INDEX('Cenovnik 2'!$G$2:$G$411,MATCH('Plan unos i pregled'!$E230,Pozicije,0))","v":"nebitno"},null,{"$f":"765*4","v":3060}]
["2025.","ЈУН","Фудбалски терени","Тасковићи-Фудбалски терен: П1-6050","4.11",{"$f":"IF($E231=0, \" \", VLOOKUP($E231, 'Cenovnik 2'!$A$2:$D$411, 2, FALSE))","v":"Обележавање фудбалског терена (по фактури добављача), ценом није обухваћен превоз и рад радника"},{"$f":"IF($E231=0, \" \", VLOOKUP($E231, 'Cenovnik 2'!$A$2:$D$411, 3, FALSE))","v":"m"},{"$f":"IF($E231=0, \" \", VLOOKUP($E231, 'Cenovnik 2'!$A$2:$D$411, 4, FALSE))","v":26.8},2700,72360,"FT","04","ДА","4 обележавања",null,null,null,{"$f":"IF($C231=0, \" \", VLOOKUP($C231, DrzavniPuteviRed, 2, FALSE))","v":{"$error":"#NAME?"}},411,"411",{"$f":"IF(VLOOKUP($E231,[0]!ProveraPDV,2,FALSE)=TRUE,$J231,)","v":{"$error":"#N/A"}},{"$f":"IF(VLOOKUP($E231,liste!$A$31:$B$818,2,FALSE)=TRUE,#REF!,)","v":{"$error":"#N/A"}},{"$error":"#NAME?"},{"$f":"INDEX('Cenovnik 2'!$G$2:$G$411,MATCH('Plan unos i pregled'!$E231,Pozicije,0))","v":"nebitno"}]
["2025.","ЈУН","Фудбалски терени","Гркиња-Фудбалски Терен: П1-5460","4.11",{"$f":"IF($E232=0, \" \", VLOOKUP($E232, 'Cenovnik 2'!$A$2:$D$411, 2, FALSE))","v":"Обележавање фудбалског терена (по фактури добављача), ценом није обухваћен превоз и рад радника"},{"$f":"IF($E232=0, \" \", VLOOKUP($E232, 'Cenovnik 2'!$A$2:$D$411, 3, FALSE))","v":"m"},{"$f":"IF($E232=0, \" \", VLOOKUP($E232, 'Cenovnik 2'!$A$2:$D$411, 4, FALSE))","v":26.8},1330,35644,"FT","04","ДА","2 обележавања",null,null,null,{"$f":"IF($C232=0, \" \", VLOOKUP($C232, DrzavniPuteviRed, 2, FALSE))","v":{"$error":"#NAME?"}},411,"411",{"$f":"IF(VLOOKUP($E232,[0]!ProveraPDV,2,FALSE)=TRUE,$J232,)","v":{"$error":"#N/A"}},{"$f":"IF(VLOOKUP($E232,liste!$A$31:$B$818,2,FALSE)=TRUE,#REF!,)","v":{"$error":"#N/A"}},{"$error":"#NAME?"},{"$f":"INDEX('Cenovnik 2'!$G$2:$G$411,MATCH('Plan unos i pregled'!$E232,Pozicije,0))","v":"nebitno"}]
["2025.","ЈУН","Фудбалски терени","Заплањска Топоница-Фудбалски Терен: П1-5600","4.11",{"$f":"IF($E233=0, \" \", VLOOKUP($E233, 'Cenovnik 2'!$A$2:$D$411, 2, FALSE))","v":"Обележавање фудбалског терена (по фактури добављача), ценом није обухваћен превоз и рад радника"},{"$f":"IF($E233=0, \" \", VLOOKUP($E233, 'Cenovnik 2'!$A$2:$D$411, 3, FALSE))","v":"m"},{"$f":"IF($E233=0, \" \", VLOOKUP($E233, 'Cenovnik 2'!$A$2:$D$411, 4, FALSE))","v":26.8},1330,35644,"FT","04","ДА","2 обележавања",null,null,null,{"$f":"IF($C233=0, \" \", VLOOKUP($C233, DrzavniPuteviRed, 2, FALSE))","v":{"$error":"#NAME?"}},411,"411",{"$f":"IF(VLOOKUP($E233,[0]!ProveraPDV,2,FALSE)=TRUE,$J233,)","v":{"$error":"#N/A"}},{"$f":"IF(VLOOKUP($E233,liste!$A$31:$B$818,2,FALSE)=TRUE,#REF!,)","v":{"$error":"#N/A"}},{"$error":"#NAME?"},{"$f":"INDEX('Cenovnik 2'!$G$2:$G$411,MATCH('Plan unos i pregled'!$E233,Pozicije,0))","v":"nebitno"}]
["2025.","ЈУН","Фудбалски терени","Марина Кутина-Фудбалски терен: П1-5490","4.11",{"$f":"IF($E234=0, \" \", VLOOKUP($E234, 'Cenovnik 2'!$A$2:$D$411, 2, FALSE))","v":"Обележавање фудбалског терена (по фактури добављача), ценом није обухваћен превоз и рад радника"},{"$f":"IF($E234=0, \" \", VLOOKUP($E234, 'Cenovnik 2'!$A$2:$D$411, 3, FALSE))","v":"m"},{"$f":"IF($E234=0, \" \", VLOOKUP($E234, 'Cenovnik 2'!$A$2:$D$411, 4, FALSE))","v":26.8},1380,36984,"FT","04","ДА","2 обележавања",null,null,null,{"$f":"IF($C234=0, \" \", VLOOKUP($C234, DrzavniPuteviRed, 2, FALSE))","v":{"$error":"#NAME?"}},411,"411",{"$f":"IF(VLOOKUP($E234,[0]!ProveraPDV,2,FALSE)=TRUE,$J234,)","v":{"$error":"#N/A"}},{"$f":"IF(VLOOKUP($E234,liste!$A$31:$B$818,2,FALSE)=TRUE,#REF!,)","v":{"$error":"#N/A"}},{"$error":"#NAME?"},{"$f":"INDEX('Cenovnik 2'!$G$2:$G$411,MATCH('Plan unos i pregled'!$E234,Pozicije,0))","v":"nebitno"}]
["2025.","ЈУН","Јавне зелене површине","Гаџин Хан-Кеј: П 3-3036","4.7",{"$f":"IF($E235=0, \" \", VLOOKUP($E235, 'Cenovnik 2'!$A$2:$D$411, 2, FALSE))","v":"Кошење траве са банкина самоходном моторном косачицом"},{"$f":"IF($E235=0, \" \", VLOOKUP($E235, 'Cenovnik 2'!$A$2:$D$411, 3, FALSE))","v":"m2"},{"$f":"IF($E235=0, \" \", VLOOKUP($E235, 'Cenovnik 2'!$A$2:$D$411, 4, FALSE))","v":3.99},12444,49651.560000000005,"JZP","04","ДА","4 кошења",null,null,null,{"$f":"IF($C235=0, \" \", VLOOKUP($C235, DrzavniPuteviRed, 2, FALSE))","v":{"$error":"#NAME?"}},47,"47",{"$f":"IF(VLOOKUP($E235,[0]!ProveraPDV,2,FALSE)=TRUE,$J235,)","v":{"$error":"#N/A"}},{"$f":"IF(VLOOKUP($E235,liste!$A$31:$B$818,2,FALSE)=TRUE,#REF!,)","v":{"$error":"#N/A"}},{"$error":"#NAME?"},{"$f":"INDEX('Cenovnik 2'!$G$2:$G$411,MATCH('Plan unos i pregled'!$E235,Pozicije,0))","v":"nebitno"}]
["2025.","ЈУН","Јавне зелене површине","Гаџин Хан-Дом културе: П 1-560","4.7",{"$f":"IF($E236=0, \" \", VLOOKUP($E236, 'Cenovnik 2'!$A$2:$D$411, 2, FALSE))","v":"Кошење траве са банкина самоходном моторном косачицом"},{"$f":"IF($E236=0, \" \", VLOOKUP($E236, 'Cenovnik 2'!$A$2:$D$411, 3, FALSE))","v":"m2"},{"$f":"IF($E236=0, \" \", VLOOKUP($E236, 'Cenovnik 2'!$A$2:$D$411, 4, FALSE))","v":3.99},1120,4468.8,"JZP","04","ДА","2 кошења",null,null,null,{"$f":"IF($C236=0, \" \", VLOOKUP($C236, DrzavniPuteviRed, 2, FALSE))","v":{"$error":"#NAME?"}},47,"47",{"$f":"IF(VLOOKUP($E236,[0]!ProveraPDV,2,FALSE)=TRUE,$J236,)","v":{"$error":"#N/A"}},{"$f":"IF(VLOOKUP($E236,liste!$A$31:$B$818,2,FALSE)=TRUE,#REF!,)","v":{"$error":"#N/A"}},{"$error":"#NAME?"},{"$f":"INDEX('Cenovnik 2'!$G$2:$G$411,MATCH('Plan unos i pregled'!$E236,Pozicije,0))","v":"nebitno"}]
["2025.","ЈУН","Јавне зелене површине","Горњи Душник-Црква: П 1-2466","4.7",{"$f":"IF($E237=0, \" \", VLOOKUP($E237, 'Cenovnik 2'!$A$2:$D$411, 2, FALSE))","v":"Кошење траве са банкина самоходном моторном косачицом"},{"$f":"IF($E237=0, \" \", VLOOKUP($E237, 'Cenovnik 2'!$A$2:$D$411, 3, FALSE))","v":"m2"},{"$f":"IF($E237=0, \" \", VLOOKUP($E237, 'Cenovnik 2'!$A$2:$D$411, 4, FALSE))","v":3.99},4932,19678.68,"JZP","04","ДА","2 кошења",null,null,null,{"$f":"IF($C237=0, \" \", VLOOKUP($C237, DrzavniPuteviRed, 2, FALSE))","v":{"$error":"#NAME?"}},47,"47",{"$f":"IF(VLOOKUP($E237,[0]!ProveraPDV,2,FALSE)=TRUE,$J237,)","v":{"$error":"#N/A"}},{"$f":"IF(VLOOKUP($E237,liste!$A$31:$B$818,2,FALSE)=TRUE,#REF!,)","v":{"$error":"#N/A"}},{"$error":"#NAME?"},{"$f":"INDEX('Cenovnik 2'!$G$2:$G$411,MATCH('Plan unos i pregled'!$E237,Pozicije,0))","v":"nebitno"}]
["2025.","ЈУН","Јавне зелене површине","Доњи Душник-Туристичка организација: П 5-762","4.6",{"$f":"IF($E238=0, \" \", VLOOKUP($E238, 'Cenovnik 2'!$A$2:$D$411, 2, FALSE))","v":"Кошење парковског травњака тримером"},{"$f":"IF($E238=0, \" \", VLOOKUP($E238, 'Cenovnik 2'!$A$2:$D$411, 3, FALSE))","v":"m2"},{"$f":"IF($E238=0, \" \", VLOOKUP($E238, 'Cenovnik 2'!$A$2:$D$411, 4, FALSE))","v":6.5},11524,74906,"JZP","04","ДА","2 кошења",null,null,null,{"$f":"IF($C238=0, \" \", VLOOKUP($C238, DrzavniPuteviRed, 2, FALSE))","v":{"$error":"#NAME?"}},46,"46",{"$f":"IF(VLOOKUP($E238,[0]!ProveraPDV,2,FALSE)=TRUE,$J238,)","v":{"$error":"#N/A"}},{"$f":"IF(VLOOKUP($E238,liste!$A$31:$B$818,2,FALSE)=TRUE,#REF!,)","v":{"$error":"#N/A"}},{"$error":"#NAME?"},{"$f":"INDEX('Cenovnik 2'!$G$2:$G$411,MATCH('Plan unos i pregled'!$E238,Pozicije,0))","v":"nebitno"}]
["2025.","ЈУН","Фудбалски терени","Гаџин Хан-Фудбалски терен: П1-9100","11.5",{"$f":"IF($E239=0, \" \", VLOOKUP($E239, 'Cenovnik 2'!$A$2:$D$411, 2, FALSE))","v":"Ваљак од 2 t"},{"$f":"IF($E239=0, \" \", VLOOKUP($E239, 'Cenovnik 2'!$A$2:$D$411, 3, FALSE))","v":"час"},{"$f":"IF($E239=0, \" \", VLOOKUP($E239, 'Cenovnik 2'!$A$2:$D$411, 4, FALSE))","v":2875},2,5750,"FT","11","ДА","2 ваљака",null,null,null,{"$f":"IF($C239=0, \" \", VLOOKUP($C239, DrzavniPuteviRed, 2, FALSE))","v":{"$error":"#NAME?"}},115,"115",{"$f":"IF(VLOOKUP($E239,[0]!ProveraPDV,2,FALSE)=TRUE,$J239,)","v":{"$error":"#N/A"}},{"$f":"IF(VLOOKUP($E239,liste!$A$31:$B$818,2,FALSE)=TRUE,#REF!,)","v":{"$error":"#N/A"}},{"$error":"#NAME?"},{"$f":"INDEX('Cenovnik 2'!$G$2:$G$411,MATCH('Plan unos i pregled'!$E239,Pozicije,0))","v":"nebitno"}]
["2025.","ЈУН","Фудбалски терени","Тасковићи-Фудбалски терен: П1-6050","11.5",{"$f":"IF($E240=0, \" \", VLOOKUP($E240, 'Cenovnik 2'!$A$2:$D$411, 2, FALSE))","v":"Ваљак од 2 t"},{"$f":"IF($E240=0, \" \", VLOOKUP($E240, 'Cenovnik 2'!$A$2:$D$411, 3, FALSE))","v":"час"},{"$f":"IF($E240=0, \" \", VLOOKUP($E240, 'Cenovnik 2'!$A$2:$D$411, 4, FALSE))","v":2875},2,5750,"FT","11","ДА","2 ваљака",null,null,null,{"$f":"IF($C240=0, \" \", VLOOKUP($C240, DrzavniPuteviRed, 2, FALSE))","v":{"$error":"#NAME?"}},115,"115",{"$f":"IF(VLOOKUP($E240,[0]!ProveraPDV,2,FALSE)=TRUE,$J240,)","v":{"$error":"#N/A"}},{"$f":"IF(VLOOKUP($E240,liste!$A$31:$B$818,2,FALSE)=TRUE,#REF!,)","v":{"$error":"#N/A"}},{"$error":"#NAME?"},{"$f":"INDEX('Cenovnik 2'!$G$2:$G$411,MATCH('Plan unos i pregled'!$E240,Pozicije,0))","v":"nebitno"}]
["2025.","ЈУН","Општински путеви","ОП 136-37 - Мали Крчимир - Три локве","11.3",{"$f":"IF($E241=0, \" \", VLOOKUP($E241, 'Cenovnik 2'!$A$2:$D$411, 2, FALSE))","v":"Комбинована машина CASE"},{"$f":"IF($E241=0, \" \", VLOOKUP($E241, 'Cenovnik 2'!$A$2:$D$411, 3, FALSE))","v":"час"},{"$f":"IF($E241=0, \" \", VLOOKUP($E241, 'Cenovnik 2'!$A$2:$D$411, 4, FALSE))","v":5405},20,108100,"OP","11","ДА","2 компиа",null,null,null,{"$f":"IF($C241=0, \" \", VLOOKUP($C241, DrzavniPuteviRed, 2, FALSE))","v":{"$error":"#NAME?"}},113,"113",{"$f":"IF(VLOOKUP($E241,[0]!ProveraPDV,2,FALSE)=TRUE,$J241,)","v":{"$error":"#N/A"}},{"$f":"IF(VLOOKUP($E241,liste!$A$31:$B$818,2,FALSE)=TRUE,#REF!,)","v":{"$error":"#N/A"}},{"$error":"#NAME?"},{"$f":"INDEX('Cenovnik 2'!$G$2:$G$411,MATCH('Plan unos i pregled'!$E241,Pozicije,0))","v":"nebitno"}]
["2025.","ЈУН","Улице","Гаџин Хан - Виноградарска","6.2.2",{"$f":"IF($E242=0, \" \", VLOOKUP($E242, 'Cenovnik 2'!$A$2:$D$411, 2, FALSE))","v":"Ручно чишћење ригола и берми од наноса у слоју до d = 10 cm. Цена обухвата: чишћење риголе или берме са уклањањем материјала одбацивањем на страну или утоваром у колица и одвозом до 20 м. \n- Са одвозом материјала до 20 м"},{"$f":"IF($E242=0, \" \", VLOOKUP($E242, 'Cenovnik 2'!$A$2:$D$411, 3, FALSE))","v":"m"},{"$f":"IF($E242=0, \" \", VLOOKUP($E242, 'Cenovnik 2'!$A$2:$D$411, 4, FALSE))","v":138.63999999999999},180,24955.199999999997,"Ul","06","ДА","2 ручноа",null,null,null,{"$f":"IF($C242=0, \" \", VLOOKUP($C242, DrzavniPuteviRed, 2, FALSE))","v":{"$error":"#NAME?"}},622,"622",{"$f":"IF(VLOOKUP($E242,[0]!ProveraPDV,2,FALSE)=TRUE,$J242,)","v":{"$error":"#N/A"}},{"$f":"IF(VLOOKUP($E242,liste!$A$31:$B$818,2,FALSE)=TRUE,#REF!,)","v":{"$error":"#N/A"}},{"$error":"#NAME?"},{"$f":"INDEX('Cenovnik 2'!$G$2:$G$411,MATCH('Plan unos i pregled'!$E242,Pozicije,0))","v":"nebitno"}]
["2025.","ЈУН","Улице","Гаџин Хан - Светог Саве","6.2.2",{"$f":"IF($E243=0, \" \", VLOOKUP($E243, 'Cenovnik 2'!$A$2:$D$411, 2, FALSE))","v":"Ручно чишћење ригола и берми од наноса у слоју до d = 10 cm. Цена обухвата: чишћење риголе или берме са уклањањем материјала одбацивањем на страну или утоваром у колица и одвозом до 20 м. \n- Са одвозом материјала до 20 м"},{"$f":"IF($E243=0, \" \", VLOOKUP($E243, 'Cenovnik 2'!$A$2:$D$411, 3, FALSE))","v":"m"},{"$f":"IF($E243=0, \" \", VLOOKUP($E243, 'Cenovnik 2'!$A$2:$D$411, 4, FALSE))","v":138.63999999999999},184,25509.759999999998,"Ul","06","ДА","2 ручноа",null,null,null,{"$f":"IF($C243=0, \" \", VLOOKUP($C243, DrzavniPuteviRed, 2, FALSE))","v":{"$error":"#NAME?"}},622,"622",{"$f":"IF(VLOOKUP($E243,[0]!ProveraPDV,2,FALSE)=TRUE,$J243,)","v":{"$error":"#N/A"}},{"$f":"IF(VLOOKUP($E243,liste!$A$31:$B$818,2,FALSE)=TRUE,#REF!,)","v":{"$error":"#N/A"}},{"$error":"#NAME?"},{"$f":"INDEX('Cenovnik 2'!$G$2:$G$411,MATCH('Plan unos i pregled'!$E243,Pozicije,0))","v":"nebitno"}]
["2025.","ЈУН","Општински путеви","ОП 136-2 - Барје - Равна Дубрава","6.2.2",{"$f":"IF($E244=0, \" \", VLOOKUP($E244, 'Cenovnik 2'!$A$2:$D$411, 2, FALSE))","v":"Ручно чишћење ригола и берми од наноса у слоју до d = 10 cm. Цена обухвата: чишћење риголе или берме са уклањањем материјала одбацивањем на страну или утоваром у колица и одвозом до 20 м. \n- Са одвозом материјала до 20 м"},{"$f":"IF($E244=0, \" \", VLOOKUP($E244, 'Cenovnik 2'!$A$2:$D$411, 3, FALSE))","v":"m"},{"$f":"IF($E244=0, \" \", VLOOKUP($E244, 'Cenovnik 2'!$A$2:$D$411, 4, FALSE))","v":138.63999999999999},1774,245947.36,"OP","06","ДА","2 ручноа",null,null,null,{"$f":"IF($C244=0, \" \", VLOOKUP($C244, DrzavniPuteviRed, 2, FALSE))","v":{"$error":"#NAME?"}},622,"622",{"$f":"IF(VLOOKUP($E244,[0]!ProveraPDV,2,FALSE)=TRUE,$J244,)","v":{"$error":"#N/A"}},{"$f":"IF(VLOOKUP($E244,liste!$A$31:$B$818,2,FALSE)=TRUE,#REF!,)","v":{"$error":"#N/A"}},{"$error":"#NAME?"},{"$f":"INDEX('Cenovnik 2'!$G$2:$G$411,MATCH('Plan unos i pregled'!$E244,Pozicije,0))","v":"nebitno"}]
["2025.","ЈУН","Улице","Сопотница - 4. Јули","16.1",{"$f":"IF($E245=0, \" \", VLOOKUP($E245, 'Cenovnik 2'!$A$2:$D$411, 2, FALSE))","v":"Набавка материјала за израду решетке"},{"$f":"IF($E245=0, \" \", VLOOKUP($E245, 'Cenovnik 2'!$A$2:$D$411, 3, FALSE))","v":"ком"},{"$f":"IF($E245=0, \" \", VLOOKUP($E245, 'Cenovnik 2'!$A$2:$D$411, 4, FALSE))","v":29150},1,29150,"Ul","16","ДА","кп.бр..3979",null,null,null,{"$f":"IF($C245=0, \" \", VLOOKUP($C245, DrzavniPuteviRed, 2, FALSE))","v":{"$error":"#NAME?"}},161,"161",{"$f":"IF(VLOOKUP($E245,[0]!ProveraPDV,2,FALSE)=TRUE,$J245,)","v":29150},{"$f":"IF(VLOOKUP($E245,liste!$A$31:$B$818,2,FALSE)=TRUE,#REF!,)","v":{"$error":"#REF!"}},{"$error":"#NAME?"},{"$f":"INDEX('Cenovnik 2'!$G$2:$G$411,MATCH('Plan unos i pregled'!$E245,Pozicije,0))","v":"nebitno"}]
["2025.","ЈУН","Улице","Сопотница - 4. Јули","8.23",{"$f":"IF($E246=0, \" \", VLOOKUP($E246, 'Cenovnik 2'!$A$2:$D$411, 2, FALSE))","v":"Израда решетке за атмосферску воду ширине 30 cm"},{"$f":"IF($E246=0, \" \", VLOOKUP($E246, 'Cenovnik 2'!$A$2:$D$411, 3, FALSE))","v":"m"},{"$f":"IF($E246=0, \" \", VLOOKUP($E246, 'Cenovnik 2'!$A$2:$D$411, 4, FALSE))","v":6000},9,54000,"Ul","08","ДА","кп.бр.3979",null,null,null,{"$f":"IF($C246=0, \" \", VLOOKUP($C246, DrzavniPuteviRed, 2, FALSE))","v":{"$error":"#NAME?"}},823,"823",{"$f":"IF(VLOOKUP($E246,[0]!ProveraPDV,2,FALSE)=TRUE,$J246,)","v":54000},{"$f":"IF(VLOOKUP($E246,liste!$A$31:$B$818,2,FALSE)=TRUE,#REF!,)","v":{"$error":"#REF!"}},{"$error":"#NAME?"},{"$f":"INDEX('Cenovnik 2'!$G$2:$G$411,MATCH('Plan unos i pregled'!$E246,Pozicije,0))","v":"nebitno"}]
["2025.","ЈУН","Улице","Личје - Милоша Обилића","16.5",{"$f":"IF($E247=0, \" \", VLOOKUP($E247, 'Cenovnik 2'!$A$2:$D$411, 2, FALSE))","v":"Набавка цевстих пропуста Ф1000"},{"$f":"IF($E247=0, \" \", VLOOKUP($E247, 'Cenovnik 2'!$A$2:$D$411, 3, FALSE))","v":"ком"},{"$f":"IF($E247=0, \" \", VLOOKUP($E247, 'Cenovnik 2'!$A$2:$D$411, 4, FALSE))","v":14400},5,72000,"Ul","16","ДА","Личје кп.бр.9827",null,null,null,{"$f":"IF($C247=0, \" \", VLOOKUP($C247, DrzavniPuteviRed, 2, FALSE))","v":{"$error":"#NAME?"}},165,"165",{"$f":"IF(VLOOKUP($E247,[0]!ProveraPDV,2,FALSE)=TRUE,$J247,)","v":72000},{"$f":"IF(VLOOKUP($E247,liste!$A$31:$B$818,2,FALSE)=TRUE,#REF!,)","v":{"$error":"#REF!"}},{"$error":"#NAME?"},{"$f":"INDEX('Cenovnik 2'!$G$2:$G$411,MATCH('Plan unos i pregled'!$E247,Pozicije,0))","v":"nebitno"}]
["2025.","ЈУН","Улице","Личје - Милоша Обилића","6.16.6",{"$f":"IF($E248=0, \" \", VLOOKUP($E248, 'Cenovnik 2'!$A$2:$D$411, 2, FALSE))","v":"Транспорт цеви на 30 km Ø 1000 mm"},{"$f":"IF($E248=0, \" \", VLOOKUP($E248, 'Cenovnik 2'!$A$2:$D$411, 3, FALSE))","v":"m"},{"$f":"IF($E248=0, \" \", VLOOKUP($E248, 'Cenovnik 2'!$A$2:$D$411, 4, FALSE))","v":918},5,4590,"Ul","06","ДА","Личје кп.бр.9827",null,null,null,{"$f":"IF($C248=0, \" \", VLOOKUP($C248, DrzavniPuteviRed, 2, FALSE))","v":{"$error":"#NAME?"}},{"$f":"IF($E248=0, \" \", VLOOKUP($E248, SifrePozicijaBezTacke, 2, FALSE))","v":6166},"616",{"$f":"IF(VLOOKUP($E248,[0]!ProveraPDV,2,FALSE)=TRUE,$J248,)","v":{"$error":"#N/A"}},{"$f":"IF(VLOOKUP($E248,liste!$A$31:$B$818,2,FALSE)=TRUE,#REF!,)","v":{"$error":"#N/A"}},{"$error":"#NAME?"},{"$f":"INDEX('Cenovnik 2'!$G$2:$G$411,MATCH('Plan unos i pregled'!$E248,Pozicije,0))","v":"nebitno"}]
["2025.","ЈУН","Улице","Личје - Милоша Обилића","6.15.6",{"$f":"IF($E249=0, \" \", VLOOKUP($E249, 'Cenovnik 2'!$A$2:$D$411, 2, FALSE))","v":"Уградње цеви на подлози од бетона d = 10 cm МБ 20 Ø 1000 mm"},{"$f":"IF($E249=0, \" \", VLOOKUP($E249, 'Cenovnik 2'!$A$2:$D$411, 3, FALSE))","v":"m"},{"$f":"IF($E249=0, \" \", VLOOKUP($E249, 'Cenovnik 2'!$A$2:$D$411, 4, FALSE))","v":2800},5,{"$f":"IF(ISNUMBER($H249), $H249*$I249, \"-\")","v":14000},"Ul",{"$f":"TEXT(LEFT($E249,FIND(\".\",$E249&\".\")-1), \"00\")","v":"06"},"ДА","Личје кп.бр.9827",null,null,null,{"$f":"IF($C249=0, \" \", VLOOKUP($C249, DrzavniPuteviRed, 2, FALSE))","v":{"$error":"#NAME?"}},"6156",{"$f":"LEFT($S249, 3)","v":"615"},{"$f":"IF(VLOOKUP($E249,[0]!ProveraPDV,2,FALSE)=TRUE,$J249,)","v":{"$error":"#N/A"}},{"$f":"IF(VLOOKUP($E249,liste!$A$31:$B$818,2,FALSE)=TRUE,#REF!,)","v":{"$error":"#N/A"}},{"$f":"R249&\"-\"&C249","v":{"$error":"#NAME?"}},{"$f":"INDEX('Cenovnik 2'!$G$2:$G$411,MATCH('Plan unos i pregled'!$E249,Pozicije,0))","v":"nebitno"}]
["2025.","ЈУН","Улице","Личје - Некатегорисан пут","8.29",{"$f":"IF($E250=0, \" \", VLOOKUP($E250, 'Cenovnik 2'!$A$2:$D$411, 2, FALSE))","v":"Набавка дробљеног кречњачког каменог агрегата фракције 0-31,5 mm "},{"$f":"IF($E250=0, \" \", VLOOKUP($E250, 'Cenovnik 2'!$A$2:$D$411, 3, FALSE))","v":"t"},{"$f":"IF($E250=0, \" \", VLOOKUP($E250, 'Cenovnik 2'!$A$2:$D$411, 4, FALSE))","v":645},27,17415,"Ul","08","ДА","Некатегорисани пут \nЛичје кп.бр.1954",null,null,null,{"$f":"IF($C250=0, \" \", VLOOKUP($C250, DrzavniPuteviRed, 2, FALSE))","v":{"$error":"#NAME?"}},829,"829",{"$f":"IF(VLOOKUP($E250,[0]!ProveraPDV,2,FALSE)=TRUE,$J250,)","v":17415},{"$f":"IF(VLOOKUP($E250,liste!$A$31:$B$818,2,FALSE)=TRUE,#REF!,)","v":{"$error":"#REF!"}},{"$error":"#NAME?"},{"$f":"INDEX('Cenovnik 2'!$G$2:$G$411,MATCH('Plan unos i pregled'!$E250,Pozicije,0))","v":"nebitno"}]
["2025.","ЈУН","Улице","Личје - Некатегорисан пут","9.1.11",{"$f":"IF($E251=0, \" \", VLOOKUP($E251, 'Cenovnik 2'!$A$2:$D$411, 2, FALSE))","v":"Камион носивости од 8 - 25 тона 55-60 km"},{"$f":"IF($E251=0, \" \", VLOOKUP($E251, 'Cenovnik 2'!$A$2:$D$411, 3, FALSE))","v":"t"},{"$f":"IF($E251=0, \" \", VLOOKUP($E251, 'Cenovnik 2'!$A$2:$D$411, 4, FALSE))","v":1086.8499999999999},27,29344.949999999997,"Ul","09","ДА","Некатегорисани пут \nЛичје кп.бр.1954",null,null,null,{"$f":"IF($C251=0, \" \", VLOOKUP($C251, DrzavniPuteviRed, 2, FALSE))","v":{"$error":"#NAME?"}},9111,"911",{"$f":"IF(VLOOKUP($E251,[0]!ProveraPDV,2,FALSE)=TRUE,$J251,)","v":{"$error":"#N/A"}},{"$f":"IF(VLOOKUP($E251,liste!$A$31:$B$818,2,FALSE)=TRUE,#REF!,)","v":{"$error":"#N/A"}},{"$error":"#NAME?"},{"$f":"INDEX('Cenovnik 2'!$G$2:$G$411,MATCH('Plan unos i pregled'!$E251,Pozicije,0))","v":"nebitno"}]
["2025.","ЈУН","Улице","Личје - Некатегорисан пут","8.2",{"$f":"IF($E252=0, \" \", VLOOKUP($E252, 'Cenovnik 2'!$A$2:$D$411, 2, FALSE))","v":"Поправка неасвалтираног каменог застора брдском дробином из сипара или шљунком са спрудишта.\nЦена обухвата: машинско прикупљање материјала, риљање старог застора, разастирање, планирање дробљеног каменог агрегата и сабијање ваљком уз потребно квашење. Превоз материјала и менаизације се обрачунава посебно."},{"$f":"IF($E252=0, \" \", VLOOKUP($E252, 'Cenovnik 2'!$A$2:$D$411, 3, FALSE))","v":"m3"},{"$f":"IF($E252=0, \" \", VLOOKUP($E252, 'Cenovnik 2'!$A$2:$D$411, 4, FALSE))","v":2547.6999999999998},18,45858.6,"Ul","08","ДА","Некатегорисани пут\nЛичје кп.бр.1954",null,null,null,{"$f":"IF($C252=0, \" \", VLOOKUP($C252, DrzavniPuteviRed, 2, FALSE))","v":{"$error":"#NAME?"}},82,"82",{"$f":"IF(VLOOKUP($E252,[0]!ProveraPDV,2,FALSE)=TRUE,$J252,)","v":45858.6},{"$f":"IF(VLOOKUP($E252,liste!$A$31:$B$818,2,FALSE)=TRUE,#REF!,)","v":{"$error":"#REF!"}},{"$error":"#NAME?"},{"$f":"INDEX('Cenovnik 2'!$G$2:$G$411,MATCH('Plan unos i pregled'!$E252,Pozicije,0))","v":"nebitno"}]
["2025.","ЈУН","Улице","Семче - Некатегорисан пут","8.29",{"$f":"IF($E253=0, \" \", VLOOKUP($E253, 'Cenovnik 2'!$A$2:$D$411, 2, FALSE))","v":"Набавка дробљеног кречњачког каменог агрегата фракције 0-31,5 mm "},{"$f":"IF($E253=0, \" \", VLOOKUP($E253, 'Cenovnik 2'!$A$2:$D$411, 3, FALSE))","v":"t"},{"$f":"IF($E253=0, \" \", VLOOKUP($E253, 'Cenovnik 2'!$A$2:$D$411, 4, FALSE))","v":645},81,52245,"Ul","08","ДА","Некатегорисани пут\nСемче кп.бр.1081 кп.бр..3264",null,null,null,{"$f":"IF($C253=0, \" \", VLOOKUP($C253, DrzavniPuteviRed, 2, FALSE))","v":{"$error":"#NAME?"}},829,"829",{"$f":"IF(VLOOKUP($E253,[0]!ProveraPDV,2,FALSE)=TRUE,$J253,)","v":52245},{"$f":"IF(VLOOKUP($E253,liste!$A$31:$B$818,2,FALSE)=TRUE,#REF!,)","v":{"$error":"#REF!"}},{"$error":"#NAME?"},{"$f":"INDEX('Cenovnik 2'!$G$2:$G$411,MATCH('Plan unos i pregled'!$E253,Pozicije,0))","v":"nebitno"}]
["2025.","ЈУН","Улице","Семче - Некатегорисан пут","9.1.11",{"$f":"IF($E254=0, \" \", VLOOKUP($E254, 'Cenovnik 2'!$A$2:$D$411, 2, FALSE))","v":"Камион носивости од 8 - 25 тона 55-60 km"},{"$f":"IF($E254=0, \" \", VLOOKUP($E254, 'Cenovnik 2'!$A$2:$D$411, 3, FALSE))","v":"t"},{"$f":"IF($E254=0, \" \", VLOOKUP($E254, 'Cenovnik 2'!$A$2:$D$411, 4, FALSE))","v":1086.8499999999999},81,88034.849999999991,"Ul","09","ДА","Некатегорисани пут\nСемче кп.бр.1081 кп.бр..3264",null,null,null,{"$f":"IF($C254=0, \" \", VLOOKUP($C254, DrzavniPuteviRed, 2, FALSE))","v":{"$error":"#NAME?"}},9111,"911",{"$f":"IF(VLOOKUP($E254,[0]!ProveraPDV,2,FALSE)=TRUE,$J254,)","v":{"$error":"#N/A"}},{"$f":"IF(VLOOKUP($E254,liste!$A$31:$B$818,2,FALSE)=TRUE,#REF!,)","v":{"$error":"#N/A"}},{"$error":"#NAME?"},{"$f":"INDEX('Cenovnik 2'!$G$2:$G$411,MATCH('Plan unos i pregled'!$E254,Pozicije,0))","v":"nebitno"}]
["2025.","ЈУН","Улице","Семче - Некатегорисан пут","8.2",{"$f":"IF($E255=0, \" \", VLOOKUP($E255, 'Cenovnik 2'!$A$2:$D$411, 2, FALSE))","v":"Поправка неасвалтираног каменог застора брдском дробином из сипара или шљунком са спрудишта.\nЦена обухвата: машинско прикупљање материјала, риљање старог застора, разастирање, планирање дробљеног каменог агрегата и сабијање ваљком уз потребно квашење. Превоз материјала и менаизације се обрачунава посебно."},{"$f":"IF($E255=0, \" \", VLOOKUP($E255, 'Cenovnik 2'!$A$2:$D$411, 3, FALSE))","v":"m3"},{"$f":"IF($E255=0, \" \", VLOOKUP($E255, 'Cenovnik 2'!$A$2:$D$411, 4, FALSE))","v":2547.6999999999998},54,137575.79999999999,"Ul","08","ДА","Некатегорисани пут\nСемче кп.бр.1081 кп.бр.3264",null,null,null,{"$f":"IF($C255=0, \" \", VLOOKUP($C255, DrzavniPuteviRed, 2, FALSE))","v":{"$error":"#NAME?"}},82,"82",{"$f":"IF(VLOOKUP($E255,[0]!ProveraPDV,2,FALSE)=TRUE,$J255,)","v":137575.79999999999},{"$f":"IF(VLOOKUP($E255,liste!$A$31:$B$818,2,FALSE)=TRUE,#REF!,)","v":{"$error":"#REF!"}},{"$error":"#NAME?"},{"$f":"INDEX('Cenovnik 2'!$G$2:$G$411,MATCH('Plan unos i pregled'!$E255,Pozicije,0))","v":"nebitno"}]
["2025.","ЈУН","Улице","Велики Вртоп - Љубомира Јовановића","8.29",{"$f":"IF($E256=0, \" \", VLOOKUP($E256, 'Cenovnik 2'!$A$2:$D$411, 2, FALSE))","v":"Набавка дробљеног кречњачког каменог агрегата фракције 0-31,5 mm "},{"$f":"IF($E256=0, \" \", VLOOKUP($E256, 'Cenovnik 2'!$A$2:$D$411, 3, FALSE))","v":"t"},{"$f":"IF($E256=0, \" \", VLOOKUP($E256, 'Cenovnik 2'!$A$2:$D$411, 4, FALSE))","v":645},270,174150,"Ul","08","ДА"," Велики Вртоп \n кп.бр.2242 кп.бр.4783",null,null,null,{"$f":"IF($C256=0, \" \", VLOOKUP($C256, DrzavniPuteviRed, 2, FALSE))","v":{"$error":"#NAME?"}},829,"829",{"$f":"IF(VLOOKUP($E256,[0]!ProveraPDV,2,FALSE)=TRUE,$J256,)","v":174150},{"$f":"IF(VLOOKUP($E256,liste!$A$31:$B$818,2,FALSE)=TRUE,#REF!,)","v":{"$error":"#REF!"}},{"$error":"#NAME?"},{"$f":"INDEX('Cenovnik 2'!$G$2:$G$411,MATCH('Plan unos i pregled'!$E256,Pozicije,0))","v":"nebitno"},null,"za JUL"]
["2025.","ЈУН","Улице","Велики Вртоп - Љубомира Јовановића","9.1.1",{"$f":"IF($E257=0, \" \", VLOOKUP($E257, 'Cenovnik 2'!$A$2:$D$411, 2, FALSE))","v":"Камион носивости од 8 - 25 тона до 3 km"},{"$f":"IF($E257=0, \" \", VLOOKUP($E257, 'Cenovnik 2'!$A$2:$D$411, 3, FALSE))","v":"t"},{"$f":"IF($E257=0, \" \", VLOOKUP($E257, 'Cenovnik 2'!$A$2:$D$411, 4, FALSE))","v":288.36},270,77857.2,"Ul","09","ДА"," Велики Вртоп\n кп.2242 кп.бр..4783",null,null,null,{"$f":"IF($C257=0, \" \", VLOOKUP($C257, DrzavniPuteviRed, 2, FALSE))","v":{"$error":"#NAME?"}},911,"911",{"$f":"IF(VLOOKUP($E257,[0]!ProveraPDV,2,FALSE)=TRUE,$J257,)","v":77857.2},{"$f":"IF(VLOOKUP($E257,liste!$A$31:$B$818,2,FALSE)=TRUE,#REF!,)","v":{"$error":"#REF!"}},{"$error":"#NAME?"},{"$f":"INDEX('Cenovnik 2'!$G$2:$G$411,MATCH('Plan unos i pregled'!$E257,Pozicije,0))","v":"nebitno"}]
["2025.","ЈУН","Улице","Велики Вртоп - Љубомира Јовановића","8.2",{"$f":"IF($E258=0, \" \", VLOOKUP($E258, 'Cenovnik 2'!$A$2:$D$411, 2, FALSE))","v":"Поправка неасвалтираног каменог застора брдском дробином из сипара или шљунком са спрудишта.\nЦена обухвата: машинско прикупљање материјала, риљање старог застора, разастирање, планирање дробљеног каменог агрегата и сабијање ваљком уз потребно квашење. Превоз материјала и менаизације се обрачунава посебно."},{"$f":"IF($E258=0, \" \", VLOOKUP($E258, 'Cenovnik 2'!$A$2:$D$411, 3, FALSE))","v":"m3"},{"$f":"IF($E258=0, \" \", VLOOKUP($E258, 'Cenovnik 2'!$A$2:$D$411, 4, FALSE))","v":2547.6999999999998},180,458585.99999999994,"Ul","08","ДА"," Велики Вртоп \n кп.бр.2242 кп.бр.4783",null,null,null,{"$f":"IF($C258=0, \" \", VLOOKUP($C258, DrzavniPuteviRed, 2, FALSE))","v":{"$error":"#NAME?"}},82,"82",{"$f":"IF(VLOOKUP($E258,[0]!ProveraPDV,2,FALSE)=TRUE,$J258,)","v":458585.99999999994},{"$f":"IF(VLOOKUP($E258,liste!$A$31:$B$818,2,FALSE)=TRUE,#REF!,)","v":{"$error":"#REF!"}},{"$error":"#NAME?"},{"$f":"INDEX('Cenovnik 2'!$G$2:$G$411,MATCH('Plan unos i pregled'!$E258,Pozicije,0))","v":"nebitno"}]
["2025.","ЈУН","Улице","Гаџин Хан - Свети Никола","8.29",{"$f":"IF($E259=0, \" \", VLOOKUP($E259, 'Cenovnik 2'!$A$2:$D$411, 2, FALSE))","v":"Набавка дробљеног кречњачког каменог агрегата фракције 0-31,5 mm "},{"$f":"IF($E259=0, \" \", VLOOKUP($E259, 'Cenovnik 2'!$A$2:$D$411, 3, FALSE))","v":"t"},{"$f":"IF($E259=0, \" \", VLOOKUP($E259, 'Cenovnik 2'!$A$2:$D$411, 4, FALSE))","v":645},27,17415,"Ul","08","ДА","\nГ. Хан кп.бр. 6168",null,null,null,{"$f":"IF($C259=0, \" \", VLOOKUP($C259, DrzavniPuteviRed, 2, FALSE))","v":{"$error":"#NAME?"}},829,"829",{"$f":"IF(VLOOKUP($E259,[0]!ProveraPDV,2,FALSE)=TRUE,$J259,)","v":17415},{"$f":"IF(VLOOKUP($E259,liste!$A$31:$B$818,2,FALSE)=TRUE,#REF!,)","v":{"$error":"#REF!"}},{"$error":"#NAME?"},{"$f":"INDEX('Cenovnik 2'!$G$2:$G$411,MATCH('Plan unos i pregled'!$E259,Pozicije,0))","v":"nebitno"}]
["2025.","ЈУН","Улице","Гаџин Хан - Свети Никола","9.1.1",{"$f":"IF($E260=0, \" \", VLOOKUP($E260, 'Cenovnik 2'!$A$2:$D$411, 2, FALSE))","v":"Камион носивости од 8 - 25 тона до 3 km"},{"$f":"IF($E260=0, \" \", VLOOKUP($E260, 'Cenovnik 2'!$A$2:$D$411, 3, FALSE))","v":"t"},{"$f":"IF($E260=0, \" \", VLOOKUP($E260, 'Cenovnik 2'!$A$2:$D$411, 4, FALSE))","v":288.36},27,7785.72,"Ul","09","ДА","\nГ.Хан кп.бр. 6168",null,null,null,{"$f":"IF($C260=0, \" \", VLOOKUP($C260, DrzavniPuteviRed, 2, FALSE))","v":{"$error":"#NAME?"}},911,"911",{"$f":"IF(VLOOKUP($E260,[0]!ProveraPDV,2,FALSE)=TRUE,$J260,)","v":7785.72},{"$f":"IF(VLOOKUP($E260,liste!$A$31:$B$818,2,FALSE)=TRUE,#REF!,)","v":{"$error":"#REF!"}},{"$error":"#NAME?"},{"$f":"INDEX('Cenovnik 2'!$G$2:$G$411,MATCH('Plan unos i pregled'!$E260,Pozicije,0))","v":"nebitno"}]
["2025.","ЈУН","Улице","Гаџин Хан - Свети Никола","8.2",{"$f":"IF($E261=0, \" \", VLOOKUP($E261, 'Cenovnik 2'!$A$2:$D$411, 2, FALSE))","v":"Поправка неасвалтираног каменог застора брдском дробином из сипара или шљунком са спрудишта.\nЦена обухвата: машинско прикупљање материјала, риљање старог застора, разастирање, планирање дробљеног каменог агрегата и сабијање ваљком уз потребно квашење. Превоз материјала и менаизације се обрачунава посебно."},{"$f":"IF($E261=0, \" \", VLOOKUP($E261, 'Cenovnik 2'!$A$2:$D$411, 3, FALSE))","v":"m3"},{"$f":"IF($E261=0, \" \", VLOOKUP($E261, 'Cenovnik 2'!$A$2:$D$411, 4, FALSE))","v":2547.6999999999998},18,45858.6,"Ul","08","ДА","\nГ.Хан кп.бр 6168",null,null,null,{"$f":"IF($C261=0, \" \", VLOOKUP($C261, DrzavniPuteviRed, 2, FALSE))","v":{"$error":"#NAME?"}},82,"82",{"$f":"IF(VLOOKUP($E261,[0]!ProveraPDV,2,FALSE)=TRUE,$J261,)","v":45858.6},{"$f":"IF(VLOOKUP($E261,liste!$A$31:$B$818,2,FALSE)=TRUE,#REF!,)","v":{"$error":"#REF!"}},{"$error":"#NAME?"},{"$f":"INDEX('Cenovnik 2'!$G$2:$G$411,MATCH('Plan unos i pregled'!$E261,Pozicije,0))","v":"nebitno"}]
["2025.","ЈУН","Фудбалски терени","Гаџин Хан-Фудбалски терен: П1-9100","4.12",{"$f":"IF($E262=0, \" \", VLOOKUP($E262, 'Cenovnik 2'!$A$2:$D$411, 2, FALSE))","v":"Поливање травњака (ценом није обухваћен рад радника)"},{"$f":"IF($E262=0, \" \", VLOOKUP($E262, 'Cenovnik 2'!$A$2:$D$411, 3, FALSE))","v":"m2"},{"$f":"IF($E262=0, \" \", VLOOKUP($E262, 'Cenovnik 2'!$A$2:$D$411, 4, FALSE))","v":3.1},272700,845370,"FT","04","ДА","1 x dan",null,null,null,{"$f":"IF($C262=0, \" \", VLOOKUP($C262, DrzavniPuteviRed, 2, FALSE))","v":{"$error":"#NAME?"}},412,"412",{"$f":"IF(VLOOKUP($E262,[0]!ProveraPDV,2,FALSE)=TRUE,$J262,)","v":{"$error":"#N/A"}},{"$f":"IF(VLOOKUP($E262,liste!$A$31:$B$818,2,FALSE)=TRUE,#REF!,)","v":{"$error":"#N/A"}},{"$error":"#NAME?"},{"$f":"INDEX('Cenovnik 2'!$G$2:$G$411,MATCH('Plan unos i pregled'!$E262,Pozicije,0))","v":"nebitno"}]
[null,null,null,null,null,{"$f":"IF($E263=0, \" \", VLOOKUP($E263, 'Cenovnik 2'!$A$2:$D$411, 2, FALSE))","v":" "},{"$f":"IF($E263=0, \" \", VLOOKUP($E263, 'Cenovnik 2'!$A$2:$D$411, 3, FALSE))","v":" "},{"$f":"IF($E263=0, \" \", VLOOKUP($E263, 'Cenovnik 2'!$A$2:$D$411, 4, FALSE))","v":" "},null,"-","","","ДА",null,null,null,null,{"$f":"IF($C263=0, \" \", VLOOKUP($C263, DrzavniPuteviRed, 2, FALSE))","v":" "}," "," ",{"$f":"IF(VLOOKUP($E263,[0]!ProveraPDV,2,FALSE)=TRUE,$J263,)","v":{"$error":"#N/A"}},{"$f":"IF(VLOOKUP($E263,liste!$A$31:$B$818,2,FALSE)=TRUE,#REF!,)","v":{"$error":"#N/A"}}," -",{"$f":"INDEX('Cenovnik 2'!$G$2:$G$411,MATCH('Plan unos i pregled'!$E263,Pozicije,0))","v":{"$error":"#N/A"}}]
[null,null,null,null,null,{"$f":"IF($E264=0, \" \", VLOOKUP($E264, 'Cenovnik 2'!$A$2:$D$411, 2, FALSE))","v":" "},{"$f":"IF($E264=0, \" \", VLOOKUP($E264, 'Cenovnik 2'!$A$2:$D$411, 3, FALSE))","v":" "},{"$f":"IF($E264=0, \" \", VLOOKUP($E264, 'Cenovnik 2'!$A$2:$D$411, 4, FALSE))","v":" "},null,"-","","","ДА",null,null,null,null,{"$f":"IF($C264=0, \" \", VLOOKUP($C264, DrzavniPuteviRed, 2, FALSE))","v":" "}," "," ",{"$f":"IF(VLOOKUP($E264,[0]!ProveraPDV,2,FALSE)=TRUE,$J264,)","v":{"$error":"#N/A"}},{"$f":"IF(VLOOKUP($E264,liste!$A$31:$B$818,2,FALSE)=TRUE,#REF!,)","v":{"$error":"#N/A"}}," -",{"$f":"INDEX('Cenovnik 2'!$G$2:$G$411,MATCH('Plan unos i pregled'!$E264,Pozicije,0))","v":{"$error":"#N/A"}}]
[null,null,null,null,null,{"$f":"IF($E265=0, \" \", VLOOKUP($E265, 'Cenovnik 2'!$A$2:$D$411, 2, FALSE))","v":" "},{"$f":"IF($E265=0, \" \", VLOOKUP($E265, 'Cenovnik 2'!$A$2:$D$411, 3, FALSE))","v":" "},{"$f":"IF($E265=0, \" \", VLOOKUP($E265, 'Cenovnik 2'!$A$2:$D$411, 4, FALSE))","v":" "},null,"-","","","ДА",null,null,null,null,{"$f":"IF($C265=0, \" \", VLOOKUP($C265, DrzavniPuteviRed, 2, FALSE))","v":" "}," "," ",{"$f":"IF(VLOOKUP($E265,[0]!ProveraPDV,2,FALSE)=TRUE,$J265,)","v":{"$error":"#N/A"}},{"$f":"IF(VLOOKUP($E265,liste!$A$31:$B$818,2,FALSE)=TRUE,#REF!,)","v":{"$error":"#N/A"}}," -",{"$f":"INDEX('Cenovnik 2'!$G$2:$G$411,MATCH('Plan unos i pregled'!$E265,Pozicije,0))","v":{"$error":"#N/A"}}]
[null,null,null,null,null,{"$f":"IF($E266=0, \" \", VLOOKUP($E266, 'Cenovnik 2'!$A$2:$D$411, 2, FALSE))","v":" "},{"$f":"IF($E266=0, \" \", VLOOKUP($E266, 'Cenovnik 2'!$A$2:$D$411, 3, FALSE))","v":" "},{"$f":"IF($E266=0, \" \", VLOOKUP($E266, 'Cenovnik 2'!$A$2:$D$411, 4, FALSE))","v":" "},null,"-","","","ДА",null,null,null,null,{"$f":"IF($C266=0, \" \", VLOOKUP($C266, DrzavniPuteviRed, 2, FALSE))","v":" "}," "," ",{"$f":"IF(VLOOKUP($E266,[0]!ProveraPDV,2,FALSE)=TRUE,$J266,)","v":{"$error":"#N/A"}},{"$f":"IF(VLOOKUP($E266,liste!$A$31:$B$818,2,FALSE)=TRUE,#REF!,)","v":{"$error":"#N/A"}}," -",{"$f":"INDEX('Cenovnik 2'!$G$2:$G$411,MATCH('Plan unos i pregled'!$E266,Pozicije,0))","v":{"$error":"#N/A"}}]
["2025.","ЈУН","Улице","Горње Власе - Некатегорисан пут","8.29",{"$f":"IF($E267=0, \" \", VLOOKUP($E267, 'Cenovnik 2'!$A$2:$D$411, 2, FALSE))","v":"Набавка дробљеног кречњачког каменог агрегата фракције 0-31,5 mm "},{"$f":"IF($E267=0, \" \", VLOOKUP($E267, 'Cenovnik 2'!$A$2:$D$411, 3, FALSE))","v":"t"},{"$f":"IF($E267=0, \" \", VLOOKUP($E267, 'Cenovnik 2'!$A$2:$D$411, 4, FALSE))","v":645},208,134160,"Ul","08","ДА","Некатегорисани пут\nГорње Власе кп.бр.637",null,null,null,{"$f":"IF($C267=0, \" \", VLOOKUP($C267, DrzavniPuteviRed, 2, FALSE))","v":{"$error":"#NAME?"}},829,"829",{"$f":"IF(VLOOKUP($E267,[0]!ProveraPDV,2,FALSE)=TRUE,$J267,)","v":134160},{"$f":"IF(VLOOKUP($E267,liste!$A$31:$B$818,2,FALSE)=TRUE,#REF!,)","v":{"$error":"#REF!"}},{"$error":"#NAME?"},{"$f":"INDEX('Cenovnik 2'!$G$2:$G$411,MATCH('Plan unos i pregled'!$E267,Pozicije,0))","v":"nebitno"}]
["2025.","ЈУН","Улице","Горње Власе - Некатегорисан пут","9.1.8",{"$f":"IF($E268=0, \" \", VLOOKUP($E268, 'Cenovnik 2'!$A$2:$D$411, 2, FALSE))","v":"Камион носивости од 8 - 25 тона 40-45 km"},{"$f":"IF($E268=0, \" \", VLOOKUP($E268, 'Cenovnik 2'!$A$2:$D$411, 3, FALSE))","v":"t"},{"$f":"IF($E268=0, \" \", VLOOKUP($E268, 'Cenovnik 2'!$A$2:$D$411, 4, FALSE))","v":792.74},208,164889.92000000001,"Ul","09","ДА","Некатегорисани пут\nГорње Власе кп.бр.637",null,null,null,{"$f":"IF($C268=0, \" \", VLOOKUP($C268, DrzavniPuteviRed, 2, FALSE))","v":{"$error":"#NAME?"}},918,"918",{"$f":"IF(VLOOKUP($E268,[0]!ProveraPDV,2,FALSE)=TRUE,$J268,)","v":{"$error":"#N/A"}},{"$f":"IF(VLOOKUP($E268,liste!$A$31:$B$818,2,FALSE)=TRUE,#REF!,)","v":{"$error":"#N/A"}},{"$error":"#NAME?"},{"$f":"INDEX('Cenovnik 2'!$G$2:$G$411,MATCH('Plan unos i pregled'!$E268,Pozicije,0))","v":"nebitno"}]
["2025.","ЈУН","Улице","Горње Власе - Некатегорисан пут","8.2",{"$f":"IF($E269=0, \" \", VLOOKUP($E269, 'Cenovnik 2'!$A$2:$D$411, 2, FALSE))","v":"Поправка неасвалтираног каменог застора брдском дробином из сипара или шљунком са спрудишта.\nЦена обухвата: машинско прикупљање материјала, риљање старог застора, разастирање, планирање дробљеног каменог агрегата и сабијање ваљком уз потребно квашење. Превоз материјала и менаизације се обрачунава посебно."},{"$f":"IF($E269=0, \" \", VLOOKUP($E269, 'Cenovnik 2'!$A$2:$D$411, 3, FALSE))","v":"m3"},{"$f":"IF($E269=0, \" \", VLOOKUP($E269, 'Cenovnik 2'!$A$2:$D$411, 4, FALSE))","v":2547.6999999999998},138.38999999999999,352576.20299999992,"Ul","08","ДА","Некатегорисани пут\nГорње Власе кп.бр.637",null,null,null,{"$f":"IF($C269=0, \" \", VLOOKUP($C269, DrzavniPuteviRed, 2, FALSE))","v":{"$error":"#NAME?"}},82,"82",{"$f":"IF(VLOOKUP($E269,[0]!ProveraPDV,2,FALSE)=TRUE,$J269,)","v":352576.20299999992},{"$f":"IF(VLOOKUP($E269,liste!$A$31:$B$818,2,FALSE)=TRUE,#REF!,)","v":{"$error":"#REF!"}},{"$error":"#NAME?"},{"$f":"INDEX('Cenovnik 2'!$G$2:$G$411,MATCH('Plan unos i pregled'!$E269,Pozicije,0))","v":"nebitno"}]
["2025.","ЈУН","Улице","Велики Вртоп - Некатегорисан пут","8.29",{"$f":"IF($E270=0, \" \", VLOOKUP($E270, 'Cenovnik 2'!$A$2:$D$411, 2, FALSE))","v":"Набавка дробљеног кречњачког каменог агрегата фракције 0-31,5 mm "},{"$f":"IF($E270=0, \" \", VLOOKUP($E270, 'Cenovnik 2'!$A$2:$D$411, 3, FALSE))","v":"t"},{"$f":"IF($E270=0, \" \", VLOOKUP($E270, 'Cenovnik 2'!$A$2:$D$411, 4, FALSE))","v":645},27,17415,"Ul","08","ДА","Некатегорисани пут \n Велики Вртоп \n кп.бр.808",null,null,null,{"$f":"IF($C270=0, \" \", VLOOKUP($C270, DrzavniPuteviRed, 2, FALSE))","v":{"$error":"#NAME?"}},829,"829",{"$f":"IF(VLOOKUP($E270,[0]!ProveraPDV,2,FALSE)=TRUE,$J270,)","v":17415},{"$f":"IF(VLOOKUP($E270,liste!$A$31:$B$818,2,FALSE)=TRUE,#REF!,)","v":{"$error":"#REF!"}},{"$error":"#NAME?"},{"$f":"INDEX('Cenovnik 2'!$G$2:$G$411,MATCH('Plan unos i pregled'!$E270,Pozicije,0))","v":"nebitno"}]
["2025.","ЈУН","Улице","Велики Вртоп - Некатегорисан пут","9.1.8",{"$f":"IF($E271=0, \" \", VLOOKUP($E271, 'Cenovnik 2'!$A$2:$D$411, 2, FALSE))","v":"Камион носивости од 8 - 25 тона 40-45 km"},{"$f":"IF($E271=0, \" \", VLOOKUP($E271, 'Cenovnik 2'!$A$2:$D$411, 3, FALSE))","v":"t"},{"$f":"IF($E271=0, \" \", VLOOKUP($E271, 'Cenovnik 2'!$A$2:$D$411, 4, FALSE))","v":792.74},27,21403.98,"Ul","09","ДА","Некатегорисани пут \n Велики Вртоп \n кп.бр.808",null,null,null,{"$f":"IF($C271=0, \" \", VLOOKUP($C271, DrzavniPuteviRed, 2, FALSE))","v":{"$error":"#NAME?"}},918,"918",{"$f":"IF(VLOOKUP($E271,[0]!ProveraPDV,2,FALSE)=TRUE,$J271,)","v":{"$error":"#N/A"}},{"$f":"IF(VLOOKUP($E271,liste!$A$31:$B$818,2,FALSE)=TRUE,#REF!,)","v":{"$error":"#N/A"}},{"$error":"#NAME?"},{"$f":"INDEX('Cenovnik 2'!$G$2:$G$411,MATCH('Plan unos i pregled'!$E271,Pozicije,0))","v":"nebitno"}]
["2025.","ЈУН","Улице","Велики Вртоп - Некатегорисан пут","8.2",{"$f":"IF($E272=0, \" \", VLOOKUP($E272, 'Cenovnik 2'!$A$2:$D$411, 2, FALSE))","v":"Поправка неасвалтираног каменог застора брдском дробином из сипара или шљунком са спрудишта.\nЦена обухвата: машинско прикупљање материјала, риљање старог застора, разастирање, планирање дробљеног каменог агрегата и сабијање ваљком уз потребно квашење. Превоз материјала и менаизације се обрачунава посебно."},{"$f":"IF($E272=0, \" \", VLOOKUP($E272, 'Cenovnik 2'!$A$2:$D$411, 3, FALSE))","v":"m3"},{"$f":"IF($E272=0, \" \", VLOOKUP($E272, 'Cenovnik 2'!$A$2:$D$411, 4, FALSE))","v":2547.6999999999998},18,45858.6,"Ul","08","ДА","Некатегорисани пут \n Велики Вртоп \n кп.бр.808",null,null,null,{"$f":"IF($C272=0, \" \", VLOOKUP($C272, DrzavniPuteviRed, 2, FALSE))","v":{"$error":"#NAME?"}},82,"82",{"$f":"IF(VLOOKUP($E272,[0]!ProveraPDV,2,FALSE)=TRUE,$J272,)","v":45858.6},{"$f":"IF(VLOOKUP($E272,liste!$A$31:$B$818,2,FALSE)=TRUE,#REF!,)","v":{"$error":"#REF!"}},{"$error":"#NAME?"},{"$f":"INDEX('Cenovnik 2'!$G$2:$G$411,MATCH('Plan unos i pregled'!$E272,Pozicije,0))","v":"nebitno"}]
["2025.","ЈУН","Улице","Горње Власе - Некатегорисан пут","8.2",{"$f":"IF($E273=0, \" \", VLOOKUP($E273, 'Cenovnik 2'!$A$2:$D$411, 2, FALSE))","v":"Поправка неасвалтираног каменог застора брдском дробином из сипара или шљунком са спрудишта.\nЦена обухвата: машинско прикупљање материјала, риљање старог застора, разастирање, планирање дробљеног каменог агрегата и сабијање ваљком уз потребно квашење. Превоз материјала и менаизације се обрачунава посебно."},{"$f":"IF($E273=0, \" \", VLOOKUP($E273, 'Cenovnik 2'!$A$2:$D$411, 3, FALSE))","v":"m3"},{"$f":"IF($E273=0, \" \", VLOOKUP($E273, 'Cenovnik 2'!$A$2:$D$411, 4, FALSE))","v":2547.6999999999998},27,68787.899999999994,"Ul","08","ДА","Некатегорисани пут Горње Власе кп.бр.946",null,null,null,{"$f":"IF($C273=0, \" \", VLOOKUP($C273, DrzavniPuteviRed, 2, FALSE))","v":{"$error":"#NAME?"}},82,"82",{"$f":"IF(VLOOKUP($E273,[0]!ProveraPDV,2,FALSE)=TRUE,$J273,)","v":68787.899999999994},{"$f":"IF(VLOOKUP($E273,liste!$A$31:$B$818,2,FALSE)=TRUE,#REF!,)","v":{"$error":"#REF!"}},{"$error":"#NAME?"},{"$f":"INDEX('Cenovnik 2'!$G$2:$G$411,MATCH('Plan unos i pregled'!$E273,Pozicije,0))","v":"nebitno"}]
["2025.","ЈУН","Општински путеви","ОП 136-3 - Гаџин Хан - Копривница","16.2",{"$f":"IF($E274=0, \" \", VLOOKUP($E274, 'Cenovnik 2'!$A$2:$D$411, 2, FALSE))","v":"Набавка материјала за крпљење ударних рупа"},{"$f":"IF($E274=0, \" \", VLOOKUP($E274, 'Cenovnik 2'!$A$2:$D$411, 3, FALSE))","v":"дин"},{"$f":"IF($E274=0, \" \", VLOOKUP($E274, 'Cenovnik 2'!$A$2:$D$411, 4, FALSE))","v":33200},1,33200,"OP","16","ДА","2 набава",null,null,null,{"$f":"IF($C274=0, \" \", VLOOKUP($C274, DrzavniPuteviRed, 2, FALSE))","v":{"$error":"#NAME?"}},162,"162",{"$f":"IF(VLOOKUP($E274,[0]!ProveraPDV,2,FALSE)=TRUE,$J274,)","v":33200},{"$f":"IF(VLOOKUP($E274,liste!$A$31:$B$818,2,FALSE)=TRUE,#REF!,)","v":{"$error":"#REF!"}},{"$error":"#NAME?"},{"$f":"INDEX('Cenovnik 2'!$G$2:$G$411,MATCH('Plan unos i pregled'!$E274,Pozicije,0))","v":"nebitno"}]
["2025.","ЈУН","Улице","Гаџин Хан - Светог Саве","16.3",{"$f":"IF($E275=0, \" \", VLOOKUP($E275, 'Cenovnik 2'!$A$2:$D$411, 2, FALSE))","v":"Набавка материјала за израду ударних рупа"},{"$f":"IF($E275=0, \" \", VLOOKUP($E275, 'Cenovnik 2'!$A$2:$D$411, 3, FALSE))","v":"дин"},{"$f":"IF($E275=0, \" \", VLOOKUP($E275, 'Cenovnik 2'!$A$2:$D$411, 4, FALSE))","v":8000},1,8000,"Ul","16","ДА","2 набава",null,null,null,{"$f":"IF($C275=0, \" \", VLOOKUP($C275, DrzavniPuteviRed, 2, FALSE))","v":{"$error":"#NAME?"}},163,"163",{"$f":"IF(VLOOKUP($E275,[0]!ProveraPDV,2,FALSE)=TRUE,$J275,)","v":8000},{"$f":"IF(VLOOKUP($E275,liste!$A$31:$B$818,2,FALSE)=TRUE,#REF!,)","v":{"$error":"#REF!"}},{"$error":"#NAME?"},{"$f":"INDEX('Cenovnik 2'!$G$2:$G$411,MATCH('Plan unos i pregled'!$E275,Pozicije,0))","v":"nebitno"}]
["2025.","ЈУН","Општински путеви","ОП 136-3 - Гаџин Хан - Копривница","16.4",{"$f":"IF($E276=0, \" \", VLOOKUP($E276, 'Cenovnik 2'!$A$2:$D$411, 2, FALSE))","v":"Ручно уграђивање бетона малих пресека на м2 или м конструкциј са квашењем бетона и превозом бетона аутомешалицом на 30км"},{"$f":"IF($E276=0, \" \", VLOOKUP($E276, 'Cenovnik 2'!$A$2:$D$411, 3, FALSE))","v":"м2"},{"$f":"IF($E276=0, \" \", VLOOKUP($E276, 'Cenovnik 2'!$A$2:$D$411, 4, FALSE))","v":5524.17},42.05,232291.34849999999,"OP","16","ДА","2 ручноа",null,null,null,{"$f":"IF($C276=0, \" \", VLOOKUP($C276, DrzavniPuteviRed, 2, FALSE))","v":{"$error":"#NAME?"}},164,"164",{"$f":"IF(VLOOKUP($E276,[0]!ProveraPDV,2,FALSE)=TRUE,$J276,)","v":232291.34849999999},{"$f":"IF(VLOOKUP($E276,liste!$A$31:$B$818,2,FALSE)=TRUE,#REF!,)","v":{"$error":"#REF!"}},{"$error":"#NAME?"},{"$f":"INDEX('Cenovnik 2'!$G$2:$G$411,MATCH('Plan unos i pregled'!$E276,Pozicije,0))","v":"nebitno"}]
["2025.","ЈУН","Улице","Гаџин Хан - Светог Саве","16.4",{"$f":"IF($E277=0, \" \", VLOOKUP($E277, 'Cenovnik 2'!$A$2:$D$411, 2, FALSE))","v":"Ручно уграђивање бетона малих пресека на м2 или м конструкциј са квашењем бетона и превозом бетона аутомешалицом на 30км"},{"$f":"IF($E277=0, \" \", VLOOKUP($E277, 'Cenovnik 2'!$A$2:$D$411, 3, FALSE))","v":"м2"},{"$f":"IF($E277=0, \" \", VLOOKUP($E277, 'Cenovnik 2'!$A$2:$D$411, 4, FALSE))","v":5524.17},9.4700000000000006,52313.889900000002,"Ul","16","ДА","2 ручноа",null,null,null,{"$f":"IF($C277=0, \" \", VLOOKUP($C277, DrzavniPuteviRed, 2, FALSE))","v":{"$error":"#NAME?"}},164,"164",{"$f":"IF(VLOOKUP($E277,[0]!ProveraPDV,2,FALSE)=TRUE,$J277,)","v":52313.889900000002},{"$f":"IF(VLOOKUP($E277,liste!$A$31:$B$818,2,FALSE)=TRUE,#REF!,)","v":{"$error":"#REF!"}},{"$error":"#NAME?"},{"$f":"INDEX('Cenovnik 2'!$G$2:$G$411,MATCH('Plan unos i pregled'!$E277,Pozicije,0))","v":"nebitno"}]
["2025.","ЈУН","Општински путеви","ОП 136-20 - Гркиња - Горње Власе","4.7",{"$f":"IF($E278=0, \" \", VLOOKUP($E278, 'Cenovnik 2'!$A$2:$D$411, 2, FALSE))","v":"Кошење траве са банкина самоходном моторном косачицом"},{"$f":"IF($E278=0, \" \", VLOOKUP($E278, 'Cenovnik 2'!$A$2:$D$411, 3, FALSE))","v":"m2"},{"$f":"IF($E278=0, \" \", VLOOKUP($E278, 'Cenovnik 2'!$A$2:$D$411, 4, FALSE))","v":3.99},8150,32518.5,"OP","04","ДА","2 кошења",null,null,null,{"$f":"IF($C278=0, \" \", VLOOKUP($C278, DrzavniPuteviRed, 2, FALSE))","v":{"$error":"#NAME?"}},47,"47",{"$f":"IF(VLOOKUP($E278,[0]!ProveraPDV,2,FALSE)=TRUE,$J278,)","v":{"$error":"#N/A"}},{"$f":"IF(VLOOKUP($E278,liste!$A$31:$B$818,2,FALSE)=TRUE,#REF!,)","v":{"$error":"#N/A"}},{"$error":"#NAME?"},{"$f":"INDEX('Cenovnik 2'!$G$2:$G$411,MATCH('Plan unos i pregled'!$E278,Pozicije,0))","v":"nebitno"}]
["2025.","ЈУН","Општински путеви","ОП 136-20 - Гркиња - Горње Власе","4.22",{"$f":"IF($E279=0, \" \", VLOOKUP($E279, 'Cenovnik 2'!$A$2:$D$411, 2, FALSE))","v":"Сечење густог шибља преко 50 ком на m²"},{"$f":"IF($E279=0, \" \", VLOOKUP($E279, 'Cenovnik 2'!$A$2:$D$411, 3, FALSE))","v":"m2"},{"$f":"IF($E279=0, \" \", VLOOKUP($E279, 'Cenovnik 2'!$A$2:$D$411, 4, FALSE))","v":60},1320,79200,"OP","04","ДА","2 сечења",null,null,null,{"$f":"IF($C279=0, \" \", VLOOKUP($C279, DrzavniPuteviRed, 2, FALSE))","v":{"$error":"#NAME?"}},422,"422",{"$f":"IF(VLOOKUP($E279,[0]!ProveraPDV,2,FALSE)=TRUE,$J279,)","v":{"$error":"#N/A"}},{"$f":"IF(VLOOKUP($E279,liste!$A$31:$B$818,2,FALSE)=TRUE,#REF!,)","v":{"$error":"#N/A"}},{"$error":"#NAME?"},{"$f":"INDEX('Cenovnik 2'!$G$2:$G$411,MATCH('Plan unos i pregled'!$E279,Pozicije,0))","v":"nebitno"},null,"plaćeno"]
["2025.","ЈУН","Улице","Горње Власе - Некатегорисан пут","8.29",{"$f":"IF($E280=0, \" \", VLOOKUP($E280, 'Cenovnik 2'!$A$2:$D$411, 2, FALSE))","v":"Набавка дробљеног кречњачког каменог агрегата фракције 0-31,5 mm "},{"$f":"IF($E280=0, \" \", VLOOKUP($E280, 'Cenovnik 2'!$A$2:$D$411, 3, FALSE))","v":"t"},{"$f":"IF($E280=0, \" \", VLOOKUP($E280, 'Cenovnik 2'!$A$2:$D$411, 4, FALSE))","v":645},40.5,26122.5,"Ul","08","ДА","Некатегорисани пут Горње Власе кп.бр.946",null,null,null,{"$f":"IF($C280=0, \" \", VLOOKUP($C280, DrzavniPuteviRed, 2, FALSE))","v":{"$error":"#NAME?"}},829,"829",{"$f":"IF(VLOOKUP($E280,[0]!ProveraPDV,2,FALSE)=TRUE,$J280,)","v":26122.5},{"$f":"IF(VLOOKUP($E280,liste!$A$31:$B$818,2,FALSE)=TRUE,#REF!,)","v":{"$error":"#REF!"}},{"$error":"#NAME?"},{"$f":"INDEX('Cenovnik 2'!$G$2:$G$411,MATCH('Plan unos i pregled'!$E280,Pozicije,0))","v":"nebitno"}]
["2025.","ЈУН","Улице","Горње Власе - Некатегорисан пут","9.1.8",{"$f":"IF($E281=0, \" \", VLOOKUP($E281, 'Cenovnik 2'!$A$2:$D$411, 2, FALSE))","v":"Камион носивости од 8 - 25 тона 40-45 km"},{"$f":"IF($E281=0, \" \", VLOOKUP($E281, 'Cenovnik 2'!$A$2:$D$411, 3, FALSE))","v":"t"},{"$f":"IF($E281=0, \" \", VLOOKUP($E281, 'Cenovnik 2'!$A$2:$D$411, 4, FALSE))","v":792.74},40.5,32105.97,"Ul","09","ДА","Некатегорисани пут Горње Власе кп.бр.946",null,null,null,{"$f":"IF($C281=0, \" \", VLOOKUP($C281, DrzavniPuteviRed, 2, FALSE))","v":{"$error":"#NAME?"}},918,"918",{"$f":"IF(VLOOKUP($E281,[0]!ProveraPDV,2,FALSE)=TRUE,$J281,)","v":{"$error":"#N/A"}},{"$f":"IF(VLOOKUP($E281,liste!$A$31:$B$818,2,FALSE)=TRUE,#REF!,)","v":{"$error":"#N/A"}},{"$error":"#NAME?"},{"$f":"INDEX('Cenovnik 2'!$G$2:$G$411,MATCH('Plan unos i pregled'!$E281,Pozicije,0))","v":"nebitno"}]
["2025.","ЈУН","Општински путеви","ОП 136-6 - Држ.пут II А  бр. 224 - Сопотница - Калетинац","4.22",{"$f":"IF($E282=0, \" \", VLOOKUP($E282, 'Cenovnik 2'!$A$2:$D$411, 2, FALSE))","v":"Сечење густог шибља преко 50 ком на m²"},{"$f":"IF($E282=0, \" \", VLOOKUP($E282, 'Cenovnik 2'!$A$2:$D$411, 3, FALSE))","v":"m2"},{"$f":"IF($E282=0, \" \", VLOOKUP($E282, 'Cenovnik 2'!$A$2:$D$411, 4, FALSE))","v":60},1012,60720,"OP","04","ДА","2 сечења",null,null,null,{"$f":"IF($C282=0, \" \", VLOOKUP($C282, DrzavniPuteviRed, 2, FALSE))","v":{"$error":"#NAME?"}},422,"422",{"$f":"IF(VLOOKUP($E282,[0]!ProveraPDV,2,FALSE)=TRUE,$J282,)","v":{"$error":"#N/A"}},{"$f":"IF(VLOOKUP($E282,liste!$A$31:$B$818,2,FALSE)=TRUE,#REF!,)","v":{"$error":"#N/A"}},{"$error":"#NAME?"},{"$f":"INDEX('Cenovnik 2'!$G$2:$G$411,MATCH('Plan unos i pregled'!$E282,Pozicije,0))","v":"nebitno"},null,"plaćeno"]
["2025.","ЈУН","Општински путеви","ОП 136-5 - Доњи Душник - Горњи Душник","4.22",{"$f":"IF($E283=0, \" \", VLOOKUP($E283, 'Cenovnik 2'!$A$2:$D$411, 2, FALSE))","v":"Сечење густог шибља преко 50 ком на m²"},{"$f":"IF($E283=0, \" \", VLOOKUP($E283, 'Cenovnik 2'!$A$2:$D$411, 3, FALSE))","v":"m2"},{"$f":"IF($E283=0, \" \", VLOOKUP($E283, 'Cenovnik 2'!$A$2:$D$411, 4, FALSE))","v":60},1632,97920,"OP","04","ДА","2 сечења",null,null,null,{"$f":"IF($C283=0, \" \", VLOOKUP($C283, DrzavniPuteviRed, 2, FALSE))","v":{"$error":"#NAME?"}},422,"422",{"$f":"IF(VLOOKUP($E283,[0]!ProveraPDV,2,FALSE)=TRUE,$J283,)","v":{"$error":"#N/A"}},{"$f":"IF(VLOOKUP($E283,liste!$A$31:$B$818,2,FALSE)=TRUE,#REF!,)","v":{"$error":"#N/A"}},{"$error":"#NAME?"},{"$f":"INDEX('Cenovnik 2'!$G$2:$G$411,MATCH('Plan unos i pregled'!$E283,Pozicije,0))","v":"nebitno"}]
["2025.","ЈУН","Општински путеви","ОП 136-32 - Миљковац - Горњи Душник","4.22",{"$f":"IF($E284=0, \" \", VLOOKUP($E284, 'Cenovnik 2'!$A$2:$D$411, 2, FALSE))","v":"Сечење густог шибља преко 50 ком на m²"},{"$f":"IF($E284=0, \" \", VLOOKUP($E284, 'Cenovnik 2'!$A$2:$D$411, 3, FALSE))","v":"m2"},{"$f":"IF($E284=0, \" \", VLOOKUP($E284, 'Cenovnik 2'!$A$2:$D$411, 4, FALSE))","v":60},560,33600,"OP","04","ДА","2 сечења",null,null,null,{"$f":"IF($C284=0, \" \", VLOOKUP($C284, DrzavniPuteviRed, 2, FALSE))","v":{"$error":"#NAME?"}},422,"422",{"$f":"IF(VLOOKUP($E284,[0]!ProveraPDV,2,FALSE)=TRUE,$J284,)","v":{"$error":"#N/A"}},{"$f":"IF(VLOOKUP($E284,liste!$A$31:$B$818,2,FALSE)=TRUE,#REF!,)","v":{"$error":"#N/A"}},{"$error":"#NAME?"},{"$f":"INDEX('Cenovnik 2'!$G$2:$G$411,MATCH('Plan unos i pregled'!$E284,Pozicije,0))","v":"nebitno"}]
["2025.","ЈУН","Општински путеви","ОП 136-7 - Држ.пут II А  бр. 224 - Доње Драговље","4.22",{"$f":"IF($E285=0, \" \", VLOOKUP($E285, 'Cenovnik 2'!$A$2:$D$411, 2, FALSE))","v":"Сечење густог шибља преко 50 ком на m²"},{"$f":"IF($E285=0, \" \", VLOOKUP($E285, 'Cenovnik 2'!$A$2:$D$411, 3, FALSE))","v":"m2"},{"$f":"IF($E285=0, \" \", VLOOKUP($E285, 'Cenovnik 2'!$A$2:$D$411, 4, FALSE))","v":60},1530,91800,"OP","04","ДА","2 сечења",null,null,null,{"$f":"IF($C285=0, \" \", VLOOKUP($C285, DrzavniPuteviRed, 2, FALSE))","v":{"$error":"#NAME?"}},422,"422",{"$f":"IF(VLOOKUP($E285,[0]!ProveraPDV,2,FALSE)=TRUE,$J285,)","v":{"$error":"#N/A"}},{"$f":"IF(VLOOKUP($E285,liste!$A$31:$B$818,2,FALSE)=TRUE,#REF!,)","v":{"$error":"#N/A"}},{"$error":"#NAME?"},{"$f":"INDEX('Cenovnik 2'!$G$2:$G$411,MATCH('Plan unos i pregled'!$E285,Pozicije,0))","v":"nebitno"}]
["2025.","ЈУН","Општински путеви","ОП 136-11 - Држ.пут II А  бр. 224 - Семче","4.22",{"$f":"IF($E286=0, \" \", VLOOKUP($E286, 'Cenovnik 2'!$A$2:$D$411, 2, FALSE))","v":"Сечење густог шибља преко 50 ком на m²"},{"$f":"IF($E286=0, \" \", VLOOKUP($E286, 'Cenovnik 2'!$A$2:$D$411, 3, FALSE))","v":"m2"},{"$f":"IF($E286=0, \" \", VLOOKUP($E286, 'Cenovnik 2'!$A$2:$D$411, 4, FALSE))","v":60},984,59040,"OP","04","ДА","2 сечења",null,null,null,{"$f":"IF($C286=0, \" \", VLOOKUP($C286, DrzavniPuteviRed, 2, FALSE))","v":{"$error":"#NAME?"}},422,"422",{"$f":"IF(VLOOKUP($E286,[0]!ProveraPDV,2,FALSE)=TRUE,$J286,)","v":{"$error":"#N/A"}},{"$f":"IF(VLOOKUP($E286,liste!$A$31:$B$818,2,FALSE)=TRUE,#REF!,)","v":{"$error":"#N/A"}},{"$error":"#NAME?"},{"$f":"INDEX('Cenovnik 2'!$G$2:$G$411,MATCH('Plan unos i pregled'!$E286,Pozicije,0))","v":"nebitno"},null,"plaćeno"]
["2025.","ЈУН","Општински путеви","ОП 136-35 - Семче - Мали Крчимир","4.22",{"$f":"IF($E287=0, \" \", VLOOKUP($E287, 'Cenovnik 2'!$A$2:$D$411, 2, FALSE))","v":"Сечење густог шибља преко 50 ком на m²"},{"$f":"IF($E287=0, \" \", VLOOKUP($E287, 'Cenovnik 2'!$A$2:$D$411, 3, FALSE))","v":"m2"},{"$f":"IF($E287=0, \" \", VLOOKUP($E287, 'Cenovnik 2'!$A$2:$D$411, 4, FALSE))","v":60},630,37800,"OP","04","ДА","2 сечења",null,null,null,{"$f":"IF($C287=0, \" \", VLOOKUP($C287, DrzavniPuteviRed, 2, FALSE))","v":{"$error":"#NAME?"}},422,"422",{"$f":"IF(VLOOKUP($E287,[0]!ProveraPDV,2,FALSE)=TRUE,$J287,)","v":{"$error":"#N/A"}},{"$f":"IF(VLOOKUP($E287,liste!$A$31:$B$818,2,FALSE)=TRUE,#REF!,)","v":{"$error":"#N/A"}},{"$error":"#NAME?"},{"$f":"INDEX('Cenovnik 2'!$G$2:$G$411,MATCH('Plan unos i pregled'!$E287,Pozicije,0))","v":"nebitno"},null,"plaćeno"]
["2025.","ЈУН","Општински путеви","ОП 136-38 - Мали Крчимир - Велики Крчимир","4.22",{"$f":"IF($E288=0, \" \", VLOOKUP($E288, 'Cenovnik 2'!$A$2:$D$411, 2, FALSE))","v":"Сечење густог шибља преко 50 ком на m²"},{"$f":"IF($E288=0, \" \", VLOOKUP($E288, 'Cenovnik 2'!$A$2:$D$411, 3, FALSE))","v":"m2"},{"$f":"IF($E288=0, \" \", VLOOKUP($E288, 'Cenovnik 2'!$A$2:$D$411, 4, FALSE))","v":60},900,54000,"OP","04","ДА","2 сечења",null,null,null,{"$f":"IF($C288=0, \" \", VLOOKUP($C288, DrzavniPuteviRed, 2, FALSE))","v":{"$error":"#NAME?"}},422,"422",{"$f":"IF(VLOOKUP($E288,[0]!ProveraPDV,2,FALSE)=TRUE,$J288,)","v":{"$error":"#N/A"}},{"$f":"IF(VLOOKUP($E288,liste!$A$31:$B$818,2,FALSE)=TRUE,#REF!,)","v":{"$error":"#N/A"}},{"$error":"#NAME?"},{"$f":"INDEX('Cenovnik 2'!$G$2:$G$411,MATCH('Plan unos i pregled'!$E288,Pozicije,0))","v":"nebitno"},null,"plaćeno"]
["2025.","ЈУН","Општински путеви","ОП 136-2 - Барје - Равна Дубрава","4.22",{"$f":"IF($E289=0, \" \", VLOOKUP($E289, 'Cenovnik 2'!$A$2:$D$411, 2, FALSE))","v":"Сечење густог шибља преко 50 ком на m²"},{"$f":"IF($E289=0, \" \", VLOOKUP($E289, 'Cenovnik 2'!$A$2:$D$411, 3, FALSE))","v":"m2"},{"$f":"IF($E289=0, \" \", VLOOKUP($E289, 'Cenovnik 2'!$A$2:$D$411, 4, FALSE))","v":60},1362,81720,"OP","04","ДА","2 сечења",null,null,null,{"$f":"IF($C289=0, \" \", VLOOKUP($C289, DrzavniPuteviRed, 2, FALSE))","v":{"$error":"#NAME?"}},422,"422",{"$f":"IF(VLOOKUP($E289,[0]!ProveraPDV,2,FALSE)=TRUE,$J289,)","v":{"$error":"#N/A"}},{"$f":"IF(VLOOKUP($E289,liste!$A$31:$B$818,2,FALSE)=TRUE,#REF!,)","v":{"$error":"#N/A"}},{"$error":"#NAME?"},{"$f":"INDEX('Cenovnik 2'!$G$2:$G$411,MATCH('Plan unos i pregled'!$E289,Pozicije,0))","v":"nebitno"}]
["2025.","ЈУН","Општински путеви","ОП 136-13 - Равна Дубрава - Комарица","4.22",{"$f":"IF($E290=0, \" \", VLOOKUP($E290, 'Cenovnik 2'!$A$2:$D$411, 2, FALSE))","v":"Сечење густог шибља преко 50 ком на m²"},{"$f":"IF($E290=0, \" \", VLOOKUP($E290, 'Cenovnik 2'!$A$2:$D$411, 3, FALSE))","v":"m2"},{"$f":"IF($E290=0, \" \", VLOOKUP($E290, 'Cenovnik 2'!$A$2:$D$411, 4, FALSE))","v":60},1169,70140,"OP","04","ДА","2 сечења",null,null,null,{"$f":"IF($C290=0, \" \", VLOOKUP($C290, DrzavniPuteviRed, 2, FALSE))","v":{"$error":"#NAME?"}},422,"422",{"$f":"IF(VLOOKUP($E290,[0]!ProveraPDV,2,FALSE)=TRUE,$J290,)","v":{"$error":"#N/A"}},{"$f":"IF(VLOOKUP($E290,liste!$A$31:$B$818,2,FALSE)=TRUE,#REF!,)","v":{"$error":"#N/A"}},{"$error":"#NAME?"},{"$f":"INDEX('Cenovnik 2'!$G$2:$G$411,MATCH('Plan unos i pregled'!$E290,Pozicije,0))","v":"nebitno"}]
["2025.","ЈУН","Општински путеви","ОП 136-10 - Држ.пут II А  бр. 224 - Личје","4.22",{"$f":"IF($E291=0, \" \", VLOOKUP($E291, 'Cenovnik 2'!$A$2:$D$411, 2, FALSE))","v":"Сечење густог шибља преко 50 ком на m²"},{"$f":"IF($E291=0, \" \", VLOOKUP($E291, 'Cenovnik 2'!$A$2:$D$411, 3, FALSE))","v":"m2"},{"$f":"IF($E291=0, \" \", VLOOKUP($E291, 'Cenovnik 2'!$A$2:$D$411, 4, FALSE))","v":60},1368,82080,"OP","04","ДА","2 сечења",null,null,null,{"$f":"IF($C291=0, \" \", VLOOKUP($C291, DrzavniPuteviRed, 2, FALSE))","v":{"$error":"#NAME?"}},422,"422",{"$f":"IF(VLOOKUP($E291,[0]!ProveraPDV,2,FALSE)=TRUE,$J291,)","v":{"$error":"#N/A"}},{"$f":"IF(VLOOKUP($E291,liste!$A$31:$B$818,2,FALSE)=TRUE,#REF!,)","v":{"$error":"#N/A"}},{"$error":"#NAME?"},{"$f":"INDEX('Cenovnik 2'!$G$2:$G$411,MATCH('Plan unos i pregled'!$E291,Pozicije,0))","v":"nebitno"}]
["2025.","ЈУН","Општински путеви","ОП 136-12 - Држ.пут II А  бр. 224 - Личје, Букиче","4.22",{"$f":"IF($E292=0, \" \", VLOOKUP($E292, 'Cenovnik 2'!$A$2:$D$411, 2, FALSE))","v":"Сечење густог шибља преко 50 ком на m²"},{"$f":"IF($E292=0, \" \", VLOOKUP($E292, 'Cenovnik 2'!$A$2:$D$411, 3, FALSE))","v":"m2"},{"$f":"IF($E292=0, \" \", VLOOKUP($E292, 'Cenovnik 2'!$A$2:$D$411, 4, FALSE))","v":60},570,34200,"OP","04","ДА","2 сечења",null,null,null,{"$f":"IF($C292=0, \" \", VLOOKUP($C292, DrzavniPuteviRed, 2, FALSE))","v":{"$error":"#NAME?"}},422,"422",{"$f":"IF(VLOOKUP($E292,[0]!ProveraPDV,2,FALSE)=TRUE,$J292,)","v":{"$error":"#N/A"}},{"$f":"IF(VLOOKUP($E292,liste!$A$31:$B$818,2,FALSE)=TRUE,#REF!,)","v":{"$error":"#N/A"}},{"$error":"#NAME?"},{"$f":"INDEX('Cenovnik 2'!$G$2:$G$411,MATCH('Plan unos i pregled'!$E292,Pozicije,0))","v":"nebitno"}]
["2025.","ЈУН","Општински путеви","ОП 136-17 - Краставче - Дуга Пољана","4.22",{"$f":"IF($E293=0, \" \", VLOOKUP($E293, 'Cenovnik 2'!$A$2:$D$411, 2, FALSE))","v":"Сечење густог шибља преко 50 ком на m²"},{"$f":"IF($E293=0, \" \", VLOOKUP($E293, 'Cenovnik 2'!$A$2:$D$411, 3, FALSE))","v":"m2"},{"$f":"IF($E293=0, \" \", VLOOKUP($E293, 'Cenovnik 2'!$A$2:$D$411, 4, FALSE))","v":60},796,47760,"OP","04","ДА","2 сечења",null,null,null,{"$f":"IF($C293=0, \" \", VLOOKUP($C293, DrzavniPuteviRed, 2, FALSE))","v":{"$error":"#NAME?"}},422,"422",{"$f":"IF(VLOOKUP($E293,[0]!ProveraPDV,2,FALSE)=TRUE,$J293,)","v":{"$error":"#N/A"}},{"$f":"IF(VLOOKUP($E293,liste!$A$31:$B$818,2,FALSE)=TRUE,#REF!,)","v":{"$error":"#N/A"}},{"$error":"#NAME?"},{"$f":"INDEX('Cenovnik 2'!$G$2:$G$411,MATCH('Plan unos i pregled'!$E293,Pozicije,0))","v":"nebitno"}]
["2025.","ЈУН","Јавне зелене површине","Гаџин Хан-Кеј: П 1-1381","4.7",{"$f":"IF($E294=0, \" \", VLOOKUP($E294, 'Cenovnik 2'!$A$2:$D$411, 2, FALSE))","v":"Кошење траве са банкина самоходном моторном косачицом"},{"$f":"IF($E294=0, \" \", VLOOKUP($E294, 'Cenovnik 2'!$A$2:$D$411, 3, FALSE))","v":"m2"},{"$f":"IF($E294=0, \" \", VLOOKUP($E294, 'Cenovnik 2'!$A$2:$D$411, 4, FALSE))","v":3.99},5524,22040.760000000002,{"$f":"IFERROR(INDEX(LokacijeRadovaLat,MATCH(C294,LokacijaRadova,0)),\"\")","v":"JZP"},"04","ДА","4 кошења",null,null,null,{"$f":"IF($C294=0, \" \", VLOOKUP($C294, DrzavniPuteviRed, 2, FALSE))","v":{"$error":"#NAME?"}},47,"47",{"$f":"IF(VLOOKUP($E294,[0]!ProveraPDV,2,FALSE)=TRUE,$J294,)","v":{"$error":"#N/A"}},{"$f":"IF(VLOOKUP($E294,liste!$A$31:$B$818,2,FALSE)=TRUE,#REF!,)","v":{"$error":"#N/A"}},{"$error":"#NAME?"},{"$f":"INDEX('Cenovnik 2'!$G$2:$G$411,MATCH('Plan unos i pregled'!$E294,Pozicije,0))","v":"nebitno"}]
["2025.","ЈУН","Јавне зелене површине","Гаџин Хан-Кеј: П 2-4326","4.7",{"$f":"IF($E295=0, \" \", VLOOKUP($E295, 'Cenovnik 2'!$A$2:$D$411, 2, FALSE))","v":"Кошење траве са банкина самоходном моторном косачицом"},{"$f":"IF($E295=0, \" \", VLOOKUP($E295, 'Cenovnik 2'!$A$2:$D$411, 3, FALSE))","v":"m2"},{"$f":"IF($E295=0, \" \", VLOOKUP($E295, 'Cenovnik 2'!$A$2:$D$411, 4, FALSE))","v":3.99},17304,69042.960000000006,"JZP","04","ДА","4 кошења",null,null,null,{"$f":"IF($C295=0, \" \", VLOOKUP($C295, DrzavniPuteviRed, 2, FALSE))","v":{"$error":"#NAME?"}},47,"47",{"$f":"IF(VLOOKUP($E295,[0]!ProveraPDV,2,FALSE)=TRUE,$J295,)","v":{"$error":"#N/A"}},{"$f":"IF(VLOOKUP($E295,liste!$A$31:$B$818,2,FALSE)=TRUE,#REF!,)","v":{"$error":"#N/A"}},{"$error":"#NAME?"},{"$f":"INDEX('Cenovnik 2'!$G$2:$G$411,MATCH('Plan unos i pregled'!$E295,Pozicije,0))","v":"nebitno"}]
["2025.","ЈУН","Јавне зелене површине","Гаџин Хан-Кеј: П 3-3036","4.7",{"$f":"IF($E296=0, \" \", VLOOKUP($E296, 'Cenovnik 2'!$A$2:$D$411, 2, FALSE))","v":"Кошење траве са банкина самоходном моторном косачицом"},{"$f":"IF($E296=0, \" \", VLOOKUP($E296, 'Cenovnik 2'!$A$2:$D$411, 3, FALSE))","v":"m2"},{"$f":"IF($E296=0, \" \", VLOOKUP($E296, 'Cenovnik 2'!$A$2:$D$411, 4, FALSE))","v":3.99},12144,48454.560000000005,"JZP","04","ДА","4 кошења",null,null,null,{"$f":"IF($C296=0, \" \", VLOOKUP($C296, DrzavniPuteviRed, 2, FALSE))","v":{"$error":"#NAME?"}},47,"47",{"$f":"IF(VLOOKUP($E296,[0]!ProveraPDV,2,FALSE)=TRUE,$J296,)","v":{"$error":"#N/A"}},{"$f":"IF(VLOOKUP($E296,liste!$A$31:$B$818,2,FALSE)=TRUE,#REF!,)","v":{"$error":"#N/A"}},{"$error":"#NAME?"},{"$f":"INDEX('Cenovnik 2'!$G$2:$G$411,MATCH('Plan unos i pregled'!$E296,Pozicije,0))","v":"nebitno"}]
["2025.","ЈУН","Улице","Личје - Некатегорисан пут","8.29",{"$f":"IF($E297=0, \" \", VLOOKUP($E297, 'Cenovnik 2'!$A$2:$D$411, 2, FALSE))","v":"Набавка дробљеног кречњачког каменог агрегата фракције 0-31,5 mm "},{"$f":"IF($E297=0, \" \", VLOOKUP($E297, 'Cenovnik 2'!$A$2:$D$411, 3, FALSE))","v":"t"},{"$f":"IF($E297=0, \" \", VLOOKUP($E297, 'Cenovnik 2'!$A$2:$D$411, 4, FALSE))","v":645},400.68,258438.6,"Ul","08","ДА","Радови из маја месеца Личје кп.бр.9827 и кп.бр.9832",null,null,null,{"$f":"IF($C297=0, \" \", VLOOKUP($C297, DrzavniPuteviRed, 2, FALSE))","v":{"$error":"#NAME?"}},829,"829",{"$f":"IF(VLOOKUP($E297,[0]!ProveraPDV,2,FALSE)=TRUE,$J297,)","v":258438.6},{"$f":"IF(VLOOKUP($E297,liste!$A$31:$B$818,2,FALSE)=TRUE,#REF!,)","v":{"$error":"#REF!"}},{"$error":"#NAME?"},{"$f":"INDEX('Cenovnik 2'!$G$2:$G$411,MATCH('Plan unos i pregled'!$E297,Pozicije,0))","v":"nebitno"}]
["2025.","ЈУЛ","Фудбалски терени","Гаџин Хан-Фудбалски терен: П1-9100","11.30",{"$f":"IF($E298=0, \" \", VLOOKUP($E298, 'Cenovnik 2'!$A$2:$D$411, 2, FALSE))","v":"Моторна косачица за траву (спортски терени)"},{"$f":"IF($E298=0, \" \", VLOOKUP($E298, 'Cenovnik 2'!$A$2:$D$411, 3, FALSE))","v":"m2"},{"$f":"IF($E298=0, \" \", VLOOKUP($E298, 'Cenovnik 2'!$A$2:$D$411, 4, FALSE))","v":2.13},36400,77532,"FT","11","ДА","4 кошења",null,null,null,{"$f":"IF($C298=0, \" \", VLOOKUP($C298, DrzavniPuteviRed, 2, FALSE))","v":{"$error":"#NAME?"}},1130,"113",{"$f":"IF(VLOOKUP($E298,[0]!ProveraPDV,2,FALSE)=TRUE,$J298,)","v":{"$error":"#N/A"}},{"$f":"IF(VLOOKUP($E298,liste!$A$31:$B$818,2,FALSE)=TRUE,#REF!,)","v":{"$error":"#N/A"}},{"$error":"#NAME?"},{"$f":"INDEX('Cenovnik 2'!$G$2:$G$411,MATCH('Plan unos i pregled'!$E298,Pozicije,0))","v":"nebitno"}]
["2025.","ЈУЛ","Фудбалски терени","Тасковићи-Фудбалски терен: П1-6050","11.30",{"$f":"IF($E299=0, \" \", VLOOKUP($E299, 'Cenovnik 2'!$A$2:$D$411, 2, FALSE))","v":"Моторна косачица за траву (спортски терени)"},{"$f":"IF($E299=0, \" \", VLOOKUP($E299, 'Cenovnik 2'!$A$2:$D$411, 3, FALSE))","v":"m2"},{"$f":"IF($E299=0, \" \", VLOOKUP($E299, 'Cenovnik 2'!$A$2:$D$411, 4, FALSE))","v":2.13},24200,51546,"FT","11","ДА","4 кошења",null,null,null,{"$f":"IF($C299=0, \" \", VLOOKUP($C299, DrzavniPuteviRed, 2, FALSE))","v":{"$error":"#NAME?"}},1130,"113",{"$f":"IF(VLOOKUP($E299,[0]!ProveraPDV,2,FALSE)=TRUE,$J299,)","v":{"$error":"#N/A"}},{"$f":"IF(VLOOKUP($E299,liste!$A$31:$B$818,2,FALSE)=TRUE,#REF!,)","v":{"$error":"#N/A"}},{"$error":"#NAME?"},{"$f":"INDEX('Cenovnik 2'!$G$2:$G$411,MATCH('Plan unos i pregled'!$E299,Pozicije,0))","v":"nebitno"}]
["2025.","ЈУЛ","Фудбалски терени","Марина Кутина-Фудбалски терен: П1-5490","11.30",{"$f":"IF($E300=0, \" \", VLOOKUP($E300, 'Cenovnik 2'!$A$2:$D$411, 2, FALSE))","v":"Моторна косачица за траву (спортски терени)"},{"$f":"IF($E300=0, \" \", VLOOKUP($E300, 'Cenovnik 2'!$A$2:$D$411, 3, FALSE))","v":"m2"},{"$f":"IF($E300=0, \" \", VLOOKUP($E300, 'Cenovnik 2'!$A$2:$D$411, 4, FALSE))","v":2.13},5490,11693.699999999999,"FT","11","ДА","1 кoшење",null,null,null,{"$f":"IF($C300=0, \" \", VLOOKUP($C300, DrzavniPuteviRed, 2, FALSE))","v":{"$error":"#NAME?"}},1130,"113",{"$f":"IF(VLOOKUP($E300,[0]!ProveraPDV,2,FALSE)=TRUE,$J300,)","v":{"$error":"#N/A"}},{"$f":"IF(VLOOKUP($E300,liste!$A$31:$B$818,2,FALSE)=TRUE,#REF!,)","v":{"$error":"#N/A"}},{"$error":"#NAME?"},{"$f":"INDEX('Cenovnik 2'!$G$2:$G$411,MATCH('Plan unos i pregled'!$E300,Pozicije,0))","v":"nebitno"}]
["2025.","ЈУЛ","Фудбалски терени","Гркиња-Фудбалски Терен: П1-5460","11.30",{"$f":"IF($E301=0, \" \", VLOOKUP($E301, 'Cenovnik 2'!$A$2:$D$411, 2, FALSE))","v":"Моторна косачица за траву (спортски терени)"},{"$f":"IF($E301=0, \" \", VLOOKUP($E301, 'Cenovnik 2'!$A$2:$D$411, 3, FALSE))","v":"m2"},{"$f":"IF($E301=0, \" \", VLOOKUP($E301, 'Cenovnik 2'!$A$2:$D$411, 4, FALSE))","v":2.13},5460,11629.8,"FT","11","ДА",null,null,null,null,{"$f":"IF($C301=0, \" \", VLOOKUP($C301, DrzavniPuteviRed, 2, FALSE))","v":{"$error":"#NAME?"}},1130,"113",{"$f":"IF(VLOOKUP($E301,[0]!ProveraPDV,2,FALSE)=TRUE,$J301,)","v":{"$error":"#N/A"}},{"$f":"IF(VLOOKUP($E301,liste!$A$31:$B$818,2,FALSE)=TRUE,#REF!,)","v":{"$error":"#N/A"}},{"$error":"#NAME?"},{"$f":"INDEX('Cenovnik 2'!$G$2:$G$411,MATCH('Plan unos i pregled'!$E301,Pozicije,0))","v":"nebitno"}]
["2025.","ЈУЛ","Фудбалски терени","Заплањска Топоница-Фудбалски Терен: П1-5600","11.30",{"$f":"IF($E302=0, \" \", VLOOKUP($E302, 'Cenovnik 2'!$A$2:$D$411, 2, FALSE))","v":"Моторна косачица за траву (спортски терени)"},{"$f":"IF($E302=0, \" \", VLOOKUP($E302, 'Cenovnik 2'!$A$2:$D$411, 3, FALSE))","v":"m2"},{"$f":"IF($E302=0, \" \", VLOOKUP($E302, 'Cenovnik 2'!$A$2:$D$411, 4, FALSE))","v":2.13},5600,11928,"FT","11","ДА",null,null,null,null,{"$f":"IF($C302=0, \" \", VLOOKUP($C302, DrzavniPuteviRed, 2, FALSE))","v":{"$error":"#NAME?"}},1130,"113",{"$f":"IF(VLOOKUP($E302,[0]!ProveraPDV,2,FALSE)=TRUE,$J302,)","v":{"$error":"#N/A"}},{"$f":"IF(VLOOKUP($E302,liste!$A$31:$B$818,2,FALSE)=TRUE,#REF!,)","v":{"$error":"#N/A"}},{"$error":"#NAME?"},{"$f":"INDEX('Cenovnik 2'!$G$2:$G$411,MATCH('Plan unos i pregled'!$E302,Pozicije,0))","v":"nebitno"}]
["2025.","ЈУЛ","Фудбалски терени","Велики Вртоп-Фудбалски терен: П1-4250","11.30",{"$f":"IF($E303=0, \" \", VLOOKUP($E303, 'Cenovnik 2'!$A$2:$D$411, 2, FALSE))","v":"Моторна косачица за траву (спортски терени)"},{"$f":"IF($E303=0, \" \", VLOOKUP($E303, 'Cenovnik 2'!$A$2:$D$411, 3, FALSE))","v":"m2"},{"$f":"IF($E303=0, \" \", VLOOKUP($E303, 'Cenovnik 2'!$A$2:$D$411, 4, FALSE))","v":2.13},4250,9052.5,"FT","11","ДА","Велики Вртоп, 1 годишње",null,null,null,{"$f":"IF($C303=0, \" \", VLOOKUP($C303, DrzavniPuteviRed, 2, FALSE))","v":{"$error":"#NAME?"}},1130,"113",{"$f":"IF(VLOOKUP($E303,[0]!ProveraPDV,2,FALSE)=TRUE,$J303,)","v":{"$error":"#N/A"}},{"$f":"IF(VLOOKUP($E303,liste!$A$31:$B$818,2,FALSE)=TRUE,#REF!,)","v":{"$error":"#N/A"}},{"$error":"#NAME?"},{"$f":"INDEX('Cenovnik 2'!$G$2:$G$411,MATCH('Plan unos i pregled'!$E303,Pozicije,0))","v":"nebitno"}]
["2025.","ЈУЛ","Фудбалски терени","Велики Вртоп-Фудбалски терен: П1-4250","4.26",{"$f":"IF($E304=0, \" \", VLOOKUP($E304, 'Cenovnik 2'!$A$2:$D$411, 2, FALSE))","v":"Кошење траве на слободним површинама косачицом прикљученом на трактор"},{"$f":"IF($E304=0, \" \", VLOOKUP($E304, 'Cenovnik 2'!$A$2:$D$411, 3, FALSE))","v":"m2"},{"$f":"IF($E304=0, \" \", VLOOKUP($E304, 'Cenovnik 2'!$A$2:$D$411, 4, FALSE))","v":4.3499999999999996},4250,18487.5,"FT","04","ДА","Велики Вртоп, 1 годишње",null,null,null,{"$f":"IF($C304=0, \" \", VLOOKUP($C304, DrzavniPuteviRed, 2, FALSE))","v":{"$error":"#NAME?"}},426,"426",{"$f":"IF(VLOOKUP($E304,[0]!ProveraPDV,2,FALSE)=TRUE,$J304,)","v":{"$error":"#N/A"}},{"$f":"IF(VLOOKUP($E304,liste!$A$31:$B$818,2,FALSE)=TRUE,#REF!,)","v":{"$error":"#N/A"}},{"$error":"#NAME?"},{"$f":"INDEX('Cenovnik 2'!$G$2:$G$411,MATCH('Plan unos i pregled'!$E304,Pozicije,0))","v":"nebitno"}]
["2025.","ЈУЛ","Фудбалски терени","Личје-Фудбалски терен: П1-1925","11.30",{"$f":"IF($E305=0, \" \", VLOOKUP($E305, 'Cenovnik 2'!$A$2:$D$411, 2, FALSE))","v":"Моторна косачица за траву (спортски терени)"},{"$f":"IF($E305=0, \" \", VLOOKUP($E305, 'Cenovnik 2'!$A$2:$D$411, 3, FALSE))","v":"m2"},{"$f":"IF($E305=0, \" \", VLOOKUP($E305, 'Cenovnik 2'!$A$2:$D$411, 4, FALSE))","v":2.13},1925,4100.25,"FT","11","ДА","Личје, 1 годишње",null,null,null,{"$f":"IF($C305=0, \" \", VLOOKUP($C305, DrzavniPuteviRed, 2, FALSE))","v":{"$error":"#NAME?"}},1130,"113",{"$f":"IF(VLOOKUP($E305,[0]!ProveraPDV,2,FALSE)=TRUE,$J305,)","v":{"$error":"#N/A"}},{"$f":"IF(VLOOKUP($E305,liste!$A$31:$B$818,2,FALSE)=TRUE,#REF!,)","v":{"$error":"#N/A"}},{"$error":"#NAME?"},{"$f":"INDEX('Cenovnik 2'!$G$2:$G$411,MATCH('Plan unos i pregled'!$E305,Pozicije,0))","v":"nebitno"}]
["2025.","ЈУЛ","Фудбалски терени","Личје-Фудбалски терен: П1-1925","4.26",{"$f":"IF($E306=0, \" \", VLOOKUP($E306, 'Cenovnik 2'!$A$2:$D$411, 2, FALSE))","v":"Кошење траве на слободним површинама косачицом прикљученом на трактор"},{"$f":"IF($E306=0, \" \", VLOOKUP($E306, 'Cenovnik 2'!$A$2:$D$411, 3, FALSE))","v":"m2"},{"$f":"IF($E306=0, \" \", VLOOKUP($E306, 'Cenovnik 2'!$A$2:$D$411, 4, FALSE))","v":4.3499999999999996},1925,8373.75,"FT","04","ДА","Личје, 1 годишње",null,null,null,{"$f":"IF($C306=0, \" \", VLOOKUP($C306, DrzavniPuteviRed, 2, FALSE))","v":{"$error":"#NAME?"}},426,"426",{"$f":"IF(VLOOKUP($E306,[0]!ProveraPDV,2,FALSE)=TRUE,$J306,)","v":{"$error":"#N/A"}},{"$f":"IF(VLOOKUP($E306,liste!$A$31:$B$818,2,FALSE)=TRUE,#REF!,)","v":{"$error":"#N/A"}},{"$error":"#NAME?"},{"$f":"INDEX('Cenovnik 2'!$G$2:$G$411,MATCH('Plan unos i pregled'!$E306,Pozicije,0))","v":"nebitno"}]
["2025.","ЈУЛ","Фудбалски терени","Гаџин Хан-Фудбалски терен: П1-9100","4.11",{"$f":"IF($E307=0, \" \", VLOOKUP($E307, 'Cenovnik 2'!$A$2:$D$411, 2, FALSE))","v":"Обележавање фудбалског терена (по фактури добављача), ценом није обухваћен превоз и рад радника"},{"$f":"IF($E307=0, \" \", VLOOKUP($E307, 'Cenovnik 2'!$A$2:$D$411, 3, FALSE))","v":"m"},{"$f":"IF($E307=0, \" \", VLOOKUP($E307, 'Cenovnik 2'!$A$2:$D$411, 4, FALSE))","v":26.8},3060,82008,"FT","04","ДА",null,null,null,null,{"$f":"IF($C307=0, \" \", VLOOKUP($C307, DrzavniPuteviRed, 2, FALSE))","v":{"$error":"#NAME?"}},411,"411",{"$f":"IF(VLOOKUP($E307,[0]!ProveraPDV,2,FALSE)=TRUE,$J307,)","v":{"$error":"#N/A"}},{"$f":"IF(VLOOKUP($E307,liste!$A$31:$B$818,2,FALSE)=TRUE,#REF!,)","v":{"$error":"#N/A"}},{"$error":"#NAME?"},{"$f":"INDEX('Cenovnik 2'!$G$2:$G$411,MATCH('Plan unos i pregled'!$E307,Pozicije,0))","v":"nebitno"}]
["2025.","ЈУЛ","Фудбалски терени","Тасковићи-Фудбалски терен: П1-6050","4.11",{"$f":"IF($E308=0, \" \", VLOOKUP($E308, 'Cenovnik 2'!$A$2:$D$411, 2, FALSE))","v":"Обележавање фудбалског терена (по фактури добављача), ценом није обухваћен превоз и рад радника"},{"$f":"IF($E308=0, \" \", VLOOKUP($E308, 'Cenovnik 2'!$A$2:$D$411, 3, FALSE))","v":"m"},{"$f":"IF($E308=0, \" \", VLOOKUP($E308, 'Cenovnik 2'!$A$2:$D$411, 4, FALSE))","v":26.8},2700,72360,"FT","04","ДА",null,null,null,null,{"$f":"IF($C308=0, \" \", VLOOKUP($C308, DrzavniPuteviRed, 2, FALSE))","v":{"$error":"#NAME?"}},411,"411",{"$f":"IF(VLOOKUP($E308,[0]!ProveraPDV,2,FALSE)=TRUE,$J308,)","v":{"$error":"#N/A"}},{"$f":"IF(VLOOKUP($E308,liste!$A$31:$B$818,2,FALSE)=TRUE,#REF!,)","v":{"$error":"#N/A"}},{"$error":"#NAME?"},{"$f":"INDEX('Cenovnik 2'!$G$2:$G$411,MATCH('Plan unos i pregled'!$E308,Pozicije,0))","v":"nebitno"}]
["2025.","ЈУЛ","Фудбалски терени","Марина Кутина-Фудбалски терен: П1-5490","4.11",{"$f":"IF($E309=0, \" \", VLOOKUP($E309, 'Cenovnik 2'!$A$2:$D$411, 2, FALSE))","v":"Обележавање фудбалског терена (по фактури добављача), ценом није обухваћен превоз и рад радника"},{"$f":"IF($E309=0, \" \", VLOOKUP($E309, 'Cenovnik 2'!$A$2:$D$411, 3, FALSE))","v":"m"},{"$f":"IF($E309=0, \" \", VLOOKUP($E309, 'Cenovnik 2'!$A$2:$D$411, 4, FALSE))","v":26.8},1330,35644,"FT","04","ДА",null,null,null,null,{"$f":"IF($C309=0, \" \", VLOOKUP($C309, DrzavniPuteviRed, 2, FALSE))","v":{"$error":"#NAME?"}},411,"411",{"$f":"IF(VLOOKUP($E309,[0]!ProveraPDV,2,FALSE)=TRUE,$J309,)","v":{"$error":"#N/A"}},{"$f":"IF(VLOOKUP($E309,liste!$A$31:$B$818,2,FALSE)=TRUE,#REF!,)","v":{"$error":"#N/A"}},{"$error":"#NAME?"},{"$f":"INDEX('Cenovnik 2'!$G$2:$G$411,MATCH('Plan unos i pregled'!$E309,Pozicije,0))","v":"nebitno"}]
["2025.","ЈУЛ","Фудбалски терени","Гркиња-Фудбалски Терен: П1-5460","4.11",{"$f":"IF($E310=0, \" \", VLOOKUP($E310, 'Cenovnik 2'!$A$2:$D$411, 2, FALSE))","v":"Обележавање фудбалског терена (по фактури добављача), ценом није обухваћен превоз и рад радника"},{"$f":"IF($E310=0, \" \", VLOOKUP($E310, 'Cenovnik 2'!$A$2:$D$411, 3, FALSE))","v":"m"},{"$f":"IF($E310=0, \" \", VLOOKUP($E310, 'Cenovnik 2'!$A$2:$D$411, 4, FALSE))","v":26.8},665,17822,"FT","04","ДА",null,null,null,null,{"$f":"IF($C310=0, \" \", VLOOKUP($C310, DrzavniPuteviRed, 2, FALSE))","v":{"$error":"#NAME?"}},411,"411",{"$f":"IF(VLOOKUP($E310,[0]!ProveraPDV,2,FALSE)=TRUE,$J310,)","v":{"$error":"#N/A"}},{"$f":"IF(VLOOKUP($E310,liste!$A$31:$B$818,2,FALSE)=TRUE,#REF!,)","v":{"$error":"#N/A"}},{"$error":"#NAME?"},{"$f":"INDEX('Cenovnik 2'!$G$2:$G$411,MATCH('Plan unos i pregled'!$E310,Pozicije,0))","v":"nebitno"}]
["2025.","ЈУЛ","Фудбалски терени","Заплањска Топоница-Фудбалски Терен: П1-5600","4.11",{"$f":"IF($E311=0, \" \", VLOOKUP($E311, 'Cenovnik 2'!$A$2:$D$411, 2, FALSE))","v":"Обележавање фудбалског терена (по фактури добављача), ценом није обухваћен превоз и рад радника"},{"$f":"IF($E311=0, \" \", VLOOKUP($E311, 'Cenovnik 2'!$A$2:$D$411, 3, FALSE))","v":"m"},{"$f":"IF($E311=0, \" \", VLOOKUP($E311, 'Cenovnik 2'!$A$2:$D$411, 4, FALSE))","v":26.8},665,17822,"FT","04","ДА",null,null,null,null,{"$f":"IF($C311=0, \" \", VLOOKUP($C311, DrzavniPuteviRed, 2, FALSE))","v":{"$error":"#NAME?"}},411,"411",{"$f":"IF(VLOOKUP($E311,[0]!ProveraPDV,2,FALSE)=TRUE,$J311,)","v":{"$error":"#N/A"}},{"$f":"IF(VLOOKUP($E311,liste!$A$31:$B$818,2,FALSE)=TRUE,#REF!,)","v":{"$error":"#N/A"}},{"$error":"#NAME?"},{"$f":"INDEX('Cenovnik 2'!$G$2:$G$411,MATCH('Plan unos i pregled'!$E311,Pozicije,0))","v":"nebitno"}]
["2025.","ЈУЛ","Фудбалски терени","Велики Вртоп-Фудбалски терен: П1-4250","4.11",{"$f":"IF($E312=0, \" \", VLOOKUP($E312, 'Cenovnik 2'!$A$2:$D$411, 2, FALSE))","v":"Обележавање фудбалског терена (по фактури добављача), ценом није обухваћен превоз и рад радника"},{"$f":"IF($E312=0, \" \", VLOOKUP($E312, 'Cenovnik 2'!$A$2:$D$411, 3, FALSE))","v":"m"},{"$f":"IF($E312=0, \" \", VLOOKUP($E312, 'Cenovnik 2'!$A$2:$D$411, 4, FALSE))","v":26.8},650,17420,"FT","04","ДА","Велики Вртоп, 1 годишње",null,null,null,{"$f":"IF($C312=0, \" \", VLOOKUP($C312, DrzavniPuteviRed, 2, FALSE))","v":{"$error":"#NAME?"}},{"$f":"IF($E312=0, \" \", VLOOKUP($E312, SifrePozicijaBezTacke, 2, FALSE))","v":411},"411",{"$f":"IF(VLOOKUP($E312,[0]!ProveraPDV,2,FALSE)=TRUE,$J312,)","v":{"$error":"#N/A"}},{"$f":"IF(VLOOKUP($E312,liste!$A$31:$B$818,2,FALSE)=TRUE,#REF!,)","v":{"$error":"#N/A"}},{"$error":"#NAME?"},{"$f":"INDEX('Cenovnik 2'!$G$2:$G$411,MATCH('Plan unos i pregled'!$E312,Pozicije,0))","v":"nebitno"}]
["2025.","ЈУЛ","Фудбалски терени","Личје-Фудбалски терен: П1-1925","4.11",{"$f":"IF($E313=0, \" \", VLOOKUP($E313, 'Cenovnik 2'!$A$2:$D$411, 2, FALSE))","v":"Обележавање фудбалског терена (по фактури добављача), ценом није обухваћен превоз и рад радника"},{"$f":"IF($E313=0, \" \", VLOOKUP($E313, 'Cenovnik 2'!$A$2:$D$411, 3, FALSE))","v":"m"},{"$f":"IF($E313=0, \" \", VLOOKUP($E313, 'Cenovnik 2'!$A$2:$D$411, 4, FALSE))","v":26.8},310,{"$f":"IF(ISNUMBER($H313), $H313*$I313, \"-\")","v":8308},"FT",{"$f":"TEXT(LEFT($E313,FIND(\".\",$E313&\".\")-1), \"00\")","v":"04"},"ДА","Личје, 1 годишње",null,null,null,{"$f":"IF($C313=0, \" \", VLOOKUP($C313, DrzavniPuteviRed, 2, FALSE))","v":{"$error":"#NAME?"}},411,{"$f":"LEFT($S313, 3)","v":"411"},{"$f":"IF(VLOOKUP($E313,[0]!ProveraPDV,2,FALSE)=TRUE,$J313,)","v":{"$error":"#N/A"}},{"$f":"IF(VLOOKUP($E313,liste!$A$31:$B$818,2,FALSE)=TRUE,#REF!,)","v":{"$error":"#N/A"}},{"$f":"R313&\"-\"&C313","v":{"$error":"#NAME?"}},{"$f":"INDEX('Cenovnik 2'!$G$2:$G$411,MATCH('Plan unos i pregled'!$E313,Pozicije,0))","v":"nebitno"}]
["2025.","ЈУЛ","Фудбалски терени","Гаџин Хан-Фудбалски терен: П1-9100","4.12",{"$f":"IF($E314=0, \" \", VLOOKUP($E314, 'Cenovnik 2'!$A$2:$D$411, 2, FALSE))","v":"Поливање травњака (ценом није обухваћен рад радника)"},{"$f":"IF($E314=0, \" \", VLOOKUP($E314, 'Cenovnik 2'!$A$2:$D$411, 3, FALSE))","v":"m2"},{"$f":"IF($E314=0, \" \", VLOOKUP($E314, 'Cenovnik 2'!$A$2:$D$411, 4, FALSE))","v":3.1},163800,507780,"FT","04","ДА","18 дана",null,null,null,{"$f":"IF($C314=0, \" \", VLOOKUP($C314, DrzavniPuteviRed, 2, FALSE))","v":{"$error":"#NAME?"}},412,"412",{"$f":"IF(VLOOKUP($E314,[0]!ProveraPDV,2,FALSE)=TRUE,$J314,)","v":{"$error":"#N/A"}},{"$f":"IF(VLOOKUP($E314,liste!$A$31:$B$818,2,FALSE)=TRUE,#REF!,)","v":{"$error":"#N/A"}},{"$error":"#NAME?"},{"$f":"INDEX('Cenovnik 2'!$G$2:$G$411,MATCH('Plan unos i pregled'!$E314,Pozicije,0))","v":"nebitno"}]
["2025.","ЈУЛ","Фудбалски терени","Тасковићи-Фудбалски терен: П1-6050","4.12",{"$f":"IF($E315=0, \" \", VLOOKUP($E315, 'Cenovnik 2'!$A$2:$D$411, 2, FALSE))","v":"Поливање травњака (ценом није обухваћен рад радника)"},{"$f":"IF($E315=0, \" \", VLOOKUP($E315, 'Cenovnik 2'!$A$2:$D$411, 3, FALSE))","v":"m2"},{"$f":"IF($E315=0, \" \", VLOOKUP($E315, 'Cenovnik 2'!$A$2:$D$411, 4, FALSE))","v":3.1},108900,337590,"FT","04","ДА","18 дана",null,null,null,{"$f":"IF($C315=0, \" \", VLOOKUP($C315, DrzavniPuteviRed, 2, FALSE))","v":{"$error":"#NAME?"}},412,"412",{"$f":"IF(VLOOKUP($E315,[0]!ProveraPDV,2,FALSE)=TRUE,$J315,)","v":{"$error":"#N/A"}},{"$f":"IF(VLOOKUP($E315,liste!$A$31:$B$818,2,FALSE)=TRUE,#REF!,)","v":{"$error":"#N/A"}},{"$error":"#NAME?"},{"$f":"INDEX('Cenovnik 2'!$G$2:$G$411,MATCH('Plan unos i pregled'!$E315,Pozicije,0))","v":"nebitno"},null,"Količina iz JUNA nije priznata"]
["2025.","ЈУЛ","Фудбалски терени","Гаџин Хан-Фудбалски терен: П1-9100","11.5",{"$f":"IF($E316=0, \" \", VLOOKUP($E316, 'Cenovnik 2'!$A$2:$D$411, 2, FALSE))","v":"Ваљак од 2 t"},{"$f":"IF($E316=0, \" \", VLOOKUP($E316, 'Cenovnik 2'!$A$2:$D$411, 3, FALSE))","v":"час"},{"$f":"IF($E316=0, \" \", VLOOKUP($E316, 'Cenovnik 2'!$A$2:$D$411, 4, FALSE))","v":2875},12,34500,"FT","11","ДА",null,null,null,null,{"$f":"IF($C316=0, \" \", VLOOKUP($C316, DrzavniPuteviRed, 2, FALSE))","v":{"$error":"#NAME?"}},115,"115",{"$f":"IF(VLOOKUP($E316,[0]!ProveraPDV,2,FALSE)=TRUE,$J316,)","v":{"$error":"#N/A"}},{"$f":"IF(VLOOKUP($E316,liste!$A$31:$B$818,2,FALSE)=TRUE,#REF!,)","v":{"$error":"#N/A"}},{"$error":"#NAME?"},{"$f":"INDEX('Cenovnik 2'!$G$2:$G$411,MATCH('Plan unos i pregled'!$E316,Pozicije,0))","v":"nebitno"}]
["2025.","ЈУЛ","Фудбалски терени","Тасковићи-Фудбалски терен: П1-6050","11.5",{"$f":"IF($E317=0, \" \", VLOOKUP($E317, 'Cenovnik 2'!$A$2:$D$411, 2, FALSE))","v":"Ваљак од 2 t"},{"$f":"IF($E317=0, \" \", VLOOKUP($E317, 'Cenovnik 2'!$A$2:$D$411, 3, FALSE))","v":"час"},{"$f":"IF($E317=0, \" \", VLOOKUP($E317, 'Cenovnik 2'!$A$2:$D$411, 4, FALSE))","v":2875},6,17250,"FT","11","ДА",null,null,null,null,{"$f":"IF($C317=0, \" \", VLOOKUP($C317, DrzavniPuteviRed, 2, FALSE))","v":{"$error":"#NAME?"}},115,"115",{"$f":"IF(VLOOKUP($E317,[0]!ProveraPDV,2,FALSE)=TRUE,$J317,)","v":{"$error":"#N/A"}},{"$f":"IF(VLOOKUP($E317,liste!$A$31:$B$818,2,FALSE)=TRUE,#REF!,)","v":{"$error":"#N/A"}},{"$error":"#NAME?"},{"$f":"INDEX('Cenovnik 2'!$G$2:$G$411,MATCH('Plan unos i pregled'!$E317,Pozicije,0))","v":"nebitno"}]
["2025.","ЈУЛ","Фудбалски терени","Марина Кутина-Фудбалски терен: П1-5490","11.5",{"$f":"IF($E318=0, \" \", VLOOKUP($E318, 'Cenovnik 2'!$A$2:$D$411, 2, FALSE))","v":"Ваљак од 2 t"},{"$f":"IF($E318=0, \" \", VLOOKUP($E318, 'Cenovnik 2'!$A$2:$D$411, 3, FALSE))","v":"час"},{"$f":"IF($E318=0, \" \", VLOOKUP($E318, 'Cenovnik 2'!$A$2:$D$411, 4, FALSE))","v":2875},6,17250,"FT","11","ДА",null,null,null,null,{"$f":"IF($C318=0, \" \", VLOOKUP($C318, DrzavniPuteviRed, 2, FALSE))","v":{"$error":"#NAME?"}},115,"115",{"$f":"IF(VLOOKUP($E318,[0]!ProveraPDV,2,FALSE)=TRUE,$J318,)","v":{"$error":"#N/A"}},{"$f":"IF(VLOOKUP($E318,liste!$A$31:$B$818,2,FALSE)=TRUE,#REF!,)","v":{"$error":"#N/A"}},{"$error":"#NAME?"},{"$f":"INDEX('Cenovnik 2'!$G$2:$G$411,MATCH('Plan unos i pregled'!$E318,Pozicije,0))","v":"nebitno"}]
["2025.","ЈУЛ","Фудбалски терени","Гркиња-Фудбалски Терен: П1-5460","11.5",{"$f":"IF($E319=0, \" \", VLOOKUP($E319, 'Cenovnik 2'!$A$2:$D$411, 2, FALSE))","v":"Ваљак од 2 t"},{"$f":"IF($E319=0, \" \", VLOOKUP($E319, 'Cenovnik 2'!$A$2:$D$411, 3, FALSE))","v":"час"},{"$f":"IF($E319=0, \" \", VLOOKUP($E319, 'Cenovnik 2'!$A$2:$D$411, 4, FALSE))","v":2875},6,17250,"FT","11","ДА",null,null,null,null,{"$f":"IF($C319=0, \" \", VLOOKUP($C319, DrzavniPuteviRed, 2, FALSE))","v":{"$error":"#NAME?"}},115,"115",{"$f":"IF(VLOOKUP($E319,[0]!ProveraPDV,2,FALSE)=TRUE,$J319,)","v":{"$error":"#N/A"}},{"$f":"IF(VLOOKUP($E319,liste!$A$31:$B$818,2,FALSE)=TRUE,#REF!,)","v":{"$error":"#N/A"}},{"$error":"#NAME?"},{"$f":"INDEX('Cenovnik 2'!$G$2:$G$411,MATCH('Plan unos i pregled'!$E319,Pozicije,0))","v":"nebitno"}]
["2025.","ЈУЛ","Фудбалски терени","Заплањска Топоница-Фудбалски Терен: П1-5600","11.5",{"$f":"IF($E320=0, \" \", VLOOKUP($E320, 'Cenovnik 2'!$A$2:$D$411, 2, FALSE))","v":"Ваљак од 2 t"},{"$f":"IF($E320=0, \" \", VLOOKUP($E320, 'Cenovnik 2'!$A$2:$D$411, 3, FALSE))","v":"час"},{"$f":"IF($E320=0, \" \", VLOOKUP($E320, 'Cenovnik 2'!$A$2:$D$411, 4, FALSE))","v":2875},6,17250,"FT","11","ДА",null,null,null,null,{"$f":"IF($C320=0, \" \", VLOOKUP($C320, DrzavniPuteviRed, 2, FALSE))","v":{"$error":"#NAME?"}},115,"115",{"$f":"IF(VLOOKUP($E320,[0]!ProveraPDV,2,FALSE)=TRUE,$J320,)","v":{"$error":"#N/A"}},{"$f":"IF(VLOOKUP($E320,liste!$A$31:$B$818,2,FALSE)=TRUE,#REF!,)","v":{"$error":"#N/A"}},{"$error":"#NAME?"},{"$f":"INDEX('Cenovnik 2'!$G$2:$G$411,MATCH('Plan unos i pregled'!$E320,Pozicije,0))","v":"nebitno"}]
["2025.","ЈУЛ","Фудбалски терени","Велики Вртоп-Фудбалски терен: П1-4250","11.5",{"$f":"IF($E321=0, \" \", VLOOKUP($E321, 'Cenovnik 2'!$A$2:$D$411, 2, FALSE))","v":"Ваљак од 2 t"},{"$f":"IF($E321=0, \" \", VLOOKUP($E321, 'Cenovnik 2'!$A$2:$D$411, 3, FALSE))","v":"час"},{"$f":"IF($E321=0, \" \", VLOOKUP($E321, 'Cenovnik 2'!$A$2:$D$411, 4, FALSE))","v":2875},6,17250,"FT","11","ДА","Велики Вртоп, 1 годишње",null,null,null,{"$f":"IF($C321=0, \" \", VLOOKUP($C321, DrzavniPuteviRed, 2, FALSE))","v":{"$error":"#NAME?"}},115,"115",{"$f":"IF(VLOOKUP($E321,[0]!ProveraPDV,2,FALSE)=TRUE,$J321,)","v":{"$error":"#N/A"}},{"$f":"IF(VLOOKUP($E321,liste!$A$31:$B$818,2,FALSE)=TRUE,#REF!,)","v":{"$error":"#N/A"}},{"$error":"#NAME?"},{"$f":"INDEX('Cenovnik 2'!$G$2:$G$411,MATCH('Plan unos i pregled'!$E321,Pozicije,0))","v":"nebitno"}]
["2025.","ЈУЛ","Фудбалски терени","Личје-Фудбалски терен: П1-1925","11.5",{"$f":"IF($E322=0, \" \", VLOOKUP($E322, 'Cenovnik 2'!$A$2:$D$411, 2, FALSE))","v":"Ваљак од 2 t"},{"$f":"IF($E322=0, \" \", VLOOKUP($E322, 'Cenovnik 2'!$A$2:$D$411, 3, FALSE))","v":"час"},{"$f":"IF($E322=0, \" \", VLOOKUP($E322, 'Cenovnik 2'!$A$2:$D$411, 4, FALSE))","v":2875},3,8625,"FT","11","ДА","Личје, 1 годишње",null,null,null,{"$f":"IF($C322=0, \" \", VLOOKUP($C322, DrzavniPuteviRed, 2, FALSE))","v":{"$error":"#NAME?"}},115,"115",{"$f":"IF(VLOOKUP($E322,[0]!ProveraPDV,2,FALSE)=TRUE,$J322,)","v":{"$error":"#N/A"}},{"$f":"IF(VLOOKUP($E322,liste!$A$31:$B$818,2,FALSE)=TRUE,#REF!,)","v":{"$error":"#N/A"}},{"$error":"#NAME?"},{"$f":"INDEX('Cenovnik 2'!$G$2:$G$411,MATCH('Plan unos i pregled'!$E322,Pozicije,0))","v":"nebitno"}]
["2025.","ЈУЛ","Јавне зелене површине","Гаџин Хан-Кеј: П 1-1318","4.26",{"$f":"IF($E323=0, \" \", VLOOKUP($E323, 'Cenovnik 2'!$A$2:$D$411, 2, FALSE))","v":"Кошење траве на слободним површинама косачицом прикљученом на трактор"},{"$f":"IF($E323=0, \" \", VLOOKUP($E323, 'Cenovnik 2'!$A$2:$D$411, 3, FALSE))","v":"m2"},{"$f":"IF($E323=0, \" \", VLOOKUP($E323, 'Cenovnik 2'!$A$2:$D$411, 4, FALSE))","v":4.3499999999999996},3954,17199.899999999998,"JZP","04","ДА","3 кошења",null,null,null,{"$f":"IF($C323=0, \" \", VLOOKUP($C323, DrzavniPuteviRed, 2, FALSE))","v":{"$error":"#NAME?"}},426,"426",{"$f":"IF(VLOOKUP($E323,[0]!ProveraPDV,2,FALSE)=TRUE,$J323,)","v":{"$error":"#N/A"}},{"$f":"IF(VLOOKUP($E323,liste!$A$31:$B$818,2,FALSE)=TRUE,#REF!,)","v":{"$error":"#N/A"}},{"$error":"#NAME?"},{"$f":"INDEX('Cenovnik 2'!$G$2:$G$411,MATCH('Plan unos i pregled'!$E323,Pozicije,0))","v":"nebitno"}]
["2025.","ЈУЛ","Јавне зелене површине","Гаџин Хан-Кеј: П 2-4326","11.30",{"$f":"IF($E324=0, \" \", VLOOKUP($E324, 'Cenovnik 2'!$A$2:$D$411, 2, FALSE))","v":"Моторна косачица за траву (спортски терени)"},{"$f":"IF($E324=0, \" \", VLOOKUP($E324, 'Cenovnik 2'!$A$2:$D$411, 3, FALSE))","v":"m2"},{"$f":"IF($E324=0, \" \", VLOOKUP($E324, 'Cenovnik 2'!$A$2:$D$411, 4, FALSE))","v":2.13},12978,27643.14,"JZP","11","ДА","3 кошења",null,null,null,{"$f":"IF($C324=0, \" \", VLOOKUP($C324, DrzavniPuteviRed, 2, FALSE))","v":{"$error":"#NAME?"}},1130,"113",{"$f":"IF(VLOOKUP($E324,[0]!ProveraPDV,2,FALSE)=TRUE,$J324,)","v":{"$error":"#N/A"}},{"$f":"IF(VLOOKUP($E324,liste!$A$31:$B$818,2,FALSE)=TRUE,#REF!,)","v":{"$error":"#N/A"}},{"$error":"#NAME?"},{"$f":"INDEX('Cenovnik 2'!$G$2:$G$411,MATCH('Plan unos i pregled'!$E324,Pozicije,0))","v":"nebitno"}]
["2025.","ЈУЛ","Јавне зелене површине","Гаџин Хан-Кеј: П 3-3036","4.6",{"$f":"IF($E325=0, \" \", VLOOKUP($E325, 'Cenovnik 2'!$A$2:$D$411, 2, FALSE))","v":"Кошење парковског травњака тримером"},{"$f":"IF($E325=0, \" \", VLOOKUP($E325, 'Cenovnik 2'!$A$2:$D$411, 3, FALSE))","v":"m2"},{"$f":"IF($E325=0, \" \", VLOOKUP($E325, 'Cenovnik 2'!$A$2:$D$411, 4, FALSE))","v":6.5},9108,59202,"JZP","04","ДА","3 кошења",null,null,null,{"$f":"IF($C325=0, \" \", VLOOKUP($C325, DrzavniPuteviRed, 2, FALSE))","v":{"$error":"#NAME?"}},46,"46",{"$f":"IF(VLOOKUP($E325,[0]!ProveraPDV,2,FALSE)=TRUE,$J325,)","v":{"$error":"#N/A"}},{"$f":"IF(VLOOKUP($E325,liste!$A$31:$B$818,2,FALSE)=TRUE,#REF!,)","v":{"$error":"#N/A"}},{"$error":"#NAME?"},{"$f":"INDEX('Cenovnik 2'!$G$2:$G$411,MATCH('Plan unos i pregled'!$E325,Pozicije,0))","v":"nebitno"}]
["2025.","ЈУЛ","Јавне зелене површине","Гаџин Хан-Старачки дом, Стамбена зграда: П1-711","4.6",{"$f":"IF($E326=0, \" \", VLOOKUP($E326, 'Cenovnik 2'!$A$2:$D$411, 2, FALSE))","v":"Кошење парковског травњака тримером"},{"$f":"IF($E326=0, \" \", VLOOKUP($E326, 'Cenovnik 2'!$A$2:$D$411, 3, FALSE))","v":"m2"},{"$f":"IF($E326=0, \" \", VLOOKUP($E326, 'Cenovnik 2'!$A$2:$D$411, 4, FALSE))","v":6.5},1422,9243,"JZP","04","ДА","2 кошења",null,null,null,{"$f":"IF($C326=0, \" \", VLOOKUP($C326, DrzavniPuteviRed, 2, FALSE))","v":{"$error":"#NAME?"}},46,"46",{"$f":"IF(VLOOKUP($E326,[0]!ProveraPDV,2,FALSE)=TRUE,$J326,)","v":{"$error":"#N/A"}},{"$f":"IF(VLOOKUP($E326,liste!$A$31:$B$818,2,FALSE)=TRUE,#REF!,)","v":{"$error":"#N/A"}},{"$error":"#NAME?"},{"$f":"INDEX('Cenovnik 2'!$G$2:$G$411,MATCH('Plan unos i pregled'!$E326,Pozicije,0))","v":"nebitno"}]
["2025.","ЈУЛ","Јавне зелене површине","Гаџин Хан-Дом културе: П 1-560","11.30",{"$f":"IF($E327=0, \" \", VLOOKUP($E327, 'Cenovnik 2'!$A$2:$D$411, 2, FALSE))","v":"Моторна косачица за траву (спортски терени)"},{"$f":"IF($E327=0, \" \", VLOOKUP($E327, 'Cenovnik 2'!$A$2:$D$411, 3, FALSE))","v":"m2"},{"$f":"IF($E327=0, \" \", VLOOKUP($E327, 'Cenovnik 2'!$A$2:$D$411, 4, FALSE))","v":2.13},1120,2385.6,"JZP","11","ДА","2 кошења",null,null,null,{"$f":"IF($C327=0, \" \", VLOOKUP($C327, DrzavniPuteviRed, 2, FALSE))","v":{"$error":"#NAME?"}},1130,"113",{"$f":"IF(VLOOKUP($E327,[0]!ProveraPDV,2,FALSE)=TRUE,$J327,)","v":{"$error":"#N/A"}},{"$f":"IF(VLOOKUP($E327,liste!$A$31:$B$818,2,FALSE)=TRUE,#REF!,)","v":{"$error":"#N/A"}},{"$error":"#NAME?"},{"$f":"INDEX('Cenovnik 2'!$G$2:$G$411,MATCH('Plan unos i pregled'!$E327,Pozicije,0))","v":"nebitno"}]
["2025.","ЈУЛ","Јавне зелене површине","Гаџин Хан-Дом културе: П 2-312","11.30",{"$f":"IF($E328=0, \" \", VLOOKUP($E328, 'Cenovnik 2'!$A$2:$D$411, 2, FALSE))","v":"Моторна косачица за траву (спортски терени)"},{"$f":"IF($E328=0, \" \", VLOOKUP($E328, 'Cenovnik 2'!$A$2:$D$411, 3, FALSE))","v":"m2"},{"$f":"IF($E328=0, \" \", VLOOKUP($E328, 'Cenovnik 2'!$A$2:$D$411, 4, FALSE))","v":2.13},624,1329.12,"JZP","11","ДА","2 кошења",null,null,null,{"$f":"IF($C328=0, \" \", VLOOKUP($C328, DrzavniPuteviRed, 2, FALSE))","v":{"$error":"#NAME?"}},1130,"113",{"$f":"IF(VLOOKUP($E328,[0]!ProveraPDV,2,FALSE)=TRUE,$J328,)","v":{"$error":"#N/A"}},{"$f":"IF(VLOOKUP($E328,liste!$A$31:$B$818,2,FALSE)=TRUE,#REF!,)","v":{"$error":"#N/A"}},{"$error":"#NAME?"},{"$f":"INDEX('Cenovnik 2'!$G$2:$G$411,MATCH('Plan unos i pregled'!$E328,Pozicije,0))","v":"nebitno"}]
["2025.","ЈУЛ","Јавне зелене површине","Гаџин Хан-Дом културе: П 3-848","4.6",{"$f":"IF($E329=0, \" \", VLOOKUP($E329, 'Cenovnik 2'!$A$2:$D$411, 2, FALSE))","v":"Кошење парковског травњака тримером"},{"$f":"IF($E329=0, \" \", VLOOKUP($E329, 'Cenovnik 2'!$A$2:$D$411, 3, FALSE))","v":"m2"},{"$f":"IF($E329=0, \" \", VLOOKUP($E329, 'Cenovnik 2'!$A$2:$D$411, 4, FALSE))","v":6.5},1696,11024,"JZP","04","ДА","2 кошења",null,null,null,{"$f":"IF($C329=0, \" \", VLOOKUP($C329, DrzavniPuteviRed, 2, FALSE))","v":{"$error":"#NAME?"}},46,"46",{"$f":"IF(VLOOKUP($E329,[0]!ProveraPDV,2,FALSE)=TRUE,$J329,)","v":{"$error":"#N/A"}},{"$f":"IF(VLOOKUP($E329,liste!$A$31:$B$818,2,FALSE)=TRUE,#REF!,)","v":{"$error":"#N/A"}},{"$error":"#NAME?"},{"$f":"INDEX('Cenovnik 2'!$G$2:$G$411,MATCH('Plan unos i pregled'!$E329,Pozicije,0))","v":"nebitno"}]
["2025.","ЈУЛ","Јавне зелене површине","Гаџин Хан-Трг Драгутина Матића: П1-81","11.30",{"$f":"IF($E330=0, \" \", VLOOKUP($E330, 'Cenovnik 2'!$A$2:$D$411, 2, FALSE))","v":"Моторна косачица за траву (спортски терени)"},{"$f":"IF($E330=0, \" \", VLOOKUP($E330, 'Cenovnik 2'!$A$2:$D$411, 3, FALSE))","v":"m2"},{"$f":"IF($E330=0, \" \", VLOOKUP($E330, 'Cenovnik 2'!$A$2:$D$411, 4, FALSE))","v":2.13},162,345.06,"JZP","11","ДА","2 кошења",null,null,null,{"$f":"IF($C330=0, \" \", VLOOKUP($C330, DrzavniPuteviRed, 2, FALSE))","v":{"$error":"#NAME?"}},1130,"113",{"$f":"IF(VLOOKUP($E330,[0]!ProveraPDV,2,FALSE)=TRUE,$J330,)","v":{"$error":"#N/A"}},{"$f":"IF(VLOOKUP($E330,liste!$A$31:$B$818,2,FALSE)=TRUE,#REF!,)","v":{"$error":"#N/A"}},{"$error":"#NAME?"},{"$f":"INDEX('Cenovnik 2'!$G$2:$G$411,MATCH('Plan unos i pregled'!$E330,Pozicije,0))","v":"nebitno"}]
["2025.","ЈУЛ","Јавне зелене површине","Гаџин Хан-Трг Драгутина Матића: П 2-81","11.30",{"$f":"IF($E331=0, \" \", VLOOKUP($E331, 'Cenovnik 2'!$A$2:$D$411, 2, FALSE))","v":"Моторна косачица за траву (спортски терени)"},{"$f":"IF($E331=0, \" \", VLOOKUP($E331, 'Cenovnik 2'!$A$2:$D$411, 3, FALSE))","v":"m2"},{"$f":"IF($E331=0, \" \", VLOOKUP($E331, 'Cenovnik 2'!$A$2:$D$411, 4, FALSE))","v":2.13},162,345.06,"JZP","11","ДА","2 кошења",null,null,null,{"$f":"IF($C331=0, \" \", VLOOKUP($C331, DrzavniPuteviRed, 2, FALSE))","v":{"$error":"#NAME?"}},1130,"113",{"$f":"IF(VLOOKUP($E331,[0]!ProveraPDV,2,FALSE)=TRUE,$J331,)","v":{"$error":"#N/A"}},{"$f":"IF(VLOOKUP($E331,liste!$A$31:$B$818,2,FALSE)=TRUE,#REF!,)","v":{"$error":"#N/A"}},{"$error":"#NAME?"},{"$f":"INDEX('Cenovnik 2'!$G$2:$G$411,MATCH('Plan unos i pregled'!$E331,Pozicije,0))","v":"nebitno"}]
["2025.","ЈУЛ","Јавне зелене површине","Гаџин Хан-Трг Драгутина Матића: П 3-81","11.30",{"$f":"IF($E332=0, \" \", VLOOKUP($E332, 'Cenovnik 2'!$A$2:$D$411, 2, FALSE))","v":"Моторна косачица за траву (спортски терени)"},{"$f":"IF($E332=0, \" \", VLOOKUP($E332, 'Cenovnik 2'!$A$2:$D$411, 3, FALSE))","v":"m2"},{"$f":"IF($E332=0, \" \", VLOOKUP($E332, 'Cenovnik 2'!$A$2:$D$411, 4, FALSE))","v":2.13},162,345.06,"JZP","11","ДА","2 кошења",null,null,null,{"$f":"IF($C332=0, \" \", VLOOKUP($C332, DrzavniPuteviRed, 2, FALSE))","v":{"$error":"#NAME?"}},1130,"113",{"$f":"IF(VLOOKUP($E332,[0]!ProveraPDV,2,FALSE)=TRUE,$J332,)","v":{"$error":"#N/A"}},{"$f":"IF(VLOOKUP($E332,liste!$A$31:$B$818,2,FALSE)=TRUE,#REF!,)","v":{"$error":"#N/A"}},{"$error":"#NAME?"},{"$f":"INDEX('Cenovnik 2'!$G$2:$G$411,MATCH('Plan unos i pregled'!$E332,Pozicije,0))","v":"nebitno"}]
["2025.","ЈУЛ","Јавне зелене површине","Гаџин Хан-Трг Драгутина Матића: П 4-81","11.30",{"$f":"IF($E333=0, \" \", VLOOKUP($E333, 'Cenovnik 2'!$A$2:$D$411, 2, FALSE))","v":"Моторна косачица за траву (спортски терени)"},{"$f":"IF($E333=0, \" \", VLOOKUP($E333, 'Cenovnik 2'!$A$2:$D$411, 3, FALSE))","v":"m2"},{"$f":"IF($E333=0, \" \", VLOOKUP($E333, 'Cenovnik 2'!$A$2:$D$411, 4, FALSE))","v":2.13},162,345.06,"JZP","11","ДА","2 кошења",null,null,null,{"$f":"IF($C333=0, \" \", VLOOKUP($C333, DrzavniPuteviRed, 2, FALSE))","v":{"$error":"#NAME?"}},1130,"113",{"$f":"IF(VLOOKUP($E333,[0]!ProveraPDV,2,FALSE)=TRUE,$J333,)","v":{"$error":"#N/A"}},{"$f":"IF(VLOOKUP($E333,liste!$A$31:$B$818,2,FALSE)=TRUE,#REF!,)","v":{"$error":"#N/A"}},{"$error":"#NAME?"},{"$f":"INDEX('Cenovnik 2'!$G$2:$G$411,MATCH('Plan unos i pregled'!$E333,Pozicije,0))","v":"nebitno"}]
["2025.","ЈУЛ","Јавне зелене површине","Гаџин Хан-Трг Драгутина Матића: П 5-56","11.30",{"$f":"IF($E334=0, \" \", VLOOKUP($E334, 'Cenovnik 2'!$A$2:$D$411, 2, FALSE))","v":"Моторна косачица за траву (спортски терени)"},{"$f":"IF($E334=0, \" \", VLOOKUP($E334, 'Cenovnik 2'!$A$2:$D$411, 3, FALSE))","v":"m2"},{"$f":"IF($E334=0, \" \", VLOOKUP($E334, 'Cenovnik 2'!$A$2:$D$411, 4, FALSE))","v":2.13},112,238.56,"JZP","11","ДА","2 кошења",null,null,null,{"$f":"IF($C334=0, \" \", VLOOKUP($C334, DrzavniPuteviRed, 2, FALSE))","v":{"$error":"#NAME?"}},1130,"113",{"$f":"IF(VLOOKUP($E334,[0]!ProveraPDV,2,FALSE)=TRUE,$J334,)","v":{"$error":"#N/A"}},{"$f":"IF(VLOOKUP($E334,liste!$A$31:$B$818,2,FALSE)=TRUE,#REF!,)","v":{"$error":"#N/A"}},{"$error":"#NAME?"},{"$f":"INDEX('Cenovnik 2'!$G$2:$G$411,MATCH('Plan unos i pregled'!$E334,Pozicije,0))","v":"nebitno"}]
["2025.","ЈУЛ","Јавне зелене површине","Гаџин Хан-ОШ Витко и Света: П 1-435","11.30",{"$f":"IF($E335=0, \" \", VLOOKUP($E335, 'Cenovnik 2'!$A$2:$D$411, 2, FALSE))","v":"Моторна косачица за траву (спортски терени)"},{"$f":"IF($E335=0, \" \", VLOOKUP($E335, 'Cenovnik 2'!$A$2:$D$411, 3, FALSE))","v":"m2"},{"$f":"IF($E335=0, \" \", VLOOKUP($E335, 'Cenovnik 2'!$A$2:$D$411, 4, FALSE))","v":2.13},870,1853.1,"JZP","11","ДА","2 кошења",null,null,null,{"$f":"IF($C335=0, \" \", VLOOKUP($C335, DrzavniPuteviRed, 2, FALSE))","v":{"$error":"#NAME?"}},1130,"113",{"$f":"IF(VLOOKUP($E335,[0]!ProveraPDV,2,FALSE)=TRUE,$J335,)","v":{"$error":"#N/A"}},{"$f":"IF(VLOOKUP($E335,liste!$A$31:$B$818,2,FALSE)=TRUE,#REF!,)","v":{"$error":"#N/A"}},{"$error":"#NAME?"},{"$f":"INDEX('Cenovnik 2'!$G$2:$G$411,MATCH('Plan unos i pregled'!$E335,Pozicije,0))","v":"nebitno"}]
["2025.","ЈУЛ","Јавне зелене површине","Гаџин Хан-Кеј: П 2-4326","4.6",{"$f":"IF($E336=0, \" \", VLOOKUP($E336, 'Cenovnik 2'!$A$2:$D$411, 2, FALSE))","v":"Кошење парковског травњака тримером"},{"$f":"IF($E336=0, \" \", VLOOKUP($E336, 'Cenovnik 2'!$A$2:$D$411, 3, FALSE))","v":"m2"},{"$f":"IF($E336=0, \" \", VLOOKUP($E336, 'Cenovnik 2'!$A$2:$D$411, 4, FALSE))","v":6.5},606,3939,"JZP","04","ДА","2 кошења",null,null,null,{"$f":"IF($C336=0, \" \", VLOOKUP($C336, DrzavniPuteviRed, 2, FALSE))","v":{"$error":"#NAME?"}},46,"46",{"$f":"IF(VLOOKUP($E336,[0]!ProveraPDV,2,FALSE)=TRUE,$J336,)","v":{"$error":"#N/A"}},{"$f":"IF(VLOOKUP($E336,liste!$A$31:$B$818,2,FALSE)=TRUE,#REF!,)","v":{"$error":"#N/A"}},{"$error":"#NAME?"},{"$f":"INDEX('Cenovnik 2'!$G$2:$G$411,MATCH('Plan unos i pregled'!$E336,Pozicije,0))","v":"nebitno"}]
["2025.","ЈУЛ","Јавне зелене површине","Гаџин Хан-ОШ Витко и Света: П 3-334","4.6",{"$f":"IF($E337=0, \" \", VLOOKUP($E337, 'Cenovnik 2'!$A$2:$D$411, 2, FALSE))","v":"Кошење парковског травњака тримером"},{"$f":"IF($E337=0, \" \", VLOOKUP($E337, 'Cenovnik 2'!$A$2:$D$411, 3, FALSE))","v":"m2"},{"$f":"IF($E337=0, \" \", VLOOKUP($E337, 'Cenovnik 2'!$A$2:$D$411, 4, FALSE))","v":6.5},668,4342,"JZP","04","ДА","2 кошења",null,null,null,{"$f":"IF($C337=0, \" \", VLOOKUP($C337, DrzavniPuteviRed, 2, FALSE))","v":{"$error":"#NAME?"}},46,"46",{"$f":"IF(VLOOKUP($E337,[0]!ProveraPDV,2,FALSE)=TRUE,$J337,)","v":{"$error":"#N/A"}},{"$f":"IF(VLOOKUP($E337,liste!$A$31:$B$818,2,FALSE)=TRUE,#REF!,)","v":{"$error":"#N/A"}},{"$error":"#NAME?"},{"$f":"INDEX('Cenovnik 2'!$G$2:$G$411,MATCH('Plan unos i pregled'!$E337,Pozicije,0))","v":"nebitno"}]
["2025.","ЈУЛ","Јавне зелене површине","Гаџин Хан-Спортска Хала: П 1-325","4.6",{"$f":"IF($E338=0, \" \", VLOOKUP($E338, 'Cenovnik 2'!$A$2:$D$411, 2, FALSE))","v":"Кошење парковског травњака тримером"},{"$f":"IF($E338=0, \" \", VLOOKUP($E338, 'Cenovnik 2'!$A$2:$D$411, 3, FALSE))","v":"m2"},{"$f":"IF($E338=0, \" \", VLOOKUP($E338, 'Cenovnik 2'!$A$2:$D$411, 4, FALSE))","v":6.5},650,4225,"JZP","04","ДА","2 кошења",null,null,null,{"$f":"IF($C338=0, \" \", VLOOKUP($C338, DrzavniPuteviRed, 2, FALSE))","v":{"$error":"#NAME?"}},46,"46",{"$f":"IF(VLOOKUP($E338,[0]!ProveraPDV,2,FALSE)=TRUE,$J338,)","v":{"$error":"#N/A"}},{"$f":"IF(VLOOKUP($E338,liste!$A$31:$B$818,2,FALSE)=TRUE,#REF!,)","v":{"$error":"#N/A"}},{"$error":"#NAME?"},{"$f":"INDEX('Cenovnik 2'!$G$2:$G$411,MATCH('Plan unos i pregled'!$E338,Pozicije,0))","v":"nebitno"}]
["2025.","ЈУЛ","Јавне зелене површине","Гаџин Хан-Спортска Хала: П 2-1116","4.6",{"$f":"IF($E339=0, \" \", VLOOKUP($E339, 'Cenovnik 2'!$A$2:$D$411, 2, FALSE))","v":"Кошење парковског травњака тримером"},{"$f":"IF($E339=0, \" \", VLOOKUP($E339, 'Cenovnik 2'!$A$2:$D$411, 3, FALSE))","v":"m2"},{"$f":"IF($E339=0, \" \", VLOOKUP($E339, 'Cenovnik 2'!$A$2:$D$411, 4, FALSE))","v":6.5},2232,14508,"JZP","04","ДА","2 кошења",null,null,null,{"$f":"IF($C339=0, \" \", VLOOKUP($C339, DrzavniPuteviRed, 2, FALSE))","v":{"$error":"#NAME?"}},46,"46",{"$f":"IF(VLOOKUP($E339,[0]!ProveraPDV,2,FALSE)=TRUE,$J339,)","v":{"$error":"#N/A"}},{"$f":"IF(VLOOKUP($E339,liste!$A$31:$B$818,2,FALSE)=TRUE,#REF!,)","v":{"$error":"#N/A"}},{"$error":"#NAME?"},{"$f":"INDEX('Cenovnik 2'!$G$2:$G$411,MATCH('Plan unos i pregled'!$E339,Pozicije,0))","v":"nebitno"}]
["2025.","ЈУЛ","Јавне зелене површине","Марина Кутина-Црква Св. Петке: П1-1100","4.6",{"$f":"IF($E340=0, \" \", VLOOKUP($E340, 'Cenovnik 2'!$A$2:$D$411, 2, FALSE))","v":"Кошење парковског травњака тримером"},{"$f":"IF($E340=0, \" \", VLOOKUP($E340, 'Cenovnik 2'!$A$2:$D$411, 3, FALSE))","v":"m2"},{"$f":"IF($E340=0, \" \", VLOOKUP($E340, 'Cenovnik 2'!$A$2:$D$411, 4, FALSE))","v":6.5},1100,7150,"JZP","04","ДА",null,null,null,null,{"$f":"IF($C340=0, \" \", VLOOKUP($C340, DrzavniPuteviRed, 2, FALSE))","v":{"$error":"#NAME?"}},46,"46",{"$f":"IF(VLOOKUP($E340,[0]!ProveraPDV,2,FALSE)=TRUE,$J340,)","v":{"$error":"#N/A"}},{"$f":"IF(VLOOKUP($E340,liste!$A$31:$B$818,2,FALSE)=TRUE,#REF!,)","v":{"$error":"#N/A"}},{"$error":"#NAME?"},{"$f":"INDEX('Cenovnik 2'!$G$2:$G$411,MATCH('Plan unos i pregled'!$E340,Pozicije,0))","v":"nebitno"}]
["2025.","ЈУЛ","Јавне зелене површине","Велики Крчимир-Црква: П1-3326","4.26",{"$f":"IF($E341=0, \" \", VLOOKUP($E341, 'Cenovnik 2'!$A$2:$D$411, 2, FALSE))","v":"Кошење траве на слободним површинама косачицом прикљученом на трактор"},{"$f":"IF($E341=0, \" \", VLOOKUP($E341, 'Cenovnik 2'!$A$2:$D$411, 3, FALSE))","v":"m2"},{"$f":"IF($E341=0, \" \", VLOOKUP($E341, 'Cenovnik 2'!$A$2:$D$411, 4, FALSE))","v":4.3499999999999996},3326,14468.099999999999,"JZP","04","ДА",null,null,null,null,{"$f":"IF($C341=0, \" \", VLOOKUP($C341, DrzavniPuteviRed, 2, FALSE))","v":{"$error":"#NAME?"}},426,"426",{"$f":"IF(VLOOKUP($E341,[0]!ProveraPDV,2,FALSE)=TRUE,$J341,)","v":{"$error":"#N/A"}},{"$f":"IF(VLOOKUP($E341,liste!$A$31:$B$818,2,FALSE)=TRUE,#REF!,)","v":{"$error":"#N/A"}},{"$error":"#NAME?"},{"$f":"INDEX('Cenovnik 2'!$G$2:$G$411,MATCH('Plan unos i pregled'!$E341,Pozicije,0))","v":"nebitno"}]
["2025.","ЈУЛ","Јавне зелене површине","Велики Крчимир-Црква: П1-3326","4.6",{"$f":"IF($E342=0, \" \", VLOOKUP($E342, 'Cenovnik 2'!$A$2:$D$411, 2, FALSE))","v":"Кошење парковског травњака тримером"},{"$f":"IF($E342=0, \" \", VLOOKUP($E342, 'Cenovnik 2'!$A$2:$D$411, 3, FALSE))","v":"m2"},{"$f":"IF($E342=0, \" \", VLOOKUP($E342, 'Cenovnik 2'!$A$2:$D$411, 4, FALSE))","v":6.5},3326,21619,"JZP","04","ДА",null,null,null,null,{"$f":"IF($C342=0, \" \", VLOOKUP($C342, DrzavniPuteviRed, 2, FALSE))","v":{"$error":"#NAME?"}},46,"46",{"$f":"IF(VLOOKUP($E342,[0]!ProveraPDV,2,FALSE)=TRUE,$J342,)","v":{"$error":"#N/A"}},{"$f":"IF(VLOOKUP($E342,liste!$A$31:$B$818,2,FALSE)=TRUE,#REF!,)","v":{"$error":"#N/A"}},{"$error":"#NAME?"},{"$f":"INDEX('Cenovnik 2'!$G$2:$G$411,MATCH('Plan unos i pregled'!$E342,Pozicije,0))","v":"nebitno"}]
["2025.","ЈУЛ","Јавне зелене површине","Велики Крчимир-Школа: П1-1839","4.6",{"$f":"IF($E343=0, \" \", VLOOKUP($E343, 'Cenovnik 2'!$A$2:$D$411, 2, FALSE))","v":"Кошење парковског травњака тримером"},{"$f":"IF($E343=0, \" \", VLOOKUP($E343, 'Cenovnik 2'!$A$2:$D$411, 3, FALSE))","v":"m2"},{"$f":"IF($E343=0, \" \", VLOOKUP($E343, 'Cenovnik 2'!$A$2:$D$411, 4, FALSE))","v":6.5},1839,11953.5,"JZP","04","ДА",null,null,null,null,{"$f":"IF($C343=0, \" \", VLOOKUP($C343, DrzavniPuteviRed, 2, FALSE))","v":{"$error":"#NAME?"}},46,"46",{"$f":"IF(VLOOKUP($E343,[0]!ProveraPDV,2,FALSE)=TRUE,$J343,)","v":{"$error":"#N/A"}},{"$f":"IF(VLOOKUP($E343,liste!$A$31:$B$818,2,FALSE)=TRUE,#REF!,)","v":{"$error":"#N/A"}},{"$error":"#NAME?"},{"$f":"INDEX('Cenovnik 2'!$G$2:$G$411,MATCH('Plan unos i pregled'!$E343,Pozicije,0))","v":"nebitno"}]
["2025.","ЈУЛ","Јавне зелене површине","Велики Крчимир-Школа: П2-411","4.6",{"$f":"IF($E344=0, \" \", VLOOKUP($E344, 'Cenovnik 2'!$A$2:$D$411, 2, FALSE))","v":"Кошење парковског травњака тримером"},{"$f":"IF($E344=0, \" \", VLOOKUP($E344, 'Cenovnik 2'!$A$2:$D$411, 3, FALSE))","v":"m2"},{"$f":"IF($E344=0, \" \", VLOOKUP($E344, 'Cenovnik 2'!$A$2:$D$411, 4, FALSE))","v":6.5},411,2671.5,"JZP","04","ДА",null,null,null,null,{"$f":"IF($C344=0, \" \", VLOOKUP($C344, DrzavniPuteviRed, 2, FALSE))","v":{"$error":"#NAME?"}},46,"46",{"$f":"IF(VLOOKUP($E344,[0]!ProveraPDV,2,FALSE)=TRUE,$J344,)","v":{"$error":"#N/A"}},{"$f":"IF(VLOOKUP($E344,liste!$A$31:$B$818,2,FALSE)=TRUE,#REF!,)","v":{"$error":"#N/A"}},{"$error":"#NAME?"},{"$f":"INDEX('Cenovnik 2'!$G$2:$G$411,MATCH('Plan unos i pregled'!$E344,Pozicije,0))","v":"nebitno"}]
["2025.","ЈУЛ","Јавне зелене површине","Велики Крчимир-Три локве: П1-5551","4.6",{"$f":"IF($E345=0, \" \", VLOOKUP($E345, 'Cenovnik 2'!$A$2:$D$411, 2, FALSE))","v":"Кошење парковског травњака тримером"},{"$f":"IF($E345=0, \" \", VLOOKUP($E345, 'Cenovnik 2'!$A$2:$D$411, 3, FALSE))","v":"m2"},{"$f":"IF($E345=0, \" \", VLOOKUP($E345, 'Cenovnik 2'!$A$2:$D$411, 4, FALSE))","v":6.5},5551,36081.5,"JZP","04","ДА",null,null,null,null,{"$f":"IF($C345=0, \" \", VLOOKUP($C345, DrzavniPuteviRed, 2, FALSE))","v":{"$error":"#NAME?"}},46,"46",{"$f":"IF(VLOOKUP($E345,[0]!ProveraPDV,2,FALSE)=TRUE,$J345,)","v":{"$error":"#N/A"}},{"$f":"IF(VLOOKUP($E345,liste!$A$31:$B$818,2,FALSE)=TRUE,#REF!,)","v":{"$error":"#N/A"}},{"$error":"#NAME?"},{"$f":"INDEX('Cenovnik 2'!$G$2:$G$411,MATCH('Plan unos i pregled'!$E345,Pozicije,0))","v":"nebitno"}]
["2025.","ЈУЛ","Јавне зелене површине","Велики Крчимир-Три локве: П2-588","4.6",{"$f":"IF($E346=0, \" \", VLOOKUP($E346, 'Cenovnik 2'!$A$2:$D$411, 2, FALSE))","v":"Кошење парковског травњака тримером"},{"$f":"IF($E346=0, \" \", VLOOKUP($E346, 'Cenovnik 2'!$A$2:$D$411, 3, FALSE))","v":"m2"},{"$f":"IF($E346=0, \" \", VLOOKUP($E346, 'Cenovnik 2'!$A$2:$D$411, 4, FALSE))","v":6.5},588,3822,"JZP","04","ДА",null,null,null,null,{"$f":"IF($C346=0, \" \", VLOOKUP($C346, DrzavniPuteviRed, 2, FALSE))","v":{"$error":"#NAME?"}},46,"46",{"$f":"IF(VLOOKUP($E346,[0]!ProveraPDV,2,FALSE)=TRUE,$J346,)","v":{"$error":"#N/A"}},{"$f":"IF(VLOOKUP($E346,liste!$A$31:$B$818,2,FALSE)=TRUE,#REF!,)","v":{"$error":"#N/A"}},{"$error":"#NAME?"},{"$f":"INDEX('Cenovnik 2'!$G$2:$G$411,MATCH('Plan unos i pregled'!$E346,Pozicije,0))","v":"nebitno"}]
["2025.","ЈУЛ","Јавне зелене површине","Личје-Ханови: П1-3440","4.26",{"$f":"IF($E347=0, \" \", VLOOKUP($E347, 'Cenovnik 2'!$A$2:$D$411, 2, FALSE))","v":"Кошење траве на слободним површинама косачицом прикљученом на трактор"},{"$f":"IF($E347=0, \" \", VLOOKUP($E347, 'Cenovnik 2'!$A$2:$D$411, 3, FALSE))","v":"m2"},{"$f":"IF($E347=0, \" \", VLOOKUP($E347, 'Cenovnik 2'!$A$2:$D$411, 4, FALSE))","v":4.3499999999999996},3440,14963.999999999998,"JZP","04","ДА","1 годишње",null,null,null,{"$f":"IF($C347=0, \" \", VLOOKUP($C347, DrzavniPuteviRed, 2, FALSE))","v":{"$error":"#NAME?"}},426,"426",{"$f":"IF(VLOOKUP($E347,[0]!ProveraPDV,2,FALSE)=TRUE,$J347,)","v":{"$error":"#N/A"}},{"$f":"IF(VLOOKUP($E347,liste!$A$31:$B$818,2,FALSE)=TRUE,#REF!,)","v":{"$error":"#N/A"}},{"$error":"#NAME?"},{"$f":"INDEX('Cenovnik 2'!$G$2:$G$411,MATCH('Plan unos i pregled'!$E347,Pozicije,0))","v":"nebitno"}]
["2025.","ЈУЛ","Јавне зелене површине","Личје-Терен за мали фудбал: П2-1925","4.26",{"$f":"IF($E348=0, \" \", VLOOKUP($E348, 'Cenovnik 2'!$A$2:$D$411, 2, FALSE))","v":"Кошење траве на слободним површинама косачицом прикљученом на трактор"},{"$f":"IF($E348=0, \" \", VLOOKUP($E348, 'Cenovnik 2'!$A$2:$D$411, 3, FALSE))","v":"m2"},{"$f":"IF($E348=0, \" \", VLOOKUP($E348, 'Cenovnik 2'!$A$2:$D$411, 4, FALSE))","v":4.3499999999999996},1925,8373.75,"JZP","04","ДА","1 годишње",null,null,null,{"$f":"IF($C348=0, \" \", VLOOKUP($C348, DrzavniPuteviRed, 2, FALSE))","v":{"$error":"#NAME?"}},426,"426",{"$f":"IF(VLOOKUP($E348,[0]!ProveraPDV,2,FALSE)=TRUE,$J348,)","v":{"$error":"#N/A"}},{"$f":"IF(VLOOKUP($E348,liste!$A$31:$B$818,2,FALSE)=TRUE,#REF!,)","v":{"$error":"#N/A"}},{"$error":"#NAME?"},{"$f":"INDEX('Cenovnik 2'!$G$2:$G$411,MATCH('Plan unos i pregled'!$E348,Pozicije,0))","v":"nebitno"}]
["2025.","ЈУЛ","Јавне зелене површине","Личје-Терен за мали фудбал: П2-1925","4.6",{"$f":"IF($E349=0, \" \", VLOOKUP($E349, 'Cenovnik 2'!$A$2:$D$411, 2, FALSE))","v":"Кошење парковског травњака тримером"},{"$f":"IF($E349=0, \" \", VLOOKUP($E349, 'Cenovnik 2'!$A$2:$D$411, 3, FALSE))","v":"m2"},{"$f":"IF($E349=0, \" \", VLOOKUP($E349, 'Cenovnik 2'!$A$2:$D$411, 4, FALSE))","v":6.5},1925,12512.5,"JZP","04","ДА","1 годишње",null,null,null,{"$f":"IF($C349=0, \" \", VLOOKUP($C349, DrzavniPuteviRed, 2, FALSE))","v":{"$error":"#NAME?"}},46,"46",{"$f":"IF(VLOOKUP($E349,[0]!ProveraPDV,2,FALSE)=TRUE,$J349,)","v":{"$error":"#N/A"}},{"$f":"IF(VLOOKUP($E349,liste!$A$31:$B$818,2,FALSE)=TRUE,#REF!,)","v":{"$error":"#N/A"}},{"$error":"#NAME?"},{"$f":"INDEX('Cenovnik 2'!$G$2:$G$411,MATCH('Plan unos i pregled'!$E349,Pozicije,0))","v":"nebitno"}]
["2025.","ЈУЛ","Улице","Мали Крчимир - Некатегорисан пут","4.7",{"$f":"IF($E350=0, \" \", VLOOKUP($E350, 'Cenovnik 2'!$A$2:$D$411, 2, FALSE))","v":"Кошење траве са банкина самоходном моторном косачицом"},{"$f":"IF($E350=0, \" \", VLOOKUP($E350, 'Cenovnik 2'!$A$2:$D$411, 3, FALSE))","v":"m2"},{"$f":"IF($E350=0, \" \", VLOOKUP($E350, 'Cenovnik 2'!$A$2:$D$411, 4, FALSE))","v":3.99},308,1228.92,"Ul","04","ДА","Мали Крчимир кп.бр.2014",null,null,null,{"$f":"IF($C350=0, \" \", VLOOKUP($C350, DrzavniPuteviRed, 2, FALSE))","v":{"$error":"#NAME?"}},47,"47",{"$f":"IF(VLOOKUP($E350,[0]!ProveraPDV,2,FALSE)=TRUE,$J350,)","v":{"$error":"#N/A"}},{"$f":"IF(VLOOKUP($E350,liste!$A$31:$B$818,2,FALSE)=TRUE,#REF!,)","v":{"$error":"#N/A"}},{"$error":"#NAME?"},{"$f":"INDEX('Cenovnik 2'!$G$2:$G$411,MATCH('Plan unos i pregled'!$E350,Pozicije,0))","v":"nebitno"},null,"Dužina parcele je 308 m"]
["2025.","ЈУН","Улице",null,"4.22",{"$f":"IF($E351=0, \" \", VLOOKUP($E351, 'Cenovnik 2'!$A$2:$D$411, 2, FALSE))","v":"Сечење густог шибља преко 50 ком на m²"},{"$f":"IF($E351=0, \" \", VLOOKUP($E351, 'Cenovnik 2'!$A$2:$D$411, 3, FALSE))","v":"m2"},{"$f":"IF($E351=0, \" \", VLOOKUP($E351, 'Cenovnik 2'!$A$2:$D$411, 4, FALSE))","v":60},160,9600,"Ul","04","ДА","кп.бр.2014",null,null,null,{"$f":"IF($C351=0, \" \", VLOOKUP($C351, DrzavniPuteviRed, 2, FALSE))","v":{"$error":"#NAME?"}},422,"422",{"$f":"IF(VLOOKUP($E351,[0]!ProveraPDV,2,FALSE)=TRUE,$J351,)","v":{"$error":"#N/A"}},{"$f":"IF(VLOOKUP($E351,liste!$A$31:$B$818,2,FALSE)=TRUE,#REF!,)","v":{"$error":"#N/A"}},{"$error":"#NAME?"},{"$f":"INDEX('Cenovnik 2'!$G$2:$G$411,MATCH('Plan unos i pregled'!$E351,Pozicije,0))","v":"nebitno"}]
["2025.","ЈУЛ","Улице","Мали Крчимир - Некатегорисан пут","4.19.1",{"$f":"IF($E352=0, \" \", VLOOKUP($E352, 'Cenovnik 2'!$A$2:$D$411, 2, FALSE))","v":"Кресање грана са одлагањем на страну моторном тестером. Пречник грана од 0 - 10 cm"},{"$f":"IF($E352=0, \" \", VLOOKUP($E352, 'Cenovnik 2'!$A$2:$D$411, 3, FALSE))","v":"ком"},{"$f":"IF($E352=0, \" \", VLOOKUP($E352, 'Cenovnik 2'!$A$2:$D$411, 4, FALSE))","v":256.38},370,94860.599999999991,"Ul","04","ДА","Мали Крчимир кп.бр.2014",null,null,null,{"$f":"IF($C352=0, \" \", VLOOKUP($C352, DrzavniPuteviRed, 2, FALSE))","v":{"$error":"#NAME?"}},4191,"419",{"$f":"IF(VLOOKUP($E352,[0]!ProveraPDV,2,FALSE)=TRUE,$J352,)","v":{"$error":"#N/A"}},{"$f":"IF(VLOOKUP($E352,liste!$A$31:$B$818,2,FALSE)=TRUE,#REF!,)","v":{"$error":"#N/A"}},{"$error":"#NAME?"},{"$f":"INDEX('Cenovnik 2'!$G$2:$G$411,MATCH('Plan unos i pregled'!$E352,Pozicije,0))","v":"nebitno"}]
["2025.","ЈУЛ","Општински путеви","ОП 136-6 - Држ.пут II А  бр. 224 - Сопотница - Калетинац","4.7",{"$f":"IF($E353=0, \" \", VLOOKUP($E353, 'Cenovnik 2'!$A$2:$D$411, 2, FALSE))","v":"Кошење траве са банкина самоходном моторном косачицом"},{"$f":"IF($E353=0, \" \", VLOOKUP($E353, 'Cenovnik 2'!$A$2:$D$411, 3, FALSE))","v":"m2"},{"$f":"IF($E353=0, \" \", VLOOKUP($E353, 'Cenovnik 2'!$A$2:$D$411, 4, FALSE))","v":3.99},4370,17436.3,"OP","04","ДА","Калетинац-Шебет",null,null,null,{"$f":"IF($C353=0, \" \", VLOOKUP($C353, DrzavniPuteviRed, 2, FALSE))","v":{"$error":"#NAME?"}},47,"47",{"$f":"IF(VLOOKUP($E353,[0]!ProveraPDV,2,FALSE)=TRUE,$J353,)","v":{"$error":"#N/A"}},{"$f":"IF(VLOOKUP($E353,liste!$A$31:$B$818,2,FALSE)=TRUE,#REF!,)","v":{"$error":"#N/A"}},{"$error":"#NAME?"},{"$f":"INDEX('Cenovnik 2'!$G$2:$G$411,MATCH('Plan unos i pregled'!$E353,Pozicije,0))","v":"nebitno"}]
["2025.","ЈУЛ","Општински путеви","ОП 136-6 - Држ.пут II А  бр. 224 - Сопотница - Калетинац","4.22",{"$f":"IF($E354=0, \" \", VLOOKUP($E354, 'Cenovnik 2'!$A$2:$D$411, 2, FALSE))","v":"Сечење густог шибља преко 50 ком на m²"},{"$f":"IF($E354=0, \" \", VLOOKUP($E354, 'Cenovnik 2'!$A$2:$D$411, 3, FALSE))","v":"m2"},{"$f":"IF($E354=0, \" \", VLOOKUP($E354, 'Cenovnik 2'!$A$2:$D$411, 4, FALSE))","v":60},860,51600,"OP","04","ДА","Калетинац-Шебет",null,null,null,{"$f":"IF($C354=0, \" \", VLOOKUP($C354, DrzavniPuteviRed, 2, FALSE))","v":{"$error":"#NAME?"}},422,"422",{"$f":"IF(VLOOKUP($E354,[0]!ProveraPDV,2,FALSE)=TRUE,$J354,)","v":{"$error":"#N/A"}},{"$f":"IF(VLOOKUP($E354,liste!$A$31:$B$818,2,FALSE)=TRUE,#REF!,)","v":{"$error":"#N/A"}},{"$error":"#NAME?"},{"$f":"INDEX('Cenovnik 2'!$G$2:$G$411,MATCH('Plan unos i pregled'!$E354,Pozicije,0))","v":"nebitno"}]
["2025.","ЈУЛ","Општински путеви","ОП 136-6 - Држ.пут II А  бр. 224 - Сопотница - Калетинац","4.19.1",{"$f":"IF($E355=0, \" \", VLOOKUP($E355, 'Cenovnik 2'!$A$2:$D$411, 2, FALSE))","v":"Кресање грана са одлагањем на страну моторном тестером. Пречник грана од 0 - 10 cm"},{"$f":"IF($E355=0, \" \", VLOOKUP($E355, 'Cenovnik 2'!$A$2:$D$411, 3, FALSE))","v":"ком"},{"$f":"IF($E355=0, \" \", VLOOKUP($E355, 'Cenovnik 2'!$A$2:$D$411, 4, FALSE))","v":256.38},540,138445.20000000001,"OP","04","ДА","Калетинац-Шебет",null,null,null,{"$f":"IF($C355=0, \" \", VLOOKUP($C355, DrzavniPuteviRed, 2, FALSE))","v":{"$error":"#NAME?"}},4191,"419",{"$f":"IF(VLOOKUP($E355,[0]!ProveraPDV,2,FALSE)=TRUE,$J355,)","v":{"$error":"#N/A"}},{"$f":"IF(VLOOKUP($E355,liste!$A$31:$B$818,2,FALSE)=TRUE,#REF!,)","v":{"$error":"#N/A"}},{"$error":"#NAME?"},{"$f":"INDEX('Cenovnik 2'!$G$2:$G$411,MATCH('Plan unos i pregled'!$E355,Pozicije,0))","v":"nebitno"}]
["2025.","ЈУЛ","Општински путеви","ОП 136-31 - Дуга Пољана - Ћелије","4.7",{"$f":"IF($E356=0, \" \", VLOOKUP($E356, 'Cenovnik 2'!$A$2:$D$411, 2, FALSE))","v":"Кошење траве са банкина самоходном моторном косачицом"},{"$f":"IF($E356=0, \" \", VLOOKUP($E356, 'Cenovnik 2'!$A$2:$D$411, 3, FALSE))","v":"m2"},{"$f":"IF($E356=0, \" \", VLOOKUP($E356, 'Cenovnik 2'!$A$2:$D$411, 4, FALSE))","v":3.99},3233,12899.67,"OP","04","ДА",null,null,null,null,{"$f":"IF($C356=0, \" \", VLOOKUP($C356, DrzavniPuteviRed, 2, FALSE))","v":{"$error":"#NAME?"}},47,"47",{"$f":"IF(VLOOKUP($E356,[0]!ProveraPDV,2,FALSE)=TRUE,$J356,)","v":{"$error":"#N/A"}},{"$f":"IF(VLOOKUP($E356,liste!$A$31:$B$818,2,FALSE)=TRUE,#REF!,)","v":{"$error":"#N/A"}},{"$error":"#NAME?"},{"$f":"INDEX('Cenovnik 2'!$G$2:$G$411,MATCH('Plan unos i pregled'!$E356,Pozicije,0))","v":"nebitno"},null,"Dužina puta je 3.233 m"]
["2025.","ЈУЛ","Општински путеви","ОП 136-31 - Дуга Пољана - Ћелије","4.22",{"$f":"IF($E357=0, \" \", VLOOKUP($E357, 'Cenovnik 2'!$A$2:$D$411, 2, FALSE))","v":"Сечење густог шибља преко 50 ком на m²"},{"$f":"IF($E357=0, \" \", VLOOKUP($E357, 'Cenovnik 2'!$A$2:$D$411, 3, FALSE))","v":"m2"},{"$f":"IF($E357=0, \" \", VLOOKUP($E357, 'Cenovnik 2'!$A$2:$D$411, 4, FALSE))","v":60},940,56400,"OP","04","ДА",null,null,null,null,{"$f":"IF($C357=0, \" \", VLOOKUP($C357, DrzavniPuteviRed, 2, FALSE))","v":{"$error":"#NAME?"}},422,"422",{"$f":"IF(VLOOKUP($E357,[0]!ProveraPDV,2,FALSE)=TRUE,$J357,)","v":{"$error":"#N/A"}},{"$f":"IF(VLOOKUP($E357,liste!$A$31:$B$818,2,FALSE)=TRUE,#REF!,)","v":{"$error":"#N/A"}},{"$error":"#NAME?"},{"$f":"INDEX('Cenovnik 2'!$G$2:$G$411,MATCH('Plan unos i pregled'!$E357,Pozicije,0))","v":"nebitno"}]
["2025.","ЈУЛ","Општински путеви","ОП 136-31 - Дуга Пољана - Ћелије","4.19.1",{"$f":"IF($E358=0, \" \", VLOOKUP($E358, 'Cenovnik 2'!$A$2:$D$411, 2, FALSE))","v":"Кресање грана са одлагањем на страну моторном тестером. Пречник грана од 0 - 10 cm"},{"$f":"IF($E358=0, \" \", VLOOKUP($E358, 'Cenovnik 2'!$A$2:$D$411, 3, FALSE))","v":"ком"},{"$f":"IF($E358=0, \" \", VLOOKUP($E358, 'Cenovnik 2'!$A$2:$D$411, 4, FALSE))","v":256.38},650,166647,{"$f":"IFERROR(INDEX(LokacijeRadovaLat,MATCH(C358,LokacijaRadova,0)),\"\")","v":"OP"},"04","ДА",null,null,null,null,{"$f":"IF($C358=0, \" \", VLOOKUP($C358, DrzavniPuteviRed, 2, FALSE))","v":{"$error":"#NAME?"}},4191,"419",{"$f":"IF(VLOOKUP($E358,[0]!ProveraPDV,2,FALSE)=TRUE,$J358,)","v":{"$error":"#N/A"}},{"$f":"IF(VLOOKUP($E358,liste!$A$31:$B$818,2,FALSE)=TRUE,#REF!,)","v":{"$error":"#N/A"}},{"$error":"#NAME?"},{"$f":"INDEX('Cenovnik 2'!$G$2:$G$411,MATCH('Plan unos i pregled'!$E358,Pozicije,0))","v":"nebitno"}]
["2025.","ЈУЛ","Улице","Сопотница - Некатегорисан пут","4.7",{"$f":"IF($E359=0, \" \", VLOOKUP($E359, 'Cenovnik 2'!$A$2:$D$411, 2, FALSE))","v":"Кошење траве са банкина самоходном моторном косачицом"},{"$f":"IF($E359=0, \" \", VLOOKUP($E359, 'Cenovnik 2'!$A$2:$D$411, 3, FALSE))","v":"m2"},{"$f":"IF($E359=0, \" \", VLOOKUP($E359, 'Cenovnik 2'!$A$2:$D$411, 4, FALSE))","v":3.99},1030,4109.7,"Ul","04","ДА","Сопотница, кп.бр.6627",null,null,null,{"$f":"IF($C359=0, \" \", VLOOKUP($C359, DrzavniPuteviRed, 2, FALSE))","v":{"$error":"#NAME?"}},47,"47",{"$f":"IF(VLOOKUP($E359,[0]!ProveraPDV,2,FALSE)=TRUE,$J359,)","v":{"$error":"#N/A"}},{"$f":"IF(VLOOKUP($E359,liste!$A$31:$B$818,2,FALSE)=TRUE,#REF!,)","v":{"$error":"#N/A"}},{"$error":"#NAME?"},{"$f":"INDEX('Cenovnik 2'!$G$2:$G$411,MATCH('Plan unos i pregled'!$E359,Pozicije,0))","v":"nebitno"},null,"Dužina parcele je 1.025 m"]
["2025.","ЈУЛ","Улице","Сопотница - Некатегорисан пут","4.22",{"$f":"IF($E360=0, \" \", VLOOKUP($E360, 'Cenovnik 2'!$A$2:$D$411, 2, FALSE))","v":"Сечење густог шибља преко 50 ком на m²"},{"$f":"IF($E360=0, \" \", VLOOKUP($E360, 'Cenovnik 2'!$A$2:$D$411, 3, FALSE))","v":"m2"},{"$f":"IF($E360=0, \" \", VLOOKUP($E360, 'Cenovnik 2'!$A$2:$D$411, 4, FALSE))","v":60},730,43800,"Ul","04","ДА","Сопотница, кп.бр.6627     ",null,null,null,{"$f":"IF($C360=0, \" \", VLOOKUP($C360, DrzavniPuteviRed, 2, FALSE))","v":{"$error":"#NAME?"}},422,"422",{"$f":"IF(VLOOKUP($E360,[0]!ProveraPDV,2,FALSE)=TRUE,$J360,)","v":{"$error":"#N/A"}},{"$f":"IF(VLOOKUP($E360,liste!$A$31:$B$818,2,FALSE)=TRUE,#REF!,)","v":{"$error":"#N/A"}},{"$error":"#NAME?"},{"$f":"INDEX('Cenovnik 2'!$G$2:$G$411,MATCH('Plan unos i pregled'!$E360,Pozicije,0))","v":"nebitno"}]
["2025.","ЈУЛ","Улице","Сопотница - Некатегорисан пут","4.19.1",{"$f":"IF($E361=0, \" \", VLOOKUP($E361, 'Cenovnik 2'!$A$2:$D$411, 2, FALSE))","v":"Кресање грана са одлагањем на страну моторном тестером. Пречник грана од 0 - 10 cm"},{"$f":"IF($E361=0, \" \", VLOOKUP($E361, 'Cenovnik 2'!$A$2:$D$411, 3, FALSE))","v":"ком"},{"$f":"IF($E361=0, \" \", VLOOKUP($E361, 'Cenovnik 2'!$A$2:$D$411, 4, FALSE))","v":256.38},2500,640950,"Ul","04","ДА","Сопотница, кп.бр.6627 (6дана)",null,null,null,{"$f":"IF($C361=0, \" \", VLOOKUP($C361, DrzavniPuteviRed, 2, FALSE))","v":{"$error":"#NAME?"}},4191,"419",{"$f":"IF(VLOOKUP($E361,[0]!ProveraPDV,2,FALSE)=TRUE,$J361,)","v":{"$error":"#N/A"}},{"$f":"IF(VLOOKUP($E361,liste!$A$31:$B$818,2,FALSE)=TRUE,#REF!,)","v":{"$error":"#N/A"}},{"$error":"#NAME?"},{"$f":"INDEX('Cenovnik 2'!$G$2:$G$411,MATCH('Plan unos i pregled'!$E361,Pozicije,0))","v":"nebitno"}]
["2025.","ЈУЛ","Улице","Сопотница - Некатегорисан пут","4.7",{"$f":"IF($E362=0, \" \", VLOOKUP($E362, 'Cenovnik 2'!$A$2:$D$411, 2, FALSE))","v":"Кошење траве са банкина самоходном моторном косачицом"},{"$f":"IF($E362=0, \" \", VLOOKUP($E362, 'Cenovnik 2'!$A$2:$D$411, 3, FALSE))","v":"m2"},{"$f":"IF($E362=0, \" \", VLOOKUP($E362, 'Cenovnik 2'!$A$2:$D$411, 4, FALSE))","v":3.99},840,3351.6000000000004,"Ul","04","ДА","кп.бр.6625",null,null,null,{"$f":"IF($C362=0, \" \", VLOOKUP($C362, DrzavniPuteviRed, 2, FALSE))","v":{"$error":"#NAME?"}},47,"47",{"$f":"IF(VLOOKUP($E362,[0]!ProveraPDV,2,FALSE)=TRUE,$J362,)","v":{"$error":"#N/A"}},{"$f":"IF(VLOOKUP($E362,liste!$A$31:$B$818,2,FALSE)=TRUE,#REF!,)","v":{"$error":"#N/A"}},{"$error":"#NAME?"},{"$f":"INDEX('Cenovnik 2'!$G$2:$G$411,MATCH('Plan unos i pregled'!$E362,Pozicije,0))","v":"nebitno"},null,"Dužina parcele je 838,83 m"]
["2025.","ЈУЛ","Улице","Сопотница - Некатегорисан пут","4.22",{"$f":"IF($E363=0, \" \", VLOOKUP($E363, 'Cenovnik 2'!$A$2:$D$411, 2, FALSE))","v":"Сечење густог шибља преко 50 ком на m²"},{"$f":"IF($E363=0, \" \", VLOOKUP($E363, 'Cenovnik 2'!$A$2:$D$411, 3, FALSE))","v":"m2"},{"$f":"IF($E363=0, \" \", VLOOKUP($E363, 'Cenovnik 2'!$A$2:$D$411, 4, FALSE))","v":60},340,20400,"Ul","04","ДА","кп.бр.6625",null,null,null,{"$f":"IF($C363=0, \" \", VLOOKUP($C363, DrzavniPuteviRed, 2, FALSE))","v":{"$error":"#NAME?"}},422,"422",{"$f":"IF(VLOOKUP($E363,[0]!ProveraPDV,2,FALSE)=TRUE,$J363,)","v":{"$error":"#N/A"}},{"$f":"IF(VLOOKUP($E363,liste!$A$31:$B$818,2,FALSE)=TRUE,#REF!,)","v":{"$error":"#N/A"}},{"$error":"#NAME?"},{"$f":"INDEX('Cenovnik 2'!$G$2:$G$411,MATCH('Plan unos i pregled'!$E363,Pozicije,0))","v":"nebitno"}]
["2025.","ЈУЛ","Улице","Сопотница - Некатегорисан пут","4.19.1",{"$f":"IF($E364=0, \" \", VLOOKUP($E364, 'Cenovnik 2'!$A$2:$D$411, 2, FALSE))","v":"Кресање грана са одлагањем на страну моторном тестером. Пречник грана од 0 - 10 cm"},{"$f":"IF($E364=0, \" \", VLOOKUP($E364, 'Cenovnik 2'!$A$2:$D$411, 3, FALSE))","v":"ком"},{"$f":"IF($E364=0, \" \", VLOOKUP($E364, 'Cenovnik 2'!$A$2:$D$411, 4, FALSE))","v":256.38},2200,564036,"Ul","04","ДА","кп.бр.6625 (6 дана)",null,null,null,{"$f":"IF($C364=0, \" \", VLOOKUP($C364, DrzavniPuteviRed, 2, FALSE))","v":{"$error":"#NAME?"}},4191,"419",{"$f":"IF(VLOOKUP($E364,[0]!ProveraPDV,2,FALSE)=TRUE,$J364,)","v":{"$error":"#N/A"}},{"$f":"IF(VLOOKUP($E364,liste!$A$31:$B$818,2,FALSE)=TRUE,#REF!,)","v":{"$error":"#N/A"}},{"$error":"#NAME?"},{"$f":"INDEX('Cenovnik 2'!$G$2:$G$411,MATCH('Plan unos i pregled'!$E364,Pozicije,0))","v":"nebitno"}]
["2025.","ЈУЛ","Општински путеви","ОП 136-3 - Гаџин Хан - Копривница","4.7",{"$f":"IF($E365=0, \" \", VLOOKUP($E365, 'Cenovnik 2'!$A$2:$D$411, 2, FALSE))","v":"Кошење траве са банкина самоходном моторном косачицом"},{"$f":"IF($E365=0, \" \", VLOOKUP($E365, 'Cenovnik 2'!$A$2:$D$411, 3, FALSE))","v":"m2"},{"$f":"IF($E365=0, \" \", VLOOKUP($E365, 'Cenovnik 2'!$A$2:$D$411, 4, FALSE))","v":3.99},4380,17476.2,"OP","04","ДА",null,null,null,null,{"$f":"IF($C365=0, \" \", VLOOKUP($C365, DrzavniPuteviRed, 2, FALSE))","v":{"$error":"#NAME?"}},47,"47",{"$f":"IF(VLOOKUP($E365,[0]!ProveraPDV,2,FALSE)=TRUE,$J365,)","v":{"$error":"#N/A"}},{"$f":"IF(VLOOKUP($E365,liste!$A$31:$B$818,2,FALSE)=TRUE,#REF!,)","v":{"$error":"#N/A"}},{"$error":"#NAME?"},{"$f":"INDEX('Cenovnik 2'!$G$2:$G$411,MATCH('Plan unos i pregled'!$E365,Pozicije,0))","v":"nebitno"},null,"Dužina puta do Koprivnice je 4380 m (ukupno 5,312 km) "]
["2025.","ЈУЛ","Општински путеви","ОП 136-3 - Гаџин Хан - Копривница","4.22",{"$f":"IF($E366=0, \" \", VLOOKUP($E366, 'Cenovnik 2'!$A$2:$D$411, 2, FALSE))","v":"Сечење густог шибља преко 50 ком на m²"},{"$f":"IF($E366=0, \" \", VLOOKUP($E366, 'Cenovnik 2'!$A$2:$D$411, 3, FALSE))","v":"m2"},{"$f":"IF($E366=0, \" \", VLOOKUP($E366, 'Cenovnik 2'!$A$2:$D$411, 4, FALSE))","v":60},1432,85920,"OP","04","ДА",null,null,null,null,{"$f":"IF($C366=0, \" \", VLOOKUP($C366, DrzavniPuteviRed, 2, FALSE))","v":{"$error":"#NAME?"}},422,"422",{"$f":"IF(VLOOKUP($E366,[0]!ProveraPDV,2,FALSE)=TRUE,$J366,)","v":{"$error":"#N/A"}},{"$f":"IF(VLOOKUP($E366,liste!$A$31:$B$818,2,FALSE)=TRUE,#REF!,)","v":{"$error":"#N/A"}},{"$error":"#NAME?"},{"$f":"INDEX('Cenovnik 2'!$G$2:$G$411,MATCH('Plan unos i pregled'!$E366,Pozicije,0))","v":"nebitno"}]
["2025.","ЈУЛ","Општински путеви","ОП 136-3 - Гаџин Хан - Копривница","4.19.1",{"$f":"IF($E367=0, \" \", VLOOKUP($E367, 'Cenovnik 2'!$A$2:$D$411, 2, FALSE))","v":"Кресање грана са одлагањем на страну моторном тестером. Пречник грана од 0 - 10 cm"},{"$f":"IF($E367=0, \" \", VLOOKUP($E367, 'Cenovnik 2'!$A$2:$D$411, 3, FALSE))","v":"ком"},{"$f":"IF($E367=0, \" \", VLOOKUP($E367, 'Cenovnik 2'!$A$2:$D$411, 4, FALSE))","v":256.38},490,125626.2,"OP","04","ДА",null,null,null,null,{"$f":"IF($C367=0, \" \", VLOOKUP($C367, DrzavniPuteviRed, 2, FALSE))","v":{"$error":"#NAME?"}},4191,"419",{"$f":"IF(VLOOKUP($E367,[0]!ProveraPDV,2,FALSE)=TRUE,$J367,)","v":{"$error":"#N/A"}},{"$f":"IF(VLOOKUP($E367,liste!$A$31:$B$818,2,FALSE)=TRUE,#REF!,)","v":{"$error":"#N/A"}},{"$error":"#NAME?"},{"$f":"INDEX('Cenovnik 2'!$G$2:$G$411,MATCH('Plan unos i pregled'!$E367,Pozicije,0))","v":"nebitno"}]
["2025.","ЈУЛ","Општински путеви","ОП 136-29 - Гаџин Хан - Јагличје","4.7",{"$f":"IF($E368=0, \" \", VLOOKUP($E368, 'Cenovnik 2'!$A$2:$D$411, 2, FALSE))","v":"Кошење траве са банкина самоходном моторном косачицом"},{"$f":"IF($E368=0, \" \", VLOOKUP($E368, 'Cenovnik 2'!$A$2:$D$411, 3, FALSE))","v":"m2"},{"$f":"IF($E368=0, \" \", VLOOKUP($E368, 'Cenovnik 2'!$A$2:$D$411, 4, FALSE))","v":3.99},4470,17835.3,"OP","04","ДА",null,null,null,null,{"$f":"IF($C368=0, \" \", VLOOKUP($C368, DrzavniPuteviRed, 2, FALSE))","v":{"$error":"#NAME?"}},47,"47",{"$f":"IF(VLOOKUP($E368,[0]!ProveraPDV,2,FALSE)=TRUE,$J368,)","v":{"$error":"#N/A"}},{"$f":"IF(VLOOKUP($E368,liste!$A$31:$B$818,2,FALSE)=TRUE,#REF!,)","v":{"$error":"#N/A"}},{"$error":"#NAME?"},{"$f":"INDEX('Cenovnik 2'!$G$2:$G$411,MATCH('Plan unos i pregled'!$E368,Pozicije,0))","v":"nebitno"},null,"Dužina puta je 4,468 km"]
["2025.","ЈУЛ","Општински путеви","ОП 136-29 - Гаџин Хан - Јагличје","4.22",{"$f":"IF($E369=0, \" \", VLOOKUP($E369, 'Cenovnik 2'!$A$2:$D$411, 2, FALSE))","v":"Сечење густог шибља преко 50 ком на m²"},{"$f":"IF($E369=0, \" \", VLOOKUP($E369, 'Cenovnik 2'!$A$2:$D$411, 3, FALSE))","v":"m2"},{"$f":"IF($E369=0, \" \", VLOOKUP($E369, 'Cenovnik 2'!$A$2:$D$411, 4, FALSE))","v":60},1480,88800,"OP","04","ДА",null,null,null,null,{"$f":"IF($C369=0, \" \", VLOOKUP($C369, DrzavniPuteviRed, 2, FALSE))","v":{"$error":"#NAME?"}},422,"422",{"$f":"IF(VLOOKUP($E369,[0]!ProveraPDV,2,FALSE)=TRUE,$J369,)","v":{"$error":"#N/A"}},{"$f":"IF(VLOOKUP($E369,liste!$A$31:$B$818,2,FALSE)=TRUE,#REF!,)","v":{"$error":"#N/A"}},{"$error":"#NAME?"},{"$f":"INDEX('Cenovnik 2'!$G$2:$G$411,MATCH('Plan unos i pregled'!$E369,Pozicije,0))","v":"nebitno"}]
["2025.","ЈУЛ","Општински путеви","ОП 136-29 - Гаџин Хан - Јагличје","4.19.1",{"$f":"IF($E370=0, \" \", VLOOKUP($E370, 'Cenovnik 2'!$A$2:$D$411, 2, FALSE))","v":"Кресање грана са одлагањем на страну моторном тестером. Пречник грана од 0 - 10 cm"},{"$f":"IF($E370=0, \" \", VLOOKUP($E370, 'Cenovnik 2'!$A$2:$D$411, 3, FALSE))","v":"ком"},{"$f":"IF($E370=0, \" \", VLOOKUP($E370, 'Cenovnik 2'!$A$2:$D$411, 4, FALSE))","v":256.38},740,189721.19999999998,"OP","04","ДА",null,null,null,null,{"$f":"IF($C370=0, \" \", VLOOKUP($C370, DrzavniPuteviRed, 2, FALSE))","v":{"$error":"#NAME?"}},4191,"419",{"$f":"IF(VLOOKUP($E370,[0]!ProveraPDV,2,FALSE)=TRUE,$J370,)","v":{"$error":"#N/A"}},{"$f":"IF(VLOOKUP($E370,liste!$A$31:$B$818,2,FALSE)=TRUE,#REF!,)","v":{"$error":"#N/A"}},{"$error":"#NAME?"},{"$f":"INDEX('Cenovnik 2'!$G$2:$G$411,MATCH('Plan unos i pregled'!$E370,Pozicije,0))","v":"nebitno"}]
["2025.","ЈУЛ","Општински путеви","ОП 136-8 - Држ.пут II А  бр. 224 - Овсињинац","4.7",{"$f":"IF($E371=0, \" \", VLOOKUP($E371, 'Cenovnik 2'!$A$2:$D$411, 2, FALSE))","v":"Кошење траве са банкина самоходном моторном косачицом"},{"$f":"IF($E371=0, \" \", VLOOKUP($E371, 'Cenovnik 2'!$A$2:$D$411, 3, FALSE))","v":"m2"},{"$f":"IF($E371=0, \" \", VLOOKUP($E371, 'Cenovnik 2'!$A$2:$D$411, 4, FALSE))","v":3.99},3593,14336.070000000002,"OP","04","ДА",null,null,null,null,{"$f":"IF($C371=0, \" \", VLOOKUP($C371, DrzavniPuteviRed, 2, FALSE))","v":{"$error":"#NAME?"}},47,"47",{"$f":"IF(VLOOKUP($E371,[0]!ProveraPDV,2,FALSE)=TRUE,$J371,)","v":{"$error":"#N/A"}},{"$f":"IF(VLOOKUP($E371,liste!$A$31:$B$818,2,FALSE)=TRUE,#REF!,)","v":{"$error":"#N/A"}},{"$error":"#NAME?"},{"$f":"INDEX('Cenovnik 2'!$G$2:$G$411,MATCH('Plan unos i pregled'!$E371,Pozicije,0))","v":"nebitno"},null,"Dužina puta je 3,593 km"]
["2025.","ЈУЛ","Општински путеви","ОП 136-8 - Држ.пут II А  бр. 224 - Овсињинац","4.22",{"$f":"IF($E372=0, \" \", VLOOKUP($E372, 'Cenovnik 2'!$A$2:$D$411, 2, FALSE))","v":"Сечење густог шибља преко 50 ком на m²"},{"$f":"IF($E372=0, \" \", VLOOKUP($E372, 'Cenovnik 2'!$A$2:$D$411, 3, FALSE))","v":"m2"},{"$f":"IF($E372=0, \" \", VLOOKUP($E372, 'Cenovnik 2'!$A$2:$D$411, 4, FALSE))","v":60},1350,81000,"OP","04","ДА",null,null,null,null,{"$f":"IF($C372=0, \" \", VLOOKUP($C372, DrzavniPuteviRed, 2, FALSE))","v":{"$error":"#NAME?"}},422,"422",{"$f":"IF(VLOOKUP($E372,[0]!ProveraPDV,2,FALSE)=TRUE,$J372,)","v":{"$error":"#N/A"}},{"$f":"IF(VLOOKUP($E372,liste!$A$31:$B$818,2,FALSE)=TRUE,#REF!,)","v":{"$error":"#N/A"}},{"$error":"#NAME?"},{"$f":"INDEX('Cenovnik 2'!$G$2:$G$411,MATCH('Plan unos i pregled'!$E372,Pozicije,0))","v":"nebitno"}]
["2025.","ЈУЛ","Општински путеви","ОП 136-8 - Држ.пут II А  бр. 224 - Овсињинац","4.19.1",{"$f":"IF($E373=0, \" \", VLOOKUP($E373, 'Cenovnik 2'!$A$2:$D$411, 2, FALSE))","v":"Кресање грана са одлагањем на страну моторном тестером. Пречник грана од 0 - 10 cm"},{"$f":"IF($E373=0, \" \", VLOOKUP($E373, 'Cenovnik 2'!$A$2:$D$411, 3, FALSE))","v":"ком"},{"$f":"IF($E373=0, \" \", VLOOKUP($E373, 'Cenovnik 2'!$A$2:$D$411, 4, FALSE))","v":256.38},480,123062.39999999999,"OP","04","ДА",null,null,null,null,{"$f":"IF($C373=0, \" \", VLOOKUP($C373, DrzavniPuteviRed, 2, FALSE))","v":{"$error":"#NAME?"}},4191,"419",{"$f":"IF(VLOOKUP($E373,[0]!ProveraPDV,2,FALSE)=TRUE,$J373,)","v":{"$error":"#N/A"}},{"$f":"IF(VLOOKUP($E373,liste!$A$31:$B$818,2,FALSE)=TRUE,#REF!,)","v":{"$error":"#N/A"}},{"$error":"#NAME?"},{"$f":"INDEX('Cenovnik 2'!$G$2:$G$411,MATCH('Plan unos i pregled'!$E373,Pozicije,0))","v":"nebitno"}]
["2025.","ЈУЛ","Општински путеви","ОП 136-24 - Горњи Барбеш - Дукат","4.7",{"$f":"IF($E374=0, \" \", VLOOKUP($E374, 'Cenovnik 2'!$A$2:$D$411, 2, FALSE))","v":"Кошење траве са банкина самоходном моторном косачицом"},{"$f":"IF($E374=0, \" \", VLOOKUP($E374, 'Cenovnik 2'!$A$2:$D$411, 3, FALSE))","v":"m2"},{"$f":"IF($E374=0, \" \", VLOOKUP($E374, 'Cenovnik 2'!$A$2:$D$411, 4, FALSE))","v":3.99},5078,20261.22,"OP","04","ДА",null,null,null,null,{"$f":"IF($C374=0, \" \", VLOOKUP($C374, DrzavniPuteviRed, 2, FALSE))","v":{"$error":"#NAME?"}},47,"47",{"$f":"IF(VLOOKUP($E374,[0]!ProveraPDV,2,FALSE)=TRUE,$J374,)","v":{"$error":"#N/A"}},{"$f":"IF(VLOOKUP($E374,liste!$A$31:$B$818,2,FALSE)=TRUE,#REF!,)","v":{"$error":"#N/A"}},{"$error":"#NAME?"},{"$f":"INDEX('Cenovnik 2'!$G$2:$G$411,MATCH('Plan unos i pregled'!$E374,Pozicije,0))","v":"nebitno"},null,"Dužina puta je 5,078 km"]
["2025.","ЈУЛ","Општински путеви","ОП 136-24 - Горњи Барбеш - Дукат","4.22",{"$f":"IF($E375=0, \" \", VLOOKUP($E375, 'Cenovnik 2'!$A$2:$D$411, 2, FALSE))","v":"Сечење густог шибља преко 50 ком на m²"},{"$f":"IF($E375=0, \" \", VLOOKUP($E375, 'Cenovnik 2'!$A$2:$D$411, 3, FALSE))","v":"m2"},{"$f":"IF($E375=0, \" \", VLOOKUP($E375, 'Cenovnik 2'!$A$2:$D$411, 4, FALSE))","v":60},1430,85800,"OP","04","ДА",null,null,null,null,{"$f":"IF($C375=0, \" \", VLOOKUP($C375, DrzavniPuteviRed, 2, FALSE))","v":{"$error":"#NAME?"}},422,"422",{"$f":"IF(VLOOKUP($E375,[0]!ProveraPDV,2,FALSE)=TRUE,$J375,)","v":{"$error":"#N/A"}},{"$f":"IF(VLOOKUP($E375,liste!$A$31:$B$818,2,FALSE)=TRUE,#REF!,)","v":{"$error":"#N/A"}},{"$error":"#NAME?"},{"$f":"INDEX('Cenovnik 2'!$G$2:$G$411,MATCH('Plan unos i pregled'!$E375,Pozicije,0))","v":"nebitno"}]
["2025.","ЈУЛ","Општински путеви","ОП 136-24 - Горњи Барбеш - Дукат","4.19.1",{"$f":"IF($E376=0, \" \", VLOOKUP($E376, 'Cenovnik 2'!$A$2:$D$411, 2, FALSE))","v":"Кресање грана са одлагањем на страну моторном тестером. Пречник грана од 0 - 10 cm"},{"$f":"IF($E376=0, \" \", VLOOKUP($E376, 'Cenovnik 2'!$A$2:$D$411, 3, FALSE))","v":"ком"},{"$f":"IF($E376=0, \" \", VLOOKUP($E376, 'Cenovnik 2'!$A$2:$D$411, 4, FALSE))","v":256.38},1430,366623.39999999997,"OP","04","ДА",null,null,null,null,{"$f":"IF($C376=0, \" \", VLOOKUP($C376, DrzavniPuteviRed, 2, FALSE))","v":{"$error":"#NAME?"}},{"$f":"IF($E376=0, \" \", VLOOKUP($E376, SifrePozicijaBezTacke, 2, FALSE))","v":4191},"419",{"$f":"IF(VLOOKUP($E376,[0]!ProveraPDV,2,FALSE)=TRUE,$J376,)","v":{"$error":"#N/A"}},{"$f":"IF(VLOOKUP($E376,liste!$A$31:$B$818,2,FALSE)=TRUE,#REF!,)","v":{"$error":"#N/A"}},{"$error":"#NAME?"},{"$f":"INDEX('Cenovnik 2'!$G$2:$G$411,MATCH('Plan unos i pregled'!$E376,Pozicije,0))","v":"nebitno"}]
["2025.","ЈУЛ","Општински путеви","ОП 136-22 - Држ.пут II А  бр. 225 - Дукат","4.7",{"$f":"IF($E377=0, \" \", VLOOKUP($E377, 'Cenovnik 2'!$A$2:$D$411, 2, FALSE))","v":"Кошење траве са банкина самоходном моторном косачицом"},{"$f":"IF($E377=0, \" \", VLOOKUP($E377, 'Cenovnik 2'!$A$2:$D$411, 3, FALSE))","v":"m2"},{"$f":"IF($E377=0, \" \", VLOOKUP($E377, 'Cenovnik 2'!$A$2:$D$411, 4, FALSE))","v":3.99},3411,{"$f":"IF(ISNUMBER($H377), $H377*$I377, \"-\")","v":13609.890000000001},"OP",{"$f":"TEXT(LEFT($E377,FIND(\".\",$E377&\".\")-1), \"00\")","v":"04"},"ДА",null,null,null,null,{"$f":"IF($C377=0, \" \", VLOOKUP($C377, DrzavniPuteviRed, 2, FALSE))","v":{"$error":"#NAME?"}},47,{"$f":"LEFT($S377, 3)","v":"47"},{"$f":"IF(VLOOKUP($E377,[0]!ProveraPDV,2,FALSE)=TRUE,$J377,)","v":{"$error":"#N/A"}},{"$f":"IF(VLOOKUP($E377,liste!$A$31:$B$818,2,FALSE)=TRUE,#REF!,)","v":{"$error":"#N/A"}},{"$f":"R377&\"-\"&C377","v":{"$error":"#NAME?"}},{"$f":"INDEX('Cenovnik 2'!$G$2:$G$411,MATCH('Plan unos i pregled'!$E377,Pozicije,0))","v":"nebitno"},null,"Dužina puta je 3,411 km"]
["2025.","ЈУЛ","Општински путеви","ОП 136-22 - Држ.пут II А  бр. 225 - Дукат","4.22",{"$f":"IF($E378=0, \" \", VLOOKUP($E378, 'Cenovnik 2'!$A$2:$D$411, 2, FALSE))","v":"Сечење густог шибља преко 50 ком на m²"},{"$f":"IF($E378=0, \" \", VLOOKUP($E378, 'Cenovnik 2'!$A$2:$D$411, 3, FALSE))","v":"m2"},{"$f":"IF($E378=0, \" \", VLOOKUP($E378, 'Cenovnik 2'!$A$2:$D$411, 4, FALSE))","v":60},1080,64800,"OP","04","ДА",null,null,null,null,{"$f":"IF($C378=0, \" \", VLOOKUP($C378, DrzavniPuteviRed, 2, FALSE))","v":{"$error":"#NAME?"}},422,"422",{"$f":"IF(VLOOKUP($E378,[0]!ProveraPDV,2,FALSE)=TRUE,$J378,)","v":{"$error":"#N/A"}},{"$f":"IF(VLOOKUP($E378,liste!$A$31:$B$818,2,FALSE)=TRUE,#REF!,)","v":{"$error":"#N/A"}},{"$error":"#NAME?"},{"$f":"INDEX('Cenovnik 2'!$G$2:$G$411,MATCH('Plan unos i pregled'!$E378,Pozicije,0))","v":"nebitno"}]
["2025.","ЈУЛ","Општински путеви","ОП 136-22 - Држ.пут II А  бр. 225 - Дукат","4.19.1",{"$f":"IF($E379=0, \" \", VLOOKUP($E379, 'Cenovnik 2'!$A$2:$D$411, 2, FALSE))","v":"Кресање грана са одлагањем на страну моторном тестером. Пречник грана од 0 - 10 cm"},{"$f":"IF($E379=0, \" \", VLOOKUP($E379, 'Cenovnik 2'!$A$2:$D$411, 3, FALSE))","v":"ком"},{"$f":"IF($E379=0, \" \", VLOOKUP($E379, 'Cenovnik 2'!$A$2:$D$411, 4, FALSE))","v":256.38},560,143572.79999999999,"OP","04","ДА",null,null,null,null,{"$f":"IF($C379=0, \" \", VLOOKUP($C379, DrzavniPuteviRed, 2, FALSE))","v":{"$error":"#NAME?"}},4191,"419",{"$f":"IF(VLOOKUP($E379,[0]!ProveraPDV,2,FALSE)=TRUE,$J379,)","v":{"$error":"#N/A"}},{"$f":"IF(VLOOKUP($E379,liste!$A$31:$B$818,2,FALSE)=TRUE,#REF!,)","v":{"$error":"#N/A"}},{"$error":"#NAME?"},{"$f":"INDEX('Cenovnik 2'!$G$2:$G$411,MATCH('Plan unos i pregled'!$E379,Pozicije,0))","v":"nebitno"}]
["2025.","ЈУЛ","Улице","Гаџин Хан - Виноградарска","6.2.2",{"$f":"IF($E380=0, \" \", VLOOKUP($E380, 'Cenovnik 2'!$A$2:$D$411, 2, FALSE))","v":"Ручно чишћење ригола и берми од наноса у слоју до d = 10 cm. Цена обухвата: чишћење риголе или берме са уклањањем материјала одбацивањем на страну или утоваром у колица и одвозом до 20 м. \n- Са одвозом материјала до 20 м"},{"$f":"IF($E380=0, \" \", VLOOKUP($E380, 'Cenovnik 2'!$A$2:$D$411, 3, FALSE))","v":"m"},{"$f":"IF($E380=0, \" \", VLOOKUP($E380, 'Cenovnik 2'!$A$2:$D$411, 4, FALSE))","v":138.63999999999999},180,24955.199999999997,"Ul","06","ДА","(радови из предходног месеца)",null,null,null,{"$f":"IF($C380=0, \" \", VLOOKUP($C380, DrzavniPuteviRed, 2, FALSE))","v":{"$error":"#NAME?"}},622,"622",{"$f":"IF(VLOOKUP($E380,[0]!ProveraPDV,2,FALSE)=TRUE,$J380,)","v":{"$error":"#N/A"}},{"$f":"IF(VLOOKUP($E380,liste!$A$31:$B$818,2,FALSE)=TRUE,#REF!,)","v":{"$error":"#N/A"}},{"$error":"#NAME?"},{"$f":"INDEX('Cenovnik 2'!$G$2:$G$411,MATCH('Plan unos i pregled'!$E380,Pozicije,0))","v":"nebitno"}]
["2025.","ЈУЛ","Улице","Гаџин Хан - Светог Саве","6.2.2",{"$f":"IF($E381=0, \" \", VLOOKUP($E381, 'Cenovnik 2'!$A$2:$D$411, 2, FALSE))","v":"Ручно чишћење ригола и берми од наноса у слоју до d = 10 cm. Цена обухвата: чишћење риголе или берме са уклањањем материјала одбацивањем на страну или утоваром у колица и одвозом до 20 м. \n- Са одвозом материјала до 20 м"},{"$f":"IF($E381=0, \" \", VLOOKUP($E381, 'Cenovnik 2'!$A$2:$D$411, 3, FALSE))","v":"m"},{"$f":"IF($E381=0, \" \", VLOOKUP($E381, 'Cenovnik 2'!$A$2:$D$411, 4, FALSE))","v":138.63999999999999},184,25509.759999999998,"Ul","06","ДА",null,null,null,null,{"$f":"IF($C381=0, \" \", VLOOKUP($C381, DrzavniPuteviRed, 2, FALSE))","v":{"$error":"#NAME?"}},622,"622",{"$f":"IF(VLOOKUP($E381,[0]!ProveraPDV,2,FALSE)=TRUE,$J381,)","v":{"$error":"#N/A"}},{"$f":"IF(VLOOKUP($E381,liste!$A$31:$B$818,2,FALSE)=TRUE,#REF!,)","v":{"$error":"#N/A"}},{"$error":"#NAME?"},{"$f":"INDEX('Cenovnik 2'!$G$2:$G$411,MATCH('Plan unos i pregled'!$E381,Pozicije,0))","v":"nebitno"}]
["2025.","ЈУЛ","Општински путеви","ОП 136-2 - Барје - Равна Дубрава","6.2.2",{"$f":"IF($E382=0, \" \", VLOOKUP($E382, 'Cenovnik 2'!$A$2:$D$411, 2, FALSE))","v":"Ручно чишћење ригола и берми од наноса у слоју до d = 10 cm. Цена обухвата: чишћење риголе или берме са уклањањем материјала одбацивањем на страну или утоваром у колица и одвозом до 20 м. \n- Са одвозом материјала до 20 м"},{"$f":"IF($E382=0, \" \", VLOOKUP($E382, 'Cenovnik 2'!$A$2:$D$411, 3, FALSE))","v":"m"},{"$f":"IF($E382=0, \" \", VLOOKUP($E382, 'Cenovnik 2'!$A$2:$D$411, 4, FALSE))","v":138.63999999999999},1774,245947.36,"OP","06","ДА","Мали Вртоп-Семче",null,null,null,{"$f":"IF($C382=0, \" \", VLOOKUP($C382, DrzavniPuteviRed, 2, FALSE))","v":{"$error":"#NAME?"}},622,"622",{"$f":"IF(VLOOKUP($E382,[0]!ProveraPDV,2,FALSE)=TRUE,$J382,)","v":{"$error":"#N/A"}},{"$f":"IF(VLOOKUP($E382,liste!$A$31:$B$818,2,FALSE)=TRUE,#REF!,)","v":{"$error":"#N/A"}},{"$error":"#NAME?"},{"$f":"INDEX('Cenovnik 2'!$G$2:$G$411,MATCH('Plan unos i pregled'!$E382,Pozicije,0))","v":"nebitno"}]
["2025.","ЈУЛ","Општински путеви","ОП 136-3 - Гаџин Хан - Копривница","8.28.1",{"$f":"IF($E383=0, \" \", VLOOKUP($E383, 'Cenovnik 2'!$A$2:$D$411, 2, FALSE))","v":"Ручно уграђивање бетона малих пресека на m2 или m конструкције са квашењем бетона и превозом бетона аутомешалицом на 30km\nНеармине конструкције"},{"$f":"IF($E383=0, \" \", VLOOKUP($E383, 'Cenovnik 2'!$A$2:$D$411, 3, FALSE))","v":"m3"},{"$f":"IF($E383=0, \" \", VLOOKUP($E383, 'Cenovnik 2'!$A$2:$D$411, 4, FALSE))","v":5524.17},42.05,232291.34849999999,"OP","08","ДА","(радови из предходног месеца)",null,null,null,{"$f":"IF($C383=0, \" \", VLOOKUP($C383, DrzavniPuteviRed, 2, FALSE))","v":{"$error":"#NAME?"}},8281,"828",{"$f":"IF(VLOOKUP($E383,[0]!ProveraPDV,2,FALSE)=TRUE,$J383,)","v":{"$error":"#N/A"}},{"$f":"IF(VLOOKUP($E383,liste!$A$31:$B$818,2,FALSE)=TRUE,#REF!,)","v":{"$error":"#N/A"}},{"$error":"#NAME?"},{"$f":"INDEX('Cenovnik 2'!$G$2:$G$411,MATCH('Plan unos i pregled'!$E383,Pozicije,0))","v":"nebitno"}]
["2025.","ЈУЛ","Општински путеви","ОП 136-3 - Гаџин Хан - Копривница","16.2",{"$f":"IF($E384=0, \" \", VLOOKUP($E384, 'Cenovnik 2'!$A$2:$D$411, 2, FALSE))","v":"Набавка материјала за крпљење ударних рупа"},{"$f":"IF($E384=0, \" \", VLOOKUP($E384, 'Cenovnik 2'!$A$2:$D$411, 3, FALSE))","v":"дин"},{"$f":"IF($E384=0, \" \", VLOOKUP($E384, 'Cenovnik 2'!$A$2:$D$411, 4, FALSE))","v":33200},1,33200,"OP","16","ДА","(радови из предходног месеца)",null,null,null,{"$f":"IF($C384=0, \" \", VLOOKUP($C384, DrzavniPuteviRed, 2, FALSE))","v":{"$error":"#NAME?"}},162,"162",{"$f":"IF(VLOOKUP($E384,[0]!ProveraPDV,2,FALSE)=TRUE,$J384,)","v":33200},{"$f":"IF(VLOOKUP($E384,liste!$A$31:$B$818,2,FALSE)=TRUE,#REF!,)","v":{"$error":"#REF!"}},{"$error":"#NAME?"},{"$f":"INDEX('Cenovnik 2'!$G$2:$G$411,MATCH('Plan unos i pregled'!$E384,Pozicije,0))","v":"nebitno"}]
["2025.","ЈУЛ","Улице","Гаџин Хан - Светог Саве","8.28.1",{"$f":"IF($E385=0, \" \", VLOOKUP($E385, 'Cenovnik 2'!$A$2:$D$411, 2, FALSE))","v":"Ручно уграђивање бетона малих пресека на m2 или m конструкције са квашењем бетона и превозом бетона аутомешалицом на 30km\nНеармине конструкције"},{"$f":"IF($E385=0, \" \", VLOOKUP($E385, 'Cenovnik 2'!$A$2:$D$411, 3, FALSE))","v":"m3"},{"$f":"IF($E385=0, \" \", VLOOKUP($E385, 'Cenovnik 2'!$A$2:$D$411, 4, FALSE))","v":5524.17},9.4700000000000006,52313.889900000002,"Ul","08","ДА","(радови из предходног месеца)",null,null,null,{"$f":"IF($C385=0, \" \", VLOOKUP($C385, DrzavniPuteviRed, 2, FALSE))","v":{"$error":"#NAME?"}},8281,"828",{"$f":"IF(VLOOKUP($E385,[0]!ProveraPDV,2,FALSE)=TRUE,$J385,)","v":{"$error":"#N/A"}},{"$f":"IF(VLOOKUP($E385,liste!$A$31:$B$818,2,FALSE)=TRUE,#REF!,)","v":{"$error":"#N/A"}},{"$error":"#NAME?"},{"$f":"INDEX('Cenovnik 2'!$G$2:$G$411,MATCH('Plan unos i pregled'!$E385,Pozicije,0))","v":"nebitno"}]
["2025.","ЈУЛ","Улице","Гаџин Хан - Светог Саве","16.3",{"$f":"IF($E386=0, \" \", VLOOKUP($E386, 'Cenovnik 2'!$A$2:$D$411, 2, FALSE))","v":"Набавка материјала за израду ударних рупа"},{"$f":"IF($E386=0, \" \", VLOOKUP($E386, 'Cenovnik 2'!$A$2:$D$411, 3, FALSE))","v":"дин"},{"$f":"IF($E386=0, \" \", VLOOKUP($E386, 'Cenovnik 2'!$A$2:$D$411, 4, FALSE))","v":8000},1,8000,"Ul","16","ДА","(радови из предходног месеца)",null,null,null,{"$f":"IF($C386=0, \" \", VLOOKUP($C386, DrzavniPuteviRed, 2, FALSE))","v":{"$error":"#NAME?"}},163,"163",{"$f":"IF(VLOOKUP($E386,[0]!ProveraPDV,2,FALSE)=TRUE,$J386,)","v":8000},{"$f":"IF(VLOOKUP($E386,liste!$A$31:$B$818,2,FALSE)=TRUE,#REF!,)","v":{"$error":"#REF!"}},{"$error":"#NAME?"},{"$f":"INDEX('Cenovnik 2'!$G$2:$G$411,MATCH('Plan unos i pregled'!$E386,Pozicije,0))","v":"nebitno"}]
["2025.","ЈУЛ","Улице","Горње Власе - Насеље 29. Новембар","8.2",{"$f":"IF($E387=0, \" \", VLOOKUP($E387, 'Cenovnik 2'!$A$2:$D$411, 2, FALSE))","v":"Поправка неасвалтираног каменог застора брдском дробином из сипара или шљунком са спрудишта.\nЦена обухвата: машинско прикупљање материјала, риљање старог застора, разастирање, планирање дробљеног каменог агрегата и сабијање ваљком уз потребно квашење. Превоз материјала и менаизације се обрачунава посебно."},{"$f":"IF($E387=0, \" \", VLOOKUP($E387, 'Cenovnik 2'!$A$2:$D$411, 3, FALSE))","v":"m3"},{"$f":"IF($E387=0, \" \", VLOOKUP($E387, 'Cenovnik 2'!$A$2:$D$411, 4, FALSE))","v":2547.6999999999998},231,588518.69999999995,"Ul","08","ДА","Горње Власе Улица Насеље 29 новембар, кп.бр.5571 ",null,null,null,{"$f":"IF($C387=0, \" \", VLOOKUP($C387, DrzavniPuteviRed, 2, FALSE))","v":{"$error":"#NAME?"}},82,"82",{"$f":"IF(VLOOKUP($E387,[0]!ProveraPDV,2,FALSE)=TRUE,$J387,)","v":588518.69999999995},{"$f":"IF(VLOOKUP($E387,liste!$A$31:$B$818,2,FALSE)=TRUE,#REF!,)","v":{"$error":"#REF!"}},{"$error":"#NAME?"},{"$f":"INDEX('Cenovnik 2'!$G$2:$G$411,MATCH('Plan unos i pregled'!$E387,Pozicije,0))","v":"nebitno"}]
["2025.","ЈУЛ","Улице","Горње Власе - Насеље 29. Новембар","9.1.8",{"$f":"IF($E388=0, \" \", VLOOKUP($E388, 'Cenovnik 2'!$A$2:$D$411, 2, FALSE))","v":"Камион носивости од 8 - 25 тона 40-45 km"},{"$f":"IF($E388=0, \" \", VLOOKUP($E388, 'Cenovnik 2'!$A$2:$D$411, 3, FALSE))","v":"t"},{"$f":"IF($E388=0, \" \", VLOOKUP($E388, 'Cenovnik 2'!$A$2:$D$411, 4, FALSE))","v":792.74},346.5,274684.40999999997,"Ul","09","ДА","Горње Власе Улица Насеље 29 новембар, кп.бр.5571 ",null,null,null,{"$f":"IF($C388=0, \" \", VLOOKUP($C388, DrzavniPuteviRed, 2, FALSE))","v":{"$error":"#NAME?"}},918,"918",{"$f":"IF(VLOOKUP($E388,[0]!ProveraPDV,2,FALSE)=TRUE,$J388,)","v":{"$error":"#N/A"}},{"$f":"IF(VLOOKUP($E388,liste!$A$31:$B$818,2,FALSE)=TRUE,#REF!,)","v":{"$error":"#N/A"}},{"$error":"#NAME?"},{"$f":"INDEX('Cenovnik 2'!$G$2:$G$411,MATCH('Plan unos i pregled'!$E388,Pozicije,0))","v":"nebitno"}]
["2025.","ЈУЛ","Улице","Горње Власе - Насеље 29. Новембар","8.29",{"$f":"IF($E389=0, \" \", VLOOKUP($E389, 'Cenovnik 2'!$A$2:$D$411, 2, FALSE))","v":"Набавка дробљеног кречњачког каменог агрегата фракције 0-31,5 mm "},{"$f":"IF($E389=0, \" \", VLOOKUP($E389, 'Cenovnik 2'!$A$2:$D$411, 3, FALSE))","v":"t"},{"$f":"IF($E389=0, \" \", VLOOKUP($E389, 'Cenovnik 2'!$A$2:$D$411, 4, FALSE))","v":645},346.5,223492.5,"Ul","08","ДА","Горње Власе Улица Насеље 29 новембар, кп.бр.5571 ",null,null,null,{"$f":"IF($C389=0, \" \", VLOOKUP($C389, DrzavniPuteviRed, 2, FALSE))","v":{"$error":"#NAME?"}},829,"829",{"$f":"IF(VLOOKUP($E389,[0]!ProveraPDV,2,FALSE)=TRUE,$J389,)","v":223492.5},{"$f":"IF(VLOOKUP($E389,liste!$A$31:$B$818,2,FALSE)=TRUE,#REF!,)","v":{"$error":"#REF!"}},{"$error":"#NAME?"},{"$f":"INDEX('Cenovnik 2'!$G$2:$G$411,MATCH('Plan unos i pregled'!$E389,Pozicije,0))","v":"nebitno"}]
["2025.","ЈУЛ","Улице","Горње Власе - Насеље 29. Новембар","8.2",{"$f":"IF($E390=0, \" \", VLOOKUP($E390, 'Cenovnik 2'!$A$2:$D$411, 2, FALSE))","v":"Поправка неасвалтираног каменог застора брдском дробином из сипара или шљунком са спрудишта.\nЦена обухвата: машинско прикупљање материјала, риљање старог застора, разастирање, планирање дробљеног каменог агрегата и сабијање ваљком уз потребно квашење. Превоз материјала и менаизације се обрачунава посебно."},{"$f":"IF($E390=0, \" \", VLOOKUP($E390, 'Cenovnik 2'!$A$2:$D$411, 3, FALSE))","v":"m3"},{"$f":"IF($E390=0, \" \", VLOOKUP($E390, 'Cenovnik 2'!$A$2:$D$411, 4, FALSE))","v":2547.6999999999998},70.56,179765.712,"Ul","08","ДА","Гаџин Хан кп.бр. 2682",null,null,null,{"$f":"IF($C390=0, \" \", VLOOKUP($C390, DrzavniPuteviRed, 2, FALSE))","v":{"$error":"#NAME?"}},82,"82",{"$f":"IF(VLOOKUP($E390,[0]!ProveraPDV,2,FALSE)=TRUE,$J390,)","v":179765.712},{"$f":"IF(VLOOKUP($E390,liste!$A$31:$B$818,2,FALSE)=TRUE,#REF!,)","v":{"$error":"#REF!"}},{"$error":"#NAME?"},{"$f":"INDEX('Cenovnik 2'!$G$2:$G$411,MATCH('Plan unos i pregled'!$E390,Pozicije,0))","v":"nebitno"}]
["2025.","ЈУЛ","Улице","Гаџин Хан - Некатегорисан пут","9.1.7",{"$f":"IF($E391=0, \" \", VLOOKUP($E391, 'Cenovnik 2'!$A$2:$D$411, 2, FALSE))","v":"Камион носивости од 8 - 25 тона 30-40 km"},{"$f":"IF($E391=0, \" \", VLOOKUP($E391, 'Cenovnik 2'!$A$2:$D$411, 3, FALSE))","v":"t"},{"$f":"IF($E391=0, \" \", VLOOKUP($E391, 'Cenovnik 2'!$A$2:$D$411, 4, FALSE))","v":719.21},105.84,76121.186400000006,"Ul","09","ДА","Гаџин Хан кп.бр. 2682",null,null,null,{"$f":"IF($C391=0, \" \", VLOOKUP($C391, DrzavniPuteviRed, 2, FALSE))","v":{"$error":"#NAME?"}},917,"917",{"$f":"IF(VLOOKUP($E391,[0]!ProveraPDV,2,FALSE)=TRUE,$J391,)","v":{"$error":"#N/A"}},{"$f":"IF(VLOOKUP($E391,liste!$A$31:$B$818,2,FALSE)=TRUE,#REF!,)","v":{"$error":"#N/A"}},{"$error":"#NAME?"},{"$f":"INDEX('Cenovnik 2'!$G$2:$G$411,MATCH('Plan unos i pregled'!$E391,Pozicije,0))","v":"nebitno"}]
["2025.","ЈУЛ","Улице","Гаџин Хан - Некатегорисан пут","8.29",{"$f":"IF($E392=0, \" \", VLOOKUP($E392, 'Cenovnik 2'!$A$2:$D$411, 2, FALSE))","v":"Набавка дробљеног кречњачког каменог агрегата фракције 0-31,5 mm "},{"$f":"IF($E392=0, \" \", VLOOKUP($E392, 'Cenovnik 2'!$A$2:$D$411, 3, FALSE))","v":"t"},{"$f":"IF($E392=0, \" \", VLOOKUP($E392, 'Cenovnik 2'!$A$2:$D$411, 4, FALSE))","v":645},105.84,68266.8,"Ul","08","ДА","Гаџин Хан кп.бр. 2682",null,null,null,{"$f":"IF($C392=0, \" \", VLOOKUP($C392, DrzavniPuteviRed, 2, FALSE))","v":{"$error":"#NAME?"}},829,"829",{"$f":"IF(VLOOKUP($E392,[0]!ProveraPDV,2,FALSE)=TRUE,$J392,)","v":68266.8},{"$f":"IF(VLOOKUP($E392,liste!$A$31:$B$818,2,FALSE)=TRUE,#REF!,)","v":{"$error":"#REF!"}},{"$error":"#NAME?"},{"$f":"INDEX('Cenovnik 2'!$G$2:$G$411,MATCH('Plan unos i pregled'!$E392,Pozicije,0))","v":"nebitno"}]
["2025.","ЈУЛ","Општински путеви","ОП 136-23 - Топоница - Ново Село","4.7",{"$f":"IF($E393=0, \" \", VLOOKUP($E393, 'Cenovnik 2'!$A$2:$D$411, 2, FALSE))","v":"Кошење траве са банкина самоходном моторном косачицом"},{"$f":"IF($E393=0, \" \", VLOOKUP($E393, 'Cenovnik 2'!$A$2:$D$411, 3, FALSE))","v":"m2"},{"$f":"IF($E393=0, \" \", VLOOKUP($E393, 'Cenovnik 2'!$A$2:$D$411, 4, FALSE))","v":3.99},4967,19818.330000000002,"OP","04","ДА",null,null,null,null,{"$f":"IF($C393=0, \" \", VLOOKUP($C393, DrzavniPuteviRed, 2, FALSE))","v":{"$error":"#NAME?"}},47,"47",{"$f":"IF(VLOOKUP($E393,[0]!ProveraPDV,2,FALSE)=TRUE,$J393,)","v":{"$error":"#N/A"}},{"$f":"IF(VLOOKUP($E393,liste!$A$31:$B$818,2,FALSE)=TRUE,#REF!,)","v":{"$error":"#N/A"}},{"$error":"#NAME?"},{"$f":"INDEX('Cenovnik 2'!$G$2:$G$411,MATCH('Plan unos i pregled'!$E393,Pozicije,0))","v":"nebitno"},null,"Dužina puta je 4,967 km"]
["2025.","ЈУЛ","Општински путеви","ОП 136-23 - Топоница - Ново Село","4.22",{"$f":"IF($E394=0, \" \", VLOOKUP($E394, 'Cenovnik 2'!$A$2:$D$411, 2, FALSE))","v":"Сечење густог шибља преко 50 ком на m²"},{"$f":"IF($E394=0, \" \", VLOOKUP($E394, 'Cenovnik 2'!$A$2:$D$411, 3, FALSE))","v":"m2"},{"$f":"IF($E394=0, \" \", VLOOKUP($E394, 'Cenovnik 2'!$A$2:$D$411, 4, FALSE))","v":60},760,45600,"OP","04","ДА",null,null,null,null,{"$f":"IF($C394=0, \" \", VLOOKUP($C394, DrzavniPuteviRed, 2, FALSE))","v":{"$error":"#NAME?"}},422,"422",{"$f":"IF(VLOOKUP($E394,[0]!ProveraPDV,2,FALSE)=TRUE,$J394,)","v":{"$error":"#N/A"}},{"$f":"IF(VLOOKUP($E394,liste!$A$31:$B$818,2,FALSE)=TRUE,#REF!,)","v":{"$error":"#N/A"}},{"$error":"#NAME?"},{"$f":"INDEX('Cenovnik 2'!$G$2:$G$411,MATCH('Plan unos i pregled'!$E394,Pozicije,0))","v":"nebitno"}]
["2025.","ЈУЛ","Општински путеви","ОП 136-23 - Топоница - Ново Село","4.19.1",{"$f":"IF($E395=0, \" \", VLOOKUP($E395, 'Cenovnik 2'!$A$2:$D$411, 2, FALSE))","v":"Кресање грана са одлагањем на страну моторном тестером. Пречник грана од 0 - 10 cm"},{"$f":"IF($E395=0, \" \", VLOOKUP($E395, 'Cenovnik 2'!$A$2:$D$411, 3, FALSE))","v":"ком"},{"$f":"IF($E395=0, \" \", VLOOKUP($E395, 'Cenovnik 2'!$A$2:$D$411, 4, FALSE))","v":256.38},530,135881.4,"OP","04","ДА",null,null,null,null,{"$f":"IF($C395=0, \" \", VLOOKUP($C395, DrzavniPuteviRed, 2, FALSE))","v":{"$error":"#NAME?"}},4191,"419",{"$f":"IF(VLOOKUP($E395,[0]!ProveraPDV,2,FALSE)=TRUE,$J395,)","v":{"$error":"#N/A"}},{"$f":"IF(VLOOKUP($E395,liste!$A$31:$B$818,2,FALSE)=TRUE,#REF!,)","v":{"$error":"#N/A"}},{"$error":"#NAME?"},{"$f":"INDEX('Cenovnik 2'!$G$2:$G$411,MATCH('Plan unos i pregled'!$E395,Pozicije,0))","v":"nebitno"}]
["2025.","ЈУЛ","Јавне зелене површине","Велики Вртоп-Школа: П 1-9200","4.26",{"$f":"IF($E396=0, \" \", VLOOKUP($E396, 'Cenovnik 2'!$A$2:$D$411, 2, FALSE))","v":"Кошење траве на слободним површинама косачицом прикљученом на трактор"},{"$f":"IF($E396=0, \" \", VLOOKUP($E396, 'Cenovnik 2'!$A$2:$D$411, 3, FALSE))","v":"m2"},{"$f":"IF($E396=0, \" \", VLOOKUP($E396, 'Cenovnik 2'!$A$2:$D$411, 4, FALSE))","v":4.3499999999999996},6440,28013.999999999996,"JZP","04","ДА","1 годишње",null,null,null,{"$f":"IF($C396=0, \" \", VLOOKUP($C396, DrzavniPuteviRed, 2, FALSE))","v":{"$error":"#NAME?"}},426,"426",{"$f":"IF(VLOOKUP($E396,[0]!ProveraPDV,2,FALSE)=TRUE,$J396,)","v":{"$error":"#N/A"}},{"$f":"IF(VLOOKUP($E396,liste!$A$31:$B$818,2,FALSE)=TRUE,#REF!,)","v":{"$error":"#N/A"}},{"$error":"#NAME?"},{"$f":"INDEX('Cenovnik 2'!$G$2:$G$411,MATCH('Plan unos i pregled'!$E396,Pozicije,0))","v":"nebitno"}]
["2025.","ЈУЛ","Јавне зелене површине","Велики Вртоп-Школа: П 1-9200","4.6",{"$f":"IF($E397=0, \" \", VLOOKUP($E397, 'Cenovnik 2'!$A$2:$D$411, 2, FALSE))","v":"Кошење парковског травњака тримером"},{"$f":"IF($E397=0, \" \", VLOOKUP($E397, 'Cenovnik 2'!$A$2:$D$411, 3, FALSE))","v":"m2"},{"$f":"IF($E397=0, \" \", VLOOKUP($E397, 'Cenovnik 2'!$A$2:$D$411, 4, FALSE))","v":6.5},2760,17940,"JZP","04","ДА","1 годишње",null,null,null,{"$f":"IF($C397=0, \" \", VLOOKUP($C397, DrzavniPuteviRed, 2, FALSE))","v":{"$error":"#NAME?"}},46,"46",{"$f":"IF(VLOOKUP($E397,[0]!ProveraPDV,2,FALSE)=TRUE,$J397,)","v":{"$error":"#N/A"}},{"$f":"IF(VLOOKUP($E397,liste!$A$31:$B$818,2,FALSE)=TRUE,#REF!,)","v":{"$error":"#N/A"}},{"$error":"#NAME?"},{"$f":"INDEX('Cenovnik 2'!$G$2:$G$411,MATCH('Plan unos i pregled'!$E397,Pozicije,0))","v":"nebitno"}]
["2025.","ЈУЛ","Јавне зелене површине","Заплањска Топоница-Школа: П1-4834","4.26",{"$f":"IF($E398=0, \" \", VLOOKUP($E398, 'Cenovnik 2'!$A$2:$D$411, 2, FALSE))","v":"Кошење траве на слободним површинама косачицом прикљученом на трактор"},{"$f":"IF($E398=0, \" \", VLOOKUP($E398, 'Cenovnik 2'!$A$2:$D$411, 3, FALSE))","v":"m2"},{"$f":"IF($E398=0, \" \", VLOOKUP($E398, 'Cenovnik 2'!$A$2:$D$411, 4, FALSE))","v":4.3499999999999996},4834,21027.899999999998,"JZP","04","ДА",null,null,null,null,{"$f":"IF($C398=0, \" \", VLOOKUP($C398, DrzavniPuteviRed, 2, FALSE))","v":{"$error":"#NAME?"}},426,"426",{"$f":"IF(VLOOKUP($E398,[0]!ProveraPDV,2,FALSE)=TRUE,$J398,)","v":{"$error":"#N/A"}},{"$f":"IF(VLOOKUP($E398,liste!$A$31:$B$818,2,FALSE)=TRUE,#REF!,)","v":{"$error":"#N/A"}},{"$error":"#NAME?"},{"$f":"INDEX('Cenovnik 2'!$G$2:$G$411,MATCH('Plan unos i pregled'!$E398,Pozicije,0))","v":"nebitno"}]
["2025.","ЈУЛ","Јавне зелене површине","Заплањска Топоница-Вртић \"Прва радост\": П1-1493","4.6",{"$f":"IF($E399=0, \" \", VLOOKUP($E399, 'Cenovnik 2'!$A$2:$D$411, 2, FALSE))","v":"Кошење парковског травњака тримером"},{"$f":"IF($E399=0, \" \", VLOOKUP($E399, 'Cenovnik 2'!$A$2:$D$411, 3, FALSE))","v":"m2"},{"$f":"IF($E399=0, \" \", VLOOKUP($E399, 'Cenovnik 2'!$A$2:$D$411, 4, FALSE))","v":6.5},1493,9704.5,"JZP","04","ДА",null,null,null,null,{"$f":"IF($C399=0, \" \", VLOOKUP($C399, DrzavniPuteviRed, 2, FALSE))","v":{"$error":"#NAME?"}},46,"46",{"$f":"IF(VLOOKUP($E399,[0]!ProveraPDV,2,FALSE)=TRUE,$J399,)","v":{"$error":"#N/A"}},{"$f":"IF(VLOOKUP($E399,liste!$A$31:$B$818,2,FALSE)=TRUE,#REF!,)","v":{"$error":"#N/A"}},{"$error":"#NAME?"},{"$f":"INDEX('Cenovnik 2'!$G$2:$G$411,MATCH('Plan unos i pregled'!$E399,Pozicije,0))","v":"nebitno"}]
["2025.","ЈУЛ","Јавне зелене површине","Заплањска Топоница-Амбуланта: П1-633","4.6",{"$f":"IF($E400=0, \" \", VLOOKUP($E400, 'Cenovnik 2'!$A$2:$D$411, 2, FALSE))","v":"Кошење парковског травњака тримером"},{"$f":"IF($E400=0, \" \", VLOOKUP($E400, 'Cenovnik 2'!$A$2:$D$411, 3, FALSE))","v":"m2"},{"$f":"IF($E400=0, \" \", VLOOKUP($E400, 'Cenovnik 2'!$A$2:$D$411, 4, FALSE))","v":6.5},529,3438.5,"JZP","04","ДА",null,null,null,null,{"$f":"IF($C400=0, \" \", VLOOKUP($C400, DrzavniPuteviRed, 2, FALSE))","v":{"$error":"#NAME?"}},46,"46",{"$f":"IF(VLOOKUP($E400,[0]!ProveraPDV,2,FALSE)=TRUE,$J400,)","v":{"$error":"#N/A"}},{"$f":"IF(VLOOKUP($E400,liste!$A$31:$B$818,2,FALSE)=TRUE,#REF!,)","v":{"$error":"#N/A"}},{"$error":"#NAME?"},{"$f":"INDEX('Cenovnik 2'!$G$2:$G$411,MATCH('Plan unos i pregled'!$E400,Pozicije,0))","v":"nebitno"}]
["2025.","ЈУЛ","Јавне зелене површине","Заплањска Топоница-Амбуланта: П1-633","4.6",{"$f":"IF($E401=0, \" \", VLOOKUP($E401, 'Cenovnik 2'!$A$2:$D$411, 2, FALSE))","v":"Кошење парковског травњака тримером"},{"$f":"IF($E401=0, \" \", VLOOKUP($E401, 'Cenovnik 2'!$A$2:$D$411, 3, FALSE))","v":"m2"},{"$f":"IF($E401=0, \" \", VLOOKUP($E401, 'Cenovnik 2'!$A$2:$D$411, 4, FALSE))","v":6.5},633,4114.5,"JZP","04","ДА",null,null,null,null,{"$f":"IF($C401=0, \" \", VLOOKUP($C401, DrzavniPuteviRed, 2, FALSE))","v":{"$error":"#NAME?"}},46,"46",{"$f":"IF(VLOOKUP($E401,[0]!ProveraPDV,2,FALSE)=TRUE,$J401,)","v":{"$error":"#N/A"}},{"$f":"IF(VLOOKUP($E401,liste!$A$31:$B$818,2,FALSE)=TRUE,#REF!,)","v":{"$error":"#N/A"}},{"$error":"#NAME?"},{"$f":"INDEX('Cenovnik 2'!$G$2:$G$411,MATCH('Plan unos i pregled'!$E401,Pozicije,0))","v":"nebitno"}]
["2025.","ЈУЛ","Јавне зелене површине","Доњи Душник-Туристичка организација: П 1-135","4.6",{"$f":"IF($E402=0, \" \", VLOOKUP($E402, 'Cenovnik 2'!$A$2:$D$411, 2, FALSE))","v":"Кошење парковског травњака тримером"},{"$f":"IF($E402=0, \" \", VLOOKUP($E402, 'Cenovnik 2'!$A$2:$D$411, 3, FALSE))","v":"m2"},{"$f":"IF($E402=0, \" \", VLOOKUP($E402, 'Cenovnik 2'!$A$2:$D$411, 4, FALSE))","v":6.5},270,1755,"JZP","04","ДА","2 кошења",null,null,null,{"$f":"IF($C402=0, \" \", VLOOKUP($C402, DrzavniPuteviRed, 2, FALSE))","v":{"$error":"#NAME?"}},46,"46",{"$f":"IF(VLOOKUP($E402,[0]!ProveraPDV,2,FALSE)=TRUE,$J402,)","v":{"$error":"#N/A"}},{"$f":"IF(VLOOKUP($E402,liste!$A$31:$B$818,2,FALSE)=TRUE,#REF!,)","v":{"$error":"#N/A"}},{"$error":"#NAME?"},{"$f":"INDEX('Cenovnik 2'!$G$2:$G$411,MATCH('Plan unos i pregled'!$E402,Pozicije,0))","v":"nebitno"}]
["2025.","ЈУЛ","Јавне зелене површине","Доњи Душник-Туристичка организација: П 2-176","4.6",{"$f":"IF($E403=0, \" \", VLOOKUP($E403, 'Cenovnik 2'!$A$2:$D$411, 2, FALSE))","v":"Кошење парковског травњака тримером"},{"$f":"IF($E403=0, \" \", VLOOKUP($E403, 'Cenovnik 2'!$A$2:$D$411, 3, FALSE))","v":"m2"},{"$f":"IF($E403=0, \" \", VLOOKUP($E403, 'Cenovnik 2'!$A$2:$D$411, 4, FALSE))","v":6.5},352,2288,"JZP","04","ДА","2 кошења",null,null,null,{"$f":"IF($C403=0, \" \", VLOOKUP($C403, DrzavniPuteviRed, 2, FALSE))","v":{"$error":"#NAME?"}},46,"46",{"$f":"IF(VLOOKUP($E403,[0]!ProveraPDV,2,FALSE)=TRUE,$J403,)","v":{"$error":"#N/A"}},{"$f":"IF(VLOOKUP($E403,liste!$A$31:$B$818,2,FALSE)=TRUE,#REF!,)","v":{"$error":"#N/A"}},{"$error":"#NAME?"},{"$f":"INDEX('Cenovnik 2'!$G$2:$G$411,MATCH('Plan unos i pregled'!$E403,Pozicije,0))","v":"nebitno"}]
["2025.","ЈУЛ","Јавне зелене површине","Доњи Душник-Туристичка организација: П 3-337","4.6",{"$f":"IF($E404=0, \" \", VLOOKUP($E404, 'Cenovnik 2'!$A$2:$D$411, 2, FALSE))","v":"Кошење парковског травњака тримером"},{"$f":"IF($E404=0, \" \", VLOOKUP($E404, 'Cenovnik 2'!$A$2:$D$411, 3, FALSE))","v":"m2"},{"$f":"IF($E404=0, \" \", VLOOKUP($E404, 'Cenovnik 2'!$A$2:$D$411, 4, FALSE))","v":6.5},674,4381,"JZP","04","ДА","2 кошења",null,null,null,{"$f":"IF($C404=0, \" \", VLOOKUP($C404, DrzavniPuteviRed, 2, FALSE))","v":{"$error":"#NAME?"}},46,"46",{"$f":"IF(VLOOKUP($E404,[0]!ProveraPDV,2,FALSE)=TRUE,$J404,)","v":{"$error":"#N/A"}},{"$f":"IF(VLOOKUP($E404,liste!$A$31:$B$818,2,FALSE)=TRUE,#REF!,)","v":{"$error":"#N/A"}},{"$error":"#NAME?"},{"$f":"INDEX('Cenovnik 2'!$G$2:$G$411,MATCH('Plan unos i pregled'!$E404,Pozicije,0))","v":"nebitno"}]
["2025.","ЈУЛ","Јавне зелене површине","Доњи Душник-Туристичка организација: П 4-386","11.30",{"$f":"IF($E405=0, \" \", VLOOKUP($E405, 'Cenovnik 2'!$A$2:$D$411, 2, FALSE))","v":"Моторна косачица за траву (спортски терени)"},{"$f":"IF($E405=0, \" \", VLOOKUP($E405, 'Cenovnik 2'!$A$2:$D$411, 3, FALSE))","v":"m2"},{"$f":"IF($E405=0, \" \", VLOOKUP($E405, 'Cenovnik 2'!$A$2:$D$411, 4, FALSE))","v":2.13},772,1644.36,"JZP","11","ДА","2 кошења",null,null,null,{"$f":"IF($C405=0, \" \", VLOOKUP($C405, DrzavniPuteviRed, 2, FALSE))","v":{"$error":"#NAME?"}},1130,"113",{"$f":"IF(VLOOKUP($E405,[0]!ProveraPDV,2,FALSE)=TRUE,$J405,)","v":{"$error":"#N/A"}},{"$f":"IF(VLOOKUP($E405,liste!$A$31:$B$818,2,FALSE)=TRUE,#REF!,)","v":{"$error":"#N/A"}},{"$error":"#NAME?"},{"$f":"INDEX('Cenovnik 2'!$G$2:$G$411,MATCH('Plan unos i pregled'!$E405,Pozicije,0))","v":"nebitno"}]
["2025.","ЈУЛ","Јавне зелене површине","Доњи Душник-Туристичка организација: П 5-762","11.30",{"$f":"IF($E406=0, \" \", VLOOKUP($E406, 'Cenovnik 2'!$A$2:$D$411, 2, FALSE))","v":"Моторна косачица за траву (спортски терени)"},{"$f":"IF($E406=0, \" \", VLOOKUP($E406, 'Cenovnik 2'!$A$2:$D$411, 3, FALSE))","v":"m2"},{"$f":"IF($E406=0, \" \", VLOOKUP($E406, 'Cenovnik 2'!$A$2:$D$411, 4, FALSE))","v":2.13},1524,3246.12,"JZP","11","ДА","2 koшења",null,null,null,{"$f":"IF($C406=0, \" \", VLOOKUP($C406, DrzavniPuteviRed, 2, FALSE))","v":{"$error":"#NAME?"}},1130,"113",{"$f":"IF(VLOOKUP($E406,[0]!ProveraPDV,2,FALSE)=TRUE,$J406,)","v":{"$error":"#N/A"}},{"$f":"IF(VLOOKUP($E406,liste!$A$31:$B$818,2,FALSE)=TRUE,#REF!,)","v":{"$error":"#N/A"}},{"$error":"#NAME?"},{"$f":"INDEX('Cenovnik 2'!$G$2:$G$411,MATCH('Plan unos i pregled'!$E406,Pozicije,0))","v":"nebitno"}]
["2025.","ЈУЛ","Јавне зелене површине","Доњи Душник-Туристичка организација: П 6-974","4.6",{"$f":"IF($E407=0, \" \", VLOOKUP($E407, 'Cenovnik 2'!$A$2:$D$411, 2, FALSE))","v":"Кошење парковског травњака тримером"},{"$f":"IF($E407=0, \" \", VLOOKUP($E407, 'Cenovnik 2'!$A$2:$D$411, 3, FALSE))","v":"m2"},{"$f":"IF($E407=0, \" \", VLOOKUP($E407, 'Cenovnik 2'!$A$2:$D$411, 4, FALSE))","v":6.5},1948,12662,"JZP","04","ДА","2 кошења",null,null,null,{"$f":"IF($C407=0, \" \", VLOOKUP($C407, DrzavniPuteviRed, 2, FALSE))","v":{"$error":"#NAME?"}},46,"46",{"$f":"IF(VLOOKUP($E407,[0]!ProveraPDV,2,FALSE)=TRUE,$J407,)","v":{"$error":"#N/A"}},{"$f":"IF(VLOOKUP($E407,liste!$A$31:$B$818,2,FALSE)=TRUE,#REF!,)","v":{"$error":"#N/A"}},{"$error":"#NAME?"},{"$f":"INDEX('Cenovnik 2'!$G$2:$G$411,MATCH('Plan unos i pregled'!$E407,Pozicije,0))","v":"nebitno"}]
["2025.","ЈУЛ","Јавне зелене површине","Доњи Душник -Ветеринарска станица : П 1-300","4.6",{"$f":"IF($E408=0, \" \", VLOOKUP($E408, 'Cenovnik 2'!$A$2:$D$411, 2, FALSE))","v":"Кошење парковског травњака тримером"},{"$f":"IF($E408=0, \" \", VLOOKUP($E408, 'Cenovnik 2'!$A$2:$D$411, 3, FALSE))","v":"m2"},{"$f":"IF($E408=0, \" \", VLOOKUP($E408, 'Cenovnik 2'!$A$2:$D$411, 4, FALSE))","v":6.5},300,1950,"JZP","04","ДА",null,null,null,null,{"$f":"IF($C408=0, \" \", VLOOKUP($C408, DrzavniPuteviRed, 2, FALSE))","v":{"$error":"#NAME?"}},46,"46",{"$f":"IF(VLOOKUP($E408,[0]!ProveraPDV,2,FALSE)=TRUE,$J408,)","v":{"$error":"#N/A"}},{"$f":"IF(VLOOKUP($E408,liste!$A$31:$B$818,2,FALSE)=TRUE,#REF!,)","v":{"$error":"#N/A"}},{"$error":"#NAME?"},{"$f":"INDEX('Cenovnik 2'!$G$2:$G$411,MATCH('Plan unos i pregled'!$E408,Pozicije,0))","v":"nebitno"}]
["2025.","ЈУЛ","Јавне зелене површине","Доњи Душник -Ветеринарска станица : П 2-253","4.6",{"$f":"IF($E409=0, \" \", VLOOKUP($E409, 'Cenovnik 2'!$A$2:$D$411, 2, FALSE))","v":"Кошење парковског травњака тримером"},{"$f":"IF($E409=0, \" \", VLOOKUP($E409, 'Cenovnik 2'!$A$2:$D$411, 3, FALSE))","v":"m2"},{"$f":"IF($E409=0, \" \", VLOOKUP($E409, 'Cenovnik 2'!$A$2:$D$411, 4, FALSE))","v":6.5},253,1644.5,"JZP","04","ДА",null,null,null,null,{"$f":"IF($C409=0, \" \", VLOOKUP($C409, DrzavniPuteviRed, 2, FALSE))","v":{"$error":"#NAME?"}},46,"46",{"$f":"IF(VLOOKUP($E409,[0]!ProveraPDV,2,FALSE)=TRUE,$J409,)","v":{"$error":"#N/A"}},{"$f":"IF(VLOOKUP($E409,liste!$A$31:$B$818,2,FALSE)=TRUE,#REF!,)","v":{"$error":"#N/A"}},{"$error":"#NAME?"},{"$f":"INDEX('Cenovnik 2'!$G$2:$G$411,MATCH('Plan unos i pregled'!$E409,Pozicije,0))","v":"nebitno"}]
["2025.","ЈУЛ","Јавне зелене површине","Доњи Душник -Задружни дом-Дом културе: П 1-1922","4.26",{"$f":"IF($E410=0, \" \", VLOOKUP($E410, 'Cenovnik 2'!$A$2:$D$411, 2, FALSE))","v":"Кошење траве на слободним површинама косачицом прикљученом на трактор"},{"$f":"IF($E410=0, \" \", VLOOKUP($E410, 'Cenovnik 2'!$A$2:$D$411, 3, FALSE))","v":"m2"},{"$f":"IF($E410=0, \" \", VLOOKUP($E410, 'Cenovnik 2'!$A$2:$D$411, 4, FALSE))","v":4.3499999999999996},1922,8360.6999999999989,"JZP","04","ДА",null,null,null,null,{"$f":"IF($C410=0, \" \", VLOOKUP($C410, DrzavniPuteviRed, 2, FALSE))","v":{"$error":"#NAME?"}},426,"426",{"$f":"IF(VLOOKUP($E410,[0]!ProveraPDV,2,FALSE)=TRUE,$J410,)","v":{"$error":"#N/A"}},{"$f":"IF(VLOOKUP($E410,liste!$A$31:$B$818,2,FALSE)=TRUE,#REF!,)","v":{"$error":"#N/A"}},{"$error":"#NAME?"},{"$f":"INDEX('Cenovnik 2'!$G$2:$G$411,MATCH('Plan unos i pregled'!$E410,Pozicije,0))","v":"nebitno"}]
["2025.","ЈУЛ","Јавне зелене површине","Горњи Душник-Основна школа: П 1-2320","4.6",{"$f":"IF($E411=0, \" \", VLOOKUP($E411, 'Cenovnik 2'!$A$2:$D$411, 2, FALSE))","v":"Кошење парковског травњака тримером"},{"$f":"IF($E411=0, \" \", VLOOKUP($E411, 'Cenovnik 2'!$A$2:$D$411, 3, FALSE))","v":"m2"},{"$f":"IF($E411=0, \" \", VLOOKUP($E411, 'Cenovnik 2'!$A$2:$D$411, 4, FALSE))","v":6.5},4640,30160,"JZP","04","ДА","2 кошења",null,null,null,{"$f":"IF($C411=0, \" \", VLOOKUP($C411, DrzavniPuteviRed, 2, FALSE))","v":{"$error":"#NAME?"}},46,"46",{"$f":"IF(VLOOKUP($E411,[0]!ProveraPDV,2,FALSE)=TRUE,$J411,)","v":{"$error":"#N/A"}},{"$f":"IF(VLOOKUP($E411,liste!$A$31:$B$818,2,FALSE)=TRUE,#REF!,)","v":{"$error":"#N/A"}},{"$error":"#NAME?"},{"$f":"INDEX('Cenovnik 2'!$G$2:$G$411,MATCH('Plan unos i pregled'!$E411,Pozicije,0))","v":"nebitno"}]
["2025.","ЈУЛ","Јавне зелене површине","Горњи Душник-Црква: П 1-2466","11.30",{"$f":"IF($E412=0, \" \", VLOOKUP($E412, 'Cenovnik 2'!$A$2:$D$411, 2, FALSE))","v":"Моторна косачица за траву (спортски терени)"},{"$f":"IF($E412=0, \" \", VLOOKUP($E412, 'Cenovnik 2'!$A$2:$D$411, 3, FALSE))","v":"m2"},{"$f":"IF($E412=0, \" \", VLOOKUP($E412, 'Cenovnik 2'!$A$2:$D$411, 4, FALSE))","v":2.13},4932,10505.16,"JZP","11","ДА","2 кошења",null,null,null,{"$f":"IF($C412=0, \" \", VLOOKUP($C412, DrzavniPuteviRed, 2, FALSE))","v":{"$error":"#NAME?"}},1130,"113",{"$f":"IF(VLOOKUP($E412,[0]!ProveraPDV,2,FALSE)=TRUE,$J412,)","v":{"$error":"#N/A"}},{"$f":"IF(VLOOKUP($E412,liste!$A$31:$B$818,2,FALSE)=TRUE,#REF!,)","v":{"$error":"#N/A"}},{"$error":"#NAME?"},{"$f":"INDEX('Cenovnik 2'!$G$2:$G$411,MATCH('Plan unos i pregled'!$E412,Pozicije,0))","v":"nebitno"}]
["2025.","ЈУЛ","Јавне зелене површине","Горњи Барбеш-Месна канцеларија, пошта: П1-819","4.6",{"$f":"IF($E413=0, \" \", VLOOKUP($E413, 'Cenovnik 2'!$A$2:$D$411, 2, FALSE))","v":"Кошење парковског травњака тримером"},{"$f":"IF($E413=0, \" \", VLOOKUP($E413, 'Cenovnik 2'!$A$2:$D$411, 3, FALSE))","v":"m2"},{"$f":"IF($E413=0, \" \", VLOOKUP($E413, 'Cenovnik 2'!$A$2:$D$411, 4, FALSE))","v":6.5},819,5323.5,"JZP","04","ДА",null,null,null,null,{"$f":"IF($C413=0, \" \", VLOOKUP($C413, DrzavniPuteviRed, 2, FALSE))","v":{"$error":"#NAME?"}},46,"46",{"$f":"IF(VLOOKUP($E413,[0]!ProveraPDV,2,FALSE)=TRUE,$J413,)","v":{"$error":"#N/A"}},{"$f":"IF(VLOOKUP($E413,liste!$A$31:$B$818,2,FALSE)=TRUE,#REF!,)","v":{"$error":"#N/A"}},{"$error":"#NAME?"},{"$f":"INDEX('Cenovnik 2'!$G$2:$G$411,MATCH('Plan unos i pregled'!$E413,Pozicije,0))","v":"nebitno"}]
["2025.","ЈУЛ","Јавне зелене површине","Горњи Барбеш-Дом Здравља: П1-288","4.6",{"$f":"IF($E414=0, \" \", VLOOKUP($E414, 'Cenovnik 2'!$A$2:$D$411, 2, FALSE))","v":"Кошење парковског травњака тримером"},{"$f":"IF($E414=0, \" \", VLOOKUP($E414, 'Cenovnik 2'!$A$2:$D$411, 3, FALSE))","v":"m2"},{"$f":"IF($E414=0, \" \", VLOOKUP($E414, 'Cenovnik 2'!$A$2:$D$411, 4, FALSE))","v":6.5},288,1872,"JZP","04","ДА",null,null,null,null,{"$f":"IF($C414=0, \" \", VLOOKUP($C414, DrzavniPuteviRed, 2, FALSE))","v":{"$error":"#NAME?"}},46,"46",{"$f":"IF(VLOOKUP($E414,[0]!ProveraPDV,2,FALSE)=TRUE,$J414,)","v":{"$error":"#N/A"}},{"$f":"IF(VLOOKUP($E414,liste!$A$31:$B$818,2,FALSE)=TRUE,#REF!,)","v":{"$error":"#N/A"}},{"$error":"#NAME?"},{"$f":"INDEX('Cenovnik 2'!$G$2:$G$411,MATCH('Plan unos i pregled'!$E414,Pozicije,0))","v":"nebitno"}]
["2025.","ЈУЛ","Јавне зелене површине","Горњи Барбеш-Основна Школа: П1-2720","4.6",{"$f":"IF($E415=0, \" \", VLOOKUP($E415, 'Cenovnik 2'!$A$2:$D$411, 2, FALSE))","v":"Кошење парковског травњака тримером"},{"$f":"IF($E415=0, \" \", VLOOKUP($E415, 'Cenovnik 2'!$A$2:$D$411, 3, FALSE))","v":"m2"},{"$f":"IF($E415=0, \" \", VLOOKUP($E415, 'Cenovnik 2'!$A$2:$D$411, 4, FALSE))","v":6.5},2720,17680,"JZP","04","ДА",null,null,null,null,{"$f":"IF($C415=0, \" \", VLOOKUP($C415, DrzavniPuteviRed, 2, FALSE))","v":{"$error":"#NAME?"}},46,"46",{"$f":"IF(VLOOKUP($E415,[0]!ProveraPDV,2,FALSE)=TRUE,$J415,)","v":{"$error":"#N/A"}},{"$f":"IF(VLOOKUP($E415,liste!$A$31:$B$818,2,FALSE)=TRUE,#REF!,)","v":{"$error":"#N/A"}},{"$error":"#NAME?"},{"$f":"INDEX('Cenovnik 2'!$G$2:$G$411,MATCH('Plan unos i pregled'!$E415,Pozicije,0))","v":"nebitno"}]
["2025.","ЈУЛ","Општински путеви","ОП 136-23 - Топоница - Ново Село","4.7",{"$f":"IF($E416=0, \" \", VLOOKUP($E416, 'Cenovnik 2'!$A$2:$D$411, 2, FALSE))","v":"Кошење траве са банкина самоходном моторном косачицом"},{"$f":"IF($E416=0, \" \", VLOOKUP($E416, 'Cenovnik 2'!$A$2:$D$411, 3, FALSE))","v":"m2"},{"$f":"IF($E416=0, \" \", VLOOKUP($E416, 'Cenovnik 2'!$A$2:$D$411, 4, FALSE))","v":3.99},9430,37625.700000000004,"OP","04","ДА",null,null,null,null,{"$f":"IF($C416=0, \" \", VLOOKUP($C416, DrzavniPuteviRed, 2, FALSE))","v":{"$error":"#NAME?"}},47,"47",{"$f":"IF(VLOOKUP($E416,[0]!ProveraPDV,2,FALSE)=TRUE,$J416,)","v":{"$error":"#N/A"}},{"$f":"IF(VLOOKUP($E416,liste!$A$31:$B$818,2,FALSE)=TRUE,#REF!,)","v":{"$error":"#N/A"}},{"$error":"#NAME?"},{"$f":"INDEX('Cenovnik 2'!$G$2:$G$411,MATCH('Plan unos i pregled'!$E416,Pozicije,0))","v":"nebitno"}]
["2025.","ЈУЛ","Општински путеви","ОП 136-23 - Топоница - Ново Село","4.22",{"$f":"IF($E417=0, \" \", VLOOKUP($E417, 'Cenovnik 2'!$A$2:$D$411, 2, FALSE))","v":"Сечење густог шибља преко 50 ком на m²"},{"$f":"IF($E417=0, \" \", VLOOKUP($E417, 'Cenovnik 2'!$A$2:$D$411, 3, FALSE))","v":"m2"},{"$f":"IF($E417=0, \" \", VLOOKUP($E417, 'Cenovnik 2'!$A$2:$D$411, 4, FALSE))","v":60},760,45600,"OP","04","ДА",null,null,null,null,{"$f":"IF($C417=0, \" \", VLOOKUP($C417, DrzavniPuteviRed, 2, FALSE))","v":{"$error":"#NAME?"}},422,"422",{"$f":"IF(VLOOKUP($E417,[0]!ProveraPDV,2,FALSE)=TRUE,$J417,)","v":{"$error":"#N/A"}},{"$f":"IF(VLOOKUP($E417,liste!$A$31:$B$818,2,FALSE)=TRUE,#REF!,)","v":{"$error":"#N/A"}},{"$error":"#NAME?"},{"$f":"INDEX('Cenovnik 2'!$G$2:$G$411,MATCH('Plan unos i pregled'!$E417,Pozicije,0))","v":"nebitno"}]
["2025.","ЈУЛ","Општински путеви","ОП 136-23 - Топоница - Ново Село","4.19.1",{"$f":"IF($E418=0, \" \", VLOOKUP($E418, 'Cenovnik 2'!$A$2:$D$411, 2, FALSE))","v":"Кресање грана са одлагањем на страну моторном тестером. Пречник грана од 0 - 10 cm"},{"$f":"IF($E418=0, \" \", VLOOKUP($E418, 'Cenovnik 2'!$A$2:$D$411, 3, FALSE))","v":"ком"},{"$f":"IF($E418=0, \" \", VLOOKUP($E418, 'Cenovnik 2'!$A$2:$D$411, 4, FALSE))","v":256.38},530,135881.4,"OP","04","ДА",null,null,null,null,{"$f":"IF($C418=0, \" \", VLOOKUP($C418, DrzavniPuteviRed, 2, FALSE))","v":{"$error":"#NAME?"}},4191,"419",{"$f":"IF(VLOOKUP($E418,[0]!ProveraPDV,2,FALSE)=TRUE,$J418,)","v":{"$error":"#N/A"}},{"$f":"IF(VLOOKUP($E418,liste!$A$31:$B$818,2,FALSE)=TRUE,#REF!,)","v":{"$error":"#N/A"}},{"$error":"#NAME?"},{"$f":"INDEX('Cenovnik 2'!$G$2:$G$411,MATCH('Plan unos i pregled'!$E418,Pozicije,0))","v":"nebitno"}]
["2025.","ЈУЛ","Улице","Сопотница - Некатегорисан пут","11.10",{"$f":"IF($E419=0, \" \", VLOOKUP($E419, 'Cenovnik 2'!$A$2:$D$411, 2, FALSE))","v":"Ротациони багер гусеничар JCB "},{"$f":"IF($E419=0, \" \", VLOOKUP($E419, 'Cenovnik 2'!$A$2:$D$411, 3, FALSE))","v":"час"},{"$f":"IF($E419=0, \" \", VLOOKUP($E419, 'Cenovnik 2'!$A$2:$D$411, 4, FALSE))","v":6900},10,69000,"Ul","11","ДА","Сопотница кп.бр.6627, \nкп бр.1308, кп.бр.1347, кп.бр.6625",null,null,null,{"$f":"IF($C419=0, \" \", VLOOKUP($C419, DrzavniPuteviRed, 2, FALSE))","v":{"$error":"#NAME?"}},1110,"111",{"$f":"IF(VLOOKUP($E419,[0]!ProveraPDV,2,FALSE)=TRUE,$J419,)","v":{"$error":"#N/A"}},{"$f":"IF(VLOOKUP($E419,liste!$A$31:$B$818,2,FALSE)=TRUE,#REF!,)","v":{"$error":"#N/A"}},{"$error":"#NAME?"},{"$f":"INDEX('Cenovnik 2'!$G$2:$G$411,MATCH('Plan unos i pregled'!$E419,Pozicije,0))","v":"nebitno"},null,"кп бр.1308 priv.\nкп.бр.1347 priv.\nPrihvata se samo za kp. 6627"]
["2025.","ЈУЛ","Улице","Велики Вртоп - 1. Маја","8.29",{"$f":"IF($E420=0, \" \", VLOOKUP($E420, 'Cenovnik 2'!$A$2:$D$411, 2, FALSE))","v":"Набавка дробљеног кречњачког каменог агрегата фракције 0-31,5 mm "},{"$f":"IF($E420=0, \" \", VLOOKUP($E420, 'Cenovnik 2'!$A$2:$D$411, 3, FALSE))","v":"t"},{"$f":"IF($E420=0, \" \", VLOOKUP($E420, 'Cenovnik 2'!$A$2:$D$411, 4, FALSE))","v":645},197.8,127581.00000000001,"Ul","08","ДА","(уграђена је количина материјала у месецу јуну, наплата биће по достави рачуна добављача )",null,null,null,{"$f":"IF($C420=0, \" \", VLOOKUP($C420, DrzavniPuteviRed, 2, FALSE))","v":{"$error":"#NAME?"}},829,"829",{"$f":"IF(VLOOKUP($E420,[0]!ProveraPDV,2,FALSE)=TRUE,$J420,)","v":127581.00000000001},{"$f":"IF(VLOOKUP($E420,liste!$A$31:$B$818,2,FALSE)=TRUE,#REF!,)","v":{"$error":"#REF!"}},{"$error":"#NAME?"},{"$f":"INDEX('Cenovnik 2'!$G$2:$G$411,MATCH('Plan unos i pregled'!$E420,Pozicije,0))","v":"nebitno"}]
["2025.","ЈУЛ","Улице","Личје - Некатегорисан пут","8.29",{"$f":"IF($E421=0, \" \", VLOOKUP($E421, 'Cenovnik 2'!$A$2:$D$411, 2, FALSE))","v":"Набавка дробљеног кречњачког каменог агрегата фракције 0-31,5 mm "},{"$f":"IF($E421=0, \" \", VLOOKUP($E421, 'Cenovnik 2'!$A$2:$D$411, 3, FALSE))","v":"t"},{"$f":"IF($E421=0, \" \", VLOOKUP($E421, 'Cenovnik 2'!$A$2:$D$411, 4, FALSE))","v":645},25.32,16331.4,"Ul","08","НЕ","Кп.бр.1954 КО Личје (уграђена је количина материјала у месецу јуну, наплата биће по достави рачуна добављача )",null,null,null,{"$f":"IF($C421=0, \" \", VLOOKUP($C421, DrzavniPuteviRed, 2, FALSE))","v":{"$error":"#NAME?"}},829,"829",{"$f":"IF(VLOOKUP($E421,[0]!ProveraPDV,2,FALSE)=TRUE,$J421,)","v":16331.4},{"$f":"IF(VLOOKUP($E421,liste!$A$31:$B$818,2,FALSE)=TRUE,#REF!,)","v":{"$error":"#REF!"}},{"$error":"#NAME?"},{"$f":"INDEX('Cenovnik 2'!$G$2:$G$411,MATCH('Plan unos i pregled'!$E421,Pozicije,0))","v":"nebitno"},null,"Кп.бр.1954 priv."]
["2025.","ЈУЛ","Улице","Семче - Жике Милојковића","8.29",{"$f":"IF($E422=0, \" \", VLOOKUP($E422, 'Cenovnik 2'!$A$2:$D$411, 2, FALSE))","v":"Набавка дробљеног кречњачког каменог агрегата фракције 0-31,5 mm "},{"$f":"IF($E422=0, \" \", VLOOKUP($E422, 'Cenovnik 2'!$A$2:$D$411, 3, FALSE))","v":"t"},{"$f":"IF($E422=0, \" \", VLOOKUP($E422, 'Cenovnik 2'!$A$2:$D$411, 4, FALSE))","v":645},74.16,47833.2,{"$f":"IFERROR(INDEX(LokacijeRadovaLat,MATCH(C422,LokacijaRadova,0)),\"\")","v":"Ul"},"08","ДА","(уграђена је количина материјала у месецу јуну, наплата биће по достави рачуна добављача )",null,null,null,{"$f":"IF($C422=0, \" \", VLOOKUP($C422, DrzavniPuteviRed, 2, FALSE))","v":{"$error":"#NAME?"}},829,"829",{"$f":"IF(VLOOKUP($E422,[0]!ProveraPDV,2,FALSE)=TRUE,$J422,)","v":47833.2},{"$f":"IF(VLOOKUP($E422,liste!$A$31:$B$818,2,FALSE)=TRUE,#REF!,)","v":{"$error":"#REF!"}},{"$error":"#NAME?"},{"$f":"INDEX('Cenovnik 2'!$G$2:$G$411,MATCH('Plan unos i pregled'!$E422,Pozicije,0))","v":"nebitno"}]
["2025.","ЈУЛ","Улице","Гаџин Хан - Свети Никола","8.29",{"$f":"IF($E423=0, \" \", VLOOKUP($E423, 'Cenovnik 2'!$A$2:$D$411, 2, FALSE))","v":"Набавка дробљеног кречњачког каменог агрегата фракције 0-31,5 mm "},{"$f":"IF($E423=0, \" \", VLOOKUP($E423, 'Cenovnik 2'!$A$2:$D$411, 3, FALSE))","v":"t"},{"$f":"IF($E423=0, \" \", VLOOKUP($E423, 'Cenovnik 2'!$A$2:$D$411, 4, FALSE))","v":645},27.72,17879.399999999998,"Ul","08","ДА","Кп.бр.6168 КО Гаџин Хан (уграђена је количина материјала у месецу јуну, наплата биће по достави рачуна добављача )",null,null,null,{"$f":"IF($C423=0, \" \", VLOOKUP($C423, DrzavniPuteviRed, 2, FALSE))","v":{"$error":"#NAME?"}},829,"829",{"$f":"IF(VLOOKUP($E423,[0]!ProveraPDV,2,FALSE)=TRUE,$J423,)","v":17879.399999999998},{"$f":"IF(VLOOKUP($E423,liste!$A$31:$B$818,2,FALSE)=TRUE,#REF!,)","v":{"$error":"#REF!"}},{"$error":"#NAME?"},{"$f":"INDEX('Cenovnik 2'!$G$2:$G$411,MATCH('Plan unos i pregled'!$E423,Pozicije,0))","v":"nebitno"}]
["2025.","ЈУЛ","Улице","Горње Власе - Некатегорисан пут","8.29",{"$f":"IF($E424=0, \" \", VLOOKUP($E424, 'Cenovnik 2'!$A$2:$D$411, 2, FALSE))","v":"Набавка дробљеног кречњачког каменог агрегата фракције 0-31,5 mm "},{"$f":"IF($E424=0, \" \", VLOOKUP($E424, 'Cenovnik 2'!$A$2:$D$411, 3, FALSE))","v":"t"},{"$f":"IF($E424=0, \" \", VLOOKUP($E424, 'Cenovnik 2'!$A$2:$D$411, 4, FALSE))","v":645},88.14,56850.3,"Ul","08","ДА","Кп.бр.637 КО Горње Власе (уграђена је количина материјала у месецу јуну, наплата биће по достави рачуна добављача )",null,null,null,{"$f":"IF($C424=0, \" \", VLOOKUP($C424, DrzavniPuteviRed, 2, FALSE))","v":{"$error":"#NAME?"}},829,"829",{"$f":"IF(VLOOKUP($E424,[0]!ProveraPDV,2,FALSE)=TRUE,$J424,)","v":56850.3},{"$f":"IF(VLOOKUP($E424,liste!$A$31:$B$818,2,FALSE)=TRUE,#REF!,)","v":{"$error":"#REF!"}},{"$error":"#NAME?"},{"$f":"INDEX('Cenovnik 2'!$G$2:$G$411,MATCH('Plan unos i pregled'!$E424,Pozicije,0))","v":"nebitno"}]
["2025.","ЈУЛ","Улице","Горње Власе - Некатегорисан пут","8.29",{"$f":"IF($E425=0, \" \", VLOOKUP($E425, 'Cenovnik 2'!$A$2:$D$411, 2, FALSE))","v":"Набавка дробљеног кречњачког каменог агрегата фракције 0-31,5 mm "},{"$f":"IF($E425=0, \" \", VLOOKUP($E425, 'Cenovnik 2'!$A$2:$D$411, 3, FALSE))","v":"t"},{"$f":"IF($E425=0, \" \", VLOOKUP($E425, 'Cenovnik 2'!$A$2:$D$411, 4, FALSE))","v":645},37.22,24006.899999999998,"Ul","08","ДА","Кп.бр.946 КО Горње Власе (уграђена је количина материјала у месецу јуну, наплата биће по достави рачуна добављача )",null,null,null,{"$f":"IF($C425=0, \" \", VLOOKUP($C425, DrzavniPuteviRed, 2, FALSE))","v":{"$error":"#NAME?"}},829,"829",{"$f":"IF(VLOOKUP($E425,[0]!ProveraPDV,2,FALSE)=TRUE,$J425,)","v":24006.899999999998},{"$f":"IF(VLOOKUP($E425,liste!$A$31:$B$818,2,FALSE)=TRUE,#REF!,)","v":{"$error":"#REF!"}},{"$error":"#NAME?"},{"$f":"INDEX('Cenovnik 2'!$G$2:$G$411,MATCH('Plan unos i pregled'!$E425,Pozicije,0))","v":"nebitno"}]
["2025.","АВГУСТ","Улице","Гаџин Хан - Бранка Миљковића","4.7",{"$f":"IF($E426=0, \" \", VLOOKUP($E426, 'Cenovnik 2'!$A$2:$D$411, 2, FALSE))","v":"Кошење траве са банкина самоходном моторном косачицом"},{"$f":"IF($E426=0, \" \", VLOOKUP($E426, 'Cenovnik 2'!$A$2:$D$411, 3, FALSE))","v":"m2"},{"$f":"IF($E426=0, \" \", VLOOKUP($E426, 'Cenovnik 2'!$A$2:$D$411, 4, FALSE))","v":3.99},2160,8618.4,"Ul","04","ДА",null,null,null,null,{"$f":"IF($C426=0, \" \", VLOOKUP($C426, DrzavniPuteviRed, 2, FALSE))","v":{"$error":"#NAME?"}},47,"47",{"$f":"IF(VLOOKUP($E426,[0]!ProveraPDV,2,FALSE)=TRUE,$J426,)","v":{"$error":"#N/A"}},{"$f":"IF(VLOOKUP($E426,liste!$A$31:$B$818,2,FALSE)=TRUE,#REF!,)","v":{"$error":"#N/A"}},{"$error":"#NAME?"},{"$f":"INDEX('Cenovnik 2'!$G$2:$G$411,MATCH('Plan unos i pregled'!$E426,Pozicije,0))","v":"nebitno"}]
["2025.","АВГУСТ","Улице","Гаџин Хан - Бранка Миљковића","4.22",{"$f":"IF($E427=0, \" \", VLOOKUP($E427, 'Cenovnik 2'!$A$2:$D$411, 2, FALSE))","v":"Сечење густог шибља преко 50 ком на m²"},{"$f":"IF($E427=0, \" \", VLOOKUP($E427, 'Cenovnik 2'!$A$2:$D$411, 3, FALSE))","v":"m2"},{"$f":"IF($E427=0, \" \", VLOOKUP($E427, 'Cenovnik 2'!$A$2:$D$411, 4, FALSE))","v":60},324,19440,"Ul","04","ДА",null,null,null,null,{"$f":"IF($C427=0, \" \", VLOOKUP($C427, DrzavniPuteviRed, 2, FALSE))","v":{"$error":"#NAME?"}},422,"422",{"$f":"IF(VLOOKUP($E427,[0]!ProveraPDV,2,FALSE)=TRUE,$J427,)","v":{"$error":"#N/A"}},{"$f":"IF(VLOOKUP($E427,liste!$A$31:$B$818,2,FALSE)=TRUE,#REF!,)","v":{"$error":"#N/A"}},{"$error":"#NAME?"},{"$f":"INDEX('Cenovnik 2'!$G$2:$G$411,MATCH('Plan unos i pregled'!$E427,Pozicije,0))","v":"nebitno"}]
["2025.","АВГУСТ","Улице","Гаџин Хан - 12. Октобра","4.7",{"$f":"IF($E428=0, \" \", VLOOKUP($E428, 'Cenovnik 2'!$A$2:$D$411, 2, FALSE))","v":"Кошење траве са банкина самоходном моторном косачицом"},{"$f":"IF($E428=0, \" \", VLOOKUP($E428, 'Cenovnik 2'!$A$2:$D$411, 3, FALSE))","v":"m2"},{"$f":"IF($E428=0, \" \", VLOOKUP($E428, 'Cenovnik 2'!$A$2:$D$411, 4, FALSE))","v":3.99},870,3471.3,"Ul","04","ДА",null,null,null,null,{"$f":"IF($C428=0, \" \", VLOOKUP($C428, DrzavniPuteviRed, 2, FALSE))","v":{"$error":"#NAME?"}},47,"47",{"$f":"IF(VLOOKUP($E428,[0]!ProveraPDV,2,FALSE)=TRUE,$J428,)","v":{"$error":"#N/A"}},{"$f":"IF(VLOOKUP($E428,liste!$A$31:$B$818,2,FALSE)=TRUE,#REF!,)","v":{"$error":"#N/A"}},{"$error":"#NAME?"},{"$f":"INDEX('Cenovnik 2'!$G$2:$G$411,MATCH('Plan unos i pregled'!$E428,Pozicije,0))","v":"nebitno"}]
["2025.","АВГУСТ","Улице","Гаџин Хан - 12. Октобра","4.22",{"$f":"IF($E429=0, \" \", VLOOKUP($E429, 'Cenovnik 2'!$A$2:$D$411, 2, FALSE))","v":"Сечење густог шибља преко 50 ком на m²"},{"$f":"IF($E429=0, \" \", VLOOKUP($E429, 'Cenovnik 2'!$A$2:$D$411, 3, FALSE))","v":"m2"},{"$f":"IF($E429=0, \" \", VLOOKUP($E429, 'Cenovnik 2'!$A$2:$D$411, 4, FALSE))","v":60},170,10200,"Ul","04","ДА",null,null,null,null,{"$f":"IF($C429=0, \" \", VLOOKUP($C429, DrzavniPuteviRed, 2, FALSE))","v":{"$error":"#NAME?"}},422,"422",{"$f":"IF(VLOOKUP($E429,[0]!ProveraPDV,2,FALSE)=TRUE,$J429,)","v":{"$error":"#N/A"}},{"$f":"IF(VLOOKUP($E429,liste!$A$31:$B$818,2,FALSE)=TRUE,#REF!,)","v":{"$error":"#N/A"}},{"$error":"#NAME?"},{"$f":"INDEX('Cenovnik 2'!$G$2:$G$411,MATCH('Plan unos i pregled'!$E429,Pozicije,0))","v":"nebitno"}]
["2025.","АВГУСТ","Улице","Гаџин Хан - 1. Мај","4.7",{"$f":"IF($E430=0, \" \", VLOOKUP($E430, 'Cenovnik 2'!$A$2:$D$411, 2, FALSE))","v":"Кошење траве са банкина самоходном моторном косачицом"},{"$f":"IF($E430=0, \" \", VLOOKUP($E430, 'Cenovnik 2'!$A$2:$D$411, 3, FALSE))","v":"m2"},{"$f":"IF($E430=0, \" \", VLOOKUP($E430, 'Cenovnik 2'!$A$2:$D$411, 4, FALSE))","v":3.99},830,3311.7000000000003,"Ul","04","ДА",null,null,null,null,{"$f":"IF($C430=0, \" \", VLOOKUP($C430, DrzavniPuteviRed, 2, FALSE))","v":{"$error":"#NAME?"}},47,"47",{"$f":"IF(VLOOKUP($E430,[0]!ProveraPDV,2,FALSE)=TRUE,$J430,)","v":{"$error":"#N/A"}},{"$f":"IF(VLOOKUP($E430,liste!$A$31:$B$818,2,FALSE)=TRUE,#REF!,)","v":{"$error":"#N/A"}},{"$error":"#NAME?"},{"$f":"INDEX('Cenovnik 2'!$G$2:$G$411,MATCH('Plan unos i pregled'!$E430,Pozicije,0))","v":"nebitno"}]
["2025.","АВГУСТ","Улице","Гаџин Хан - 1. Мај","4.22",{"$f":"IF($E431=0, \" \", VLOOKUP($E431, 'Cenovnik 2'!$A$2:$D$411, 2, FALSE))","v":"Сечење густог шибља преко 50 ком на m²"},{"$f":"IF($E431=0, \" \", VLOOKUP($E431, 'Cenovnik 2'!$A$2:$D$411, 3, FALSE))","v":"m2"},{"$f":"IF($E431=0, \" \", VLOOKUP($E431, 'Cenovnik 2'!$A$2:$D$411, 4, FALSE))","v":60},160,9600,"Ul","04","ДА",null,null,null,null,{"$f":"IF($C431=0, \" \", VLOOKUP($C431, DrzavniPuteviRed, 2, FALSE))","v":{"$error":"#NAME?"}},422,"422",{"$f":"IF(VLOOKUP($E431,[0]!ProveraPDV,2,FALSE)=TRUE,$J431,)","v":{"$error":"#N/A"}},{"$f":"IF(VLOOKUP($E431,liste!$A$31:$B$818,2,FALSE)=TRUE,#REF!,)","v":{"$error":"#N/A"}},{"$error":"#NAME?"},{"$f":"INDEX('Cenovnik 2'!$G$2:$G$411,MATCH('Plan unos i pregled'!$E431,Pozicije,0))","v":"nebitno"}]
["2025.","АВГУСТ","Улице","Гаџин Хан - Некатегорисан пут","4.7",{"$f":"IF($E432=0, \" \", VLOOKUP($E432, 'Cenovnik 2'!$A$2:$D$411, 2, FALSE))","v":"Кошење траве са банкина самоходном моторном косачицом"},{"$f":"IF($E432=0, \" \", VLOOKUP($E432, 'Cenovnik 2'!$A$2:$D$411, 3, FALSE))","v":"m2"},{"$f":"IF($E432=0, \" \", VLOOKUP($E432, 'Cenovnik 2'!$A$2:$D$411, 4, FALSE))","v":3.99},460,1835.4,"Ul","04","ДА","кп.бр.6176",null,null,null,{"$f":"IF($C432=0, \" \", VLOOKUP($C432, DrzavniPuteviRed, 2, FALSE))","v":{"$error":"#NAME?"}},47,"47",{"$f":"IF(VLOOKUP($E432,[0]!ProveraPDV,2,FALSE)=TRUE,$J432,)","v":{"$error":"#N/A"}},{"$f":"IF(VLOOKUP($E432,liste!$A$31:$B$818,2,FALSE)=TRUE,#REF!,)","v":{"$error":"#N/A"}},{"$error":"#NAME?"},{"$f":"INDEX('Cenovnik 2'!$G$2:$G$411,MATCH('Plan unos i pregled'!$E432,Pozicije,0))","v":"nebitno"}]
["2025.","АВГУСТ","Улице","Гаџин Хан - Некатегорисан пут","4.22",{"$f":"IF($E433=0, \" \", VLOOKUP($E433, 'Cenovnik 2'!$A$2:$D$411, 2, FALSE))","v":"Сечење густог шибља преко 50 ком на m²"},{"$f":"IF($E433=0, \" \", VLOOKUP($E433, 'Cenovnik 2'!$A$2:$D$411, 3, FALSE))","v":"m2"},{"$f":"IF($E433=0, \" \", VLOOKUP($E433, 'Cenovnik 2'!$A$2:$D$411, 4, FALSE))","v":60},180,10800,"Ul","04","ДА","кп.бр.6176",null,null,null,{"$f":"IF($C433=0, \" \", VLOOKUP($C433, DrzavniPuteviRed, 2, FALSE))","v":{"$error":"#NAME?"}},422,"422",{"$f":"IF(VLOOKUP($E433,[0]!ProveraPDV,2,FALSE)=TRUE,$J433,)","v":{"$error":"#N/A"}},{"$f":"IF(VLOOKUP($E433,liste!$A$31:$B$818,2,FALSE)=TRUE,#REF!,)","v":{"$error":"#N/A"}},{"$error":"#NAME?"},{"$f":"INDEX('Cenovnik 2'!$G$2:$G$411,MATCH('Plan unos i pregled'!$E433,Pozicije,0))","v":"nebitno"}]
["2025.","АВГУСТ","Улице","Гаџин Хан - Некатегорисан пут","4.7",{"$f":"IF($E434=0, \" \", VLOOKUP($E434, 'Cenovnik 2'!$A$2:$D$411, 2, FALSE))","v":"Кошење траве са банкина самоходном моторном косачицом"},{"$f":"IF($E434=0, \" \", VLOOKUP($E434, 'Cenovnik 2'!$A$2:$D$411, 3, FALSE))","v":"m2"},{"$f":"IF($E434=0, \" \", VLOOKUP($E434, 'Cenovnik 2'!$A$2:$D$411, 4, FALSE))","v":3.99},1380,5506.2000000000007,"Ul","04","ДА","кп.бр.6175",null,null,null,{"$f":"IF($C434=0, \" \", VLOOKUP($C434, DrzavniPuteviRed, 2, FALSE))","v":{"$error":"#NAME?"}},47,"47",{"$f":"IF(VLOOKUP($E434,[0]!ProveraPDV,2,FALSE)=TRUE,$J434,)","v":{"$error":"#N/A"}},{"$f":"IF(VLOOKUP($E434,liste!$A$31:$B$818,2,FALSE)=TRUE,#REF!,)","v":{"$error":"#N/A"}},{"$error":"#NAME?"},{"$f":"INDEX('Cenovnik 2'!$G$2:$G$411,MATCH('Plan unos i pregled'!$E434,Pozicije,0))","v":"nebitno"}]
["2025.","АВГУСТ","Улице","Гаџин Хан - Некатегорисан пут","4.22",{"$f":"IF($E435=0, \" \", VLOOKUP($E435, 'Cenovnik 2'!$A$2:$D$411, 2, FALSE))","v":"Сечење густог шибља преко 50 ком на m²"},{"$f":"IF($E435=0, \" \", VLOOKUP($E435, 'Cenovnik 2'!$A$2:$D$411, 3, FALSE))","v":"m2"},{"$f":"IF($E435=0, \" \", VLOOKUP($E435, 'Cenovnik 2'!$A$2:$D$411, 4, FALSE))","v":60},270,16200,"Ul","04","ДА","кп.бр.6175",null,null,null,{"$f":"IF($C435=0, \" \", VLOOKUP($C435, DrzavniPuteviRed, 2, FALSE))","v":{"$error":"#NAME?"}},422,"422",{"$f":"IF(VLOOKUP($E435,[0]!ProveraPDV,2,FALSE)=TRUE,$J435,)","v":{"$error":"#N/A"}},{"$f":"IF(VLOOKUP($E435,liste!$A$31:$B$818,2,FALSE)=TRUE,#REF!,)","v":{"$error":"#N/A"}},{"$error":"#NAME?"},{"$f":"INDEX('Cenovnik 2'!$G$2:$G$411,MATCH('Plan unos i pregled'!$E435,Pozicije,0))","v":"nebitno"}]
["2025.","АВГУСТ","Улице","Марина Кутина - Некатегорисан пут","4.7",{"$f":"IF($E436=0, \" \", VLOOKUP($E436, 'Cenovnik 2'!$A$2:$D$411, 2, FALSE))","v":"Кошење траве са банкина самоходном моторном косачицом"},{"$f":"IF($E436=0, \" \", VLOOKUP($E436, 'Cenovnik 2'!$A$2:$D$411, 3, FALSE))","v":"m2"},{"$f":"IF($E436=0, \" \", VLOOKUP($E436, 'Cenovnik 2'!$A$2:$D$411, 4, FALSE))","v":3.99},820,3271.8,"Ul","04","ДА","кп.бр.1543",null,null,null,{"$f":"IF($C436=0, \" \", VLOOKUP($C436, DrzavniPuteviRed, 2, FALSE))","v":{"$error":"#NAME?"}},47,"47",{"$f":"IF(VLOOKUP($E436,[0]!ProveraPDV,2,FALSE)=TRUE,$J436,)","v":{"$error":"#N/A"}},{"$f":"IF(VLOOKUP($E436,liste!$A$31:$B$818,2,FALSE)=TRUE,#REF!,)","v":{"$error":"#N/A"}},{"$error":"#NAME?"},{"$f":"INDEX('Cenovnik 2'!$G$2:$G$411,MATCH('Plan unos i pregled'!$E436,Pozicije,0))","v":"nebitno"}]
["2025.","АВГУСТ","Улице","Марина Кутина - Некатегорисан пут","4.22",{"$f":"IF($E437=0, \" \", VLOOKUP($E437, 'Cenovnik 2'!$A$2:$D$411, 2, FALSE))","v":"Сечење густог шибља преко 50 ком на m²"},{"$f":"IF($E437=0, \" \", VLOOKUP($E437, 'Cenovnik 2'!$A$2:$D$411, 3, FALSE))","v":"m2"},{"$f":"IF($E437=0, \" \", VLOOKUP($E437, 'Cenovnik 2'!$A$2:$D$411, 4, FALSE))","v":60},160,9600,"Ul","04","ДА","кп.бр.1543",null,null,null,{"$f":"IF($C437=0, \" \", VLOOKUP($C437, DrzavniPuteviRed, 2, FALSE))","v":{"$error":"#NAME?"}},422,"422",{"$f":"IF(VLOOKUP($E437,[0]!ProveraPDV,2,FALSE)=TRUE,$J437,)","v":{"$error":"#N/A"}},{"$f":"IF(VLOOKUP($E437,liste!$A$31:$B$818,2,FALSE)=TRUE,#REF!,)","v":{"$error":"#N/A"}},{"$error":"#NAME?"},{"$f":"INDEX('Cenovnik 2'!$G$2:$G$411,MATCH('Plan unos i pregled'!$E437,Pozicije,0))","v":"nebitno"}]
["2025.","АВГУСТ","Улице","Марина Кутина - Некатегорисан пут","4.7",{"$f":"IF($E438=0, \" \", VLOOKUP($E438, 'Cenovnik 2'!$A$2:$D$411, 2, FALSE))","v":"Кошење траве са банкина самоходном моторном косачицом"},{"$f":"IF($E438=0, \" \", VLOOKUP($E438, 'Cenovnik 2'!$A$2:$D$411, 3, FALSE))","v":"m2"},{"$f":"IF($E438=0, \" \", VLOOKUP($E438, 'Cenovnik 2'!$A$2:$D$411, 4, FALSE))","v":3.99},370,1476.3000000000002,"Ul","04","ДА","кп.бр.1474",null,null,null,{"$f":"IF($C438=0, \" \", VLOOKUP($C438, DrzavniPuteviRed, 2, FALSE))","v":{"$error":"#NAME?"}},47,"47",{"$f":"IF(VLOOKUP($E438,[0]!ProveraPDV,2,FALSE)=TRUE,$J438,)","v":{"$error":"#N/A"}},{"$f":"IF(VLOOKUP($E438,liste!$A$31:$B$818,2,FALSE)=TRUE,#REF!,)","v":{"$error":"#N/A"}},{"$error":"#NAME?"},{"$f":"INDEX('Cenovnik 2'!$G$2:$G$411,MATCH('Plan unos i pregled'!$E438,Pozicije,0))","v":"nebitno"}]
["2025.","АВГУСТ","Улице","Марина Кутина - Некатегорисан пут","4.22",{"$f":"IF($E439=0, \" \", VLOOKUP($E439, 'Cenovnik 2'!$A$2:$D$411, 2, FALSE))","v":"Сечење густог шибља преко 50 ком на m²"},{"$f":"IF($E439=0, \" \", VLOOKUP($E439, 'Cenovnik 2'!$A$2:$D$411, 3, FALSE))","v":"m2"},{"$f":"IF($E439=0, \" \", VLOOKUP($E439, 'Cenovnik 2'!$A$2:$D$411, 4, FALSE))","v":60},60,3600,"Ul","04","ДА","кп.бр.1474",null,null,null,{"$f":"IF($C439=0, \" \", VLOOKUP($C439, DrzavniPuteviRed, 2, FALSE))","v":{"$error":"#NAME?"}},422,"422",{"$f":"IF(VLOOKUP($E439,[0]!ProveraPDV,2,FALSE)=TRUE,$J439,)","v":{"$error":"#N/A"}},{"$f":"IF(VLOOKUP($E439,liste!$A$31:$B$818,2,FALSE)=TRUE,#REF!,)","v":{"$error":"#N/A"}},{"$error":"#NAME?"},{"$f":"INDEX('Cenovnik 2'!$G$2:$G$411,MATCH('Plan unos i pregled'!$E439,Pozicije,0))","v":"nebitno"}]
["2025.","АВГУСТ","Улице","Марина Кутина - Некатегорисан пут","4.7",{"$f":"IF($E440=0, \" \", VLOOKUP($E440, 'Cenovnik 2'!$A$2:$D$411, 2, FALSE))","v":"Кошење траве са банкина самоходном моторном косачицом"},{"$f":"IF($E440=0, \" \", VLOOKUP($E440, 'Cenovnik 2'!$A$2:$D$411, 3, FALSE))","v":"m2"},{"$f":"IF($E440=0, \" \", VLOOKUP($E440, 'Cenovnik 2'!$A$2:$D$411, 4, FALSE))","v":3.99},350,1396.5,"Ul","04","ДА","кп.бр.4743",null,null,null,{"$f":"IF($C440=0, \" \", VLOOKUP($C440, DrzavniPuteviRed, 2, FALSE))","v":{"$error":"#NAME?"}},{"$f":"IF($E440=0, \" \", VLOOKUP($E440, SifrePozicijaBezTacke, 2, FALSE))","v":47},"47",{"$f":"IF(VLOOKUP($E440,[0]!ProveraPDV,2,FALSE)=TRUE,$J440,)","v":{"$error":"#N/A"}},{"$f":"IF(VLOOKUP($E440,liste!$A$31:$B$818,2,FALSE)=TRUE,#REF!,)","v":{"$error":"#N/A"}},{"$error":"#NAME?"},{"$f":"INDEX('Cenovnik 2'!$G$2:$G$411,MATCH('Plan unos i pregled'!$E440,Pozicije,0))","v":"nebitno"}]
["2025.","АВГУСТ","Улице","Марина Кутина - Некатегорисан пут","4.22",{"$f":"IF($E441=0, \" \", VLOOKUP($E441, 'Cenovnik 2'!$A$2:$D$411, 2, FALSE))","v":"Сечење густог шибља преко 50 ком на m²"},{"$f":"IF($E441=0, \" \", VLOOKUP($E441, 'Cenovnik 2'!$A$2:$D$411, 3, FALSE))","v":"m2"},{"$f":"IF($E441=0, \" \", VLOOKUP($E441, 'Cenovnik 2'!$A$2:$D$411, 4, FALSE))","v":60},70,{"$f":"IF(ISNUMBER($H441), $H441*$I441, \"-\")","v":4200},"Ul",{"$f":"TEXT(LEFT($E441,FIND(\".\",$E441&\".\")-1), \"00\")","v":"04"},"ДА","кп.бр.4743",null,null,null,{"$f":"IF($C441=0, \" \", VLOOKUP($C441, DrzavniPuteviRed, 2, FALSE))","v":{"$error":"#NAME?"}},422,{"$f":"LEFT($S441, 3)","v":"422"},{"$f":"IF(VLOOKUP($E441,[0]!ProveraPDV,2,FALSE)=TRUE,$J441,)","v":{"$error":"#N/A"}},{"$f":"IF(VLOOKUP($E441,liste!$A$31:$B$818,2,FALSE)=TRUE,#REF!,)","v":{"$error":"#N/A"}},{"$f":"R441&\"-\"&C441","v":{"$error":"#NAME?"}},{"$f":"INDEX('Cenovnik 2'!$G$2:$G$411,MATCH('Plan unos i pregled'!$E441,Pozicije,0))","v":"nebitno"}]
["2025.","АВГУСТ","Улице","Марина Кутина - Вељка Миљковића","4.7",{"$f":"IF($E442=0, \" \", VLOOKUP($E442, 'Cenovnik 2'!$A$2:$D$411, 2, FALSE))","v":"Кошење траве са банкина самоходном моторном косачицом"},{"$f":"IF($E442=0, \" \", VLOOKUP($E442, 'Cenovnik 2'!$A$2:$D$411, 3, FALSE))","v":"m2"},{"$f":"IF($E442=0, \" \", VLOOKUP($E442, 'Cenovnik 2'!$A$2:$D$411, 4, FALSE))","v":3.99},1360,5426.4000000000005,"Ul","04","ДА",null,null,null,null,{"$f":"IF($C442=0, \" \", VLOOKUP($C442, DrzavniPuteviRed, 2, FALSE))","v":{"$error":"#NAME?"}},47,"47",{"$f":"IF(VLOOKUP($E442,[0]!ProveraPDV,2,FALSE)=TRUE,$J442,)","v":{"$error":"#N/A"}},{"$f":"IF(VLOOKUP($E442,liste!$A$31:$B$818,2,FALSE)=TRUE,#REF!,)","v":{"$error":"#N/A"}},{"$error":"#NAME?"},{"$f":"INDEX('Cenovnik 2'!$G$2:$G$411,MATCH('Plan unos i pregled'!$E442,Pozicije,0))","v":"nebitno"}]
["2025.","АВГУСТ","Улице","Марина Кутина - Вељка Миљковића","4.22",{"$f":"IF($E443=0, \" \", VLOOKUP($E443, 'Cenovnik 2'!$A$2:$D$411, 2, FALSE))","v":"Сечење густог шибља преко 50 ком на m²"},{"$f":"IF($E443=0, \" \", VLOOKUP($E443, 'Cenovnik 2'!$A$2:$D$411, 3, FALSE))","v":"m2"},{"$f":"IF($E443=0, \" \", VLOOKUP($E443, 'Cenovnik 2'!$A$2:$D$411, 4, FALSE))","v":60},270,16200,"Ul","04","ДА",null,null,null,null,{"$f":"IF($C443=0, \" \", VLOOKUP($C443, DrzavniPuteviRed, 2, FALSE))","v":{"$error":"#NAME?"}},422,"422",{"$f":"IF(VLOOKUP($E443,[0]!ProveraPDV,2,FALSE)=TRUE,$J443,)","v":{"$error":"#N/A"}},{"$f":"IF(VLOOKUP($E443,liste!$A$31:$B$818,2,FALSE)=TRUE,#REF!,)","v":{"$error":"#N/A"}},{"$error":"#NAME?"},{"$f":"INDEX('Cenovnik 2'!$G$2:$G$411,MATCH('Plan unos i pregled'!$E443,Pozicije,0))","v":"nebitno"}]
["2025.","АВГУСТ","Улице","Марина Кутина - Илије Стаменковића","4.7",{"$f":"IF($E444=0, \" \", VLOOKUP($E444, 'Cenovnik 2'!$A$2:$D$411, 2, FALSE))","v":"Кошење траве са банкина самоходном моторном косачицом"},{"$f":"IF($E444=0, \" \", VLOOKUP($E444, 'Cenovnik 2'!$A$2:$D$411, 3, FALSE))","v":"m2"},{"$f":"IF($E444=0, \" \", VLOOKUP($E444, 'Cenovnik 2'!$A$2:$D$411, 4, FALSE))","v":3.99},860,3431.4,"Ul","04","ДА",null,null,null,null,{"$f":"IF($C444=0, \" \", VLOOKUP($C444, DrzavniPuteviRed, 2, FALSE))","v":{"$error":"#NAME?"}},47,"47",{"$f":"IF(VLOOKUP($E444,[0]!ProveraPDV,2,FALSE)=TRUE,$J444,)","v":{"$error":"#N/A"}},{"$f":"IF(VLOOKUP($E444,liste!$A$31:$B$818,2,FALSE)=TRUE,#REF!,)","v":{"$error":"#N/A"}},{"$error":"#NAME?"},{"$f":"INDEX('Cenovnik 2'!$G$2:$G$411,MATCH('Plan unos i pregled'!$E444,Pozicije,0))","v":"nebitno"}]
["2025.","АВГУСТ","Улице","Марина Кутина - Илије Стаменковића","4.22",{"$f":"IF($E445=0, \" \", VLOOKUP($E445, 'Cenovnik 2'!$A$2:$D$411, 2, FALSE))","v":"Сечење густог шибља преко 50 ком на m²"},{"$f":"IF($E445=0, \" \", VLOOKUP($E445, 'Cenovnik 2'!$A$2:$D$411, 3, FALSE))","v":"m2"},{"$f":"IF($E445=0, \" \", VLOOKUP($E445, 'Cenovnik 2'!$A$2:$D$411, 4, FALSE))","v":60},170,10200,"Ul","04","ДА",null,null,null,null,{"$f":"IF($C445=0, \" \", VLOOKUP($C445, DrzavniPuteviRed, 2, FALSE))","v":{"$error":"#NAME?"}},422,"422",{"$f":"IF(VLOOKUP($E445,[0]!ProveraPDV,2,FALSE)=TRUE,$J445,)","v":{"$error":"#N/A"}},{"$f":"IF(VLOOKUP($E445,liste!$A$31:$B$818,2,FALSE)=TRUE,#REF!,)","v":{"$error":"#N/A"}},{"$error":"#NAME?"},{"$f":"INDEX('Cenovnik 2'!$G$2:$G$411,MATCH('Plan unos i pregled'!$E445,Pozicije,0))","v":"nebitno"}]
["2025.","АВГУСТ","Улице","Марина Кутина - Благоја Мирковића","4.7",{"$f":"IF($E446=0, \" \", VLOOKUP($E446, 'Cenovnik 2'!$A$2:$D$411, 2, FALSE))","v":"Кошење траве са банкина самоходном моторном косачицом"},{"$f":"IF($E446=0, \" \", VLOOKUP($E446, 'Cenovnik 2'!$A$2:$D$411, 3, FALSE))","v":"m2"},{"$f":"IF($E446=0, \" \", VLOOKUP($E446, 'Cenovnik 2'!$A$2:$D$411, 4, FALSE))","v":3.99},540,2154.6,"Ul","04","ДА",null,null,null,null,{"$f":"IF($C446=0, \" \", VLOOKUP($C446, DrzavniPuteviRed, 2, FALSE))","v":{"$error":"#NAME?"}},47,"47",{"$f":"IF(VLOOKUP($E446,[0]!ProveraPDV,2,FALSE)=TRUE,$J446,)","v":{"$error":"#N/A"}},{"$f":"IF(VLOOKUP($E446,liste!$A$31:$B$818,2,FALSE)=TRUE,#REF!,)","v":{"$error":"#N/A"}},{"$error":"#NAME?"},{"$f":"INDEX('Cenovnik 2'!$G$2:$G$411,MATCH('Plan unos i pregled'!$E446,Pozicije,0))","v":"nebitno"}]
["2025.","АВГУСТ","Улице","Марина Кутина - Благоја Мирковића","4.22",{"$f":"IF($E447=0, \" \", VLOOKUP($E447, 'Cenovnik 2'!$A$2:$D$411, 2, FALSE))","v":"Сечење густог шибља преко 50 ком на m²"},{"$f":"IF($E447=0, \" \", VLOOKUP($E447, 'Cenovnik 2'!$A$2:$D$411, 3, FALSE))","v":"m2"},{"$f":"IF($E447=0, \" \", VLOOKUP($E447, 'Cenovnik 2'!$A$2:$D$411, 4, FALSE))","v":60},100,6000,"Ul","04","ДА",null,null,null,null,{"$f":"IF($C447=0, \" \", VLOOKUP($C447, DrzavniPuteviRed, 2, FALSE))","v":{"$error":"#NAME?"}},422,"422",{"$f":"IF(VLOOKUP($E447,[0]!ProveraPDV,2,FALSE)=TRUE,$J447,)","v":{"$error":"#N/A"}},{"$f":"IF(VLOOKUP($E447,liste!$A$31:$B$818,2,FALSE)=TRUE,#REF!,)","v":{"$error":"#N/A"}},{"$error":"#NAME?"},{"$f":"INDEX('Cenovnik 2'!$G$2:$G$411,MATCH('Plan unos i pregled'!$E447,Pozicije,0))","v":"nebitno"}]
["2025.","АВГУСТ","Улице","Марина Кутина - Јакова Станковића","4.7",{"$f":"IF($E448=0, \" \", VLOOKUP($E448, 'Cenovnik 2'!$A$2:$D$411, 2, FALSE))","v":"Кошење траве са банкина самоходном моторном косачицом"},{"$f":"IF($E448=0, \" \", VLOOKUP($E448, 'Cenovnik 2'!$A$2:$D$411, 3, FALSE))","v":"m2"},{"$f":"IF($E448=0, \" \", VLOOKUP($E448, 'Cenovnik 2'!$A$2:$D$411, 4, FALSE))","v":3.99},790,3152.1000000000004,"Ul","04","ДА","кп.бр.3036/1",null,null,null,{"$f":"IF($C448=0, \" \", VLOOKUP($C448, DrzavniPuteviRed, 2, FALSE))","v":{"$error":"#NAME?"}},47,"47",{"$f":"IF(VLOOKUP($E448,[0]!ProveraPDV,2,FALSE)=TRUE,$J448,)","v":{"$error":"#N/A"}},{"$f":"IF(VLOOKUP($E448,liste!$A$31:$B$818,2,FALSE)=TRUE,#REF!,)","v":{"$error":"#N/A"}},{"$error":"#NAME?"},{"$f":"INDEX('Cenovnik 2'!$G$2:$G$411,MATCH('Plan unos i pregled'!$E448,Pozicije,0))","v":"nebitno"}]
["2025.","АВГУСТ","Улице","Марина Кутина - Јакова Станковића","4.22",{"$f":"IF($E449=0, \" \", VLOOKUP($E449, 'Cenovnik 2'!$A$2:$D$411, 2, FALSE))","v":"Сечење густог шибља преко 50 ком на m²"},{"$f":"IF($E449=0, \" \", VLOOKUP($E449, 'Cenovnik 2'!$A$2:$D$411, 3, FALSE))","v":"m2"},{"$f":"IF($E449=0, \" \", VLOOKUP($E449, 'Cenovnik 2'!$A$2:$D$411, 4, FALSE))","v":60},150,9000,"Ul","04","ДА","кп.бр.3036/1",null,null,null,{"$f":"IF($C449=0, \" \", VLOOKUP($C449, DrzavniPuteviRed, 2, FALSE))","v":{"$error":"#NAME?"}},422,"422",{"$f":"IF(VLOOKUP($E449,[0]!ProveraPDV,2,FALSE)=TRUE,$J449,)","v":{"$error":"#N/A"}},{"$f":"IF(VLOOKUP($E449,liste!$A$31:$B$818,2,FALSE)=TRUE,#REF!,)","v":{"$error":"#N/A"}},{"$error":"#NAME?"},{"$f":"INDEX('Cenovnik 2'!$G$2:$G$411,MATCH('Plan unos i pregled'!$E449,Pozicije,0))","v":"nebitno"}]
["2025.","АВГУСТ","Улице","Марина Кутина - Јакова Станковића","4.7",{"$f":"IF($E450=0, \" \", VLOOKUP($E450, 'Cenovnik 2'!$A$2:$D$411, 2, FALSE))","v":"Кошење траве са банкина самоходном моторном косачицом"},{"$f":"IF($E450=0, \" \", VLOOKUP($E450, 'Cenovnik 2'!$A$2:$D$411, 3, FALSE))","v":"m2"},{"$f":"IF($E450=0, \" \", VLOOKUP($E450, 'Cenovnik 2'!$A$2:$D$411, 4, FALSE))","v":3.99},290,1157.1000000000001,"Ul","04","ДА","кп.бр.3131/1",null,null,null,{"$f":"IF($C450=0, \" \", VLOOKUP($C450, DrzavniPuteviRed, 2, FALSE))","v":{"$error":"#NAME?"}},47,"47",{"$f":"IF(VLOOKUP($E450,[0]!ProveraPDV,2,FALSE)=TRUE,$J450,)","v":{"$error":"#N/A"}},{"$f":"IF(VLOOKUP($E450,liste!$A$31:$B$818,2,FALSE)=TRUE,#REF!,)","v":{"$error":"#N/A"}},{"$error":"#NAME?"},{"$f":"INDEX('Cenovnik 2'!$G$2:$G$411,MATCH('Plan unos i pregled'!$E450,Pozicije,0))","v":"nebitno"}]
["2025.","АВГУСТ","Улице","Марина Кутина - Јакова Станковића","4.22",{"$f":"IF($E451=0, \" \", VLOOKUP($E451, 'Cenovnik 2'!$A$2:$D$411, 2, FALSE))","v":"Сечење густог шибља преко 50 ком на m²"},{"$f":"IF($E451=0, \" \", VLOOKUP($E451, 'Cenovnik 2'!$A$2:$D$411, 3, FALSE))","v":"m2"},{"$f":"IF($E451=0, \" \", VLOOKUP($E451, 'Cenovnik 2'!$A$2:$D$411, 4, FALSE))","v":60},60,3600,"Ul","04","ДА","кп.бр.3131/1",null,null,null,{"$f":"IF($C451=0, \" \", VLOOKUP($C451, DrzavniPuteviRed, 2, FALSE))","v":{"$error":"#NAME?"}},422,"422",{"$f":"IF(VLOOKUP($E451,[0]!ProveraPDV,2,FALSE)=TRUE,$J451,)","v":{"$error":"#N/A"}},{"$f":"IF(VLOOKUP($E451,liste!$A$31:$B$818,2,FALSE)=TRUE,#REF!,)","v":{"$error":"#N/A"}},{"$error":"#NAME?"},{"$f":"INDEX('Cenovnik 2'!$G$2:$G$411,MATCH('Plan unos i pregled'!$E451,Pozicije,0))","v":"nebitno"}]
["2025.","АВГУСТ","Улице","Марина Кутина - Јакова Станковића","4.7",{"$f":"IF($E452=0, \" \", VLOOKUP($E452, 'Cenovnik 2'!$A$2:$D$411, 2, FALSE))","v":"Кошење траве са банкина самоходном моторном косачицом"},{"$f":"IF($E452=0, \" \", VLOOKUP($E452, 'Cenovnik 2'!$A$2:$D$411, 3, FALSE))","v":"m2"},{"$f":"IF($E452=0, \" \", VLOOKUP($E452, 'Cenovnik 2'!$A$2:$D$411, 4, FALSE))","v":3.99},280,1117.2,"Ul","04","ДА","кп.бр.3038/1",null,null,null,{"$f":"IF($C452=0, \" \", VLOOKUP($C452, DrzavniPuteviRed, 2, FALSE))","v":{"$error":"#NAME?"}},47,"47",{"$f":"IF(VLOOKUP($E452,[0]!ProveraPDV,2,FALSE)=TRUE,$J452,)","v":{"$error":"#N/A"}},{"$f":"IF(VLOOKUP($E452,liste!$A$31:$B$818,2,FALSE)=TRUE,#REF!,)","v":{"$error":"#N/A"}},{"$error":"#NAME?"},{"$f":"INDEX('Cenovnik 2'!$G$2:$G$411,MATCH('Plan unos i pregled'!$E452,Pozicije,0))","v":"nebitno"}]
["2025.","АВГУСТ","Улице","Марина Кутина - Јакова Станковића","4.22",{"$f":"IF($E453=0, \" \", VLOOKUP($E453, 'Cenovnik 2'!$A$2:$D$411, 2, FALSE))","v":"Сечење густог шибља преко 50 ком на m²"},{"$f":"IF($E453=0, \" \", VLOOKUP($E453, 'Cenovnik 2'!$A$2:$D$411, 3, FALSE))","v":"m2"},{"$f":"IF($E453=0, \" \", VLOOKUP($E453, 'Cenovnik 2'!$A$2:$D$411, 4, FALSE))","v":60},50,3000,"Ul","04","ДА","кп.бр.3038/1",null,null,null,{"$f":"IF($C453=0, \" \", VLOOKUP($C453, DrzavniPuteviRed, 2, FALSE))","v":{"$error":"#NAME?"}},422,"422",{"$f":"IF(VLOOKUP($E453,[0]!ProveraPDV,2,FALSE)=TRUE,$J453,)","v":{"$error":"#N/A"}},{"$f":"IF(VLOOKUP($E453,liste!$A$31:$B$818,2,FALSE)=TRUE,#REF!,)","v":{"$error":"#N/A"}},{"$error":"#NAME?"},{"$f":"INDEX('Cenovnik 2'!$G$2:$G$411,MATCH('Plan unos i pregled'!$E453,Pozicije,0))","v":"nebitno"}]
["2025.","АВГУСТ","Улице","Марина Кутина - Јакова Станковића","4.7",{"$f":"IF($E454=0, \" \", VLOOKUP($E454, 'Cenovnik 2'!$A$2:$D$411, 2, FALSE))","v":"Кошење траве са банкина самоходном моторном косачицом"},{"$f":"IF($E454=0, \" \", VLOOKUP($E454, 'Cenovnik 2'!$A$2:$D$411, 3, FALSE))","v":"m2"},{"$f":"IF($E454=0, \" \", VLOOKUP($E454, 'Cenovnik 2'!$A$2:$D$411, 4, FALSE))","v":3.99},470,1875.3000000000002,"Ul","04","ДА","кп.бр.4749",null,null,null,{"$f":"IF($C454=0, \" \", VLOOKUP($C454, DrzavniPuteviRed, 2, FALSE))","v":{"$error":"#NAME?"}},47,"47",{"$f":"IF(VLOOKUP($E454,[0]!ProveraPDV,2,FALSE)=TRUE,$J454,)","v":{"$error":"#N/A"}},{"$f":"IF(VLOOKUP($E454,liste!$A$31:$B$818,2,FALSE)=TRUE,#REF!,)","v":{"$error":"#N/A"}},{"$error":"#NAME?"},{"$f":"INDEX('Cenovnik 2'!$G$2:$G$411,MATCH('Plan unos i pregled'!$E454,Pozicije,0))","v":"nebitno"}]
["2025.","АВГУСТ","Улице","Марина Кутина - Јакова Станковића","4.22",{"$f":"IF($E455=0, \" \", VLOOKUP($E455, 'Cenovnik 2'!$A$2:$D$411, 2, FALSE))","v":"Сечење густог шибља преко 50 ком на m²"},{"$f":"IF($E455=0, \" \", VLOOKUP($E455, 'Cenovnik 2'!$A$2:$D$411, 3, FALSE))","v":"m2"},{"$f":"IF($E455=0, \" \", VLOOKUP($E455, 'Cenovnik 2'!$A$2:$D$411, 4, FALSE))","v":60},80,4800,"Ul","04","ДА","кп.бр.4749",null,null,null,{"$f":"IF($C455=0, \" \", VLOOKUP($C455, DrzavniPuteviRed, 2, FALSE))","v":{"$error":"#NAME?"}},422,"422",{"$f":"IF(VLOOKUP($E455,[0]!ProveraPDV,2,FALSE)=TRUE,$J455,)","v":{"$error":"#N/A"}},{"$f":"IF(VLOOKUP($E455,liste!$A$31:$B$818,2,FALSE)=TRUE,#REF!,)","v":{"$error":"#N/A"}},{"$error":"#NAME?"},{"$f":"INDEX('Cenovnik 2'!$G$2:$G$411,MATCH('Plan unos i pregled'!$E455,Pozicije,0))","v":"nebitno"}]
["2025.","АВГУСТ","Улице","Марина Кутина - Некатегорисан пут","4.7",{"$f":"IF($E456=0, \" \", VLOOKUP($E456, 'Cenovnik 2'!$A$2:$D$411, 2, FALSE))","v":"Кошење траве са банкина самоходном моторном косачицом"},{"$f":"IF($E456=0, \" \", VLOOKUP($E456, 'Cenovnik 2'!$A$2:$D$411, 3, FALSE))","v":"m2"},{"$f":"IF($E456=0, \" \", VLOOKUP($E456, 'Cenovnik 2'!$A$2:$D$411, 4, FALSE))","v":3.99},220,877.80000000000007,"Ul","04","ДА","кп.бр.3175",null,null,null,{"$f":"IF($C456=0, \" \", VLOOKUP($C456, DrzavniPuteviRed, 2, FALSE))","v":{"$error":"#NAME?"}},47,"47",{"$f":"IF(VLOOKUP($E456,[0]!ProveraPDV,2,FALSE)=TRUE,$J456,)","v":{"$error":"#N/A"}},{"$f":"IF(VLOOKUP($E456,liste!$A$31:$B$818,2,FALSE)=TRUE,#REF!,)","v":{"$error":"#N/A"}},{"$error":"#NAME?"},{"$f":"INDEX('Cenovnik 2'!$G$2:$G$411,MATCH('Plan unos i pregled'!$E456,Pozicije,0))","v":"nebitno"}]
["2025.","АВГУСТ","Улице","Марина Кутина - Некатегорисан пут","4.22",{"$f":"IF($E457=0, \" \", VLOOKUP($E457, 'Cenovnik 2'!$A$2:$D$411, 2, FALSE))","v":"Сечење густог шибља преко 50 ком на m²"},{"$f":"IF($E457=0, \" \", VLOOKUP($E457, 'Cenovnik 2'!$A$2:$D$411, 3, FALSE))","v":"m2"},{"$f":"IF($E457=0, \" \", VLOOKUP($E457, 'Cenovnik 2'!$A$2:$D$411, 4, FALSE))","v":60},40,2400,"Ul","04","ДА","кп.бр.3175",null,null,null,{"$f":"IF($C457=0, \" \", VLOOKUP($C457, DrzavniPuteviRed, 2, FALSE))","v":{"$error":"#NAME?"}},422,"422",{"$f":"IF(VLOOKUP($E457,[0]!ProveraPDV,2,FALSE)=TRUE,$J457,)","v":{"$error":"#N/A"}},{"$f":"IF(VLOOKUP($E457,liste!$A$31:$B$818,2,FALSE)=TRUE,#REF!,)","v":{"$error":"#N/A"}},{"$error":"#NAME?"},{"$f":"INDEX('Cenovnik 2'!$G$2:$G$411,MATCH('Plan unos i pregled'!$E457,Pozicije,0))","v":"nebitno"}]
["2025.","АВГУСТ","Општински путеви","ОП 136-1 - Гаџин Хан - Доњи Душник","4.7",{"$f":"IF($E458=0, \" \", VLOOKUP($E458, 'Cenovnik 2'!$A$2:$D$411, 2, FALSE))","v":"Кошење траве са банкина самоходном моторном косачицом"},{"$f":"IF($E458=0, \" \", VLOOKUP($E458, 'Cenovnik 2'!$A$2:$D$411, 3, FALSE))","v":"m2"},{"$f":"IF($E458=0, \" \", VLOOKUP($E458, 'Cenovnik 2'!$A$2:$D$411, 4, FALSE))","v":3.99},22600,90174,"OP","04","ДА",null,null,null,null,{"$f":"IF($C458=0, \" \", VLOOKUP($C458, DrzavniPuteviRed, 2, FALSE))","v":{"$error":"#NAME?"}},47,"47",{"$f":"IF(VLOOKUP($E458,[0]!ProveraPDV,2,FALSE)=TRUE,$J458,)","v":{"$error":"#N/A"}},{"$f":"IF(VLOOKUP($E458,liste!$A$31:$B$818,2,FALSE)=TRUE,#REF!,)","v":{"$error":"#N/A"}},{"$error":"#NAME?"},{"$f":"INDEX('Cenovnik 2'!$G$2:$G$411,MATCH('Plan unos i pregled'!$E458,Pozicije,0))","v":"nebitno"}]
["2025.","АВГУСТ","Општински путеви","ОП 136-19 - Тасковићи - Гркиња","4.7",{"$f":"IF($E459=0, \" \", VLOOKUP($E459, 'Cenovnik 2'!$A$2:$D$411, 2, FALSE))","v":"Кошење траве са банкина самоходном моторном косачицом"},{"$f":"IF($E459=0, \" \", VLOOKUP($E459, 'Cenovnik 2'!$A$2:$D$411, 3, FALSE))","v":"m2"},{"$f":"IF($E459=0, \" \", VLOOKUP($E459, 'Cenovnik 2'!$A$2:$D$411, 4, FALSE))","v":3.99},10800,43092,"OP","04","ДА",null,null,null,null,{"$f":"IF($C459=0, \" \", VLOOKUP($C459, DrzavniPuteviRed, 2, FALSE))","v":{"$error":"#NAME?"}},47,"47",{"$f":"IF(VLOOKUP($E459,[0]!ProveraPDV,2,FALSE)=TRUE,$J459,)","v":{"$error":"#N/A"}},{"$f":"IF(VLOOKUP($E459,liste!$A$31:$B$818,2,FALSE)=TRUE,#REF!,)","v":{"$error":"#N/A"}},{"$error":"#NAME?"},{"$f":"INDEX('Cenovnik 2'!$G$2:$G$411,MATCH('Plan unos i pregled'!$E459,Pozicije,0))","v":"nebitno"}]
["2025.","АВГУСТ","Општински путеви","ОП 136-4 - Доњи Душник - Гаре","4.7",{"$f":"IF($E460=0, \" \", VLOOKUP($E460, 'Cenovnik 2'!$A$2:$D$411, 2, FALSE))","v":"Кошење траве са банкина самоходном моторном косачицом"},{"$f":"IF($E460=0, \" \", VLOOKUP($E460, 'Cenovnik 2'!$A$2:$D$411, 3, FALSE))","v":"m2"},{"$f":"IF($E460=0, \" \", VLOOKUP($E460, 'Cenovnik 2'!$A$2:$D$411, 4, FALSE))","v":3.99},10000,39900,"OP","04","ДА",null,null,null,null,{"$f":"IF($C460=0, \" \", VLOOKUP($C460, DrzavniPuteviRed, 2, FALSE))","v":{"$error":"#NAME?"}},47,"47",{"$f":"IF(VLOOKUP($E460,[0]!ProveraPDV,2,FALSE)=TRUE,$J460,)","v":{"$error":"#N/A"}},{"$f":"IF(VLOOKUP($E460,liste!$A$31:$B$818,2,FALSE)=TRUE,#REF!,)","v":{"$error":"#N/A"}},{"$error":"#NAME?"},{"$f":"INDEX('Cenovnik 2'!$G$2:$G$411,MATCH('Plan unos i pregled'!$E460,Pozicije,0))","v":"nebitno"}]
["2025.","АВГУСТ","Општински путеви","ОП 136-28 - Лички Ханови - Ступница","4.7",{"$f":"IF($E461=0, \" \", VLOOKUP($E461, 'Cenovnik 2'!$A$2:$D$411, 2, FALSE))","v":"Кошење траве са банкина самоходном моторном косачицом"},{"$f":"IF($E461=0, \" \", VLOOKUP($E461, 'Cenovnik 2'!$A$2:$D$411, 3, FALSE))","v":"m2"},{"$f":"IF($E461=0, \" \", VLOOKUP($E461, 'Cenovnik 2'!$A$2:$D$411, 4, FALSE))","v":3.99},4050,16159.5,"OP","04","ДА",null,null,null,null,{"$f":"IF($C461=0, \" \", VLOOKUP($C461, DrzavniPuteviRed, 2, FALSE))","v":{"$error":"#NAME?"}},47,"47",{"$f":"IF(VLOOKUP($E461,[0]!ProveraPDV,2,FALSE)=TRUE,$J461,)","v":{"$error":"#N/A"}},{"$f":"IF(VLOOKUP($E461,liste!$A$31:$B$818,2,FALSE)=TRUE,#REF!,)","v":{"$error":"#N/A"}},{"$error":"#NAME?"},{"$f":"INDEX('Cenovnik 2'!$G$2:$G$411,MATCH('Plan unos i pregled'!$E461,Pozicije,0))","v":"nebitno"}]
["2025.","АВГУСТ","Општински путеви","ОП 136-9 - Држ.пут II А  бр. 224 - Горње Драговље (Воденица)","4.7",{"$f":"IF($E462=0, \" \", VLOOKUP($E462, 'Cenovnik 2'!$A$2:$D$411, 2, FALSE))","v":"Кошење траве са банкина самоходном моторном косачицом"},{"$f":"IF($E462=0, \" \", VLOOKUP($E462, 'Cenovnik 2'!$A$2:$D$411, 3, FALSE))","v":"m2"},{"$f":"IF($E462=0, \" \", VLOOKUP($E462, 'Cenovnik 2'!$A$2:$D$411, 4, FALSE))","v":3.99},6050,24139.5,"OP","04","ДА",null,null,null,null,{"$f":"IF($C462=0, \" \", VLOOKUP($C462, DrzavniPuteviRed, 2, FALSE))","v":{"$error":"#NAME?"}},47,"47",{"$f":"IF(VLOOKUP($E462,[0]!ProveraPDV,2,FALSE)=TRUE,$J462,)","v":{"$error":"#N/A"}},{"$f":"IF(VLOOKUP($E462,liste!$A$31:$B$818,2,FALSE)=TRUE,#REF!,)","v":{"$error":"#N/A"}},{"$error":"#NAME?"},{"$f":"INDEX('Cenovnik 2'!$G$2:$G$411,MATCH('Plan unos i pregled'!$E462,Pozicije,0))","v":"nebitno"}]
["2025.","АВГУСТ","Општински путеви","ОП 136-25 - Горњи Барбеш - Црквиште","4.7",{"$f":"IF($E463=0, \" \", VLOOKUP($E463, 'Cenovnik 2'!$A$2:$D$411, 2, FALSE))","v":"Кошење траве са банкина самоходном моторном косачицом"},{"$f":"IF($E463=0, \" \", VLOOKUP($E463, 'Cenovnik 2'!$A$2:$D$411, 3, FALSE))","v":"m2"},{"$f":"IF($E463=0, \" \", VLOOKUP($E463, 'Cenovnik 2'!$A$2:$D$411, 4, FALSE))","v":3.99},13370,53346.3,"OP","04","ДА",null,null,null,null,{"$f":"IF($C463=0, \" \", VLOOKUP($C463, DrzavniPuteviRed, 2, FALSE))","v":{"$error":"#NAME?"}},47,"47",{"$f":"IF(VLOOKUP($E463,[0]!ProveraPDV,2,FALSE)=TRUE,$J463,)","v":{"$error":"#N/A"}},{"$f":"IF(VLOOKUP($E463,liste!$A$31:$B$818,2,FALSE)=TRUE,#REF!,)","v":{"$error":"#N/A"}},{"$error":"#NAME?"},{"$f":"INDEX('Cenovnik 2'!$G$2:$G$411,MATCH('Plan unos i pregled'!$E463,Pozicije,0))","v":"nebitno"}]
["2025.","АВГУСТ","Општински путеви","ОП 136-25 - Горњи Барбеш - Црквиште","4.22",{"$f":"IF($E464=0, \" \", VLOOKUP($E464, 'Cenovnik 2'!$A$2:$D$411, 2, FALSE))","v":"Сечење густог шибља преко 50 ком на m²"},{"$f":"IF($E464=0, \" \", VLOOKUP($E464, 'Cenovnik 2'!$A$2:$D$411, 3, FALSE))","v":"m2"},{"$f":"IF($E464=0, \" \", VLOOKUP($E464, 'Cenovnik 2'!$A$2:$D$411, 4, FALSE))","v":60},2670,160200,"OP","04","ДА",null,null,null,null,{"$f":"IF($C464=0, \" \", VLOOKUP($C464, DrzavniPuteviRed, 2, FALSE))","v":{"$error":"#NAME?"}},422,"422",{"$f":"IF(VLOOKUP($E464,[0]!ProveraPDV,2,FALSE)=TRUE,$J464,)","v":{"$error":"#N/A"}},{"$f":"IF(VLOOKUP($E464,liste!$A$31:$B$818,2,FALSE)=TRUE,#REF!,)","v":{"$error":"#N/A"}},{"$error":"#NAME?"},{"$f":"INDEX('Cenovnik 2'!$G$2:$G$411,MATCH('Plan unos i pregled'!$E464,Pozicije,0))","v":"nebitno"}]
["2025.","АВГУСТ","Општински путеви","ОП 136-16 - Држ.пут II А  бр. 224 - Гаре","4.7",{"$f":"IF($E465=0, \" \", VLOOKUP($E465, 'Cenovnik 2'!$A$2:$D$411, 2, FALSE))","v":"Кошење траве са банкина самоходном моторном косачицом"},{"$f":"IF($E465=0, \" \", VLOOKUP($E465, 'Cenovnik 2'!$A$2:$D$411, 3, FALSE))","v":"m2"},{"$f":"IF($E465=0, \" \", VLOOKUP($E465, 'Cenovnik 2'!$A$2:$D$411, 4, FALSE))","v":3.99},6460,25775.4,"OP","04","ДА",null,null,null,null,{"$f":"IF($C465=0, \" \", VLOOKUP($C465, DrzavniPuteviRed, 2, FALSE))","v":{"$error":"#NAME?"}},47,"47",{"$f":"IF(VLOOKUP($E465,[0]!ProveraPDV,2,FALSE)=TRUE,$J465,)","v":{"$error":"#N/A"}},{"$f":"IF(VLOOKUP($E465,liste!$A$31:$B$818,2,FALSE)=TRUE,#REF!,)","v":{"$error":"#N/A"}},{"$error":"#NAME?"},{"$f":"INDEX('Cenovnik 2'!$G$2:$G$411,MATCH('Plan unos i pregled'!$E465,Pozicije,0))","v":"nebitno"}]
["2025.","АВГУСТ","Општински путеви","ОП 136-16 - Држ.пут II А  бр. 224 - Гаре","4.22",{"$f":"IF($E466=0, \" \", VLOOKUP($E466, 'Cenovnik 2'!$A$2:$D$411, 2, FALSE))","v":"Сечење густог шибља преко 50 ком на m²"},{"$f":"IF($E466=0, \" \", VLOOKUP($E466, 'Cenovnik 2'!$A$2:$D$411, 3, FALSE))","v":"m2"},{"$f":"IF($E466=0, \" \", VLOOKUP($E466, 'Cenovnik 2'!$A$2:$D$411, 4, FALSE))","v":60},1290,77400,"OP","04","ДА",null,null,null,null,{"$f":"IF($C466=0, \" \", VLOOKUP($C466, DrzavniPuteviRed, 2, FALSE))","v":{"$error":"#NAME?"}},422,"422",{"$f":"IF(VLOOKUP($E466,[0]!ProveraPDV,2,FALSE)=TRUE,$J466,)","v":{"$error":"#N/A"}},{"$f":"IF(VLOOKUP($E466,liste!$A$31:$B$818,2,FALSE)=TRUE,#REF!,)","v":{"$error":"#N/A"}},{"$error":"#NAME?"},{"$f":"INDEX('Cenovnik 2'!$G$2:$G$411,MATCH('Plan unos i pregled'!$E466,Pozicije,0))","v":"nebitno"}]
["2025.","АВГУСТ","Општински путеви","ОП 136-39 - Велики Крчимир - Штрбовац","4.7",{"$f":"IF($E467=0, \" \", VLOOKUP($E467, 'Cenovnik 2'!$A$2:$D$411, 2, FALSE))","v":"Кошење траве са банкина самоходном моторном косачицом"},{"$f":"IF($E467=0, \" \", VLOOKUP($E467, 'Cenovnik 2'!$A$2:$D$411, 3, FALSE))","v":"m2"},{"$f":"IF($E467=0, \" \", VLOOKUP($E467, 'Cenovnik 2'!$A$2:$D$411, 4, FALSE))","v":3.99},6280,25057.200000000001,"OP","04","ДА",null,null,null,null,{"$f":"IF($C467=0, \" \", VLOOKUP($C467, DrzavniPuteviRed, 2, FALSE))","v":{"$error":"#NAME?"}},47,"47",{"$f":"IF(VLOOKUP($E467,[0]!ProveraPDV,2,FALSE)=TRUE,$J467,)","v":{"$error":"#N/A"}},{"$f":"IF(VLOOKUP($E467,liste!$A$31:$B$818,2,FALSE)=TRUE,#REF!,)","v":{"$error":"#N/A"}},{"$error":"#NAME?"},{"$f":"INDEX('Cenovnik 2'!$G$2:$G$411,MATCH('Plan unos i pregled'!$E467,Pozicije,0))","v":"nebitno"}]
["2025.","АВГУСТ","Општински путеви","ОП 136-21 - Држ.пут II А  бр. 225 - Виландрица","4.7",{"$f":"IF($E468=0, \" \", VLOOKUP($E468, 'Cenovnik 2'!$A$2:$D$411, 2, FALSE))","v":"Кошење траве са банкина самоходном моторном косачицом"},{"$f":"IF($E468=0, \" \", VLOOKUP($E468, 'Cenovnik 2'!$A$2:$D$411, 3, FALSE))","v":"m2"},{"$f":"IF($E468=0, \" \", VLOOKUP($E468, 'Cenovnik 2'!$A$2:$D$411, 4, FALSE))","v":3.99},2470,9855.3000000000011,"OP","04","ДА",null,null,null,null,{"$f":"IF($C468=0, \" \", VLOOKUP($C468, DrzavniPuteviRed, 2, FALSE))","v":{"$error":"#NAME?"}},47,"47",{"$f":"IF(VLOOKUP($E468,[0]!ProveraPDV,2,FALSE)=TRUE,$J468,)","v":{"$error":"#N/A"}},{"$f":"IF(VLOOKUP($E468,liste!$A$31:$B$818,2,FALSE)=TRUE,#REF!,)","v":{"$error":"#N/A"}},{"$error":"#NAME?"},{"$f":"INDEX('Cenovnik 2'!$G$2:$G$411,MATCH('Plan unos i pregled'!$E468,Pozicije,0))","v":"nebitno"}]
["2025.","АВГУСТ","Општински путеви","ОП 136-40 - Топоница - Грданица","4.7",{"$f":"IF($E469=0, \" \", VLOOKUP($E469, 'Cenovnik 2'!$A$2:$D$411, 2, FALSE))","v":"Кошење траве са банкина самоходном моторном косачицом"},{"$f":"IF($E469=0, \" \", VLOOKUP($E469, 'Cenovnik 2'!$A$2:$D$411, 3, FALSE))","v":"m2"},{"$f":"IF($E469=0, \" \", VLOOKUP($E469, 'Cenovnik 2'!$A$2:$D$411, 4, FALSE))","v":3.99},4600,18354,"OP","04","ДА",null,null,null,null,{"$f":"IF($C469=0, \" \", VLOOKUP($C469, DrzavniPuteviRed, 2, FALSE))","v":{"$error":"#NAME?"}},47,"47",{"$f":"IF(VLOOKUP($E469,[0]!ProveraPDV,2,FALSE)=TRUE,$J469,)","v":{"$error":"#N/A"}},{"$f":"IF(VLOOKUP($E469,liste!$A$31:$B$818,2,FALSE)=TRUE,#REF!,)","v":{"$error":"#N/A"}},{"$error":"#NAME?"},{"$f":"INDEX('Cenovnik 2'!$G$2:$G$411,MATCH('Plan unos i pregled'!$E469,Pozicije,0))","v":"nebitno"}]
["2025.","АВГУСТ","Улице","Калетинац - Некатегорисан пут","4.19.1",{"$f":"IF($E470=0, \" \", VLOOKUP($E470, 'Cenovnik 2'!$A$2:$D$411, 2, FALSE))","v":"Кресање грана са одлагањем на страну моторном тестером. Пречник грана од 0 - 10 cm"},{"$f":"IF($E470=0, \" \", VLOOKUP($E470, 'Cenovnik 2'!$A$2:$D$411, 3, FALSE))","v":"ком"},{"$f":"IF($E470=0, \" \", VLOOKUP($E470, 'Cenovnik 2'!$A$2:$D$411, 4, FALSE))","v":256.38},5000,1281900,"Ul","04","ДА","кп.бр.3566",null,null,null,{"$f":"IF($C470=0, \" \", VLOOKUP($C470, DrzavniPuteviRed, 2, FALSE))","v":{"$error":"#NAME?"}},4191,"419",{"$f":"IF(VLOOKUP($E470,[0]!ProveraPDV,2,FALSE)=TRUE,$J470,)","v":{"$error":"#N/A"}},{"$f":"IF(VLOOKUP($E470,liste!$A$31:$B$818,2,FALSE)=TRUE,#REF!,)","v":{"$error":"#N/A"}},{"$error":"#NAME?"},{"$f":"INDEX('Cenovnik 2'!$G$2:$G$411,MATCH('Plan unos i pregled'!$E470,Pozicije,0))","v":"nebitno"}]
["2025.","АВГУСТ","Улице","Овсињинац - Некатегорисан пут","4.19.1",{"$f":"IF($E471=0, \" \", VLOOKUP($E471, 'Cenovnik 2'!$A$2:$D$411, 2, FALSE))","v":"Кресање грана са одлагањем на страну моторном тестером. Пречник грана од 0 - 10 cm"},{"$f":"IF($E471=0, \" \", VLOOKUP($E471, 'Cenovnik 2'!$A$2:$D$411, 3, FALSE))","v":"ком"},{"$f":"IF($E471=0, \" \", VLOOKUP($E471, 'Cenovnik 2'!$A$2:$D$411, 4, FALSE))","v":256.38},1400,358932,"Ul","04","ДА","кп.бр.3757",null,null,null,{"$f":"IF($C471=0, \" \", VLOOKUP($C471, DrzavniPuteviRed, 2, FALSE))","v":{"$error":"#NAME?"}},4191,"419",{"$f":"IF(VLOOKUP($E471,[0]!ProveraPDV,2,FALSE)=TRUE,$J471,)","v":{"$error":"#N/A"}},{"$f":"IF(VLOOKUP($E471,liste!$A$31:$B$818,2,FALSE)=TRUE,#REF!,)","v":{"$error":"#N/A"}},{"$error":"#NAME?"},{"$f":"INDEX('Cenovnik 2'!$G$2:$G$411,MATCH('Plan unos i pregled'!$E471,Pozicije,0))","v":"nebitno"}]
["2025.","АВГУСТ","Улице","Сопотница - Некатегорисан пут","4.19.1",{"$f":"IF($E472=0, \" \", VLOOKUP($E472, 'Cenovnik 2'!$A$2:$D$411, 2, FALSE))","v":"Кресање грана са одлагањем на страну моторном тестером. Пречник грана од 0 - 10 cm"},{"$f":"IF($E472=0, \" \", VLOOKUP($E472, 'Cenovnik 2'!$A$2:$D$411, 3, FALSE))","v":"ком"},{"$f":"IF($E472=0, \" \", VLOOKUP($E472, 'Cenovnik 2'!$A$2:$D$411, 4, FALSE))","v":256.38},910,233305.8,"Ul","04","ДА","кп.бр.6624",null,null,null,{"$f":"IF($C472=0, \" \", VLOOKUP($C472, DrzavniPuteviRed, 2, FALSE))","v":{"$error":"#NAME?"}},4191,"419",{"$f":"IF(VLOOKUP($E472,[0]!ProveraPDV,2,FALSE)=TRUE,$J472,)","v":{"$error":"#N/A"}},{"$f":"IF(VLOOKUP($E472,liste!$A$31:$B$818,2,FALSE)=TRUE,#REF!,)","v":{"$error":"#N/A"}},{"$error":"#NAME?"},{"$f":"INDEX('Cenovnik 2'!$G$2:$G$411,MATCH('Plan unos i pregled'!$E472,Pozicije,0))","v":"nebitno"}]
["2025.","АВГУСТ","Улице","Сопотница - Некатегорисан пут","4.19.1",{"$f":"IF($E473=0, \" \", VLOOKUP($E473, 'Cenovnik 2'!$A$2:$D$411, 2, FALSE))","v":"Кресање грана са одлагањем на страну моторном тестером. Пречник грана од 0 - 10 cm"},{"$f":"IF($E473=0, \" \", VLOOKUP($E473, 'Cenovnik 2'!$A$2:$D$411, 3, FALSE))","v":"ком"},{"$f":"IF($E473=0, \" \", VLOOKUP($E473, 'Cenovnik 2'!$A$2:$D$411, 4, FALSE))","v":256.38},1300,333294,"Ul","04","ДА","кп.бр.6626",null,null,null,{"$f":"IF($C473=0, \" \", VLOOKUP($C473, DrzavniPuteviRed, 2, FALSE))","v":{"$error":"#NAME?"}},4191,"419",{"$f":"IF(VLOOKUP($E473,[0]!ProveraPDV,2,FALSE)=TRUE,$J473,)","v":{"$error":"#N/A"}},{"$f":"IF(VLOOKUP($E473,liste!$A$31:$B$818,2,FALSE)=TRUE,#REF!,)","v":{"$error":"#N/A"}},{"$error":"#NAME?"},{"$f":"INDEX('Cenovnik 2'!$G$2:$G$411,MATCH('Plan unos i pregled'!$E473,Pozicije,0))","v":"nebitno"}]
["2025.","АВГУСТ","Улице","Сопотница - Некатегорисан пут","4.19.1",{"$f":"IF($E474=0, \" \", VLOOKUP($E474, 'Cenovnik 2'!$A$2:$D$411, 2, FALSE))","v":"Кресање грана са одлагањем на страну моторном тестером. Пречник грана од 0 - 10 cm"},{"$f":"IF($E474=0, \" \", VLOOKUP($E474, 'Cenovnik 2'!$A$2:$D$411, 3, FALSE))","v":"ком"},{"$f":"IF($E474=0, \" \", VLOOKUP($E474, 'Cenovnik 2'!$A$2:$D$411, 4, FALSE))","v":256.38},3100,794778,"Ul","04","ДА","кп.бр.6630",null,null,null,{"$f":"IF($C474=0, \" \", VLOOKUP($C474, DrzavniPuteviRed, 2, FALSE))","v":{"$error":"#NAME?"}},4191,"419",{"$f":"IF(VLOOKUP($E474,[0]!ProveraPDV,2,FALSE)=TRUE,$J474,)","v":{"$error":"#N/A"}},{"$f":"IF(VLOOKUP($E474,liste!$A$31:$B$818,2,FALSE)=TRUE,#REF!,)","v":{"$error":"#N/A"}},{"$error":"#NAME?"},{"$f":"INDEX('Cenovnik 2'!$G$2:$G$411,MATCH('Plan unos i pregled'!$E474,Pozicije,0))","v":"nebitno"}]
["2025.","АВГУСТ","Улице","Горње Драговље - Некатегорисан пут","4.19.1",{"$f":"IF($E475=0, \" \", VLOOKUP($E475, 'Cenovnik 2'!$A$2:$D$411, 2, FALSE))","v":"Кресање грана са одлагањем на страну моторном тестером. Пречник грана од 0 - 10 cm"},{"$f":"IF($E475=0, \" \", VLOOKUP($E475, 'Cenovnik 2'!$A$2:$D$411, 3, FALSE))","v":"ком"},{"$f":"IF($E475=0, \" \", VLOOKUP($E475, 'Cenovnik 2'!$A$2:$D$411, 4, FALSE))","v":256.38},780,199976.4,"Ul","04","ДА","кп.бр.7436/2",null,null,null,{"$f":"IF($C475=0, \" \", VLOOKUP($C475, DrzavniPuteviRed, 2, FALSE))","v":{"$error":"#NAME?"}},4191,"419",{"$f":"IF(VLOOKUP($E475,[0]!ProveraPDV,2,FALSE)=TRUE,$J475,)","v":{"$error":"#N/A"}},{"$f":"IF(VLOOKUP($E475,liste!$A$31:$B$818,2,FALSE)=TRUE,#REF!,)","v":{"$error":"#N/A"}},{"$error":"#NAME?"},{"$f":"INDEX('Cenovnik 2'!$G$2:$G$411,MATCH('Plan unos i pregled'!$E475,Pozicije,0))","v":"nebitno"}]
["2025.","АВГУСТ","Улице","Личје - Некатегорисан пут","8.29",{"$f":"IF($E476=0, \" \", VLOOKUP($E476, 'Cenovnik 2'!$A$2:$D$411, 2, FALSE))","v":"Набавка дробљеног кречњачког каменог агрегата фракције 0-31,5 mm "},{"$f":"IF($E476=0, \" \", VLOOKUP($E476, 'Cenovnik 2'!$A$2:$D$411, 3, FALSE))","v":"t"},{"$f":"IF($E476=0, \" \", VLOOKUP($E476, 'Cenovnik 2'!$A$2:$D$411, 4, FALSE))","v":645},25.56,16486.2,"Ul","08","ДА","кп.бр.1954                           радови изведени у јуну месецу",null,null,null,{"$f":"IF($C476=0, \" \", VLOOKUP($C476, DrzavniPuteviRed, 2, FALSE))","v":{"$error":"#NAME?"}},829,"829",{"$f":"IF(VLOOKUP($E476,[0]!ProveraPDV,2,FALSE)=TRUE,$J476,)","v":16486.2},{"$f":"IF(VLOOKUP($E476,liste!$A$31:$B$818,2,FALSE)=TRUE,#REF!,)","v":{"$error":"#REF!"}},{"$error":"#NAME?"},{"$f":"INDEX('Cenovnik 2'!$G$2:$G$411,MATCH('Plan unos i pregled'!$E476,Pozicije,0))","v":"nebitno"}]
["2025.","АВГУСТ","Фудбалски терени","Гаџин Хан-Фудбалски терен: П1-9100","11.30",{"$f":"IF($E477=0, \" \", VLOOKUP($E477, 'Cenovnik 2'!$A$2:$D$411, 2, FALSE))","v":"Моторна косачица за траву (спортски терени)"},{"$f":"IF($E477=0, \" \", VLOOKUP($E477, 'Cenovnik 2'!$A$2:$D$411, 3, FALSE))","v":"m2"},{"$f":"IF($E477=0, \" \", VLOOKUP($E477, 'Cenovnik 2'!$A$2:$D$411, 4, FALSE))","v":2.13},36400,77532,"FT","11","ДА","4 кошења",null,null,null,{"$f":"IF($C477=0, \" \", VLOOKUP($C477, DrzavniPuteviRed, 2, FALSE))","v":{"$error":"#NAME?"}},1130,"113",{"$f":"IF(VLOOKUP($E477,[0]!ProveraPDV,2,FALSE)=TRUE,$J477,)","v":{"$error":"#N/A"}},{"$f":"IF(VLOOKUP($E477,liste!$A$31:$B$818,2,FALSE)=TRUE,#REF!,)","v":{"$error":"#N/A"}},{"$error":"#NAME?"},{"$f":"INDEX('Cenovnik 2'!$G$2:$G$411,MATCH('Plan unos i pregled'!$E477,Pozicije,0))","v":"nebitno"}]
["2025.","АВГУСТ","Фудбалски терени","Тасковићи-Фудбалски терен: П1-6050","11.30",{"$f":"IF($E478=0, \" \", VLOOKUP($E478, 'Cenovnik 2'!$A$2:$D$411, 2, FALSE))","v":"Моторна косачица за траву (спортски терени)"},{"$f":"IF($E478=0, \" \", VLOOKUP($E478, 'Cenovnik 2'!$A$2:$D$411, 3, FALSE))","v":"m2"},{"$f":"IF($E478=0, \" \", VLOOKUP($E478, 'Cenovnik 2'!$A$2:$D$411, 4, FALSE))","v":2.13},24200,51546,"FT","11","ДА","4 кошења",null,null,null,{"$f":"IF($C478=0, \" \", VLOOKUP($C478, DrzavniPuteviRed, 2, FALSE))","v":{"$error":"#NAME?"}},1130,"113",{"$f":"IF(VLOOKUP($E478,[0]!ProveraPDV,2,FALSE)=TRUE,$J478,)","v":{"$error":"#N/A"}},{"$f":"IF(VLOOKUP($E478,liste!$A$31:$B$818,2,FALSE)=TRUE,#REF!,)","v":{"$error":"#N/A"}},{"$error":"#NAME?"},{"$f":"INDEX('Cenovnik 2'!$G$2:$G$411,MATCH('Plan unos i pregled'!$E478,Pozicije,0))","v":"nebitno"}]
["2025.","АВГУСТ","Фудбалски терени","Марина Кутина-Фудбалски терен: П1-5490","11.30",{"$f":"IF($E479=0, \" \", VLOOKUP($E479, 'Cenovnik 2'!$A$2:$D$411, 2, FALSE))","v":"Моторна косачица за траву (спортски терени)"},{"$f":"IF($E479=0, \" \", VLOOKUP($E479, 'Cenovnik 2'!$A$2:$D$411, 3, FALSE))","v":"m2"},{"$f":"IF($E479=0, \" \", VLOOKUP($E479, 'Cenovnik 2'!$A$2:$D$411, 4, FALSE))","v":2.13},5490,11693.699999999999,"FT","11","ДА","1 кошење",null,null,null,{"$f":"IF($C479=0, \" \", VLOOKUP($C479, DrzavniPuteviRed, 2, FALSE))","v":{"$error":"#NAME?"}},1130,"113",{"$f":"IF(VLOOKUP($E479,[0]!ProveraPDV,2,FALSE)=TRUE,$J479,)","v":{"$error":"#N/A"}},{"$f":"IF(VLOOKUP($E479,liste!$A$31:$B$818,2,FALSE)=TRUE,#REF!,)","v":{"$error":"#N/A"}},{"$error":"#NAME?"},{"$f":"INDEX('Cenovnik 2'!$G$2:$G$411,MATCH('Plan unos i pregled'!$E479,Pozicije,0))","v":"nebitno"}]
["2025.","АВГУСТ","Фудбалски терени","Гркиња-Фудбалски Терен: П1-5460","11.30",{"$f":"IF($E480=0, \" \", VLOOKUP($E480, 'Cenovnik 2'!$A$2:$D$411, 2, FALSE))","v":"Моторна косачица за траву (спортски терени)"},{"$f":"IF($E480=0, \" \", VLOOKUP($E480, 'Cenovnik 2'!$A$2:$D$411, 3, FALSE))","v":"m2"},{"$f":"IF($E480=0, \" \", VLOOKUP($E480, 'Cenovnik 2'!$A$2:$D$411, 4, FALSE))","v":2.13},5460,11629.8,"FT","11","ДА",null,null,null,null,{"$f":"IF($C480=0, \" \", VLOOKUP($C480, DrzavniPuteviRed, 2, FALSE))","v":{"$error":"#NAME?"}},1130,"113",{"$f":"IF(VLOOKUP($E480,[0]!ProveraPDV,2,FALSE)=TRUE,$J480,)","v":{"$error":"#N/A"}},{"$f":"IF(VLOOKUP($E480,liste!$A$31:$B$818,2,FALSE)=TRUE,#REF!,)","v":{"$error":"#N/A"}},{"$error":"#NAME?"},{"$f":"INDEX('Cenovnik 2'!$G$2:$G$411,MATCH('Plan unos i pregled'!$E480,Pozicije,0))","v":"nebitno"}]
["2025.","АВГУСТ","Фудбалски терени","Заплањска Топоница-Фудбалски Терен: П1-5600","11.30",{"$f":"IF($E481=0, \" \", VLOOKUP($E481, 'Cenovnik 2'!$A$2:$D$411, 2, FALSE))","v":"Моторна косачица за траву (спортски терени)"},{"$f":"IF($E481=0, \" \", VLOOKUP($E481, 'Cenovnik 2'!$A$2:$D$411, 3, FALSE))","v":"m2"},{"$f":"IF($E481=0, \" \", VLOOKUP($E481, 'Cenovnik 2'!$A$2:$D$411, 4, FALSE))","v":2.13},5600,11928,"FT","11","ДА",null,null,null,null,{"$f":"IF($C481=0, \" \", VLOOKUP($C481, DrzavniPuteviRed, 2, FALSE))","v":{"$error":"#NAME?"}},1130,"113",{"$f":"IF(VLOOKUP($E481,[0]!ProveraPDV,2,FALSE)=TRUE,$J481,)","v":{"$error":"#N/A"}},{"$f":"IF(VLOOKUP($E481,liste!$A$31:$B$818,2,FALSE)=TRUE,#REF!,)","v":{"$error":"#N/A"}},{"$error":"#NAME?"},{"$f":"INDEX('Cenovnik 2'!$G$2:$G$411,MATCH('Plan unos i pregled'!$E481,Pozicije,0))","v":"nebitno"}]
["2025.","АВГУСТ","Фудбалски терени","Гаџин Хан-Фудбалски терен: П1-9100","4.11",{"$f":"IF($E482=0, \" \", VLOOKUP($E482, 'Cenovnik 2'!$A$2:$D$411, 2, FALSE))","v":"Обележавање фудбалског терена (по фактури добављача), ценом није обухваћен превоз и рад радника"},{"$f":"IF($E482=0, \" \", VLOOKUP($E482, 'Cenovnik 2'!$A$2:$D$411, 3, FALSE))","v":"m"},{"$f":"IF($E482=0, \" \", VLOOKUP($E482, 'Cenovnik 2'!$A$2:$D$411, 4, FALSE))","v":26.8},3060,82008,"FT","04","ДА",null,null,null,null,{"$f":"IF($C482=0, \" \", VLOOKUP($C482, DrzavniPuteviRed, 2, FALSE))","v":{"$error":"#NAME?"}},411,"411",{"$f":"IF(VLOOKUP($E482,[0]!ProveraPDV,2,FALSE)=TRUE,$J482,)","v":{"$error":"#N/A"}},{"$f":"IF(VLOOKUP($E482,liste!$A$31:$B$818,2,FALSE)=TRUE,#REF!,)","v":{"$error":"#N/A"}},{"$error":"#NAME?"},{"$f":"INDEX('Cenovnik 2'!$G$2:$G$411,MATCH('Plan unos i pregled'!$E482,Pozicije,0))","v":"nebitno"}]
["2025.","АВГУСТ","Фудбалски терени","Тасковићи-Фудбалски терен: П1-6050","4.11",{"$f":"IF($E483=0, \" \", VLOOKUP($E483, 'Cenovnik 2'!$A$2:$D$411, 2, FALSE))","v":"Обележавање фудбалског терена (по фактури добављача), ценом није обухваћен превоз и рад радника"},{"$f":"IF($E483=0, \" \", VLOOKUP($E483, 'Cenovnik 2'!$A$2:$D$411, 3, FALSE))","v":"m"},{"$f":"IF($E483=0, \" \", VLOOKUP($E483, 'Cenovnik 2'!$A$2:$D$411, 4, FALSE))","v":26.8},2700,72360,"FT","04","ДА",null,null,null,null,{"$f":"IF($C483=0, \" \", VLOOKUP($C483, DrzavniPuteviRed, 2, FALSE))","v":{"$error":"#NAME?"}},411,"411",{"$f":"IF(VLOOKUP($E483,[0]!ProveraPDV,2,FALSE)=TRUE,$J483,)","v":{"$error":"#N/A"}},{"$f":"IF(VLOOKUP($E483,liste!$A$31:$B$818,2,FALSE)=TRUE,#REF!,)","v":{"$error":"#N/A"}},{"$error":"#NAME?"},{"$f":"INDEX('Cenovnik 2'!$G$2:$G$411,MATCH('Plan unos i pregled'!$E483,Pozicije,0))","v":"nebitno"}]
["2025.","АВГУСТ","Фудбалски терени","Марина Кутина-Фудбалски терен: П1-5490","4.11",{"$f":"IF($E484=0, \" \", VLOOKUP($E484, 'Cenovnik 2'!$A$2:$D$411, 2, FALSE))","v":"Обележавање фудбалског терена (по фактури добављача), ценом није обухваћен превоз и рад радника"},{"$f":"IF($E484=0, \" \", VLOOKUP($E484, 'Cenovnik 2'!$A$2:$D$411, 3, FALSE))","v":"m"},{"$f":"IF($E484=0, \" \", VLOOKUP($E484, 'Cenovnik 2'!$A$2:$D$411, 4, FALSE))","v":26.8},1330,35644,"FT","04","ДА",null,null,null,null,{"$f":"IF($C484=0, \" \", VLOOKUP($C484, DrzavniPuteviRed, 2, FALSE))","v":{"$error":"#NAME?"}},411,"411",{"$f":"IF(VLOOKUP($E484,[0]!ProveraPDV,2,FALSE)=TRUE,$J484,)","v":{"$error":"#N/A"}},{"$f":"IF(VLOOKUP($E484,liste!$A$31:$B$818,2,FALSE)=TRUE,#REF!,)","v":{"$error":"#N/A"}},{"$error":"#NAME?"},{"$f":"INDEX('Cenovnik 2'!$G$2:$G$411,MATCH('Plan unos i pregled'!$E484,Pozicije,0))","v":"nebitno"}]
["2025.","АВГУСТ","Фудбалски терени","Гркиња-Фудбалски Терен: П1-5460","4.11",{"$f":"IF($E485=0, \" \", VLOOKUP($E485, 'Cenovnik 2'!$A$2:$D$411, 2, FALSE))","v":"Обележавање фудбалског терена (по фактури добављача), ценом није обухваћен превоз и рад радника"},{"$f":"IF($E485=0, \" \", VLOOKUP($E485, 'Cenovnik 2'!$A$2:$D$411, 3, FALSE))","v":"m"},{"$f":"IF($E485=0, \" \", VLOOKUP($E485, 'Cenovnik 2'!$A$2:$D$411, 4, FALSE))","v":26.8},665,17822,"FT","04","ДА",null,null,null,null,{"$f":"IF($C485=0, \" \", VLOOKUP($C485, DrzavniPuteviRed, 2, FALSE))","v":{"$error":"#NAME?"}},411,"411",{"$f":"IF(VLOOKUP($E485,[0]!ProveraPDV,2,FALSE)=TRUE,$J485,)","v":{"$error":"#N/A"}},{"$f":"IF(VLOOKUP($E485,liste!$A$31:$B$818,2,FALSE)=TRUE,#REF!,)","v":{"$error":"#N/A"}},{"$error":"#NAME?"},{"$f":"INDEX('Cenovnik 2'!$G$2:$G$411,MATCH('Plan unos i pregled'!$E485,Pozicije,0))","v":"nebitno"}]
["2025.","АВГУСТ","Фудбалски терени","Заплањска Топоница-Фудбалски Терен: П1-5600","4.11",{"$f":"IF($E486=0, \" \", VLOOKUP($E486, 'Cenovnik 2'!$A$2:$D$411, 2, FALSE))","v":"Обележавање фудбалског терена (по фактури добављача), ценом није обухваћен превоз и рад радника"},{"$f":"IF($E486=0, \" \", VLOOKUP($E486, 'Cenovnik 2'!$A$2:$D$411, 3, FALSE))","v":"m"},{"$f":"IF($E486=0, \" \", VLOOKUP($E486, 'Cenovnik 2'!$A$2:$D$411, 4, FALSE))","v":26.8},665,17822,{"$f":"IFERROR(INDEX(LokacijeRadovaLat,MATCH(C486,LokacijaRadova,0)),\"\")","v":"FT"},"04","ДА",null,null,null,null,{"$f":"IF($C486=0, \" \", VLOOKUP($C486, DrzavniPuteviRed, 2, FALSE))","v":{"$error":"#NAME?"}},411,"411",{"$f":"IF(VLOOKUP($E486,[0]!ProveraPDV,2,FALSE)=TRUE,$J486,)","v":{"$error":"#N/A"}},{"$f":"IF(VLOOKUP($E486,liste!$A$31:$B$818,2,FALSE)=TRUE,#REF!,)","v":{"$error":"#N/A"}},{"$error":"#NAME?"},{"$f":"INDEX('Cenovnik 2'!$G$2:$G$411,MATCH('Plan unos i pregled'!$E486,Pozicije,0))","v":"nebitno"}]
["2025.","АВГУСТ","Фудбалски терени","Гаџин Хан-Фудбалски терен: П1-9100","4.12",{"$f":"IF($E487=0, \" \", VLOOKUP($E487, 'Cenovnik 2'!$A$2:$D$411, 2, FALSE))","v":"Поливање травњака (ценом није обухваћен рад радника)"},{"$f":"IF($E487=0, \" \", VLOOKUP($E487, 'Cenovnik 2'!$A$2:$D$411, 3, FALSE))","v":"m2"},{"$f":"IF($E487=0, \" \", VLOOKUP($E487, 'Cenovnik 2'!$A$2:$D$411, 4, FALSE))","v":3.1},163800,507780,"FT","04","ДА","18 дана",null,null,null,{"$f":"IF($C487=0, \" \", VLOOKUP($C487, DrzavniPuteviRed, 2, FALSE))","v":{"$error":"#NAME?"}},412,"412",{"$f":"IF(VLOOKUP($E487,[0]!ProveraPDV,2,FALSE)=TRUE,$J487,)","v":{"$error":"#N/A"}},{"$f":"IF(VLOOKUP($E487,liste!$A$31:$B$818,2,FALSE)=TRUE,#REF!,)","v":{"$error":"#N/A"}},{"$error":"#NAME?"},{"$f":"INDEX('Cenovnik 2'!$G$2:$G$411,MATCH('Plan unos i pregled'!$E487,Pozicije,0))","v":"nebitno"}]
["2025.","АВГУСТ","Фудбалски терени","Тасковићи-Фудбалски терен: П1-6050","4.12",{"$f":"IF($E488=0, \" \", VLOOKUP($E488, 'Cenovnik 2'!$A$2:$D$411, 2, FALSE))","v":"Поливање травњака (ценом није обухваћен рад радника)"},{"$f":"IF($E488=0, \" \", VLOOKUP($E488, 'Cenovnik 2'!$A$2:$D$411, 3, FALSE))","v":"m2"},{"$f":"IF($E488=0, \" \", VLOOKUP($E488, 'Cenovnik 2'!$A$2:$D$411, 4, FALSE))","v":3.1},108900,337590,"FT","04","ДА","18 дана",null,null,null,{"$f":"IF($C488=0, \" \", VLOOKUP($C488, DrzavniPuteviRed, 2, FALSE))","v":{"$error":"#NAME?"}},412,"412",{"$f":"IF(VLOOKUP($E488,[0]!ProveraPDV,2,FALSE)=TRUE,$J488,)","v":{"$error":"#N/A"}},{"$f":"IF(VLOOKUP($E488,liste!$A$31:$B$818,2,FALSE)=TRUE,#REF!,)","v":{"$error":"#N/A"}},{"$error":"#NAME?"},{"$f":"INDEX('Cenovnik 2'!$G$2:$G$411,MATCH('Plan unos i pregled'!$E488,Pozicije,0))","v":"nebitno"}]
["2025.","АВГУСТ","Фудбалски терени","Гаџин Хан-Фудбалски терен: П1-9100","11.5",{"$f":"IF($E489=0, \" \", VLOOKUP($E489, 'Cenovnik 2'!$A$2:$D$411, 2, FALSE))","v":"Ваљак од 2 t"},{"$f":"IF($E489=0, \" \", VLOOKUP($E489, 'Cenovnik 2'!$A$2:$D$411, 3, FALSE))","v":"час"},{"$f":"IF($E489=0, \" \", VLOOKUP($E489, 'Cenovnik 2'!$A$2:$D$411, 4, FALSE))","v":2875},12,34500,"FT","11","ДА",null,null,null,null,{"$f":"IF($C489=0, \" \", VLOOKUP($C489, DrzavniPuteviRed, 2, FALSE))","v":{"$error":"#NAME?"}},115,"115",{"$f":"IF(VLOOKUP($E489,[0]!ProveraPDV,2,FALSE)=TRUE,$J489,)","v":{"$error":"#N/A"}},{"$f":"IF(VLOOKUP($E489,liste!$A$31:$B$818,2,FALSE)=TRUE,#REF!,)","v":{"$error":"#N/A"}},{"$error":"#NAME?"},{"$f":"INDEX('Cenovnik 2'!$G$2:$G$411,MATCH('Plan unos i pregled'!$E489,Pozicije,0))","v":"nebitno"}]
["2025.","АВГУСТ","Фудбалски терени","Тасковићи-Фудбалски терен: П1-6050","11.5",{"$f":"IF($E490=0, \" \", VLOOKUP($E490, 'Cenovnik 2'!$A$2:$D$411, 2, FALSE))","v":"Ваљак од 2 t"},{"$f":"IF($E490=0, \" \", VLOOKUP($E490, 'Cenovnik 2'!$A$2:$D$411, 3, FALSE))","v":"час"},{"$f":"IF($E490=0, \" \", VLOOKUP($E490, 'Cenovnik 2'!$A$2:$D$411, 4, FALSE))","v":2875},6,17250,"FT","11","ДА",null,null,null,null,{"$f":"IF($C490=0, \" \", VLOOKUP($C490, DrzavniPuteviRed, 2, FALSE))","v":{"$error":"#NAME?"}},115,"115",{"$f":"IF(VLOOKUP($E490,[0]!ProveraPDV,2,FALSE)=TRUE,$J490,)","v":{"$error":"#N/A"}},{"$f":"IF(VLOOKUP($E490,liste!$A$31:$B$818,2,FALSE)=TRUE,#REF!,)","v":{"$error":"#N/A"}},{"$error":"#NAME?"},{"$f":"INDEX('Cenovnik 2'!$G$2:$G$411,MATCH('Plan unos i pregled'!$E490,Pozicije,0))","v":"nebitno"}]
["2025.","АВГУСТ","Фудбалски терени","Марина Кутина-Фудбалски терен: П1-5490","11.5",{"$f":"IF($E491=0, \" \", VLOOKUP($E491, 'Cenovnik 2'!$A$2:$D$411, 2, FALSE))","v":"Ваљак од 2 t"},{"$f":"IF($E491=0, \" \", VLOOKUP($E491, 'Cenovnik 2'!$A$2:$D$411, 3, FALSE))","v":"час"},{"$f":"IF($E491=0, \" \", VLOOKUP($E491, 'Cenovnik 2'!$A$2:$D$411, 4, FALSE))","v":2875},6,17250,"FT","11","ДА",null,null,null,null,{"$f":"IF($C491=0, \" \", VLOOKUP($C491, DrzavniPuteviRed, 2, FALSE))","v":{"$error":"#NAME?"}},115,"115",{"$f":"IF(VLOOKUP($E491,[0]!ProveraPDV,2,FALSE)=TRUE,$J491,)","v":{"$error":"#N/A"}},{"$f":"IF(VLOOKUP($E491,liste!$A$31:$B$818,2,FALSE)=TRUE,#REF!,)","v":{"$error":"#N/A"}},{"$error":"#NAME?"},{"$f":"INDEX('Cenovnik 2'!$G$2:$G$411,MATCH('Plan unos i pregled'!$E491,Pozicije,0))","v":"nebitno"}]
["2025.","АВГУСТ","Фудбалски терени","Гркиња-Фудбалски Терен: П1-5460","11.5",{"$f":"IF($E492=0, \" \", VLOOKUP($E492, 'Cenovnik 2'!$A$2:$D$411, 2, FALSE))","v":"Ваљак од 2 t"},{"$f":"IF($E492=0, \" \", VLOOKUP($E492, 'Cenovnik 2'!$A$2:$D$411, 3, FALSE))","v":"час"},{"$f":"IF($E492=0, \" \", VLOOKUP($E492, 'Cenovnik 2'!$A$2:$D$411, 4, FALSE))","v":2875},6,17250,"FT","11","ДА",null,null,null,null,{"$f":"IF($C492=0, \" \", VLOOKUP($C492, DrzavniPuteviRed, 2, FALSE))","v":{"$error":"#NAME?"}},115,"115",{"$f":"IF(VLOOKUP($E492,[0]!ProveraPDV,2,FALSE)=TRUE,$J492,)","v":{"$error":"#N/A"}},{"$f":"IF(VLOOKUP($E492,liste!$A$31:$B$818,2,FALSE)=TRUE,#REF!,)","v":{"$error":"#N/A"}},{"$error":"#NAME?"},{"$f":"INDEX('Cenovnik 2'!$G$2:$G$411,MATCH('Plan unos i pregled'!$E492,Pozicije,0))","v":"nebitno"}]
["2025.","АВГУСТ","Фудбалски терени","Заплањска Топоница-Фудбалски Терен: П1-5600","11.5",{"$f":"IF($E493=0, \" \", VLOOKUP($E493, 'Cenovnik 2'!$A$2:$D$411, 2, FALSE))","v":"Ваљак од 2 t"},{"$f":"IF($E493=0, \" \", VLOOKUP($E493, 'Cenovnik 2'!$A$2:$D$411, 3, FALSE))","v":"час"},{"$f":"IF($E493=0, \" \", VLOOKUP($E493, 'Cenovnik 2'!$A$2:$D$411, 4, FALSE))","v":2875},6,17250,"FT","11","ДА",null,null,null,null,{"$f":"IF($C493=0, \" \", VLOOKUP($C493, DrzavniPuteviRed, 2, FALSE))","v":{"$error":"#NAME?"}},115,"115",{"$f":"IF(VLOOKUP($E493,[0]!ProveraPDV,2,FALSE)=TRUE,$J493,)","v":{"$error":"#N/A"}},{"$f":"IF(VLOOKUP($E493,liste!$A$31:$B$818,2,FALSE)=TRUE,#REF!,)","v":{"$error":"#N/A"}},{"$error":"#NAME?"},{"$f":"INDEX('Cenovnik 2'!$G$2:$G$411,MATCH('Plan unos i pregled'!$E493,Pozicije,0))","v":"nebitno"}]
["2025.","АВГУСТ","Јавне зелене површине","Гаџин Хан-Кеј: П 1-1318","4.26",{"$f":"IF($E494=0, \" \", VLOOKUP($E494, 'Cenovnik 2'!$A$2:$D$411, 2, FALSE))","v":"Кошење траве на слободним површинама косачицом прикљученом на трактор"},{"$f":"IF($E494=0, \" \", VLOOKUP($E494, 'Cenovnik 2'!$A$2:$D$411, 3, FALSE))","v":"m2"},{"$f":"IF($E494=0, \" \", VLOOKUP($E494, 'Cenovnik 2'!$A$2:$D$411, 4, FALSE))","v":4.3499999999999996},3954,17199.899999999998,"JZP","04","ДА",null,null,null,null,{"$f":"IF($C494=0, \" \", VLOOKUP($C494, DrzavniPuteviRed, 2, FALSE))","v":{"$error":"#NAME?"}},426,"426",{"$f":"IF(VLOOKUP($E494,[0]!ProveraPDV,2,FALSE)=TRUE,$J494,)","v":{"$error":"#N/A"}},{"$f":"IF(VLOOKUP($E494,liste!$A$31:$B$818,2,FALSE)=TRUE,#REF!,)","v":{"$error":"#N/A"}},{"$error":"#NAME?"},{"$f":"INDEX('Cenovnik 2'!$G$2:$G$411,MATCH('Plan unos i pregled'!$E494,Pozicije,0))","v":"nebitno"}]
["2025.","АВГУСТ","Јавне зелене површине","Гаџин Хан-Кеј: П 2-4326","11.30",{"$f":"IF($E495=0, \" \", VLOOKUP($E495, 'Cenovnik 2'!$A$2:$D$411, 2, FALSE))","v":"Моторна косачица за траву (спортски терени)"},{"$f":"IF($E495=0, \" \", VLOOKUP($E495, 'Cenovnik 2'!$A$2:$D$411, 3, FALSE))","v":"m2"},{"$f":"IF($E495=0, \" \", VLOOKUP($E495, 'Cenovnik 2'!$A$2:$D$411, 4, FALSE))","v":2.13},12978,27643.14,"JZP","11","ДА",null,null,null,null,{"$f":"IF($C495=0, \" \", VLOOKUP($C495, DrzavniPuteviRed, 2, FALSE))","v":{"$error":"#NAME?"}},1130,"113",{"$f":"IF(VLOOKUP($E495,[0]!ProveraPDV,2,FALSE)=TRUE,$J495,)","v":{"$error":"#N/A"}},{"$f":"IF(VLOOKUP($E495,liste!$A$31:$B$818,2,FALSE)=TRUE,#REF!,)","v":{"$error":"#N/A"}},{"$error":"#NAME?"},{"$f":"INDEX('Cenovnik 2'!$G$2:$G$411,MATCH('Plan unos i pregled'!$E495,Pozicije,0))","v":"nebitno"}]
["2025.","АВГУСТ","Јавне зелене површине","Гаџин Хан-Кеј: П 3-3036","4.6",{"$f":"IF($E496=0, \" \", VLOOKUP($E496, 'Cenovnik 2'!$A$2:$D$411, 2, FALSE))","v":"Кошење парковског травњака тримером"},{"$f":"IF($E496=0, \" \", VLOOKUP($E496, 'Cenovnik 2'!$A$2:$D$411, 3, FALSE))","v":"m2"},{"$f":"IF($E496=0, \" \", VLOOKUP($E496, 'Cenovnik 2'!$A$2:$D$411, 4, FALSE))","v":6.5},9108,59202,"JZP","04","ДА",null,null,null,null,{"$f":"IF($C496=0, \" \", VLOOKUP($C496, DrzavniPuteviRed, 2, FALSE))","v":{"$error":"#NAME?"}},46,"46",{"$f":"IF(VLOOKUP($E496,[0]!ProveraPDV,2,FALSE)=TRUE,$J496,)","v":{"$error":"#N/A"}},{"$f":"IF(VLOOKUP($E496,liste!$A$31:$B$818,2,FALSE)=TRUE,#REF!,)","v":{"$error":"#N/A"}},{"$error":"#NAME?"},{"$f":"INDEX('Cenovnik 2'!$G$2:$G$411,MATCH('Plan unos i pregled'!$E496,Pozicije,0))","v":"nebitno"}]
["2025.","АВГУСТ","Јавне зелене површине","Гаџин Хан-Старачки дом, Стамбена зграда: П1-711","4.6",{"$f":"IF($E497=0, \" \", VLOOKUP($E497, 'Cenovnik 2'!$A$2:$D$411, 2, FALSE))","v":"Кошење парковског травњака тримером"},{"$f":"IF($E497=0, \" \", VLOOKUP($E497, 'Cenovnik 2'!$A$2:$D$411, 3, FALSE))","v":"m2"},{"$f":"IF($E497=0, \" \", VLOOKUP($E497, 'Cenovnik 2'!$A$2:$D$411, 4, FALSE))","v":6.5},1422,9243,"JZP","04","ДА",null,null,null,null,{"$f":"IF($C497=0, \" \", VLOOKUP($C497, DrzavniPuteviRed, 2, FALSE))","v":{"$error":"#NAME?"}},46,"46",{"$f":"IF(VLOOKUP($E497,[0]!ProveraPDV,2,FALSE)=TRUE,$J497,)","v":{"$error":"#N/A"}},{"$f":"IF(VLOOKUP($E497,liste!$A$31:$B$818,2,FALSE)=TRUE,#REF!,)","v":{"$error":"#N/A"}},{"$error":"#NAME?"},{"$f":"INDEX('Cenovnik 2'!$G$2:$G$411,MATCH('Plan unos i pregled'!$E497,Pozicije,0))","v":"nebitno"}]
["2025.","АВГУСТ","Јавне зелене површине","Гаџин Хан-Дом културе: П 1-560","11.30",{"$f":"IF($E498=0, \" \", VLOOKUP($E498, 'Cenovnik 2'!$A$2:$D$411, 2, FALSE))","v":"Моторна косачица за траву (спортски терени)"},{"$f":"IF($E498=0, \" \", VLOOKUP($E498, 'Cenovnik 2'!$A$2:$D$411, 3, FALSE))","v":"m2"},{"$f":"IF($E498=0, \" \", VLOOKUP($E498, 'Cenovnik 2'!$A$2:$D$411, 4, FALSE))","v":2.13},1120,2385.6,"JZP","11","ДА",null,null,null,null,{"$f":"IF($C498=0, \" \", VLOOKUP($C498, DrzavniPuteviRed, 2, FALSE))","v":{"$error":"#NAME?"}},1130,"113",{"$f":"IF(VLOOKUP($E498,[0]!ProveraPDV,2,FALSE)=TRUE,$J498,)","v":{"$error":"#N/A"}},{"$f":"IF(VLOOKUP($E498,liste!$A$31:$B$818,2,FALSE)=TRUE,#REF!,)","v":{"$error":"#N/A"}},{"$error":"#NAME?"},{"$f":"INDEX('Cenovnik 2'!$G$2:$G$411,MATCH('Plan unos i pregled'!$E498,Pozicije,0))","v":"nebitno"}]
["2025.","АВГУСТ","Јавне зелене површине","Гаџин Хан-Дом културе: П 2-312","11.30",{"$f":"IF($E499=0, \" \", VLOOKUP($E499, 'Cenovnik 2'!$A$2:$D$411, 2, FALSE))","v":"Моторна косачица за траву (спортски терени)"},{"$f":"IF($E499=0, \" \", VLOOKUP($E499, 'Cenovnik 2'!$A$2:$D$411, 3, FALSE))","v":"m2"},{"$f":"IF($E499=0, \" \", VLOOKUP($E499, 'Cenovnik 2'!$A$2:$D$411, 4, FALSE))","v":2.13},624,1329.12,"JZP","11","ДА",null,null,null,null,{"$f":"IF($C499=0, \" \", VLOOKUP($C499, DrzavniPuteviRed, 2, FALSE))","v":{"$error":"#NAME?"}},1130,"113",{"$f":"IF(VLOOKUP($E499,[0]!ProveraPDV,2,FALSE)=TRUE,$J499,)","v":{"$error":"#N/A"}},{"$f":"IF(VLOOKUP($E499,liste!$A$31:$B$818,2,FALSE)=TRUE,#REF!,)","v":{"$error":"#N/A"}},{"$error":"#NAME?"},{"$f":"INDEX('Cenovnik 2'!$G$2:$G$411,MATCH('Plan unos i pregled'!$E499,Pozicije,0))","v":"nebitno"}]
["2025.","АВГУСТ","Јавне зелене површине","Гаџин Хан-Дом културе: П 3-848","4.6",{"$f":"IF($E500=0, \" \", VLOOKUP($E500, 'Cenovnik 2'!$A$2:$D$411, 2, FALSE))","v":"Кошење парковског травњака тримером"},{"$f":"IF($E500=0, \" \", VLOOKUP($E500, 'Cenovnik 2'!$A$2:$D$411, 3, FALSE))","v":"m2"},{"$f":"IF($E500=0, \" \", VLOOKUP($E500, 'Cenovnik 2'!$A$2:$D$411, 4, FALSE))","v":6.5},1696,11024,"JZP","04","ДА",null,null,null,null,{"$f":"IF($C500=0, \" \", VLOOKUP($C500, DrzavniPuteviRed, 2, FALSE))","v":{"$error":"#NAME?"}},46,"46",{"$f":"IF(VLOOKUP($E500,[0]!ProveraPDV,2,FALSE)=TRUE,$J500,)","v":{"$error":"#N/A"}},{"$f":"IF(VLOOKUP($E500,liste!$A$31:$B$818,2,FALSE)=TRUE,#REF!,)","v":{"$error":"#N/A"}},{"$error":"#NAME?"},{"$f":"INDEX('Cenovnik 2'!$G$2:$G$411,MATCH('Plan unos i pregled'!$E500,Pozicije,0))","v":"nebitno"}]
["2025.","АВГУСТ","Јавне зелене површине","Гаџин Хан-Трг Драгутина Матића: П1-81","11.30",{"$f":"IF($E501=0, \" \", VLOOKUP($E501, 'Cenovnik 2'!$A$2:$D$411, 2, FALSE))","v":"Моторна косачица за траву (спортски терени)"},{"$f":"IF($E501=0, \" \", VLOOKUP($E501, 'Cenovnik 2'!$A$2:$D$411, 3, FALSE))","v":"m2"},{"$f":"IF($E501=0, \" \", VLOOKUP($E501, 'Cenovnik 2'!$A$2:$D$411, 4, FALSE))","v":2.13},162,345.06,"JZP","11","ДА",null,null,null,null,{"$f":"IF($C501=0, \" \", VLOOKUP($C501, DrzavniPuteviRed, 2, FALSE))","v":{"$error":"#NAME?"}},1130,"113",{"$f":"IF(VLOOKUP($E501,[0]!ProveraPDV,2,FALSE)=TRUE,$J501,)","v":{"$error":"#N/A"}},{"$f":"IF(VLOOKUP($E501,liste!$A$31:$B$818,2,FALSE)=TRUE,#REF!,)","v":{"$error":"#N/A"}},{"$error":"#NAME?"},{"$f":"INDEX('Cenovnik 2'!$G$2:$G$411,MATCH('Plan unos i pregled'!$E501,Pozicije,0))","v":"nebitno"}]
["2025.","АВГУСТ","Јавне зелене површине","Гаџин Хан-Трг Драгутина Матића: П 2-81","11.30",{"$f":"IF($E502=0, \" \", VLOOKUP($E502, 'Cenovnik 2'!$A$2:$D$411, 2, FALSE))","v":"Моторна косачица за траву (спортски терени)"},{"$f":"IF($E502=0, \" \", VLOOKUP($E502, 'Cenovnik 2'!$A$2:$D$411, 3, FALSE))","v":"m2"},{"$f":"IF($E502=0, \" \", VLOOKUP($E502, 'Cenovnik 2'!$A$2:$D$411, 4, FALSE))","v":2.13},162,345.06,"JZP","11","ДА",null,null,null,null,{"$f":"IF($C502=0, \" \", VLOOKUP($C502, DrzavniPuteviRed, 2, FALSE))","v":{"$error":"#NAME?"}},1130,"113",{"$f":"IF(VLOOKUP($E502,[0]!ProveraPDV,2,FALSE)=TRUE,$J502,)","v":{"$error":"#N/A"}},{"$f":"IF(VLOOKUP($E502,liste!$A$31:$B$818,2,FALSE)=TRUE,#REF!,)","v":{"$error":"#N/A"}},{"$error":"#NAME?"},{"$f":"INDEX('Cenovnik 2'!$G$2:$G$411,MATCH('Plan unos i pregled'!$E502,Pozicije,0))","v":"nebitno"}]
["2025.","АВГУСТ","Јавне зелене површине","Гаџин Хан-Трг Драгутина Матића: П 3-81","11.30",{"$f":"IF($E503=0, \" \", VLOOKUP($E503, 'Cenovnik 2'!$A$2:$D$411, 2, FALSE))","v":"Моторна косачица за траву (спортски терени)"},{"$f":"IF($E503=0, \" \", VLOOKUP($E503, 'Cenovnik 2'!$A$2:$D$411, 3, FALSE))","v":"m2"},{"$f":"IF($E503=0, \" \", VLOOKUP($E503, 'Cenovnik 2'!$A$2:$D$411, 4, FALSE))","v":2.13},162,345.06,"JZP","11","ДА",null,null,null,null,{"$f":"IF($C503=0, \" \", VLOOKUP($C503, DrzavniPuteviRed, 2, FALSE))","v":{"$error":"#NAME?"}},1130,"113",{"$f":"IF(VLOOKUP($E503,[0]!ProveraPDV,2,FALSE)=TRUE,$J503,)","v":{"$error":"#N/A"}},{"$f":"IF(VLOOKUP($E503,liste!$A$31:$B$818,2,FALSE)=TRUE,#REF!,)","v":{"$error":"#N/A"}},{"$error":"#NAME?"},{"$f":"INDEX('Cenovnik 2'!$G$2:$G$411,MATCH('Plan unos i pregled'!$E503,Pozicije,0))","v":"nebitno"}]
["2025.","АВГУСТ","Јавне зелене површине","Гаџин Хан-Трг Драгутина Матића: П 4-81","11.30",{"$f":"IF($E504=0, \" \", VLOOKUP($E504, 'Cenovnik 2'!$A$2:$D$411, 2, FALSE))","v":"Моторна косачица за траву (спортски терени)"},{"$f":"IF($E504=0, \" \", VLOOKUP($E504, 'Cenovnik 2'!$A$2:$D$411, 3, FALSE))","v":"m2"},{"$f":"IF($E504=0, \" \", VLOOKUP($E504, 'Cenovnik 2'!$A$2:$D$411, 4, FALSE))","v":2.13},162,345.06,"JZP","11","ДА",null,null,null,null,{"$f":"IF($C504=0, \" \", VLOOKUP($C504, DrzavniPuteviRed, 2, FALSE))","v":{"$error":"#NAME?"}},{"$f":"IF($E504=0, \" \", VLOOKUP($E504, SifrePozicijaBezTacke, 2, FALSE))","v":1130},"113",{"$f":"IF(VLOOKUP($E504,[0]!ProveraPDV,2,FALSE)=TRUE,$J504,)","v":{"$error":"#N/A"}},{"$f":"IF(VLOOKUP($E504,liste!$A$31:$B$818,2,FALSE)=TRUE,#REF!,)","v":{"$error":"#N/A"}},{"$error":"#NAME?"},{"$f":"INDEX('Cenovnik 2'!$G$2:$G$411,MATCH('Plan unos i pregled'!$E504,Pozicije,0))","v":"nebitno"}]
["2025.","АВГУСТ","Јавне зелене површине","Гаџин Хан-Трг Драгутина Матића: П 5-56","11.30",{"$f":"IF($E505=0, \" \", VLOOKUP($E505, 'Cenovnik 2'!$A$2:$D$411, 2, FALSE))","v":"Моторна косачица за траву (спортски терени)"},{"$f":"IF($E505=0, \" \", VLOOKUP($E505, 'Cenovnik 2'!$A$2:$D$411, 3, FALSE))","v":"m2"},{"$f":"IF($E505=0, \" \", VLOOKUP($E505, 'Cenovnik 2'!$A$2:$D$411, 4, FALSE))","v":2.13},112,{"$f":"IF(ISNUMBER($H505), $H505*$I505, \"-\")","v":238.56},"JZP",{"$f":"TEXT(LEFT($E505,FIND(\".\",$E505&\".\")-1), \"00\")","v":"11"},"ДА",null,null,null,null,{"$f":"IF($C505=0, \" \", VLOOKUP($C505, DrzavniPuteviRed, 2, FALSE))","v":{"$error":"#NAME?"}},1130,{"$f":"LEFT($S505, 3)","v":"113"},{"$f":"IF(VLOOKUP($E505,[0]!ProveraPDV,2,FALSE)=TRUE,$J505,)","v":{"$error":"#N/A"}},{"$f":"IF(VLOOKUP($E505,liste!$A$31:$B$818,2,FALSE)=TRUE,#REF!,)","v":{"$error":"#N/A"}},{"$f":"R505&\"-\"&C505","v":{"$error":"#NAME?"}},{"$f":"INDEX('Cenovnik 2'!$G$2:$G$411,MATCH('Plan unos i pregled'!$E505,Pozicije,0))","v":"nebitno"}]
["2025.","АВГУСТ","Јавне зелене површине","Гаџин Хан-ОШ Витко и Света: П 1-435","11.30",{"$f":"IF($E506=0, \" \", VLOOKUP($E506, 'Cenovnik 2'!$A$2:$D$411, 2, FALSE))","v":"Моторна косачица за траву (спортски терени)"},{"$f":"IF($E506=0, \" \", VLOOKUP($E506, 'Cenovnik 2'!$A$2:$D$411, 3, FALSE))","v":"m2"},{"$f":"IF($E506=0, \" \", VLOOKUP($E506, 'Cenovnik 2'!$A$2:$D$411, 4, FALSE))","v":2.13},870,1853.1,"JZP","11","ДА",null,null,null,null,{"$f":"IF($C506=0, \" \", VLOOKUP($C506, DrzavniPuteviRed, 2, FALSE))","v":{"$error":"#NAME?"}},1130,"113",{"$f":"IF(VLOOKUP($E506,[0]!ProveraPDV,2,FALSE)=TRUE,$J506,)","v":{"$error":"#N/A"}},{"$f":"IF(VLOOKUP($E506,liste!$A$31:$B$818,2,FALSE)=TRUE,#REF!,)","v":{"$error":"#N/A"}},{"$error":"#NAME?"},{"$f":"INDEX('Cenovnik 2'!$G$2:$G$411,MATCH('Plan unos i pregled'!$E506,Pozicije,0))","v":"nebitno"}]
["2025.","АВГУСТ","Јавне зелене површине","Гаџин Хан-Кеј: П 2-4326","4.6",{"$f":"IF($E507=0, \" \", VLOOKUP($E507, 'Cenovnik 2'!$A$2:$D$411, 2, FALSE))","v":"Кошење парковског травњака тримером"},{"$f":"IF($E507=0, \" \", VLOOKUP($E507, 'Cenovnik 2'!$A$2:$D$411, 3, FALSE))","v":"m2"},{"$f":"IF($E507=0, \" \", VLOOKUP($E507, 'Cenovnik 2'!$A$2:$D$411, 4, FALSE))","v":6.5},606,3939,"JZP","04","ДА",null,null,null,null,{"$f":"IF($C507=0, \" \", VLOOKUP($C507, DrzavniPuteviRed, 2, FALSE))","v":{"$error":"#NAME?"}},46,"46",{"$f":"IF(VLOOKUP($E507,[0]!ProveraPDV,2,FALSE)=TRUE,$J507,)","v":{"$error":"#N/A"}},{"$f":"IF(VLOOKUP($E507,liste!$A$31:$B$818,2,FALSE)=TRUE,#REF!,)","v":{"$error":"#N/A"}},{"$error":"#NAME?"},{"$f":"INDEX('Cenovnik 2'!$G$2:$G$411,MATCH('Plan unos i pregled'!$E507,Pozicije,0))","v":"nebitno"}]
["2025.","АВГУСТ","Јавне зелене површине","Гаџин Хан-ОШ Витко и Света: П 3-334","4.6",{"$f":"IF($E508=0, \" \", VLOOKUP($E508, 'Cenovnik 2'!$A$2:$D$411, 2, FALSE))","v":"Кошење парковског травњака тримером"},{"$f":"IF($E508=0, \" \", VLOOKUP($E508, 'Cenovnik 2'!$A$2:$D$411, 3, FALSE))","v":"m2"},{"$f":"IF($E508=0, \" \", VLOOKUP($E508, 'Cenovnik 2'!$A$2:$D$411, 4, FALSE))","v":6.5},668,4342,"JZP","04","ДА",null,null,null,null,{"$f":"IF($C508=0, \" \", VLOOKUP($C508, DrzavniPuteviRed, 2, FALSE))","v":{"$error":"#NAME?"}},46,"46",{"$f":"IF(VLOOKUP($E508,[0]!ProveraPDV,2,FALSE)=TRUE,$J508,)","v":{"$error":"#N/A"}},{"$f":"IF(VLOOKUP($E508,liste!$A$31:$B$818,2,FALSE)=TRUE,#REF!,)","v":{"$error":"#N/A"}},{"$error":"#NAME?"},{"$f":"INDEX('Cenovnik 2'!$G$2:$G$411,MATCH('Plan unos i pregled'!$E508,Pozicije,0))","v":"nebitno"}]
["2025.","АВГУСТ","Јавне зелене површине","Гаџин Хан-Спортска Хала: П 1-325","4.6",{"$f":"IF($E509=0, \" \", VLOOKUP($E509, 'Cenovnik 2'!$A$2:$D$411, 2, FALSE))","v":"Кошење парковског травњака тримером"},{"$f":"IF($E509=0, \" \", VLOOKUP($E509, 'Cenovnik 2'!$A$2:$D$411, 3, FALSE))","v":"m2"},{"$f":"IF($E509=0, \" \", VLOOKUP($E509, 'Cenovnik 2'!$A$2:$D$411, 4, FALSE))","v":6.5},650,4225,"JZP","04","ДА",null,null,null,null,{"$f":"IF($C509=0, \" \", VLOOKUP($C509, DrzavniPuteviRed, 2, FALSE))","v":{"$error":"#NAME?"}},46,"46",{"$f":"IF(VLOOKUP($E509,[0]!ProveraPDV,2,FALSE)=TRUE,$J509,)","v":{"$error":"#N/A"}},{"$f":"IF(VLOOKUP($E509,liste!$A$31:$B$818,2,FALSE)=TRUE,#REF!,)","v":{"$error":"#N/A"}},{"$error":"#NAME?"},{"$f":"INDEX('Cenovnik 2'!$G$2:$G$411,MATCH('Plan unos i pregled'!$E509,Pozicije,0))","v":"nebitno"}]
["2025.","АВГУСТ","Јавне зелене површине","Гаџин Хан-Спортска Хала: П 2-1116","4.6",{"$f":"IF($E510=0, \" \", VLOOKUP($E510, 'Cenovnik 2'!$A$2:$D$411, 2, FALSE))","v":"Кошење парковског травњака тримером"},{"$f":"IF($E510=0, \" \", VLOOKUP($E510, 'Cenovnik 2'!$A$2:$D$411, 3, FALSE))","v":"m2"},{"$f":"IF($E510=0, \" \", VLOOKUP($E510, 'Cenovnik 2'!$A$2:$D$411, 4, FALSE))","v":6.5},2232,14508,"JZP","04","ДА",null,null,null,null,{"$f":"IF($C510=0, \" \", VLOOKUP($C510, DrzavniPuteviRed, 2, FALSE))","v":{"$error":"#NAME?"}},46,"46",{"$f":"IF(VLOOKUP($E510,[0]!ProveraPDV,2,FALSE)=TRUE,$J510,)","v":{"$error":"#N/A"}},{"$f":"IF(VLOOKUP($E510,liste!$A$31:$B$818,2,FALSE)=TRUE,#REF!,)","v":{"$error":"#N/A"}},{"$error":"#NAME?"},{"$f":"INDEX('Cenovnik 2'!$G$2:$G$411,MATCH('Plan unos i pregled'!$E510,Pozicije,0))","v":"nebitno"}]
["2025.","АВГУСТ","Јавне зелене површине","Марина Кутина-Црква Св. Петке: П1-1100","4.6",{"$f":"IF($E511=0, \" \", VLOOKUP($E511, 'Cenovnik 2'!$A$2:$D$411, 2, FALSE))","v":"Кошење парковског травњака тримером"},{"$f":"IF($E511=0, \" \", VLOOKUP($E511, 'Cenovnik 2'!$A$2:$D$411, 3, FALSE))","v":"m2"},{"$f":"IF($E511=0, \" \", VLOOKUP($E511, 'Cenovnik 2'!$A$2:$D$411, 4, FALSE))","v":6.5},1100,7150,"JZP","04","ДА",null,null,null,null,{"$f":"IF($C511=0, \" \", VLOOKUP($C511, DrzavniPuteviRed, 2, FALSE))","v":{"$error":"#NAME?"}},46,"46",{"$f":"IF(VLOOKUP($E511,[0]!ProveraPDV,2,FALSE)=TRUE,$J511,)","v":{"$error":"#N/A"}},{"$f":"IF(VLOOKUP($E511,liste!$A$31:$B$818,2,FALSE)=TRUE,#REF!,)","v":{"$error":"#N/A"}},{"$error":"#NAME?"},{"$f":"INDEX('Cenovnik 2'!$G$2:$G$411,MATCH('Plan unos i pregled'!$E511,Pozicije,0))","v":"nebitno"}]
["2025.","АВГУСТ","Јавне зелене површине","Велики Крчимир-Црква: П1-3326","4.26",{"$f":"IF($E512=0, \" \", VLOOKUP($E512, 'Cenovnik 2'!$A$2:$D$411, 2, FALSE))","v":"Кошење траве на слободним површинама косачицом прикљученом на трактор"},{"$f":"IF($E512=0, \" \", VLOOKUP($E512, 'Cenovnik 2'!$A$2:$D$411, 3, FALSE))","v":"m2"},{"$f":"IF($E512=0, \" \", VLOOKUP($E512, 'Cenovnik 2'!$A$2:$D$411, 4, FALSE))","v":4.3499999999999996},3326,14468.099999999999,"JZP","04","ДА",null,null,null,null,{"$f":"IF($C512=0, \" \", VLOOKUP($C512, DrzavniPuteviRed, 2, FALSE))","v":{"$error":"#NAME?"}},426,"426",{"$f":"IF(VLOOKUP($E512,[0]!ProveraPDV,2,FALSE)=TRUE,$J512,)","v":{"$error":"#N/A"}},{"$f":"IF(VLOOKUP($E512,liste!$A$31:$B$818,2,FALSE)=TRUE,#REF!,)","v":{"$error":"#N/A"}},{"$error":"#NAME?"},{"$f":"INDEX('Cenovnik 2'!$G$2:$G$411,MATCH('Plan unos i pregled'!$E512,Pozicije,0))","v":"nebitno"}]
["2025.","АВГУСТ","Јавне зелене површине","Велики Крчимир-Црква: П1-3326","4.6",{"$f":"IF($E513=0, \" \", VLOOKUP($E513, 'Cenovnik 2'!$A$2:$D$411, 2, FALSE))","v":"Кошење парковског травњака тримером"},{"$f":"IF($E513=0, \" \", VLOOKUP($E513, 'Cenovnik 2'!$A$2:$D$411, 3, FALSE))","v":"m2"},{"$f":"IF($E513=0, \" \", VLOOKUP($E513, 'Cenovnik 2'!$A$2:$D$411, 4, FALSE))","v":6.5},3326,21619,"JZP","04","ДА",null,null,null,null,{"$f":"IF($C513=0, \" \", VLOOKUP($C513, DrzavniPuteviRed, 2, FALSE))","v":{"$error":"#NAME?"}},46,"46",{"$f":"IF(VLOOKUP($E513,[0]!ProveraPDV,2,FALSE)=TRUE,$J513,)","v":{"$error":"#N/A"}},{"$f":"IF(VLOOKUP($E513,liste!$A$31:$B$818,2,FALSE)=TRUE,#REF!,)","v":{"$error":"#N/A"}},{"$error":"#NAME?"},{"$f":"INDEX('Cenovnik 2'!$G$2:$G$411,MATCH('Plan unos i pregled'!$E513,Pozicije,0))","v":"nebitno"}]
["2025.","АВГУСТ","Јавне зелене површине","Велики Крчимир-Школа: П1-1839","4.6",{"$f":"IF($E514=0, \" \", VLOOKUP($E514, 'Cenovnik 2'!$A$2:$D$411, 2, FALSE))","v":"Кошење парковског травњака тримером"},{"$f":"IF($E514=0, \" \", VLOOKUP($E514, 'Cenovnik 2'!$A$2:$D$411, 3, FALSE))","v":"m2"},{"$f":"IF($E514=0, \" \", VLOOKUP($E514, 'Cenovnik 2'!$A$2:$D$411, 4, FALSE))","v":6.5},1839,11953.5,"JZP","04","ДА",null,null,null,null,{"$f":"IF($C514=0, \" \", VLOOKUP($C514, DrzavniPuteviRed, 2, FALSE))","v":{"$error":"#NAME?"}},46,"46",{"$f":"IF(VLOOKUP($E514,[0]!ProveraPDV,2,FALSE)=TRUE,$J514,)","v":{"$error":"#N/A"}},{"$f":"IF(VLOOKUP($E514,liste!$A$31:$B$818,2,FALSE)=TRUE,#REF!,)","v":{"$error":"#N/A"}},{"$error":"#NAME?"},{"$f":"INDEX('Cenovnik 2'!$G$2:$G$411,MATCH('Plan unos i pregled'!$E514,Pozicije,0))","v":"nebitno"}]
["2025.","АВГУСТ","Јавне зелене површине","Велики Крчимир-Школа: П2-411","4.6",{"$f":"IF($E515=0, \" \", VLOOKUP($E515, 'Cenovnik 2'!$A$2:$D$411, 2, FALSE))","v":"Кошење парковског травњака тримером"},{"$f":"IF($E515=0, \" \", VLOOKUP($E515, 'Cenovnik 2'!$A$2:$D$411, 3, FALSE))","v":"m2"},{"$f":"IF($E515=0, \" \", VLOOKUP($E515, 'Cenovnik 2'!$A$2:$D$411, 4, FALSE))","v":6.5},411,2671.5,"JZP","04","ДА",null,null,null,null,{"$f":"IF($C515=0, \" \", VLOOKUP($C515, DrzavniPuteviRed, 2, FALSE))","v":{"$error":"#NAME?"}},46,"46",{"$f":"IF(VLOOKUP($E515,[0]!ProveraPDV,2,FALSE)=TRUE,$J515,)","v":{"$error":"#N/A"}},{"$f":"IF(VLOOKUP($E515,liste!$A$31:$B$818,2,FALSE)=TRUE,#REF!,)","v":{"$error":"#N/A"}},{"$error":"#NAME?"},{"$f":"INDEX('Cenovnik 2'!$G$2:$G$411,MATCH('Plan unos i pregled'!$E515,Pozicije,0))","v":"nebitno"}]
["2025.","АВГУСТ","Јавне зелене површине","Заплањска Топоница-Школа: П1-4834","4.26",{"$f":"IF($E516=0, \" \", VLOOKUP($E516, 'Cenovnik 2'!$A$2:$D$411, 2, FALSE))","v":"Кошење траве на слободним површинама косачицом прикљученом на трактор"},{"$f":"IF($E516=0, \" \", VLOOKUP($E516, 'Cenovnik 2'!$A$2:$D$411, 3, FALSE))","v":"m2"},{"$f":"IF($E516=0, \" \", VLOOKUP($E516, 'Cenovnik 2'!$A$2:$D$411, 4, FALSE))","v":4.3499999999999996},4834,21027.899999999998,"JZP","04","ДА",null,null,null,null,{"$f":"IF($C516=0, \" \", VLOOKUP($C516, DrzavniPuteviRed, 2, FALSE))","v":{"$error":"#NAME?"}},426,"426",{"$f":"IF(VLOOKUP($E516,[0]!ProveraPDV,2,FALSE)=TRUE,$J516,)","v":{"$error":"#N/A"}},{"$f":"IF(VLOOKUP($E516,liste!$A$31:$B$818,2,FALSE)=TRUE,#REF!,)","v":{"$error":"#N/A"}},{"$error":"#NAME?"},{"$f":"INDEX('Cenovnik 2'!$G$2:$G$411,MATCH('Plan unos i pregled'!$E516,Pozicije,0))","v":"nebitno"}]
["2025.","АВГУСТ","Јавне зелене површине","Заплањска Топоница-Вртић \"Прва радост\": П1-1493","4.6",{"$f":"IF($E517=0, \" \", VLOOKUP($E517, 'Cenovnik 2'!$A$2:$D$411, 2, FALSE))","v":"Кошење парковског травњака тримером"},{"$f":"IF($E517=0, \" \", VLOOKUP($E517, 'Cenovnik 2'!$A$2:$D$411, 3, FALSE))","v":"m2"},{"$f":"IF($E517=0, \" \", VLOOKUP($E517, 'Cenovnik 2'!$A$2:$D$411, 4, FALSE))","v":6.5},1493,9704.5,"JZP","04","ДА",null,null,null,null,{"$f":"IF($C517=0, \" \", VLOOKUP($C517, DrzavniPuteviRed, 2, FALSE))","v":{"$error":"#NAME?"}},46,"46",{"$f":"IF(VLOOKUP($E517,[0]!ProveraPDV,2,FALSE)=TRUE,$J517,)","v":{"$error":"#N/A"}},{"$f":"IF(VLOOKUP($E517,liste!$A$31:$B$818,2,FALSE)=TRUE,#REF!,)","v":{"$error":"#N/A"}},{"$error":"#NAME?"},{"$f":"INDEX('Cenovnik 2'!$G$2:$G$411,MATCH('Plan unos i pregled'!$E517,Pozicije,0))","v":"nebitno"}]
["2025.","АВГУСТ","Јавне зелене површине","Заплањска Топоница-Амбуланта: П1-633","4.6",{"$f":"IF($E518=0, \" \", VLOOKUP($E518, 'Cenovnik 2'!$A$2:$D$411, 2, FALSE))","v":"Кошење парковског травњака тримером"},{"$f":"IF($E518=0, \" \", VLOOKUP($E518, 'Cenovnik 2'!$A$2:$D$411, 3, FALSE))","v":"m2"},{"$f":"IF($E518=0, \" \", VLOOKUP($E518, 'Cenovnik 2'!$A$2:$D$411, 4, FALSE))","v":6.5},529,3438.5,"JZP","04","ДА",null,null,null,null,{"$f":"IF($C518=0, \" \", VLOOKUP($C518, DrzavniPuteviRed, 2, FALSE))","v":{"$error":"#NAME?"}},46,"46",{"$f":"IF(VLOOKUP($E518,[0]!ProveraPDV,2,FALSE)=TRUE,$J518,)","v":{"$error":"#N/A"}},{"$f":"IF(VLOOKUP($E518,liste!$A$31:$B$818,2,FALSE)=TRUE,#REF!,)","v":{"$error":"#N/A"}},{"$error":"#NAME?"},{"$f":"INDEX('Cenovnik 2'!$G$2:$G$411,MATCH('Plan unos i pregled'!$E518,Pozicije,0))","v":"nebitno"}]
["2025.","АВГУСТ","Јавне зелене површине","Заплањска Топоница-Амбуланта: П1-633","4.6",{"$f":"IF($E519=0, \" \", VLOOKUP($E519, 'Cenovnik 2'!$A$2:$D$411, 2, FALSE))","v":"Кошење парковског травњака тримером"},{"$f":"IF($E519=0, \" \", VLOOKUP($E519, 'Cenovnik 2'!$A$2:$D$411, 3, FALSE))","v":"m2"},{"$f":"IF($E519=0, \" \", VLOOKUP($E519, 'Cenovnik 2'!$A$2:$D$411, 4, FALSE))","v":6.5},633,4114.5,"JZP","04","ДА",null,null,null,null,{"$f":"IF($C519=0, \" \", VLOOKUP($C519, DrzavniPuteviRed, 2, FALSE))","v":{"$error":"#NAME?"}},46,"46",{"$f":"IF(VLOOKUP($E519,[0]!ProveraPDV,2,FALSE)=TRUE,$J519,)","v":{"$error":"#N/A"}},{"$f":"IF(VLOOKUP($E519,liste!$A$31:$B$818,2,FALSE)=TRUE,#REF!,)","v":{"$error":"#N/A"}},{"$error":"#NAME?"},{"$f":"INDEX('Cenovnik 2'!$G$2:$G$411,MATCH('Plan unos i pregled'!$E519,Pozicije,0))","v":"nebitno"}]
["2025.","АВГУСТ","Јавне зелене површине","Доњи Душник-Туристичка организација: П 1-135","4.6",{"$f":"IF($E520=0, \" \", VLOOKUP($E520, 'Cenovnik 2'!$A$2:$D$411, 2, FALSE))","v":"Кошење парковског травњака тримером"},{"$f":"IF($E520=0, \" \", VLOOKUP($E520, 'Cenovnik 2'!$A$2:$D$411, 3, FALSE))","v":"m2"},{"$f":"IF($E520=0, \" \", VLOOKUP($E520, 'Cenovnik 2'!$A$2:$D$411, 4, FALSE))","v":6.5},270,1755,"JZP","04","ДА",null,null,null,null,{"$f":"IF($C520=0, \" \", VLOOKUP($C520, DrzavniPuteviRed, 2, FALSE))","v":{"$error":"#NAME?"}},46,"46",{"$f":"IF(VLOOKUP($E520,[0]!ProveraPDV,2,FALSE)=TRUE,$J520,)","v":{"$error":"#N/A"}},{"$f":"IF(VLOOKUP($E520,liste!$A$31:$B$818,2,FALSE)=TRUE,#REF!,)","v":{"$error":"#N/A"}},{"$error":"#NAME?"},{"$f":"INDEX('Cenovnik 2'!$G$2:$G$411,MATCH('Plan unos i pregled'!$E520,Pozicije,0))","v":"nebitno"}]
["2025.","АВГУСТ","Јавне зелене површине","Доњи Душник-Туристичка организација: П 2-176","4.6",{"$f":"IF($E521=0, \" \", VLOOKUP($E521, 'Cenovnik 2'!$A$2:$D$411, 2, FALSE))","v":"Кошење парковског травњака тримером"},{"$f":"IF($E521=0, \" \", VLOOKUP($E521, 'Cenovnik 2'!$A$2:$D$411, 3, FALSE))","v":"m2"},{"$f":"IF($E521=0, \" \", VLOOKUP($E521, 'Cenovnik 2'!$A$2:$D$411, 4, FALSE))","v":6.5},352,2288,"JZP","04","ДА",null,null,null,null,{"$f":"IF($C521=0, \" \", VLOOKUP($C521, DrzavniPuteviRed, 2, FALSE))","v":{"$error":"#NAME?"}},46,"46",{"$f":"IF(VLOOKUP($E521,[0]!ProveraPDV,2,FALSE)=TRUE,$J521,)","v":{"$error":"#N/A"}},{"$f":"IF(VLOOKUP($E521,liste!$A$31:$B$818,2,FALSE)=TRUE,#REF!,)","v":{"$error":"#N/A"}},{"$error":"#NAME?"},{"$f":"INDEX('Cenovnik 2'!$G$2:$G$411,MATCH('Plan unos i pregled'!$E521,Pozicije,0))","v":"nebitno"}]
["2025.","АВГУСТ","Јавне зелене површине","Доњи Душник-Туристичка организација: П 3-337","4.6",{"$f":"IF($E522=0, \" \", VLOOKUP($E522, 'Cenovnik 2'!$A$2:$D$411, 2, FALSE))","v":"Кошење парковског травњака тримером"},{"$f":"IF($E522=0, \" \", VLOOKUP($E522, 'Cenovnik 2'!$A$2:$D$411, 3, FALSE))","v":"m2"},{"$f":"IF($E522=0, \" \", VLOOKUP($E522, 'Cenovnik 2'!$A$2:$D$411, 4, FALSE))","v":6.5},674,4381,"JZP","04","ДА",null,null,null,null,{"$f":"IF($C522=0, \" \", VLOOKUP($C522, DrzavniPuteviRed, 2, FALSE))","v":{"$error":"#NAME?"}},46,"46",{"$f":"IF(VLOOKUP($E522,[0]!ProveraPDV,2,FALSE)=TRUE,$J522,)","v":{"$error":"#N/A"}},{"$f":"IF(VLOOKUP($E522,liste!$A$31:$B$818,2,FALSE)=TRUE,#REF!,)","v":{"$error":"#N/A"}},{"$error":"#NAME?"},{"$f":"INDEX('Cenovnik 2'!$G$2:$G$411,MATCH('Plan unos i pregled'!$E522,Pozicije,0))","v":"nebitno"}]
["2025.","АВГУСТ","Јавне зелене површине","Доњи Душник-Туристичка организација: П 4-386","11.30",{"$f":"IF($E523=0, \" \", VLOOKUP($E523, 'Cenovnik 2'!$A$2:$D$411, 2, FALSE))","v":"Моторна косачица за траву (спортски терени)"},{"$f":"IF($E523=0, \" \", VLOOKUP($E523, 'Cenovnik 2'!$A$2:$D$411, 3, FALSE))","v":"m2"},{"$f":"IF($E523=0, \" \", VLOOKUP($E523, 'Cenovnik 2'!$A$2:$D$411, 4, FALSE))","v":2.13},772,1644.36,"JZP","11","ДА",null,null,null,null,{"$f":"IF($C523=0, \" \", VLOOKUP($C523, DrzavniPuteviRed, 2, FALSE))","v":{"$error":"#NAME?"}},1130,"113",{"$f":"IF(VLOOKUP($E523,[0]!ProveraPDV,2,FALSE)=TRUE,$J523,)","v":{"$error":"#N/A"}},{"$f":"IF(VLOOKUP($E523,liste!$A$31:$B$818,2,FALSE)=TRUE,#REF!,)","v":{"$error":"#N/A"}},{"$error":"#NAME?"},{"$f":"INDEX('Cenovnik 2'!$G$2:$G$411,MATCH('Plan unos i pregled'!$E523,Pozicije,0))","v":"nebitno"}]
["2025.","АВГУСТ","Јавне зелене површине","Доњи Душник-Туристичка организација: П 5-762","11.30",{"$f":"IF($E524=0, \" \", VLOOKUP($E524, 'Cenovnik 2'!$A$2:$D$411, 2, FALSE))","v":"Моторна косачица за траву (спортски терени)"},{"$f":"IF($E524=0, \" \", VLOOKUP($E524, 'Cenovnik 2'!$A$2:$D$411, 3, FALSE))","v":"m2"},{"$f":"IF($E524=0, \" \", VLOOKUP($E524, 'Cenovnik 2'!$A$2:$D$411, 4, FALSE))","v":2.13},1524,3246.12,"JZP","11","ДА",null,null,null,null,{"$f":"IF($C524=0, \" \", VLOOKUP($C524, DrzavniPuteviRed, 2, FALSE))","v":{"$error":"#NAME?"}},1130,"113",{"$f":"IF(VLOOKUP($E524,[0]!ProveraPDV,2,FALSE)=TRUE,$J524,)","v":{"$error":"#N/A"}},{"$f":"IF(VLOOKUP($E524,liste!$A$31:$B$818,2,FALSE)=TRUE,#REF!,)","v":{"$error":"#N/A"}},{"$error":"#NAME?"},{"$f":"INDEX('Cenovnik 2'!$G$2:$G$411,MATCH('Plan unos i pregled'!$E524,Pozicije,0))","v":"nebitno"}]
["2025.","АВГУСТ","Јавне зелене површине","Доњи Душник-Туристичка организација: П 6-974","4.6",{"$f":"IF($E525=0, \" \", VLOOKUP($E525, 'Cenovnik 2'!$A$2:$D$411, 2, FALSE))","v":"Кошење парковског травњака тримером"},{"$f":"IF($E525=0, \" \", VLOOKUP($E525, 'Cenovnik 2'!$A$2:$D$411, 3, FALSE))","v":"m2"},{"$f":"IF($E525=0, \" \", VLOOKUP($E525, 'Cenovnik 2'!$A$2:$D$411, 4, FALSE))","v":6.5},1948,12662,"JZP","04","ДА",null,null,null,null,{"$f":"IF($C525=0, \" \", VLOOKUP($C525, DrzavniPuteviRed, 2, FALSE))","v":{"$error":"#NAME?"}},46,"46",{"$f":"IF(VLOOKUP($E525,[0]!ProveraPDV,2,FALSE)=TRUE,$J525,)","v":{"$error":"#N/A"}},{"$f":"IF(VLOOKUP($E525,liste!$A$31:$B$818,2,FALSE)=TRUE,#REF!,)","v":{"$error":"#N/A"}},{"$error":"#NAME?"},{"$f":"INDEX('Cenovnik 2'!$G$2:$G$411,MATCH('Plan unos i pregled'!$E525,Pozicije,0))","v":"nebitno"}]
["2025.","АВГУСТ","Јавне зелене површине","Доњи Душник -Ветеринарска станица : П 1-300","4.6",{"$f":"IF($E526=0, \" \", VLOOKUP($E526, 'Cenovnik 2'!$A$2:$D$411, 2, FALSE))","v":"Кошење парковског травњака тримером"},{"$f":"IF($E526=0, \" \", VLOOKUP($E526, 'Cenovnik 2'!$A$2:$D$411, 3, FALSE))","v":"m2"},{"$f":"IF($E526=0, \" \", VLOOKUP($E526, 'Cenovnik 2'!$A$2:$D$411, 4, FALSE))","v":6.5},300,1950,"JZP","04","ДА",null,null,null,null,{"$f":"IF($C526=0, \" \", VLOOKUP($C526, DrzavniPuteviRed, 2, FALSE))","v":{"$error":"#NAME?"}},46,"46",{"$f":"IF(VLOOKUP($E526,[0]!ProveraPDV,2,FALSE)=TRUE,$J526,)","v":{"$error":"#N/A"}},{"$f":"IF(VLOOKUP($E526,liste!$A$31:$B$818,2,FALSE)=TRUE,#REF!,)","v":{"$error":"#N/A"}},{"$error":"#NAME?"},{"$f":"INDEX('Cenovnik 2'!$G$2:$G$411,MATCH('Plan unos i pregled'!$E526,Pozicije,0))","v":"nebitno"}]
["2025.","АВГУСТ","Јавне зелене површине","Доњи Душник -Ветеринарска станица : П 2-253","4.6",{"$f":"IF($E527=0, \" \", VLOOKUP($E527, 'Cenovnik 2'!$A$2:$D$411, 2, FALSE))","v":"Кошење парковског травњака тримером"},{"$f":"IF($E527=0, \" \", VLOOKUP($E527, 'Cenovnik 2'!$A$2:$D$411, 3, FALSE))","v":"m2"},{"$f":"IF($E527=0, \" \", VLOOKUP($E527, 'Cenovnik 2'!$A$2:$D$411, 4, FALSE))","v":6.5},253,1644.5,"JZP","04","ДА",null,null,null,null,{"$f":"IF($C527=0, \" \", VLOOKUP($C527, DrzavniPuteviRed, 2, FALSE))","v":{"$error":"#NAME?"}},46,"46",{"$f":"IF(VLOOKUP($E527,[0]!ProveraPDV,2,FALSE)=TRUE,$J527,)","v":{"$error":"#N/A"}},{"$f":"IF(VLOOKUP($E527,liste!$A$31:$B$818,2,FALSE)=TRUE,#REF!,)","v":{"$error":"#N/A"}},{"$error":"#NAME?"},{"$f":"INDEX('Cenovnik 2'!$G$2:$G$411,MATCH('Plan unos i pregled'!$E527,Pozicije,0))","v":"nebitno"}]
["2025.","АВГУСТ","Јавне зелене површине","Доњи Душник -Задружни дом-Дом културе: П 1-1922","4.26",{"$f":"IF($E528=0, \" \", VLOOKUP($E528, 'Cenovnik 2'!$A$2:$D$411, 2, FALSE))","v":"Кошење траве на слободним површинама косачицом прикљученом на трактор"},{"$f":"IF($E528=0, \" \", VLOOKUP($E528, 'Cenovnik 2'!$A$2:$D$411, 3, FALSE))","v":"m2"},{"$f":"IF($E528=0, \" \", VLOOKUP($E528, 'Cenovnik 2'!$A$2:$D$411, 4, FALSE))","v":4.3499999999999996},1922,8360.6999999999989,"JZP","04","ДА",null,null,null,null,{"$f":"IF($C528=0, \" \", VLOOKUP($C528, DrzavniPuteviRed, 2, FALSE))","v":{"$error":"#NAME?"}},426,"426",{"$f":"IF(VLOOKUP($E528,[0]!ProveraPDV,2,FALSE)=TRUE,$J528,)","v":{"$error":"#N/A"}},{"$f":"IF(VLOOKUP($E528,liste!$A$31:$B$818,2,FALSE)=TRUE,#REF!,)","v":{"$error":"#N/A"}},{"$error":"#NAME?"},{"$f":"INDEX('Cenovnik 2'!$G$2:$G$411,MATCH('Plan unos i pregled'!$E528,Pozicije,0))","v":"nebitno"}]
["2025.","АВГУСТ","Јавне зелене површине","Горњи Душник-Основна школа: П 1-2320","4.6",{"$f":"IF($E529=0, \" \", VLOOKUP($E529, 'Cenovnik 2'!$A$2:$D$411, 2, FALSE))","v":"Кошење парковског травњака тримером"},{"$f":"IF($E529=0, \" \", VLOOKUP($E529, 'Cenovnik 2'!$A$2:$D$411, 3, FALSE))","v":"m2"},{"$f":"IF($E529=0, \" \", VLOOKUP($E529, 'Cenovnik 2'!$A$2:$D$411, 4, FALSE))","v":6.5},4640,30160,"JZP","04","ДА",null,null,null,null,{"$f":"IF($C529=0, \" \", VLOOKUP($C529, DrzavniPuteviRed, 2, FALSE))","v":{"$error":"#NAME?"}},46,"46",{"$f":"IF(VLOOKUP($E529,[0]!ProveraPDV,2,FALSE)=TRUE,$J529,)","v":{"$error":"#N/A"}},{"$f":"IF(VLOOKUP($E529,liste!$A$31:$B$818,2,FALSE)=TRUE,#REF!,)","v":{"$error":"#N/A"}},{"$error":"#NAME?"},{"$f":"INDEX('Cenovnik 2'!$G$2:$G$411,MATCH('Plan unos i pregled'!$E529,Pozicije,0))","v":"nebitno"}]
["2025.","АВГУСТ","Јавне зелене површине","Горњи Душник-Црква: П 1-2466","11.30",{"$f":"IF($E530=0, \" \", VLOOKUP($E530, 'Cenovnik 2'!$A$2:$D$411, 2, FALSE))","v":"Моторна косачица за траву (спортски терени)"},{"$f":"IF($E530=0, \" \", VLOOKUP($E530, 'Cenovnik 2'!$A$2:$D$411, 3, FALSE))","v":"m2"},{"$f":"IF($E530=0, \" \", VLOOKUP($E530, 'Cenovnik 2'!$A$2:$D$411, 4, FALSE))","v":2.13},4932,10505.16,"JZP","11","ДА",null,null,null,null,{"$f":"IF($C530=0, \" \", VLOOKUP($C530, DrzavniPuteviRed, 2, FALSE))","v":{"$error":"#NAME?"}},1130,"113",{"$f":"IF(VLOOKUP($E530,[0]!ProveraPDV,2,FALSE)=TRUE,$J530,)","v":{"$error":"#N/A"}},{"$f":"IF(VLOOKUP($E530,liste!$A$31:$B$818,2,FALSE)=TRUE,#REF!,)","v":{"$error":"#N/A"}},{"$error":"#NAME?"},{"$f":"INDEX('Cenovnik 2'!$G$2:$G$411,MATCH('Plan unos i pregled'!$E530,Pozicije,0))","v":"nebitno"}]
["2025.","АВГУСТ","Јавне зелене површине","Горњи Барбеш-Месна канцеларија, пошта: П1-819","4.6",{"$f":"IF($E531=0, \" \", VLOOKUP($E531, 'Cenovnik 2'!$A$2:$D$411, 2, FALSE))","v":"Кошење парковског травњака тримером"},{"$f":"IF($E531=0, \" \", VLOOKUP($E531, 'Cenovnik 2'!$A$2:$D$411, 3, FALSE))","v":"m2"},{"$f":"IF($E531=0, \" \", VLOOKUP($E531, 'Cenovnik 2'!$A$2:$D$411, 4, FALSE))","v":6.5},819,5323.5,"JZP","04","ДА",null,null,null,null,{"$f":"IF($C531=0, \" \", VLOOKUP($C531, DrzavniPuteviRed, 2, FALSE))","v":{"$error":"#NAME?"}},46,"46",{"$f":"IF(VLOOKUP($E531,[0]!ProveraPDV,2,FALSE)=TRUE,$J531,)","v":{"$error":"#N/A"}},{"$f":"IF(VLOOKUP($E531,liste!$A$31:$B$818,2,FALSE)=TRUE,#REF!,)","v":{"$error":"#N/A"}},{"$error":"#NAME?"},{"$f":"INDEX('Cenovnik 2'!$G$2:$G$411,MATCH('Plan unos i pregled'!$E531,Pozicije,0))","v":"nebitno"}]
["2025.","АВГУСТ","Јавне зелене површине","Горњи Барбеш-Дом Здравља: П1-288","4.6",{"$f":"IF($E532=0, \" \", VLOOKUP($E532, 'Cenovnik 2'!$A$2:$D$411, 2, FALSE))","v":"Кошење парковског травњака тримером"},{"$f":"IF($E532=0, \" \", VLOOKUP($E532, 'Cenovnik 2'!$A$2:$D$411, 3, FALSE))","v":"m2"},{"$f":"IF($E532=0, \" \", VLOOKUP($E532, 'Cenovnik 2'!$A$2:$D$411, 4, FALSE))","v":6.5},288,1872,"JZP","04","ДА",null,null,null,null,{"$f":"IF($C532=0, \" \", VLOOKUP($C532, DrzavniPuteviRed, 2, FALSE))","v":{"$error":"#NAME?"}},46,"46",{"$f":"IF(VLOOKUP($E532,[0]!ProveraPDV,2,FALSE)=TRUE,$J532,)","v":{"$error":"#N/A"}},{"$f":"IF(VLOOKUP($E532,liste!$A$31:$B$818,2,FALSE)=TRUE,#REF!,)","v":{"$error":"#N/A"}},{"$error":"#NAME?"},{"$f":"INDEX('Cenovnik 2'!$G$2:$G$411,MATCH('Plan unos i pregled'!$E532,Pozicije,0))","v":"nebitno"}]
["2025.","АВГУСТ","Јавне зелене површине","Горњи Барбеш-Основна Школа: П1-2720","4.6",{"$f":"IF($E533=0, \" \", VLOOKUP($E533, 'Cenovnik 2'!$A$2:$D$411, 2, FALSE))","v":"Кошење парковског травњака тримером"},{"$f":"IF($E533=0, \" \", VLOOKUP($E533, 'Cenovnik 2'!$A$2:$D$411, 3, FALSE))","v":"m2"},{"$f":"IF($E533=0, \" \", VLOOKUP($E533, 'Cenovnik 2'!$A$2:$D$411, 4, FALSE))","v":6.5},2720,17680,"JZP","04","ДА",null,null,null,null,{"$f":"IF($C533=0, \" \", VLOOKUP($C533, DrzavniPuteviRed, 2, FALSE))","v":{"$error":"#NAME?"}},46,"46",{"$f":"IF(VLOOKUP($E533,[0]!ProveraPDV,2,FALSE)=TRUE,$J533,)","v":{"$error":"#N/A"}},{"$f":"IF(VLOOKUP($E533,liste!$A$31:$B$818,2,FALSE)=TRUE,#REF!,)","v":{"$error":"#N/A"}},{"$error":"#NAME?"},{"$f":"INDEX('Cenovnik 2'!$G$2:$G$411,MATCH('Plan unos i pregled'!$E533,Pozicije,0))","v":"nebitno"}]
["2025.","АВГУСТ","Општински путеви","ОП 136-1 - Гаџин Хан - Доњи Душник","6.5.1",{"$f":"IF($E534=0, \" \", VLOOKUP($E534, 'Cenovnik 2'!$A$2:$D$411, 2, FALSE))","v":"Машински ископ одводних јаркова и корекција. Цена обухвата: чишћење јарка, планирање, утовар у камион и превоз на депонију. \n- Са одлагањем на страну"},{"$f":"IF($E534=0, \" \", VLOOKUP($E534, 'Cenovnik 2'!$A$2:$D$411, 3, FALSE))","v":"m"},{"$f":"IF($E534=0, \" \", VLOOKUP($E534, 'Cenovnik 2'!$A$2:$D$411, 4, FALSE))","v":100},3700,370000,"OP","06","ДА",null,null,null,null,{"$f":"IF($C534=0, \" \", VLOOKUP($C534, DrzavniPuteviRed, 2, FALSE))","v":{"$error":"#NAME?"}},651,"651",{"$f":"IF(VLOOKUP($E534,[0]!ProveraPDV,2,FALSE)=TRUE,$J534,)","v":{"$error":"#N/A"}},{"$f":"IF(VLOOKUP($E534,liste!$A$31:$B$818,2,FALSE)=TRUE,#REF!,)","v":{"$error":"#N/A"}},{"$error":"#NAME?"},{"$f":"INDEX('Cenovnik 2'!$G$2:$G$411,MATCH('Plan unos i pregled'!$E534,Pozicije,0))","v":"nebitno"}]
["2025.","АВГУСТ","Улице","Горње Драговље - Некатегорисан пут","11.3",{"$f":"IF($E535=0, \" \", VLOOKUP($E535, 'Cenovnik 2'!$A$2:$D$411, 2, FALSE))","v":"Комбинована машина CASE"},{"$f":"IF($E535=0, \" \", VLOOKUP($E535, 'Cenovnik 2'!$A$2:$D$411, 3, FALSE))","v":"час"},{"$f":"IF($E535=0, \" \", VLOOKUP($E535, 'Cenovnik 2'!$A$2:$D$411, 4, FALSE))","v":5405},5,27025,"Ul","11","ДА","кп.бр.7436/2 КО Горње Драговље",null,null,null,{"$f":"IF($C535=0, \" \", VLOOKUP($C535, DrzavniPuteviRed, 2, FALSE))","v":{"$error":"#NAME?"}},113,"113",{"$f":"IF(VLOOKUP($E535,[0]!ProveraPDV,2,FALSE)=TRUE,$J535,)","v":{"$error":"#N/A"}},{"$f":"IF(VLOOKUP($E535,liste!$A$31:$B$818,2,FALSE)=TRUE,#REF!,)","v":{"$error":"#N/A"}},{"$error":"#NAME?"},{"$f":"INDEX('Cenovnik 2'!$G$2:$G$411,MATCH('Plan unos i pregled'!$E535,Pozicije,0))","v":"nebitno"}]
["2025.","АВГУСТ","Општински путеви","ОП 136-25 - Горњи Барбеш - Црквиште","11.3",{"$f":"IF($E536=0, \" \", VLOOKUP($E536, 'Cenovnik 2'!$A$2:$D$411, 2, FALSE))","v":"Комбинована машина CASE"},{"$f":"IF($E536=0, \" \", VLOOKUP($E536, 'Cenovnik 2'!$A$2:$D$411, 3, FALSE))","v":"час"},{"$f":"IF($E536=0, \" \", VLOOKUP($E536, 'Cenovnik 2'!$A$2:$D$411, 4, FALSE))","v":5405},10,54050,"OP","11","ДА",null,null,null,null,{"$f":"IF($C536=0, \" \", VLOOKUP($C536, DrzavniPuteviRed, 2, FALSE))","v":{"$error":"#NAME?"}},113,"113",{"$f":"IF(VLOOKUP($E536,[0]!ProveraPDV,2,FALSE)=TRUE,$J536,)","v":{"$error":"#N/A"}},{"$f":"IF(VLOOKUP($E536,liste!$A$31:$B$818,2,FALSE)=TRUE,#REF!,)","v":{"$error":"#N/A"}},{"$error":"#NAME?"},{"$f":"INDEX('Cenovnik 2'!$G$2:$G$411,MATCH('Plan unos i pregled'!$E536,Pozicije,0))","v":"nebitno"}]
["2025.","АВГУСТ","Општински путеви","ОП 136-25 - Горњи Барбеш - Црквиште","4.19.1",{"$f":"IF($E537=0, \" \", VLOOKUP($E537, 'Cenovnik 2'!$A$2:$D$411, 2, FALSE))","v":"Кресање грана са одлагањем на страну моторном тестером. Пречник грана од 0 - 10 cm"},{"$f":"IF($E537=0, \" \", VLOOKUP($E537, 'Cenovnik 2'!$A$2:$D$411, 3, FALSE))","v":"ком"},{"$f":"IF($E537=0, \" \", VLOOKUP($E537, 'Cenovnik 2'!$A$2:$D$411, 4, FALSE))","v":256.38},930,238433.4,"OP","04","ДА",null,null,null,null,{"$f":"IF($C537=0, \" \", VLOOKUP($C537, DrzavniPuteviRed, 2, FALSE))","v":{"$error":"#NAME?"}},4191,"419",{"$f":"IF(VLOOKUP($E537,[0]!ProveraPDV,2,FALSE)=TRUE,$J537,)","v":{"$error":"#N/A"}},{"$f":"IF(VLOOKUP($E537,liste!$A$31:$B$818,2,FALSE)=TRUE,#REF!,)","v":{"$error":"#N/A"}},{"$error":"#NAME?"},{"$f":"INDEX('Cenovnik 2'!$G$2:$G$411,MATCH('Plan unos i pregled'!$E537,Pozicije,0))","v":"nebitno"}]
[null,null,null,null,null,{"$f":"IF($E538=0, \" \", VLOOKUP($E538, 'Cenovnik 2'!$A$2:$D$411, 2, FALSE))","v":" "},{"$f":"IF($E538=0, \" \", VLOOKUP($E538, 'Cenovnik 2'!$A$2:$D$411, 3, FALSE))","v":" "},{"$f":"IF($E538=0, \" \", VLOOKUP($E538, 'Cenovnik 2'!$A$2:$D$411, 4, FALSE))","v":" "},null,"-","","","ДА",null,null,null,null,{"$f":"IF($C538=0, \" \", VLOOKUP($C538, DrzavniPuteviRed, 2, FALSE))","v":" "}," "," ",{"$f":"IF(VLOOKUP($E538,[0]!ProveraPDV,2,FALSE)=TRUE,$J538,)","v":{"$error":"#N/A"}},{"$f":"IF(VLOOKUP($E538,liste!$A$31:$B$818,2,FALSE)=TRUE,#REF!,)","v":{"$error":"#N/A"}}," -",{"$f":"INDEX('Cenovnik 2'!$G$2:$G$411,MATCH('Plan unos i pregled'!$E538,Pozicije,0))","v":{"$error":"#N/A"}}]
[null,null,null,null,null,{"$f":"IF($E539=0, \" \", VLOOKUP($E539, 'Cenovnik 2'!$A$2:$D$411, 2, FALSE))","v":" "},{"$f":"IF($E539=0, \" \", VLOOKUP($E539, 'Cenovnik 2'!$A$2:$D$411, 3, FALSE))","v":" "},{"$f":"IF($E539=0, \" \", VLOOKUP($E539, 'Cenovnik 2'!$A$2:$D$411, 4, FALSE))","v":" "},null,"-","","","ДА",null,null,null,null,{"$f":"IF($C539=0, \" \", VLOOKUP($C539, DrzavniPuteviRed, 2, FALSE))","v":" "}," "," ",{"$f":"IF(VLOOKUP($E539,[0]!ProveraPDV,2,FALSE)=TRUE,$J539,)","v":{"$error":"#N/A"}},{"$f":"IF(VLOOKUP($E539,liste!$A$31:$B$818,2,FALSE)=TRUE,#REF!,)","v":{"$error":"#N/A"}}," -",{"$f":"INDEX('Cenovnik 2'!$G$2:$G$411,MATCH('Plan unos i pregled'!$E539,Pozicije,0))","v":{"$error":"#N/A"}}]
[null,null,null,null,null,{"$f":"IF($E540=0, \" \", VLOOKUP($E540, 'Cenovnik 2'!$A$2:$D$411, 2, FALSE))","v":" "},{"$f":"IF($E540=0, \" \", VLOOKUP($E540, 'Cenovnik 2'!$A$2:$D$411, 3, FALSE))","v":" "},{"$f":"IF($E540=0, \" \", VLOOKUP($E540, 'Cenovnik 2'!$A$2:$D$411, 4, FALSE))","v":" "},null,"-","","","ДА",null,null,null,null,{"$f":"IF($C540=0, \" \", VLOOKUP($C540, DrzavniPuteviRed, 2, FALSE))","v":" "}," "," ",{"$f":"IF(VLOOKUP($E540,[0]!ProveraPDV,2,FALSE)=TRUE,$J540,)","v":{"$error":"#N/A"}},{"$f":"IF(VLOOKUP($E540,liste!$A$31:$B$818,2,FALSE)=TRUE,#REF!,)","v":{"$error":"#N/A"}}," -",{"$f":"INDEX('Cenovnik 2'!$G$2:$G$411,MATCH('Plan unos i pregled'!$E540,Pozicije,0))","v":{"$error":"#N/A"}}]
[null,null,null,null,null,{"$f":"IF($E541=0, \" \", VLOOKUP($E541, 'Cenovnik 2'!$A$2:$D$411, 2, FALSE))","v":" "},{"$f":"IF($E541=0, \" \", VLOOKUP($E541, 'Cenovnik 2'!$A$2:$D$411, 3, FALSE))","v":" "},{"$f":"IF($E541=0, \" \", VLOOKUP($E541, 'Cenovnik 2'!$A$2:$D$411, 4, FALSE))","v":" "},null,"-","","","ДА",null,null,null,null,{"$f":"IF($C541=0, \" \", VLOOKUP($C541, DrzavniPuteviRed, 2, FALSE))","v":" "}," "," ",{"$f":"IF(VLOOKUP($E541,[0]!ProveraPDV,2,FALSE)=TRUE,$J541,)","v":{"$error":"#N/A"}},{"$f":"IF(VLOOKUP($E541,liste!$A$31:$B$818,2,FALSE)=TRUE,#REF!,)","v":{"$error":"#N/A"}}," -",{"$f":"INDEX('Cenovnik 2'!$G$2:$G$411,MATCH('Plan unos i pregled'!$E541,Pozicije,0))","v":{"$error":"#N/A"}}]
[null,null,null,null,null,{"$f":"IF($E542=0, \" \", VLOOKUP($E542, 'Cenovnik 2'!$A$2:$D$411, 2, FALSE))","v":" "},{"$f":"IF($E542=0, \" \", VLOOKUP($E542, 'Cenovnik 2'!$A$2:$D$411, 3, FALSE))","v":" "},{"$f":"IF($E542=0, \" \", VLOOKUP($E542, 'Cenovnik 2'!$A$2:$D$411, 4, FALSE))","v":" "},null,"-","","","ДА",null,null,null,null,{"$f":"IF($C542=0, \" \", VLOOKUP($C542, DrzavniPuteviRed, 2, FALSE))","v":" "}," "," ",{"$f":"IF(VLOOKUP($E542,[0]!ProveraPDV,2,FALSE)=TRUE,$J542,)","v":{"$error":"#N/A"}},{"$f":"IF(VLOOKUP($E542,liste!$A$31:$B$818,2,FALSE)=TRUE,#REF!,)","v":{"$error":"#N/A"}}," -",{"$f":"INDEX('Cenovnik 2'!$G$2:$G$411,MATCH('Plan unos i pregled'!$E542,Pozicije,0))","v":{"$error":"#N/A"}}]
[null,null,null,null,null,{"$f":"IF($E543=0, \" \", VLOOKUP($E543, 'Cenovnik 2'!$A$2:$D$411, 2, FALSE))","v":" "},{"$f":"IF($E543=0, \" \", VLOOKUP($E543, 'Cenovnik 2'!$A$2:$D$411, 3, FALSE))","v":" "},{"$f":"IF($E543=0, \" \", VLOOKUP($E543, 'Cenovnik 2'!$A$2:$D$411, 4, FALSE))","v":" "},null,"-","","","ДА",null,null,null,null,{"$f":"IF($C543=0, \" \", VLOOKUP($C543, DrzavniPuteviRed, 2, FALSE))","v":" "}," "," ",{"$f":"IF(VLOOKUP($E543,[0]!ProveraPDV,2,FALSE)=TRUE,$J543,)","v":{"$error":"#N/A"}},{"$f":"IF(VLOOKUP($E543,liste!$A$31:$B$818,2,FALSE)=TRUE,#REF!,)","v":{"$error":"#N/A"}}," -",{"$f":"INDEX('Cenovnik 2'!$G$2:$G$411,MATCH('Plan unos i pregled'!$E543,Pozicije,0))","v":{"$error":"#N/A"}}]
[null,null,null,null,null,{"$f":"IF($E544=0, \" \", VLOOKUP($E544, 'Cenovnik 2'!$A$2:$D$411, 2, FALSE))","v":" "},{"$f":"IF($E544=0, \" \", VLOOKUP($E544, 'Cenovnik 2'!$A$2:$D$411, 3, FALSE))","v":" "},{"$f":"IF($E544=0, \" \", VLOOKUP($E544, 'Cenovnik 2'!$A$2:$D$411, 4, FALSE))","v":" "},null,"-","","","ДА",null,null,null,null,{"$f":"IF($C544=0, \" \", VLOOKUP($C544, DrzavniPuteviRed, 2, FALSE))","v":" "}," "," ",{"$f":"IF(VLOOKUP($E544,[0]!ProveraPDV,2,FALSE)=TRUE,$J544,)","v":{"$error":"#N/A"}},{"$f":"IF(VLOOKUP($E544,liste!$A$31:$B$818,2,FALSE)=TRUE,#REF!,)","v":{"$error":"#N/A"}}," -",{"$f":"INDEX('Cenovnik 2'!$G$2:$G$411,MATCH('Plan unos i pregled'!$E544,Pozicije,0))","v":{"$error":"#N/A"}}]
[null,null,null,null,null,{"$f":"IF($E545=0, \" \", VLOOKUP($E545, 'Cenovnik 2'!$A$2:$D$411, 2, FALSE))","v":" "},{"$f":"IF($E545=0, \" \", VLOOKUP($E545, 'Cenovnik 2'!$A$2:$D$411, 3, FALSE))","v":" "},{"$f":"IF($E545=0, \" \", VLOOKUP($E545, 'Cenovnik 2'!$A$2:$D$411, 4, FALSE))","v":" "},null,"-","","","ДА",null,null,null,null,{"$f":"IF($C545=0, \" \", VLOOKUP($C545, DrzavniPuteviRed, 2, FALSE))","v":" "}," "," ",{"$f":"IF(VLOOKUP($E545,[0]!ProveraPDV,2,FALSE)=TRUE,$J545,)","v":{"$error":"#N/A"}},{"$f":"IF(VLOOKUP($E545,liste!$A$31:$B$818,2,FALSE)=TRUE,#REF!,)","v":{"$error":"#N/A"}}," -",{"$f":"INDEX('Cenovnik 2'!$G$2:$G$411,MATCH('Plan unos i pregled'!$E545,Pozicije,0))","v":{"$error":"#N/A"}}]
[null,null,null,null,null,{"$f":"IF($E546=0, \" \", VLOOKUP($E546, 'Cenovnik 2'!$A$2:$D$411, 2, FALSE))","v":" "},{"$f":"IF($E546=0, \" \", VLOOKUP($E546, 'Cenovnik 2'!$A$2:$D$411, 3, FALSE))","v":" "},{"$f":"IF($E546=0, \" \", VLOOKUP($E546, 'Cenovnik 2'!$A$2:$D$411, 4, FALSE))","v":" "},null,"-","","","ДА",null,null,null,null,{"$f":"IF($C546=0, \" \", VLOOKUP($C546, DrzavniPuteviRed, 2, FALSE))","v":" "}," "," ",{"$f":"IF(VLOOKUP($E546,[0]!ProveraPDV,2,FALSE)=TRUE,$J546,)","v":{"$error":"#N/A"}},{"$f":"IF(VLOOKUP($E546,liste!$A$31:$B$818,2,FALSE)=TRUE,#REF!,)","v":{"$error":"#N/A"}}," -",{"$f":"INDEX('Cenovnik 2'!$G$2:$G$411,MATCH('Plan unos i pregled'!$E546,Pozicije,0))","v":{"$error":"#N/A"}}]
[null,null,null,null,null,{"$f":"IF($E547=0, \" \", VLOOKUP($E547, 'Cenovnik 2'!$A$2:$D$411, 2, FALSE))","v":" "},{"$f":"IF($E547=0, \" \", VLOOKUP($E547, 'Cenovnik 2'!$A$2:$D$411, 3, FALSE))","v":" "},{"$f":"IF($E547=0, \" \", VLOOKUP($E547, 'Cenovnik 2'!$A$2:$D$411, 4, FALSE))","v":" "},null,"-","","","ДА",null,null,null,null,{"$f":"IF($C547=0, \" \", VLOOKUP($C547, DrzavniPuteviRed, 2, FALSE))","v":" "}," "," ",{"$f":"IF(VLOOKUP($E547,[0]!ProveraPDV,2,FALSE)=TRUE,$J547,)","v":{"$error":"#N/A"}},{"$f":"IF(VLOOKUP($E547,liste!$A$31:$B$818,2,FALSE)=TRUE,#REF!,)","v":{"$error":"#N/A"}}," -",{"$f":"INDEX('Cenovnik 2'!$G$2:$G$411,MATCH('Plan unos i pregled'!$E547,Pozicije,0))","v":{"$error":"#N/A"}}]
[null,null,null,null,null,{"$f":"IF($E548=0, \" \", VLOOKUP($E548, 'Cenovnik 2'!$A$2:$D$411, 2, FALSE))","v":" "},{"$f":"IF($E548=0, \" \", VLOOKUP($E548, 'Cenovnik 2'!$A$2:$D$411, 3, FALSE))","v":" "},{"$f":"IF($E548=0, \" \", VLOOKUP($E548, 'Cenovnik 2'!$A$2:$D$411, 4, FALSE))","v":" "},null,"-","","","ДА",null,null,null,null,{"$f":"IF($C548=0, \" \", VLOOKUP($C548, DrzavniPuteviRed, 2, FALSE))","v":" "}," "," ",{"$f":"IF(VLOOKUP($E548,[0]!ProveraPDV,2,FALSE)=TRUE,$J548,)","v":{"$error":"#N/A"}},{"$f":"IF(VLOOKUP($E548,liste!$A$31:$B$818,2,FALSE)=TRUE,#REF!,)","v":{"$error":"#N/A"}}," -",{"$f":"INDEX('Cenovnik 2'!$G$2:$G$411,MATCH('Plan unos i pregled'!$E548,Pozicije,0))","v":{"$error":"#N/A"}}]
[null,null,null,null,null,{"$f":"IF($E549=0, \" \", VLOOKUP($E549, 'Cenovnik 2'!$A$2:$D$411, 2, FALSE))","v":" "},{"$f":"IF($E549=0, \" \", VLOOKUP($E549, 'Cenovnik 2'!$A$2:$D$411, 3, FALSE))","v":" "},{"$f":"IF($E549=0, \" \", VLOOKUP($E549, 'Cenovnik 2'!$A$2:$D$411, 4, FALSE))","v":" "},null,"-","","","ДА",null,null,null,null,{"$f":"IF($C549=0, \" \", VLOOKUP($C549, DrzavniPuteviRed, 2, FALSE))","v":" "}," "," ",{"$f":"IF(VLOOKUP($E549,[0]!ProveraPDV,2,FALSE)=TRUE,$J549,)","v":{"$error":"#N/A"}},{"$f":"IF(VLOOKUP($E549,liste!$A$31:$B$818,2,FALSE)=TRUE,#REF!,)","v":{"$error":"#N/A"}}," -",{"$f":"INDEX('Cenovnik 2'!$G$2:$G$411,MATCH('Plan unos i pregled'!$E549,Pozicije,0))","v":{"$error":"#N/A"}}]
[null,null,null,null,null,{"$f":"IF($E550=0, \" \", VLOOKUP($E550, 'Cenovnik 2'!$A$2:$D$411, 2, FALSE))","v":" "},{"$f":"IF($E550=0, \" \", VLOOKUP($E550, 'Cenovnik 2'!$A$2:$D$411, 3, FALSE))","v":" "},{"$f":"IF($E550=0, \" \", VLOOKUP($E550, 'Cenovnik 2'!$A$2:$D$411, 4, FALSE))","v":" "},null,"-",{"$f":"IFERROR(INDEX(LokacijeRadovaLat,MATCH(C550,LokacijaRadova,0)),\"\")","v":""},"","ДА",null,null,null,null,{"$f":"IF($C550=0, \" \", VLOOKUP($C550, DrzavniPuteviRed, 2, FALSE))","v":" "}," "," ",{"$f":"IF(VLOOKUP($E550,[0]!ProveraPDV,2,FALSE)=TRUE,$J550,)","v":{"$error":"#N/A"}},{"$f":"IF(VLOOKUP($E550,liste!$A$31:$B$818,2,FALSE)=TRUE,#REF!,)","v":{"$error":"#N/A"}}," -",{"$f":"INDEX('Cenovnik 2'!$G$2:$G$411,MATCH('Plan unos i pregled'!$E550,Pozicije,0))","v":{"$error":"#N/A"}}]
[null,null,null,null,null,{"$f":"IF($E551=0, \" \", VLOOKUP($E551, 'Cenovnik 2'!$A$2:$D$411, 2, FALSE))","v":" "},{"$f":"IF($E551=0, \" \", VLOOKUP($E551, 'Cenovnik 2'!$A$2:$D$411, 3, FALSE))","v":" "},{"$f":"IF($E551=0, \" \", VLOOKUP($E551, 'Cenovnik 2'!$A$2:$D$411, 4, FALSE))","v":" "},null,"-","","","ДА",null,null,null,null,{"$f":"IF($C551=0, \" \", VLOOKUP($C551, DrzavniPuteviRed, 2, FALSE))","v":" "}," "," ",{"$f":"IF(VLOOKUP($E551,[0]!ProveraPDV,2,FALSE)=TRUE,$J551,)","v":{"$error":"#N/A"}},{"$f":"IF(VLOOKUP($E551,liste!$A$31:$B$818,2,FALSE)=TRUE,#REF!,)","v":{"$error":"#N/A"}}," -",{"$f":"INDEX('Cenovnik 2'!$G$2:$G$411,MATCH('Plan unos i pregled'!$E551,Pozicije,0))","v":{"$error":"#N/A"}}]
[null,null,null,null,null,{"$f":"IF($E552=0, \" \", VLOOKUP($E552, 'Cenovnik 2'!$A$2:$D$411, 2, FALSE))","v":" "},{"$f":"IF($E552=0, \" \", VLOOKUP($E552, 'Cenovnik 2'!$A$2:$D$411, 3, FALSE))","v":" "},{"$f":"IF($E552=0, \" \", VLOOKUP($E552, 'Cenovnik 2'!$A$2:$D$411, 4, FALSE))","v":" "},null,"-","","","ДА",null,null,null,null,{"$f":"IF($C552=0, \" \", VLOOKUP($C552, DrzavniPuteviRed, 2, FALSE))","v":" "}," "," ",{"$f":"IF(VLOOKUP($E552,[0]!ProveraPDV,2,FALSE)=TRUE,$J552,)","v":{"$error":"#N/A"}},{"$f":"IF(VLOOKUP($E552,liste!$A$31:$B$818,2,FALSE)=TRUE,#REF!,)","v":{"$error":"#N/A"}}," -",{"$f":"INDEX('Cenovnik 2'!$G$2:$G$411,MATCH('Plan unos i pregled'!$E552,Pozicije,0))","v":{"$error":"#N/A"}}]
[null,null,null,null,null,{"$f":"IF($E553=0, \" \", VLOOKUP($E553, 'Cenovnik 2'!$A$2:$D$411, 2, FALSE))","v":" "},{"$f":"IF($E553=0, \" \", VLOOKUP($E553, 'Cenovnik 2'!$A$2:$D$411, 3, FALSE))","v":" "},{"$f":"IF($E553=0, \" \", VLOOKUP($E553, 'Cenovnik 2'!$A$2:$D$411, 4, FALSE))","v":" "},null,"-","","","ДА",null,null,null,null,{"$f":"IF($C553=0, \" \", VLOOKUP($C553, DrzavniPuteviRed, 2, FALSE))","v":" "}," "," ",{"$f":"IF(VLOOKUP($E553,[0]!ProveraPDV,2,FALSE)=TRUE,$J553,)","v":{"$error":"#N/A"}},{"$f":"IF(VLOOKUP($E553,liste!$A$31:$B$818,2,FALSE)=TRUE,#REF!,)","v":{"$error":"#N/A"}}," -",{"$f":"INDEX('Cenovnik 2'!$G$2:$G$411,MATCH('Plan unos i pregled'!$E553,Pozicije,0))","v":{"$error":"#N/A"}}]
[null,null,null,null,null,{"$f":"IF($E554=0, \" \", VLOOKUP($E554, 'Cenovnik 2'!$A$2:$D$411, 2, FALSE))","v":" "},{"$f":"IF($E554=0, \" \", VLOOKUP($E554, 'Cenovnik 2'!$A$2:$D$411, 3, FALSE))","v":" "},{"$f":"IF($E554=0, \" \", VLOOKUP($E554, 'Cenovnik 2'!$A$2:$D$411, 4, FALSE))","v":" "},null,"-","","","ДА",null,null,null,null,{"$f":"IF($C554=0, \" \", VLOOKUP($C554, DrzavniPuteviRed, 2, FALSE))","v":" "}," "," ",{"$f":"IF(VLOOKUP($E554,[0]!ProveraPDV,2,FALSE)=TRUE,$J554,)","v":{"$error":"#N/A"}},{"$f":"IF(VLOOKUP($E554,liste!$A$31:$B$818,2,FALSE)=TRUE,#REF!,)","v":{"$error":"#N/A"}}," -",{"$f":"INDEX('Cenovnik 2'!$G$2:$G$411,MATCH('Plan unos i pregled'!$E554,Pozicije,0))","v":{"$error":"#N/A"}}]
[null,null,null,null,null,{"$f":"IF($E555=0, \" \", VLOOKUP($E555, 'Cenovnik 2'!$A$2:$D$411, 2, FALSE))","v":" "},{"$f":"IF($E555=0, \" \", VLOOKUP($E555, 'Cenovnik 2'!$A$2:$D$411, 3, FALSE))","v":" "},{"$f":"IF($E555=0, \" \", VLOOKUP($E555, 'Cenovnik 2'!$A$2:$D$411, 4, FALSE))","v":" "},null,"-","","","ДА",null,null,null,null,{"$f":"IF($C555=0, \" \", VLOOKUP($C555, DrzavniPuteviRed, 2, FALSE))","v":" "}," "," ",{"$f":"IF(VLOOKUP($E555,[0]!ProveraPDV,2,FALSE)=TRUE,$J555,)","v":{"$error":"#N/A"}},{"$f":"IF(VLOOKUP($E555,liste!$A$31:$B$818,2,FALSE)=TRUE,#REF!,)","v":{"$error":"#N/A"}}," -",{"$f":"INDEX('Cenovnik 2'!$G$2:$G$411,MATCH('Plan unos i pregled'!$E555,Pozicije,0))","v":{"$error":"#N/A"}}]
[null,null,null,null,null,{"$f":"IF($E556=0, \" \", VLOOKUP($E556, 'Cenovnik 2'!$A$2:$D$411, 2, FALSE))","v":" "},{"$f":"IF($E556=0, \" \", VLOOKUP($E556, 'Cenovnik 2'!$A$2:$D$411, 3, FALSE))","v":" "},{"$f":"IF($E556=0, \" \", VLOOKUP($E556, 'Cenovnik 2'!$A$2:$D$411, 4, FALSE))","v":" "},null,"-","","","ДА",null,null,null,null,{"$f":"IF($C556=0, \" \", VLOOKUP($C556, DrzavniPuteviRed, 2, FALSE))","v":" "}," "," ",{"$f":"IF(VLOOKUP($E556,[0]!ProveraPDV,2,FALSE)=TRUE,$J556,)","v":{"$error":"#N/A"}},{"$f":"IF(VLOOKUP($E556,liste!$A$31:$B$818,2,FALSE)=TRUE,#REF!,)","v":{"$error":"#N/A"}}," -",{"$f":"INDEX('Cenovnik 2'!$G$2:$G$411,MATCH('Plan unos i pregled'!$E556,Pozicije,0))","v":{"$error":"#N/A"}}]
[null,null,null,null,null,{"$f":"IF($E557=0, \" \", VLOOKUP($E557, 'Cenovnik 2'!$A$2:$D$411, 2, FALSE))","v":" "},{"$f":"IF($E557=0, \" \", VLOOKUP($E557, 'Cenovnik 2'!$A$2:$D$411, 3, FALSE))","v":" "},{"$f":"IF($E557=0, \" \", VLOOKUP($E557, 'Cenovnik 2'!$A$2:$D$411, 4, FALSE))","v":" "},null,"-","","","ДА",null,null,null,null,{"$f":"IF($C557=0, \" \", VLOOKUP($C557, DrzavniPuteviRed, 2, FALSE))","v":" "}," "," ",{"$f":"IF(VLOOKUP($E557,[0]!ProveraPDV,2,FALSE)=TRUE,$J557,)","v":{"$error":"#N/A"}},{"$f":"IF(VLOOKUP($E557,liste!$A$31:$B$818,2,FALSE)=TRUE,#REF!,)","v":{"$error":"#N/A"}}," -",{"$f":"INDEX('Cenovnik 2'!$G$2:$G$411,MATCH('Plan unos i pregled'!$E557,Pozicije,0))","v":{"$error":"#N/A"}}]
[null,null,null,null,null,{"$f":"IF($E558=0, \" \", VLOOKUP($E558, 'Cenovnik 2'!$A$2:$D$411, 2, FALSE))","v":" "},{"$f":"IF($E558=0, \" \", VLOOKUP($E558, 'Cenovnik 2'!$A$2:$D$411, 3, FALSE))","v":" "},{"$f":"IF($E558=0, \" \", VLOOKUP($E558, 'Cenovnik 2'!$A$2:$D$411, 4, FALSE))","v":" "},null,"-","","","ДА",null,null,null,null,{"$f":"IF($C558=0, \" \", VLOOKUP($C558, DrzavniPuteviRed, 2, FALSE))","v":" "}," "," ",{"$f":"IF(VLOOKUP($E558,[0]!ProveraPDV,2,FALSE)=TRUE,$J558,)","v":{"$error":"#N/A"}},{"$f":"IF(VLOOKUP($E558,liste!$A$31:$B$818,2,FALSE)=TRUE,#REF!,)","v":{"$error":"#N/A"}}," -",{"$f":"INDEX('Cenovnik 2'!$G$2:$G$411,MATCH('Plan unos i pregled'!$E558,Pozicije,0))","v":{"$error":"#N/A"}}]
[null,null,null,null,null,{"$f":"IF($E559=0, \" \", VLOOKUP($E559, 'Cenovnik 2'!$A$2:$D$411, 2, FALSE))","v":" "},{"$f":"IF($E559=0, \" \", VLOOKUP($E559, 'Cenovnik 2'!$A$2:$D$411, 3, FALSE))","v":" "},{"$f":"IF($E559=0, \" \", VLOOKUP($E559, 'Cenovnik 2'!$A$2:$D$411, 4, FALSE))","v":" "},null,"-","","","ДА",null,null,null,null,{"$f":"IF($C559=0, \" \", VLOOKUP($C559, DrzavniPuteviRed, 2, FALSE))","v":" "}," "," ",{"$f":"IF(VLOOKUP($E559,[0]!ProveraPDV,2,FALSE)=TRUE,$J559,)","v":{"$error":"#N/A"}},{"$f":"IF(VLOOKUP($E559,liste!$A$31:$B$818,2,FALSE)=TRUE,#REF!,)","v":{"$error":"#N/A"}}," -",{"$f":"INDEX('Cenovnik 2'!$G$2:$G$411,MATCH('Plan unos i pregled'!$E559,Pozicije,0))","v":{"$error":"#N/A"}}]
[null,null,null,null,null,{"$f":"IF($E560=0, \" \", VLOOKUP($E560, 'Cenovnik 2'!$A$2:$D$411, 2, FALSE))","v":" "},{"$f":"IF($E560=0, \" \", VLOOKUP($E560, 'Cenovnik 2'!$A$2:$D$411, 3, FALSE))","v":" "},{"$f":"IF($E560=0, \" \", VLOOKUP($E560, 'Cenovnik 2'!$A$2:$D$411, 4, FALSE))","v":" "},null,"-","","","ДА",null,null,null,null,{"$f":"IF($C560=0, \" \", VLOOKUP($C560, DrzavniPuteviRed, 2, FALSE))","v":" "}," "," ",{"$f":"IF(VLOOKUP($E560,[0]!ProveraPDV,2,FALSE)=TRUE,$J560,)","v":{"$error":"#N/A"}},{"$f":"IF(VLOOKUP($E560,liste!$A$31:$B$818,2,FALSE)=TRUE,#REF!,)","v":{"$error":"#N/A"}}," -",{"$f":"INDEX('Cenovnik 2'!$G$2:$G$411,MATCH('Plan unos i pregled'!$E560,Pozicije,0))","v":{"$error":"#N/A"}}]
[null,null,null,null,null,{"$f":"IF($E561=0, \" \", VLOOKUP($E561, 'Cenovnik 2'!$A$2:$D$411, 2, FALSE))","v":" "},{"$f":"IF($E561=0, \" \", VLOOKUP($E561, 'Cenovnik 2'!$A$2:$D$411, 3, FALSE))","v":" "},{"$f":"IF($E561=0, \" \", VLOOKUP($E561, 'Cenovnik 2'!$A$2:$D$411, 4, FALSE))","v":" "},null,"-","","","ДА",null,null,null,null,{"$f":"IF($C561=0, \" \", VLOOKUP($C561, DrzavniPuteviRed, 2, FALSE))","v":" "}," "," ",{"$f":"IF(VLOOKUP($E561,[0]!ProveraPDV,2,FALSE)=TRUE,$J561,)","v":{"$error":"#N/A"}},{"$f":"IF(VLOOKUP($E561,liste!$A$31:$B$818,2,FALSE)=TRUE,#REF!,)","v":{"$error":"#N/A"}}," -",{"$f":"INDEX('Cenovnik 2'!$G$2:$G$411,MATCH('Plan unos i pregled'!$E561,Pozicije,0))","v":{"$error":"#N/A"}}]
[null,null,null,null,null,{"$f":"IF($E562=0, \" \", VLOOKUP($E562, 'Cenovnik 2'!$A$2:$D$411, 2, FALSE))","v":" "},{"$f":"IF($E562=0, \" \", VLOOKUP($E562, 'Cenovnik 2'!$A$2:$D$411, 3, FALSE))","v":" "},{"$f":"IF($E562=0, \" \", VLOOKUP($E562, 'Cenovnik 2'!$A$2:$D$411, 4, FALSE))","v":" "},null,"-","","","ДА",null,null,null,null,{"$f":"IF($C562=0, \" \", VLOOKUP($C562, DrzavniPuteviRed, 2, FALSE))","v":" "}," "," ",{"$f":"IF(VLOOKUP($E562,[0]!ProveraPDV,2,FALSE)=TRUE,$J562,)","v":{"$error":"#N/A"}},{"$f":"IF(VLOOKUP($E562,liste!$A$31:$B$818,2,FALSE)=TRUE,#REF!,)","v":{"$error":"#N/A"}}," -",{"$f":"INDEX('Cenovnik 2'!$G$2:$G$411,MATCH('Plan unos i pregled'!$E562,Pozicije,0))","v":{"$error":"#N/A"}}]
[null,null,null,null,null,{"$f":"IF($E563=0, \" \", VLOOKUP($E563, 'Cenovnik 2'!$A$2:$D$411, 2, FALSE))","v":" "},{"$f":"IF($E563=0, \" \", VLOOKUP($E563, 'Cenovnik 2'!$A$2:$D$411, 3, FALSE))","v":" "},{"$f":"IF($E563=0, \" \", VLOOKUP($E563, 'Cenovnik 2'!$A$2:$D$411, 4, FALSE))","v":" "},null,"-","","","ДА",null,null,null,null,{"$f":"IF($C563=0, \" \", VLOOKUP($C563, DrzavniPuteviRed, 2, FALSE))","v":" "}," "," ",{"$f":"IF(VLOOKUP($E563,[0]!ProveraPDV,2,FALSE)=TRUE,$J563,)","v":{"$error":"#N/A"}},{"$f":"IF(VLOOKUP($E563,liste!$A$31:$B$818,2,FALSE)=TRUE,#REF!,)","v":{"$error":"#N/A"}}," -",{"$f":"INDEX('Cenovnik 2'!$G$2:$G$411,MATCH('Plan unos i pregled'!$E563,Pozicije,0))","v":{"$error":"#N/A"}}]
[null,null,null,null,null,{"$f":"IF($E564=0, \" \", VLOOKUP($E564, 'Cenovnik 2'!$A$2:$D$411, 2, FALSE))","v":" "},{"$f":"IF($E564=0, \" \", VLOOKUP($E564, 'Cenovnik 2'!$A$2:$D$411, 3, FALSE))","v":" "},{"$f":"IF($E564=0, \" \", VLOOKUP($E564, 'Cenovnik 2'!$A$2:$D$411, 4, FALSE))","v":" "},null,"-","","","ДА",null,null,null,null,{"$f":"IF($C564=0, \" \", VLOOKUP($C564, DrzavniPuteviRed, 2, FALSE))","v":" "}," "," ",{"$f":"IF(VLOOKUP($E564,[0]!ProveraPDV,2,FALSE)=TRUE,$J564,)","v":{"$error":"#N/A"}},{"$f":"IF(VLOOKUP($E564,liste!$A$31:$B$818,2,FALSE)=TRUE,#REF!,)","v":{"$error":"#N/A"}}," -",{"$f":"INDEX('Cenovnik 2'!$G$2:$G$411,MATCH('Plan unos i pregled'!$E564,Pozicije,0))","v":{"$error":"#N/A"}}]
[null,null,null,null,null,{"$f":"IF($E565=0, \" \", VLOOKUP($E565, 'Cenovnik 2'!$A$2:$D$411, 2, FALSE))","v":" "},{"$f":"IF($E565=0, \" \", VLOOKUP($E565, 'Cenovnik 2'!$A$2:$D$411, 3, FALSE))","v":" "},{"$f":"IF($E565=0, \" \", VLOOKUP($E565, 'Cenovnik 2'!$A$2:$D$411, 4, FALSE))","v":" "},null,"-","","","ДА",null,null,null,null,{"$f":"IF($C565=0, \" \", VLOOKUP($C565, DrzavniPuteviRed, 2, FALSE))","v":" "}," "," ",{"$f":"IF(VLOOKUP($E565,[0]!ProveraPDV,2,FALSE)=TRUE,$J565,)","v":{"$error":"#N/A"}},{"$f":"IF(VLOOKUP($E565,liste!$A$31:$B$818,2,FALSE)=TRUE,#REF!,)","v":{"$error":"#N/A"}}," -",{"$f":"INDEX('Cenovnik 2'!$G$2:$G$411,MATCH('Plan unos i pregled'!$E565,Pozicije,0))","v":{"$error":"#N/A"}}]
[null,null,null,null,null,{"$f":"IF($E566=0, \" \", VLOOKUP($E566, 'Cenovnik 2'!$A$2:$D$411, 2, FALSE))","v":" "},{"$f":"IF($E566=0, \" \", VLOOKUP($E566, 'Cenovnik 2'!$A$2:$D$411, 3, FALSE))","v":" "},{"$f":"IF($E566=0, \" \", VLOOKUP($E566, 'Cenovnik 2'!$A$2:$D$411, 4, FALSE))","v":" "},null,"-","","","ДА",null,null,null,null,{"$f":"IF($C566=0, \" \", VLOOKUP($C566, DrzavniPuteviRed, 2, FALSE))","v":" "}," "," ",{"$f":"IF(VLOOKUP($E566,[0]!ProveraPDV,2,FALSE)=TRUE,$J566,)","v":{"$error":"#N/A"}},{"$f":"IF(VLOOKUP($E566,liste!$A$31:$B$818,2,FALSE)=TRUE,#REF!,)","v":{"$error":"#N/A"}}," -",{"$f":"INDEX('Cenovnik 2'!$G$2:$G$411,MATCH('Plan unos i pregled'!$E566,Pozicije,0))","v":{"$error":"#N/A"}}]
[null,null,null,null,null,{"$f":"IF($E567=0, \" \", VLOOKUP($E567, 'Cenovnik 2'!$A$2:$D$411, 2, FALSE))","v":" "},{"$f":"IF($E567=0, \" \", VLOOKUP($E567, 'Cenovnik 2'!$A$2:$D$411, 3, FALSE))","v":" "},{"$f":"IF($E567=0, \" \", VLOOKUP($E567, 'Cenovnik 2'!$A$2:$D$411, 4, FALSE))","v":" "},null,"-","","","ДА",null,null,null,null,{"$f":"IF($C567=0, \" \", VLOOKUP($C567, DrzavniPuteviRed, 2, FALSE))","v":" "}," "," ",{"$f":"IF(VLOOKUP($E567,[0]!ProveraPDV,2,FALSE)=TRUE,$J567,)","v":{"$error":"#N/A"}},{"$f":"IF(VLOOKUP($E567,liste!$A$31:$B$818,2,FALSE)=TRUE,#REF!,)","v":{"$error":"#N/A"}}," -",{"$f":"INDEX('Cenovnik 2'!$G$2:$G$411,MATCH('Plan unos i pregled'!$E567,Pozicije,0))","v":{"$error":"#N/A"}}]
[null,null,null,null,null,{"$f":"IF($E568=0, \" \", VLOOKUP($E568, 'Cenovnik 2'!$A$2:$D$411, 2, FALSE))","v":" "},{"$f":"IF($E568=0, \" \", VLOOKUP($E568, 'Cenovnik 2'!$A$2:$D$411, 3, FALSE))","v":" "},{"$f":"IF($E568=0, \" \", VLOOKUP($E568, 'Cenovnik 2'!$A$2:$D$411, 4, FALSE))","v":" "},null,"-","","","ДА",null,null,null,null,{"$f":"IF($C568=0, \" \", VLOOKUP($C568, DrzavniPuteviRed, 2, FALSE))","v":" "},{"$f":"IF($E568=0, \" \", VLOOKUP($E568, SifrePozicijaBezTacke, 2, FALSE))","v":" "}," ",{"$f":"IF(VLOOKUP($E568,[0]!ProveraPDV,2,FALSE)=TRUE,$J568,)","v":{"$error":"#N/A"}},{"$f":"IF(VLOOKUP($E568,liste!$A$31:$B$818,2,FALSE)=TRUE,#REF!,)","v":{"$error":"#N/A"}}," -",{"$f":"INDEX('Cenovnik 2'!$G$2:$G$411,MATCH('Plan unos i pregled'!$E568,Pozicije,0))","v":{"$error":"#N/A"}}]
[null,null,null,null,null,{"$f":"IF($E569=0, \" \", VLOOKUP($E569, 'Cenovnik 2'!$A$2:$D$411, 2, FALSE))","v":" "},{"$f":"IF($E569=0, \" \", VLOOKUP($E569, 'Cenovnik 2'!$A$2:$D$411, 3, FALSE))","v":" "},{"$f":"IF($E569=0, \" \", VLOOKUP($E569, 'Cenovnik 2'!$A$2:$D$411, 4, FALSE))","v":" "},null,{"$f":"IF(ISNUMBER($H569), $H569*$I569, \"-\")","v":"-"},"",{"$f":"TEXT(LEFT($E569,FIND(\".\",$E569&\".\")-1), \"00\")","v":""},"ДА",null,null,null,null,{"$f":"IF($C569=0, \" \", VLOOKUP($C569, DrzavniPuteviRed, 2, FALSE))","v":" "}," ",{"$f":"LEFT($S569, 3)","v":" "},{"$f":"IF(VLOOKUP($E569,[0]!ProveraPDV,2,FALSE)=TRUE,$J569,)","v":{"$error":"#N/A"}},{"$f":"IF(VLOOKUP($E569,liste!$A$31:$B$818,2,FALSE)=TRUE,#REF!,)","v":{"$error":"#N/A"}},{"$f":"R569&\"-\"&C569","v":" -"},{"$f":"INDEX('Cenovnik 2'!$G$2:$G$411,MATCH('Plan unos i pregled'!$E569,Pozicije,0))","v":{"$error":"#N/A"}}]
[null,null,null,null,null,{"$f":"IF($E570=0, \" \", VLOOKUP($E570, 'Cenovnik 2'!$A$2:$D$411, 2, FALSE))","v":" "},{"$f":"IF($E570=0, \" \", VLOOKUP($E570, 'Cenovnik 2'!$A$2:$D$411, 3, FALSE))","v":" "},{"$f":"IF($E570=0, \" \", VLOOKUP($E570, 'Cenovnik 2'!$A$2:$D$411, 4, FALSE))","v":" "},null,"-","","","ДА",null,null,null,null,{"$f":"IF($C570=0, \" \", VLOOKUP($C570, DrzavniPuteviRed, 2, FALSE))","v":" "}," "," ",{"$f":"IF(VLOOKUP($E570,[0]!ProveraPDV,2,FALSE)=TRUE,$J570,)","v":{"$error":"#N/A"}},{"$f":"IF(VLOOKUP($E570,liste!$A$31:$B$818,2,FALSE)=TRUE,#REF!,)","v":{"$error":"#N/A"}}," -",{"$f":"INDEX('Cenovnik 2'!$G$2:$G$411,MATCH('Plan unos i pregled'!$E570,Pozicije,0))","v":{"$error":"#N/A"}}]
[null,null,null,null,null,{"$f":"IF($E571=0, \" \", VLOOKUP($E571, 'Cenovnik 2'!$A$2:$D$411, 2, FALSE))","v":" "},{"$f":"IF($E571=0, \" \", VLOOKUP($E571, 'Cenovnik 2'!$A$2:$D$411, 3, FALSE))","v":" "},{"$f":"IF($E571=0, \" \", VLOOKUP($E571, 'Cenovnik 2'!$A$2:$D$411, 4, FALSE))","v":" "},null,"-","","","ДА",null,null,null,null,{"$f":"IF($C571=0, \" \", VLOOKUP($C571, DrzavniPuteviRed, 2, FALSE))","v":" "}," "," ",{"$f":"IF(VLOOKUP($E571,[0]!ProveraPDV,2,FALSE)=TRUE,$J571,)","v":{"$error":"#N/A"}},{"$f":"IF(VLOOKUP($E571,liste!$A$31:$B$818,2,FALSE)=TRUE,#REF!,)","v":{"$error":"#N/A"}}," -",{"$f":"INDEX('Cenovnik 2'!$G$2:$G$411,MATCH('Plan unos i pregled'!$E571,Pozicije,0))","v":{"$error":"#N/A"}}]
[null,null,null,null,null,{"$f":"IF($E572=0, \" \", VLOOKUP($E572, 'Cenovnik 2'!$A$2:$D$411, 2, FALSE))","v":" "},{"$f":"IF($E572=0, \" \", VLOOKUP($E572, 'Cenovnik 2'!$A$2:$D$411, 3, FALSE))","v":" "},{"$f":"IF($E572=0, \" \", VLOOKUP($E572, 'Cenovnik 2'!$A$2:$D$411, 4, FALSE))","v":" "},null,"-","","","ДА",null,null,null,null,{"$f":"IF($C572=0, \" \", VLOOKUP($C572, DrzavniPuteviRed, 2, FALSE))","v":" "}," "," ",{"$f":"IF(VLOOKUP($E572,[0]!ProveraPDV,2,FALSE)=TRUE,$J572,)","v":{"$error":"#N/A"}},{"$f":"IF(VLOOKUP($E572,liste!$A$31:$B$818,2,FALSE)=TRUE,#REF!,)","v":{"$error":"#N/A"}}," -",{"$f":"INDEX('Cenovnik 2'!$G$2:$G$411,MATCH('Plan unos i pregled'!$E572,Pozicije,0))","v":{"$error":"#N/A"}}]
[null,null,null,null,null,{"$f":"IF($E573=0, \" \", VLOOKUP($E573, 'Cenovnik 2'!$A$2:$D$411, 2, FALSE))","v":" "},{"$f":"IF($E573=0, \" \", VLOOKUP($E573, 'Cenovnik 2'!$A$2:$D$411, 3, FALSE))","v":" "},{"$f":"IF($E573=0, \" \", VLOOKUP($E573, 'Cenovnik 2'!$A$2:$D$411, 4, FALSE))","v":" "},null,"-","","","ДА",null,null,null,null,{"$f":"IF($C573=0, \" \", VLOOKUP($C573, DrzavniPuteviRed, 2, FALSE))","v":" "}," "," ",{"$f":"IF(VLOOKUP($E573,[0]!ProveraPDV,2,FALSE)=TRUE,$J573,)","v":{"$error":"#N/A"}},{"$f":"IF(VLOOKUP($E573,liste!$A$31:$B$818,2,FALSE)=TRUE,#REF!,)","v":{"$error":"#N/A"}}," -",{"$f":"INDEX('Cenovnik 2'!$G$2:$G$411,MATCH('Plan unos i pregled'!$E573,Pozicije,0))","v":{"$error":"#N/A"}}]
[null,null,null,null,null,{"$f":"IF($E574=0, \" \", VLOOKUP($E574, 'Cenovnik 2'!$A$2:$D$411, 2, FALSE))","v":" "},{"$f":"IF($E574=0, \" \", VLOOKUP($E574, 'Cenovnik 2'!$A$2:$D$411, 3, FALSE))","v":" "},{"$f":"IF($E574=0, \" \", VLOOKUP($E574, 'Cenovnik 2'!$A$2:$D$411, 4, FALSE))","v":" "},null,"-","","","ДА",null,null,null,null,{"$f":"IF($C574=0, \" \", VLOOKUP($C574, DrzavniPuteviRed, 2, FALSE))","v":" "}," "," ",{"$f":"IF(VLOOKUP($E574,[0]!ProveraPDV,2,FALSE)=TRUE,$J574,)","v":{"$error":"#N/A"}},{"$f":"IF(VLOOKUP($E574,liste!$A$31:$B$818,2,FALSE)=TRUE,#REF!,)","v":{"$error":"#N/A"}}," -",{"$f":"INDEX('Cenovnik 2'!$G$2:$G$411,MATCH('Plan unos i pregled'!$E574,Pozicije,0))","v":{"$error":"#N/A"}}]
[null,null,null,null,null,{"$f":"IF($E575=0, \" \", VLOOKUP($E575, 'Cenovnik 2'!$A$2:$D$411, 2, FALSE))","v":" "},{"$f":"IF($E575=0, \" \", VLOOKUP($E575, 'Cenovnik 2'!$A$2:$D$411, 3, FALSE))","v":" "},{"$f":"IF($E575=0, \" \", VLOOKUP($E575, 'Cenovnik 2'!$A$2:$D$411, 4, FALSE))","v":" "},null,"-","","","ДА",null,null,null,null,{"$f":"IF($C575=0, \" \", VLOOKUP($C575, DrzavniPuteviRed, 2, FALSE))","v":" "}," "," ",{"$f":"IF(VLOOKUP($E575,[0]!ProveraPDV,2,FALSE)=TRUE,$J575,)","v":{"$error":"#N/A"}},{"$f":"IF(VLOOKUP($E575,liste!$A$31:$B$818,2,FALSE)=TRUE,#REF!,)","v":{"$error":"#N/A"}}," -",{"$f":"INDEX('Cenovnik 2'!$G$2:$G$411,MATCH('Plan unos i pregled'!$E575,Pozicije,0))","v":{"$error":"#N/A"}}]
[null,null,null,null,null,{"$f":"IF($E576=0, \" \", VLOOKUP($E576, 'Cenovnik 2'!$A$2:$D$411, 2, FALSE))","v":" "},{"$f":"IF($E576=0, \" \", VLOOKUP($E576, 'Cenovnik 2'!$A$2:$D$411, 3, FALSE))","v":" "},{"$f":"IF($E576=0, \" \", VLOOKUP($E576, 'Cenovnik 2'!$A$2:$D$411, 4, FALSE))","v":" "},null,"-","","","ДА",null,null,null,null,{"$f":"IF($C576=0, \" \", VLOOKUP($C576, DrzavniPuteviRed, 2, FALSE))","v":" "}," "," ",{"$f":"IF(VLOOKUP($E576,[0]!ProveraPDV,2,FALSE)=TRUE,$J576,)","v":{"$error":"#N/A"}},{"$f":"IF(VLOOKUP($E576,liste!$A$31:$B$818,2,FALSE)=TRUE,#REF!,)","v":{"$error":"#N/A"}}," -",{"$f":"INDEX('Cenovnik 2'!$G$2:$G$411,MATCH('Plan unos i pregled'!$E576,Pozicije,0))","v":{"$error":"#N/A"}}]
[null,null,null,null,null,{"$f":"IF($E577=0, \" \", VLOOKUP($E577, 'Cenovnik 2'!$A$2:$D$411, 2, FALSE))","v":" "},{"$f":"IF($E577=0, \" \", VLOOKUP($E577, 'Cenovnik 2'!$A$2:$D$411, 3, FALSE))","v":" "},{"$f":"IF($E577=0, \" \", VLOOKUP($E577, 'Cenovnik 2'!$A$2:$D$411, 4, FALSE))","v":" "},null,"-","","","ДА",null,null,null,null,{"$f":"IF($C577=0, \" \", VLOOKUP($C577, DrzavniPuteviRed, 2, FALSE))","v":" "}," "," ",{"$f":"IF(VLOOKUP($E577,[0]!ProveraPDV,2,FALSE)=TRUE,$J577,)","v":{"$error":"#N/A"}},{"$f":"IF(VLOOKUP($E577,liste!$A$31:$B$818,2,FALSE)=TRUE,#REF!,)","v":{"$error":"#N/A"}}," -",{"$f":"INDEX('Cenovnik 2'!$G$2:$G$411,MATCH('Plan unos i pregled'!$E577,Pozicije,0))","v":{"$error":"#N/A"}}]
[null,null,null,null,null,{"$f":"IF($E578=0, \" \", VLOOKUP($E578, 'Cenovnik 2'!$A$2:$D$411, 2, FALSE))","v":" "},{"$f":"IF($E578=0, \" \", VLOOKUP($E578, 'Cenovnik 2'!$A$2:$D$411, 3, FALSE))","v":" "},{"$f":"IF($E578=0, \" \", VLOOKUP($E578, 'Cenovnik 2'!$A$2:$D$411, 4, FALSE))","v":" "},null,"-","","","ДА",null,null,null,null,{"$f":"IF($C578=0, \" \", VLOOKUP($C578, DrzavniPuteviRed, 2, FALSE))","v":" "}," "," ",{"$f":"IF(VLOOKUP($E578,[0]!ProveraPDV,2,FALSE)=TRUE,$J578,)","v":{"$error":"#N/A"}},{"$f":"IF(VLOOKUP($E578,liste!$A$31:$B$818,2,FALSE)=TRUE,#REF!,)","v":{"$error":"#N/A"}}," -",{"$f":"INDEX('Cenovnik 2'!$G$2:$G$411,MATCH('Plan unos i pregled'!$E578,Pozicije,0))","v":{"$error":"#N/A"}}]
[null,null,null,null,null,{"$f":"IF($E579=0, \" \", VLOOKUP($E579, 'Cenovnik 2'!$A$2:$D$411, 2, FALSE))","v":" "},{"$f":"IF($E579=0, \" \", VLOOKUP($E579, 'Cenovnik 2'!$A$2:$D$411, 3, FALSE))","v":" "},{"$f":"IF($E579=0, \" \", VLOOKUP($E579, 'Cenovnik 2'!$A$2:$D$411, 4, FALSE))","v":" "},null,"-","","","ДА",null,null,null,null,{"$f":"IF($C579=0, \" \", VLOOKUP($C579, DrzavniPuteviRed, 2, FALSE))","v":" "}," "," ",{"$f":"IF(VLOOKUP($E579,[0]!ProveraPDV,2,FALSE)=TRUE,$J579,)","v":{"$error":"#N/A"}},{"$f":"IF(VLOOKUP($E579,liste!$A$31:$B$818,2,FALSE)=TRUE,#REF!,)","v":{"$error":"#N/A"}}," -",{"$f":"INDEX('Cenovnik 2'!$G$2:$G$411,MATCH('Plan unos i pregled'!$E579,Pozicije,0))","v":{"$error":"#N/A"}}]
[null,null,null,null,null,{"$f":"IF($E580=0, \" \", VLOOKUP($E580, 'Cenovnik 2'!$A$2:$D$411, 2, FALSE))","v":" "},{"$f":"IF($E580=0, \" \", VLOOKUP($E580, 'Cenovnik 2'!$A$2:$D$411, 3, FALSE))","v":" "},{"$f":"IF($E580=0, \" \", VLOOKUP($E580, 'Cenovnik 2'!$A$2:$D$411, 4, FALSE))","v":" "},null,"-","","","ДА",null,null,null,null,{"$f":"IF($C580=0, \" \", VLOOKUP($C580, DrzavniPuteviRed, 2, FALSE))","v":" "}," "," ",{"$f":"IF(VLOOKUP($E580,[0]!ProveraPDV,2,FALSE)=TRUE,$J580,)","v":{"$error":"#N/A"}},{"$f":"IF(VLOOKUP($E580,liste!$A$31:$B$818,2,FALSE)=TRUE,#REF!,)","v":{"$error":"#N/A"}}," -",{"$f":"INDEX('Cenovnik 2'!$G$2:$G$411,MATCH('Plan unos i pregled'!$E580,Pozicije,0))","v":{"$error":"#N/A"}}]
[null,null,null,null,null,{"$f":"IF($E581=0, \" \", VLOOKUP($E581, 'Cenovnik 2'!$A$2:$D$411, 2, FALSE))","v":" "},{"$f":"IF($E581=0, \" \", VLOOKUP($E581, 'Cenovnik 2'!$A$2:$D$411, 3, FALSE))","v":" "},{"$f":"IF($E581=0, \" \", VLOOKUP($E581, 'Cenovnik 2'!$A$2:$D$411, 4, FALSE))","v":" "},null,"-","","","ДА",null,null,null,null,{"$f":"IF($C581=0, \" \", VLOOKUP($C581, DrzavniPuteviRed, 2, FALSE))","v":" "}," "," ",{"$f":"IF(VLOOKUP($E581,[0]!ProveraPDV,2,FALSE)=TRUE,$J581,)","v":{"$error":"#N/A"}},{"$f":"IF(VLOOKUP($E581,liste!$A$31:$B$818,2,FALSE)=TRUE,#REF!,)","v":{"$error":"#N/A"}}," -",{"$f":"INDEX('Cenovnik 2'!$G$2:$G$411,MATCH('Plan unos i pregled'!$E581,Pozicije,0))","v":{"$error":"#N/A"}}]
[null,null,null,null,null,{"$f":"IF($E582=0, \" \", VLOOKUP($E582, 'Cenovnik 2'!$A$2:$D$411, 2, FALSE))","v":" "},{"$f":"IF($E582=0, \" \", VLOOKUP($E582, 'Cenovnik 2'!$A$2:$D$411, 3, FALSE))","v":" "},{"$f":"IF($E582=0, \" \", VLOOKUP($E582, 'Cenovnik 2'!$A$2:$D$411, 4, FALSE))","v":" "},null,"-","","","ДА",null,null,null,null,{"$f":"IF($C582=0, \" \", VLOOKUP($C582, DrzavniPuteviRed, 2, FALSE))","v":" "}," "," ",{"$f":"IF(VLOOKUP($E582,[0]!ProveraPDV,2,FALSE)=TRUE,$J582,)","v":{"$error":"#N/A"}},{"$f":"IF(VLOOKUP($E582,liste!$A$31:$B$818,2,FALSE)=TRUE,#REF!,)","v":{"$error":"#N/A"}}," -",{"$f":"INDEX('Cenovnik 2'!$G$2:$G$411,MATCH('Plan unos i pregled'!$E582,Pozicije,0))","v":{"$error":"#N/A"}}]
[null,null,null,null,null,{"$f":"IF($E583=0, \" \", VLOOKUP($E583, 'Cenovnik 2'!$A$2:$D$411, 2, FALSE))","v":" "},{"$f":"IF($E583=0, \" \", VLOOKUP($E583, 'Cenovnik 2'!$A$2:$D$411, 3, FALSE))","v":" "},{"$f":"IF($E583=0, \" \", VLOOKUP($E583, 'Cenovnik 2'!$A$2:$D$411, 4, FALSE))","v":" "},null,"-","","","ДА",null,null,null,null,{"$f":"IF($C583=0, \" \", VLOOKUP($C583, DrzavniPuteviRed, 2, FALSE))","v":" "}," "," ",{"$f":"IF(VLOOKUP($E583,[0]!ProveraPDV,2,FALSE)=TRUE,$J583,)","v":{"$error":"#N/A"}},{"$f":"IF(VLOOKUP($E583,liste!$A$31:$B$818,2,FALSE)=TRUE,#REF!,)","v":{"$error":"#N/A"}}," -",{"$f":"INDEX('Cenovnik 2'!$G$2:$G$411,MATCH('Plan unos i pregled'!$E583,Pozicije,0))","v":{"$error":"#N/A"}}]
[null,null,null,null,null,{"$f":"IF($E584=0, \" \", VLOOKUP($E584, 'Cenovnik 2'!$A$2:$D$411, 2, FALSE))","v":" "},{"$f":"IF($E584=0, \" \", VLOOKUP($E584, 'Cenovnik 2'!$A$2:$D$411, 3, FALSE))","v":" "},{"$f":"IF($E584=0, \" \", VLOOKUP($E584, 'Cenovnik 2'!$A$2:$D$411, 4, FALSE))","v":" "},null,"-","","","ДА",null,null,null,null,{"$f":"IF($C584=0, \" \", VLOOKUP($C584, DrzavniPuteviRed, 2, FALSE))","v":" "}," "," ",{"$f":"IF(VLOOKUP($E584,[0]!ProveraPDV,2,FALSE)=TRUE,$J584,)","v":{"$error":"#N/A"}},{"$f":"IF(VLOOKUP($E584,liste!$A$31:$B$818,2,FALSE)=TRUE,#REF!,)","v":{"$error":"#N/A"}}," -",{"$f":"INDEX('Cenovnik 2'!$G$2:$G$411,MATCH('Plan unos i pregled'!$E584,Pozicije,0))","v":{"$error":"#N/A"}}]
[null,null,null,null,null,{"$f":"IF($E585=0, \" \", VLOOKUP($E585, 'Cenovnik 2'!$A$2:$D$411, 2, FALSE))","v":" "},{"$f":"IF($E585=0, \" \", VLOOKUP($E585, 'Cenovnik 2'!$A$2:$D$411, 3, FALSE))","v":" "},{"$f":"IF($E585=0, \" \", VLOOKUP($E585, 'Cenovnik 2'!$A$2:$D$411, 4, FALSE))","v":" "},null,"-","","","ДА",null,null,null,null,{"$f":"IF($C585=0, \" \", VLOOKUP($C585, DrzavniPuteviRed, 2, FALSE))","v":" "}," "," ",{"$f":"IF(VLOOKUP($E585,[0]!ProveraPDV,2,FALSE)=TRUE,$J585,)","v":{"$error":"#N/A"}},{"$f":"IF(VLOOKUP($E585,liste!$A$31:$B$818,2,FALSE)=TRUE,#REF!,)","v":{"$error":"#N/A"}}," -",{"$f":"INDEX('Cenovnik 2'!$G$2:$G$411,MATCH('Plan unos i pregled'!$E585,Pozicije,0))","v":{"$error":"#N/A"}}]
[null,null,null,null,null,{"$f":"IF($E586=0, \" \", VLOOKUP($E586, 'Cenovnik 2'!$A$2:$D$411, 2, FALSE))","v":" "},{"$f":"IF($E586=0, \" \", VLOOKUP($E586, 'Cenovnik 2'!$A$2:$D$411, 3, FALSE))","v":" "},{"$f":"IF($E586=0, \" \", VLOOKUP($E586, 'Cenovnik 2'!$A$2:$D$411, 4, FALSE))","v":" "},null,"-","","","ДА",null,null,null,null,{"$f":"IF($C586=0, \" \", VLOOKUP($C586, DrzavniPuteviRed, 2, FALSE))","v":" "}," "," ",{"$f":"IF(VLOOKUP($E586,[0]!ProveraPDV,2,FALSE)=TRUE,$J586,)","v":{"$error":"#N/A"}},{"$f":"IF(VLOOKUP($E586,liste!$A$31:$B$818,2,FALSE)=TRUE,#REF!,)","v":{"$error":"#N/A"}}," -",{"$f":"INDEX('Cenovnik 2'!$G$2:$G$411,MATCH('Plan unos i pregled'!$E586,Pozicije,0))","v":{"$error":"#N/A"}}]
[null,null,null,null,null,{"$f":"IF($E587=0, \" \", VLOOKUP($E587, 'Cenovnik 2'!$A$2:$D$411, 2, FALSE))","v":" "},{"$f":"IF($E587=0, \" \", VLOOKUP($E587, 'Cenovnik 2'!$A$2:$D$411, 3, FALSE))","v":" "},{"$f":"IF($E587=0, \" \", VLOOKUP($E587, 'Cenovnik 2'!$A$2:$D$411, 4, FALSE))","v":" "},null,"-","","","ДА",null,null,null,null,{"$f":"IF($C587=0, \" \", VLOOKUP($C587, DrzavniPuteviRed, 2, FALSE))","v":" "}," "," ",{"$f":"IF(VLOOKUP($E587,[0]!ProveraPDV,2,FALSE)=TRUE,$J587,)","v":{"$error":"#N/A"}},{"$f":"IF(VLOOKUP($E587,liste!$A$31:$B$818,2,FALSE)=TRUE,#REF!,)","v":{"$error":"#N/A"}}," -",{"$f":"INDEX('Cenovnik 2'!$G$2:$G$411,MATCH('Plan unos i pregled'!$E587,Pozicije,0))","v":{"$error":"#N/A"}}]
[null,null,null,null,null,{"$f":"IF($E588=0, \" \", VLOOKUP($E588, 'Cenovnik 2'!$A$2:$D$411, 2, FALSE))","v":" "},{"$f":"IF($E588=0, \" \", VLOOKUP($E588, 'Cenovnik 2'!$A$2:$D$411, 3, FALSE))","v":" "},{"$f":"IF($E588=0, \" \", VLOOKUP($E588, 'Cenovnik 2'!$A$2:$D$411, 4, FALSE))","v":" "},null,"-","","","ДА",null,null,null,null,{"$f":"IF($C588=0, \" \", VLOOKUP($C588, DrzavniPuteviRed, 2, FALSE))","v":" "}," "," ",{"$f":"IF(VLOOKUP($E588,[0]!ProveraPDV,2,FALSE)=TRUE,$J588,)","v":{"$error":"#N/A"}},{"$f":"IF(VLOOKUP($E588,liste!$A$31:$B$818,2,FALSE)=TRUE,#REF!,)","v":{"$error":"#N/A"}}," -",{"$f":"INDEX('Cenovnik 2'!$G$2:$G$411,MATCH('Plan unos i pregled'!$E588,Pozicije,0))","v":{"$error":"#N/A"}}]
[null,null,null,null,null,{"$f":"IF($E589=0, \" \", VLOOKUP($E589, 'Cenovnik 2'!$A$2:$D$411, 2, FALSE))","v":" "},{"$f":"IF($E589=0, \" \", VLOOKUP($E589, 'Cenovnik 2'!$A$2:$D$411, 3, FALSE))","v":" "},{"$f":"IF($E589=0, \" \", VLOOKUP($E589, 'Cenovnik 2'!$A$2:$D$411, 4, FALSE))","v":" "},null,"-","","","ДА",null,null,null,null,{"$f":"IF($C589=0, \" \", VLOOKUP($C589, DrzavniPuteviRed, 2, FALSE))","v":" "}," "," ",{"$f":"IF(VLOOKUP($E589,[0]!ProveraPDV,2,FALSE)=TRUE,$J589,)","v":{"$error":"#N/A"}},{"$f":"IF(VLOOKUP($E589,liste!$A$31:$B$818,2,FALSE)=TRUE,#REF!,)","v":{"$error":"#N/A"}}," -",{"$f":"INDEX('Cenovnik 2'!$G$2:$G$411,MATCH('Plan unos i pregled'!$E589,Pozicije,0))","v":{"$error":"#N/A"}}]
[null,null,null,null,null,{"$f":"IF($E590=0, \" \", VLOOKUP($E590, 'Cenovnik 2'!$A$2:$D$411, 2, FALSE))","v":" "},{"$f":"IF($E590=0, \" \", VLOOKUP($E590, 'Cenovnik 2'!$A$2:$D$411, 3, FALSE))","v":" "},{"$f":"IF($E590=0, \" \", VLOOKUP($E590, 'Cenovnik 2'!$A$2:$D$411, 4, FALSE))","v":" "},null,"-","","","ДА",null,null,null,null,{"$f":"IF($C590=0, \" \", VLOOKUP($C590, DrzavniPuteviRed, 2, FALSE))","v":" "}," "," ",{"$f":"IF(VLOOKUP($E590,[0]!ProveraPDV,2,FALSE)=TRUE,$J590,)","v":{"$error":"#N/A"}},{"$f":"IF(VLOOKUP($E590,liste!$A$31:$B$818,2,FALSE)=TRUE,#REF!,)","v":{"$error":"#N/A"}}," -",{"$f":"INDEX('Cenovnik 2'!$G$2:$G$411,MATCH('Plan unos i pregled'!$E590,Pozicije,0))","v":{"$error":"#N/A"}}]
[null,null,null,null,null,{"$f":"IF($E591=0, \" \", VLOOKUP($E591, 'Cenovnik 2'!$A$2:$D$411, 2, FALSE))","v":" "},{"$f":"IF($E591=0, \" \", VLOOKUP($E591, 'Cenovnik 2'!$A$2:$D$411, 3, FALSE))","v":" "},{"$f":"IF($E591=0, \" \", VLOOKUP($E591, 'Cenovnik 2'!$A$2:$D$411, 4, FALSE))","v":" "},null,"-","","","ДА",null,null,null,null,{"$f":"IF($C591=0, \" \", VLOOKUP($C591, DrzavniPuteviRed, 2, FALSE))","v":" "}," "," ",{"$f":"IF(VLOOKUP($E591,[0]!ProveraPDV,2,FALSE)=TRUE,$J591,)","v":{"$error":"#N/A"}},{"$f":"IF(VLOOKUP($E591,liste!$A$31:$B$818,2,FALSE)=TRUE,#REF!,)","v":{"$error":"#N/A"}}," -",{"$f":"INDEX('Cenovnik 2'!$G$2:$G$411,MATCH('Plan unos i pregled'!$E591,Pozicije,0))","v":{"$error":"#N/A"}}]
[null,null,null,null,null,{"$f":"IF($E592=0, \" \", VLOOKUP($E592, 'Cenovnik 2'!$A$2:$D$411, 2, FALSE))","v":" "},{"$f":"IF($E592=0, \" \", VLOOKUP($E592, 'Cenovnik 2'!$A$2:$D$411, 3, FALSE))","v":" "},{"$f":"IF($E592=0, \" \", VLOOKUP($E592, 'Cenovnik 2'!$A$2:$D$411, 4, FALSE))","v":" "},null,"-","","","ДА",null,null,null,null,{"$f":"IF($C592=0, \" \", VLOOKUP($C592, DrzavniPuteviRed, 2, FALSE))","v":" "}," "," ",{"$f":"IF(VLOOKUP($E592,[0]!ProveraPDV,2,FALSE)=TRUE,$J592,)","v":{"$error":"#N/A"}},{"$f":"IF(VLOOKUP($E592,liste!$A$31:$B$818,2,FALSE)=TRUE,#REF!,)","v":{"$error":"#N/A"}}," -",{"$f":"INDEX('Cenovnik 2'!$G$2:$G$411,MATCH('Plan unos i pregled'!$E592,Pozicije,0))","v":{"$error":"#N/A"}}]
[null,null,null,null,null,{"$f":"IF($E593=0, \" \", VLOOKUP($E593, 'Cenovnik 2'!$A$2:$D$411, 2, FALSE))","v":" "},{"$f":"IF($E593=0, \" \", VLOOKUP($E593, 'Cenovnik 2'!$A$2:$D$411, 3, FALSE))","v":" "},{"$f":"IF($E593=0, \" \", VLOOKUP($E593, 'Cenovnik 2'!$A$2:$D$411, 4, FALSE))","v":" "},null,"-","","","ДА",null,null,null,null,{"$f":"IF($C593=0, \" \", VLOOKUP($C593, DrzavniPuteviRed, 2, FALSE))","v":" "}," "," ",{"$f":"IF(VLOOKUP($E593,[0]!ProveraPDV,2,FALSE)=TRUE,$J593,)","v":{"$error":"#N/A"}},{"$f":"IF(VLOOKUP($E593,liste!$A$31:$B$818,2,FALSE)=TRUE,#REF!,)","v":{"$error":"#N/A"}}," -",{"$f":"INDEX('Cenovnik 2'!$G$2:$G$411,MATCH('Plan unos i pregled'!$E593,Pozicije,0))","v":{"$error":"#N/A"}}]
[null,null,null,null,null,{"$f":"IF($E594=0, \" \", VLOOKUP($E594, 'Cenovnik 2'!$A$2:$D$411, 2, FALSE))","v":" "},{"$f":"IF($E594=0, \" \", VLOOKUP($E594, 'Cenovnik 2'!$A$2:$D$411, 3, FALSE))","v":" "},{"$f":"IF($E594=0, \" \", VLOOKUP($E594, 'Cenovnik 2'!$A$2:$D$411, 4, FALSE))","v":" "},null,"-","","","ДА",null,null,null,null,{"$f":"IF($C594=0, \" \", VLOOKUP($C594, DrzavniPuteviRed, 2, FALSE))","v":" "}," "," ",{"$f":"IF(VLOOKUP($E594,[0]!ProveraPDV,2,FALSE)=TRUE,$J594,)","v":{"$error":"#N/A"}},{"$f":"IF(VLOOKUP($E594,liste!$A$31:$B$818,2,FALSE)=TRUE,#REF!,)","v":{"$error":"#N/A"}}," -",{"$f":"INDEX('Cenovnik 2'!$G$2:$G$411,MATCH('Plan unos i pregled'!$E594,Pozicije,0))","v":{"$error":"#N/A"}}]
[null,null,null,null,null,{"$f":"IF($E595=0, \" \", VLOOKUP($E595, 'Cenovnik 2'!$A$2:$D$411, 2, FALSE))","v":" "},{"$f":"IF($E595=0, \" \", VLOOKUP($E595, 'Cenovnik 2'!$A$2:$D$411, 3, FALSE))","v":" "},{"$f":"IF($E595=0, \" \", VLOOKUP($E595, 'Cenovnik 2'!$A$2:$D$411, 4, FALSE))","v":" "},null,"-","","","ДА",null,null,null,null,{"$f":"IF($C595=0, \" \", VLOOKUP($C595, DrzavniPuteviRed, 2, FALSE))","v":" "}," "," ",{"$f":"IF(VLOOKUP($E595,[0]!ProveraPDV,2,FALSE)=TRUE,$J595,)","v":{"$error":"#N/A"}},{"$f":"IF(VLOOKUP($E595,liste!$A$31:$B$818,2,FALSE)=TRUE,#REF!,)","v":{"$error":"#N/A"}}," -",{"$f":"INDEX('Cenovnik 2'!$G$2:$G$411,MATCH('Plan unos i pregled'!$E595,Pozicije,0))","v":{"$error":"#N/A"}}]
[null,null,null,null,null,{"$f":"IF($E596=0, \" \", VLOOKUP($E596, 'Cenovnik 2'!$A$2:$D$411, 2, FALSE))","v":" "},{"$f":"IF($E596=0, \" \", VLOOKUP($E596, 'Cenovnik 2'!$A$2:$D$411, 3, FALSE))","v":" "},{"$f":"IF($E596=0, \" \", VLOOKUP($E596, 'Cenovnik 2'!$A$2:$D$411, 4, FALSE))","v":" "},null,"-","","","ДА",null,null,null,null,{"$f":"IF($C596=0, \" \", VLOOKUP($C596, DrzavniPuteviRed, 2, FALSE))","v":" "}," "," ",{"$f":"IF(VLOOKUP($E596,[0]!ProveraPDV,2,FALSE)=TRUE,$J596,)","v":{"$error":"#N/A"}},{"$f":"IF(VLOOKUP($E596,liste!$A$31:$B$818,2,FALSE)=TRUE,#REF!,)","v":{"$error":"#N/A"}}," -",{"$f":"INDEX('Cenovnik 2'!$G$2:$G$411,MATCH('Plan unos i pregled'!$E596,Pozicije,0))","v":{"$error":"#N/A"}}]
[null,null,null,null,null,{"$f":"IF($E597=0, \" \", VLOOKUP($E597, 'Cenovnik 2'!$A$2:$D$411, 2, FALSE))","v":" "},{"$f":"IF($E597=0, \" \", VLOOKUP($E597, 'Cenovnik 2'!$A$2:$D$411, 3, FALSE))","v":" "},{"$f":"IF($E597=0, \" \", VLOOKUP($E597, 'Cenovnik 2'!$A$2:$D$411, 4, FALSE))","v":" "},null,"-","","","ДА",null,null,null,null,{"$f":"IF($C597=0, \" \", VLOOKUP($C597, DrzavniPuteviRed, 2, FALSE))","v":" "}," "," ",{"$f":"IF(VLOOKUP($E597,[0]!ProveraPDV,2,FALSE)=TRUE,$J597,)","v":{"$error":"#N/A"}},{"$f":"IF(VLOOKUP($E597,liste!$A$31:$B$818,2,FALSE)=TRUE,#REF!,)","v":{"$error":"#N/A"}}," -",{"$f":"INDEX('Cenovnik 2'!$G$2:$G$411,MATCH('Plan unos i pregled'!$E597,Pozicije,0))","v":{"$error":"#N/A"}}]
[null,null,null,null,null,{"$f":"IF($E598=0, \" \", VLOOKUP($E598, 'Cenovnik 2'!$A$2:$D$411, 2, FALSE))","v":" "},{"$f":"IF($E598=0, \" \", VLOOKUP($E598, 'Cenovnik 2'!$A$2:$D$411, 3, FALSE))","v":" "},{"$f":"IF($E598=0, \" \", VLOOKUP($E598, 'Cenovnik 2'!$A$2:$D$411, 4, FALSE))","v":" "},null,"-","","","ДА",null,null,null,null,{"$f":"IF($C598=0, \" \", VLOOKUP($C598, DrzavniPuteviRed, 2, FALSE))","v":" "}," "," ",{"$f":"IF(VLOOKUP($E598,[0]!ProveraPDV,2,FALSE)=TRUE,$J598,)","v":{"$error":"#N/A"}},{"$f":"IF(VLOOKUP($E598,liste!$A$31:$B$818,2,FALSE)=TRUE,#REF!,)","v":{"$error":"#N/A"}}," -",{"$f":"INDEX('Cenovnik 2'!$G$2:$G$411,MATCH('Plan unos i pregled'!$E598,Pozicije,0))","v":{"$error":"#N/A"}}]
[null,null,null,null,null,{"$f":"IF($E599=0, \" \", VLOOKUP($E599, 'Cenovnik 2'!$A$2:$D$411, 2, FALSE))","v":" "},{"$f":"IF($E599=0, \" \", VLOOKUP($E599, 'Cenovnik 2'!$A$2:$D$411, 3, FALSE))","v":" "},{"$f":"IF($E599=0, \" \", VLOOKUP($E599, 'Cenovnik 2'!$A$2:$D$411, 4, FALSE))","v":" "},null,"-","","","ДА",null,null,null,null,{"$f":"IF($C599=0, \" \", VLOOKUP($C599, DrzavniPuteviRed, 2, FALSE))","v":" "}," "," ",{"$f":"IF(VLOOKUP($E599,[0]!ProveraPDV,2,FALSE)=TRUE,$J599,)","v":{"$error":"#N/A"}},{"$f":"IF(VLOOKUP($E599,liste!$A$31:$B$818,2,FALSE)=TRUE,#REF!,)","v":{"$error":"#N/A"}}," -",{"$f":"INDEX('Cenovnik 2'!$G$2:$G$411,MATCH('Plan unos i pregled'!$E599,Pozicije,0))","v":{"$error":"#N/A"}}]
[null,null,null,null,null,{"$f":"IF($E600=0, \" \", VLOOKUP($E600, 'Cenovnik 2'!$A$2:$D$411, 2, FALSE))","v":" "},{"$f":"IF($E600=0, \" \", VLOOKUP($E600, 'Cenovnik 2'!$A$2:$D$411, 3, FALSE))","v":" "},{"$f":"IF($E600=0, \" \", VLOOKUP($E600, 'Cenovnik 2'!$A$2:$D$411, 4, FALSE))","v":" "},null,"-","","","ДА",null,null,null,null,{"$f":"IF($C600=0, \" \", VLOOKUP($C600, DrzavniPuteviRed, 2, FALSE))","v":" "}," "," ",{"$f":"IF(VLOOKUP($E600,[0]!ProveraPDV,2,FALSE)=TRUE,$J600,)","v":{"$error":"#N/A"}},{"$f":"IF(VLOOKUP($E600,liste!$A$31:$B$818,2,FALSE)=TRUE,#REF!,)","v":{"$error":"#N/A"}}," -",{"$f":"INDEX('Cenovnik 2'!$G$2:$G$411,MATCH('Plan unos i pregled'!$E600,Pozicije,0))","v":{"$error":"#N/A"}}]
[null,null,null,null,null,{"$f":"IF($E601=0, \" \", VLOOKUP($E601, 'Cenovnik 2'!$A$2:$D$411, 2, FALSE))","v":" "},{"$f":"IF($E601=0, \" \", VLOOKUP($E601, 'Cenovnik 2'!$A$2:$D$411, 3, FALSE))","v":" "},{"$f":"IF($E601=0, \" \", VLOOKUP($E601, 'Cenovnik 2'!$A$2:$D$411, 4, FALSE))","v":" "},null,"-","","","ДА",null,null,null,null,{"$f":"IF($C601=0, \" \", VLOOKUP($C601, DrzavniPuteviRed, 2, FALSE))","v":" "}," "," ",{"$f":"IF(VLOOKUP($E601,[0]!ProveraPDV,2,FALSE)=TRUE,$J601,)","v":{"$error":"#N/A"}},{"$f":"IF(VLOOKUP($E601,liste!$A$31:$B$818,2,FALSE)=TRUE,#REF!,)","v":{"$error":"#N/A"}}," -",{"$f":"INDEX('Cenovnik 2'!$G$2:$G$411,MATCH('Plan unos i pregled'!$E601,Pozicije,0))","v":{"$error":"#N/A"}}]
[null,null,null,null,null,{"$f":"IF($E602=0, \" \", VLOOKUP($E602, 'Cenovnik 2'!$A$2:$D$411, 2, FALSE))","v":" "},{"$f":"IF($E602=0, \" \", VLOOKUP($E602, 'Cenovnik 2'!$A$2:$D$411, 3, FALSE))","v":" "},{"$f":"IF($E602=0, \" \", VLOOKUP($E602, 'Cenovnik 2'!$A$2:$D$411, 4, FALSE))","v":" "},null,"-","","","ДА",null,null,null,null,{"$f":"IF($C602=0, \" \", VLOOKUP($C602, DrzavniPuteviRed, 2, FALSE))","v":" "}," "," ",{"$f":"IF(VLOOKUP($E602,[0]!ProveraPDV,2,FALSE)=TRUE,$J602,)","v":{"$error":"#N/A"}},{"$f":"IF(VLOOKUP($E602,liste!$A$31:$B$818,2,FALSE)=TRUE,#REF!,)","v":{"$error":"#N/A"}}," -",{"$f":"INDEX('Cenovnik 2'!$G$2:$G$411,MATCH('Plan unos i pregled'!$E602,Pozicije,0))","v":{"$error":"#N/A"}}]
[null,null,null,null,null,{"$f":"IF($E603=0, \" \", VLOOKUP($E603, 'Cenovnik 2'!$A$2:$D$411, 2, FALSE))","v":" "},{"$f":"IF($E603=0, \" \", VLOOKUP($E603, 'Cenovnik 2'!$A$2:$D$411, 3, FALSE))","v":" "},{"$f":"IF($E603=0, \" \", VLOOKUP($E603, 'Cenovnik 2'!$A$2:$D$411, 4, FALSE))","v":" "},null,"-","","","ДА",null,null,null,null,{"$f":"IF($C603=0, \" \", VLOOKUP($C603, DrzavniPuteviRed, 2, FALSE))","v":" "}," "," ",{"$f":"IF(VLOOKUP($E603,[0]!ProveraPDV,2,FALSE)=TRUE,$J603,)","v":{"$error":"#N/A"}},{"$f":"IF(VLOOKUP($E603,liste!$A$31:$B$818,2,FALSE)=TRUE,#REF!,)","v":{"$error":"#N/A"}}," -",{"$f":"INDEX('Cenovnik 2'!$G$2:$G$411,MATCH('Plan unos i pregled'!$E603,Pozicije,0))","v":{"$error":"#N/A"}}]
[null,null,null,null,null,{"$f":"IF($E604=0, \" \", VLOOKUP($E604, 'Cenovnik 2'!$A$2:$D$411, 2, FALSE))","v":" "},{"$f":"IF($E604=0, \" \", VLOOKUP($E604, 'Cenovnik 2'!$A$2:$D$411, 3, FALSE))","v":" "},{"$f":"IF($E604=0, \" \", VLOOKUP($E604, 'Cenovnik 2'!$A$2:$D$411, 4, FALSE))","v":" "},null,"-","","","ДА",null,null,null,null,{"$f":"IF($C604=0, \" \", VLOOKUP($C604, DrzavniPuteviRed, 2, FALSE))","v":" "}," "," ",{"$f":"IF(VLOOKUP($E604,[0]!ProveraPDV,2,FALSE)=TRUE,$J604,)","v":{"$error":"#N/A"}},{"$f":"IF(VLOOKUP($E604,liste!$A$31:$B$818,2,FALSE)=TRUE,#REF!,)","v":{"$error":"#N/A"}}," -",{"$f":"INDEX('Cenovnik 2'!$G$2:$G$411,MATCH('Plan unos i pregled'!$E604,Pozicije,0))","v":{"$error":"#N/A"}}]
[null,null,null,null,null,{"$f":"IF($E605=0, \" \", VLOOKUP($E605, 'Cenovnik 2'!$A$2:$D$411, 2, FALSE))","v":" "},{"$f":"IF($E605=0, \" \", VLOOKUP($E605, 'Cenovnik 2'!$A$2:$D$411, 3, FALSE))","v":" "},{"$f":"IF($E605=0, \" \", VLOOKUP($E605, 'Cenovnik 2'!$A$2:$D$411, 4, FALSE))","v":" "},null,"-","","","ДА",null,null,null,null,{"$f":"IF($C605=0, \" \", VLOOKUP($C605, DrzavniPuteviRed, 2, FALSE))","v":" "}," "," ",{"$f":"IF(VLOOKUP($E605,[0]!ProveraPDV,2,FALSE)=TRUE,$J605,)","v":{"$error":"#N/A"}},{"$f":"IF(VLOOKUP($E605,liste!$A$31:$B$818,2,FALSE)=TRUE,#REF!,)","v":{"$error":"#N/A"}}," -",{"$f":"INDEX('Cenovnik 2'!$G$2:$G$411,MATCH('Plan unos i pregled'!$E605,Pozicije,0))","v":{"$error":"#N/A"}}]
[null,null,null,null,null,{"$f":"IF($E606=0, \" \", VLOOKUP($E606, 'Cenovnik 2'!$A$2:$D$411, 2, FALSE))","v":" "},{"$f":"IF($E606=0, \" \", VLOOKUP($E606, 'Cenovnik 2'!$A$2:$D$411, 3, FALSE))","v":" "},{"$f":"IF($E606=0, \" \", VLOOKUP($E606, 'Cenovnik 2'!$A$2:$D$411, 4, FALSE))","v":" "},null,"-","","","ДА",null,null,null,null,{"$f":"IF($C606=0, \" \", VLOOKUP($C606, DrzavniPuteviRed, 2, FALSE))","v":" "}," "," ",{"$f":"IF(VLOOKUP($E606,[0]!ProveraPDV,2,FALSE)=TRUE,$J606,)","v":{"$error":"#N/A"}},{"$f":"IF(VLOOKUP($E606,liste!$A$31:$B$818,2,FALSE)=TRUE,#REF!,)","v":{"$error":"#N/A"}}," -",{"$f":"INDEX('Cenovnik 2'!$G$2:$G$411,MATCH('Plan unos i pregled'!$E606,Pozicije,0))","v":{"$error":"#N/A"}}]
[null,null,null,null,null,{"$f":"IF($E607=0, \" \", VLOOKUP($E607, 'Cenovnik 2'!$A$2:$D$411, 2, FALSE))","v":" "},{"$f":"IF($E607=0, \" \", VLOOKUP($E607, 'Cenovnik 2'!$A$2:$D$411, 3, FALSE))","v":" "},{"$f":"IF($E607=0, \" \", VLOOKUP($E607, 'Cenovnik 2'!$A$2:$D$411, 4, FALSE))","v":" "},null,"-","","","ДА",null,null,null,null,{"$f":"IF($C607=0, \" \", VLOOKUP($C607, DrzavniPuteviRed, 2, FALSE))","v":" "}," "," ",{"$f":"IF(VLOOKUP($E607,[0]!ProveraPDV,2,FALSE)=TRUE,$J607,)","v":{"$error":"#N/A"}},{"$f":"IF(VLOOKUP($E607,liste!$A$31:$B$818,2,FALSE)=TRUE,#REF!,)","v":{"$error":"#N/A"}}," -",{"$f":"INDEX('Cenovnik 2'!$G$2:$G$411,MATCH('Plan unos i pregled'!$E607,Pozicije,0))","v":{"$error":"#N/A"}}]
[null,null,null,null,null,{"$f":"IF($E608=0, \" \", VLOOKUP($E608, 'Cenovnik 2'!$A$2:$D$411, 2, FALSE))","v":" "},{"$f":"IF($E608=0, \" \", VLOOKUP($E608, 'Cenovnik 2'!$A$2:$D$411, 3, FALSE))","v":" "},{"$f":"IF($E608=0, \" \", VLOOKUP($E608, 'Cenovnik 2'!$A$2:$D$411, 4, FALSE))","v":" "},null,"-","","","ДА",null,null,null,null,{"$f":"IF($C608=0, \" \", VLOOKUP($C608, DrzavniPuteviRed, 2, FALSE))","v":" "}," "," ",{"$f":"IF(VLOOKUP($E608,[0]!ProveraPDV,2,FALSE)=TRUE,$J608,)","v":{"$error":"#N/A"}},{"$f":"IF(VLOOKUP($E608,liste!$A$31:$B$818,2,FALSE)=TRUE,#REF!,)","v":{"$error":"#N/A"}}," -",{"$f":"INDEX('Cenovnik 2'!$G$2:$G$411,MATCH('Plan unos i pregled'!$E608,Pozicije,0))","v":{"$error":"#N/A"}}]
[null,null,null,null,null,{"$f":"IF($E609=0, \" \", VLOOKUP($E609, 'Cenovnik 2'!$A$2:$D$411, 2, FALSE))","v":" "},{"$f":"IF($E609=0, \" \", VLOOKUP($E609, 'Cenovnik 2'!$A$2:$D$411, 3, FALSE))","v":" "},{"$f":"IF($E609=0, \" \", VLOOKUP($E609, 'Cenovnik 2'!$A$2:$D$411, 4, FALSE))","v":" "},null,"-","","","ДА",null,null,null,null,{"$f":"IF($C609=0, \" \", VLOOKUP($C609, DrzavniPuteviRed, 2, FALSE))","v":" "}," "," ",{"$f":"IF(VLOOKUP($E609,[0]!ProveraPDV,2,FALSE)=TRUE,$J609,)","v":{"$error":"#N/A"}},{"$f":"IF(VLOOKUP($E609,liste!$A$31:$B$818,2,FALSE)=TRUE,#REF!,)","v":{"$error":"#N/A"}}," -",{"$f":"INDEX('Cenovnik 2'!$G$2:$G$411,MATCH('Plan unos i pregled'!$E609,Pozicije,0))","v":{"$error":"#N/A"}}]
[null,null,null,null,null,{"$f":"IF($E610=0, \" \", VLOOKUP($E610, 'Cenovnik 2'!$A$2:$D$411, 2, FALSE))","v":" "},{"$f":"IF($E610=0, \" \", VLOOKUP($E610, 'Cenovnik 2'!$A$2:$D$411, 3, FALSE))","v":" "},{"$f":"IF($E610=0, \" \", VLOOKUP($E610, 'Cenovnik 2'!$A$2:$D$411, 4, FALSE))","v":" "},null,"-","","","ДА",null,null,null,null,{"$f":"IF($C610=0, \" \", VLOOKUP($C610, DrzavniPuteviRed, 2, FALSE))","v":" "}," "," ",{"$f":"IF(VLOOKUP($E610,[0]!ProveraPDV,2,FALSE)=TRUE,$J610,)","v":{"$error":"#N/A"}},{"$f":"IF(VLOOKUP($E610,liste!$A$31:$B$818,2,FALSE)=TRUE,#REF!,)","v":{"$error":"#N/A"}}," -",{"$f":"INDEX('Cenovnik 2'!$G$2:$G$411,MATCH('Plan unos i pregled'!$E610,Pozicije,0))","v":{"$error":"#N/A"}}]
[null,null,null,null,null,{"$f":"IF($E611=0, \" \", VLOOKUP($E611, 'Cenovnik 2'!$A$2:$D$411, 2, FALSE))","v":" "},{"$f":"IF($E611=0, \" \", VLOOKUP($E611, 'Cenovnik 2'!$A$2:$D$411, 3, FALSE))","v":" "},{"$f":"IF($E611=0, \" \", VLOOKUP($E611, 'Cenovnik 2'!$A$2:$D$411, 4, FALSE))","v":" "},null,"-","","","ДА",null,null,null,null,{"$f":"IF($C611=0, \" \", VLOOKUP($C611, DrzavniPuteviRed, 2, FALSE))","v":" "}," "," ",{"$f":"IF(VLOOKUP($E611,[0]!ProveraPDV,2,FALSE)=TRUE,$J611,)","v":{"$error":"#N/A"}},{"$f":"IF(VLOOKUP($E611,liste!$A$31:$B$818,2,FALSE)=TRUE,#REF!,)","v":{"$error":"#N/A"}}," -",{"$f":"INDEX('Cenovnik 2'!$G$2:$G$411,MATCH('Plan unos i pregled'!$E611,Pozicije,0))","v":{"$error":"#N/A"}}]
[null,null,null,null,null,{"$f":"IF($E612=0, \" \", VLOOKUP($E612, 'Cenovnik 2'!$A$2:$D$411, 2, FALSE))","v":" "},{"$f":"IF($E612=0, \" \", VLOOKUP($E612, 'Cenovnik 2'!$A$2:$D$411, 3, FALSE))","v":" "},{"$f":"IF($E612=0, \" \", VLOOKUP($E612, 'Cenovnik 2'!$A$2:$D$411, 4, FALSE))","v":" "},null,"-","","","ДА",null,null,null,null,{"$f":"IF($C612=0, \" \", VLOOKUP($C612, DrzavniPuteviRed, 2, FALSE))","v":" "}," "," ",{"$f":"IF(VLOOKUP($E612,[0]!ProveraPDV,2,FALSE)=TRUE,$J612,)","v":{"$error":"#N/A"}},{"$f":"IF(VLOOKUP($E612,liste!$A$31:$B$818,2,FALSE)=TRUE,#REF!,)","v":{"$error":"#N/A"}}," -",{"$f":"INDEX('Cenovnik 2'!$G$2:$G$411,MATCH('Plan unos i pregled'!$E612,Pozicije,0))","v":{"$error":"#N/A"}}]
[null,null,null,null,null,{"$f":"IF($E613=0, \" \", VLOOKUP($E613, 'Cenovnik 2'!$A$2:$D$411, 2, FALSE))","v":" "},{"$f":"IF($E613=0, \" \", VLOOKUP($E613, 'Cenovnik 2'!$A$2:$D$411, 3, FALSE))","v":" "},{"$f":"IF($E613=0, \" \", VLOOKUP($E613, 'Cenovnik 2'!$A$2:$D$411, 4, FALSE))","v":" "},null,"-","","","ДА",null,null,null,null,{"$f":"IF($C613=0, \" \", VLOOKUP($C613, DrzavniPuteviRed, 2, FALSE))","v":" "}," "," ",{"$f":"IF(VLOOKUP($E613,[0]!ProveraPDV,2,FALSE)=TRUE,$J613,)","v":{"$error":"#N/A"}},{"$f":"IF(VLOOKUP($E613,liste!$A$31:$B$818,2,FALSE)=TRUE,#REF!,)","v":{"$error":"#N/A"}}," -",{"$f":"INDEX('Cenovnik 2'!$G$2:$G$411,MATCH('Plan unos i pregled'!$E613,Pozicije,0))","v":{"$error":"#N/A"}}]
[null,null,null,null,null,{"$f":"IF($E614=0, \" \", VLOOKUP($E614, 'Cenovnik 2'!$A$2:$D$411, 2, FALSE))","v":" "},{"$f":"IF($E614=0, \" \", VLOOKUP($E614, 'Cenovnik 2'!$A$2:$D$411, 3, FALSE))","v":" "},{"$f":"IF($E614=0, \" \", VLOOKUP($E614, 'Cenovnik 2'!$A$2:$D$411, 4, FALSE))","v":" "},null,"-",{"$f":"IFERROR(INDEX(LokacijeRadovaLat,MATCH(C614,LokacijaRadova,0)),\"\")","v":""},"","ДА",null,null,null,null,{"$f":"IF($C614=0, \" \", VLOOKUP($C614, DrzavniPuteviRed, 2, FALSE))","v":" "}," "," ",{"$f":"IF(VLOOKUP($E614,[0]!ProveraPDV,2,FALSE)=TRUE,$J614,)","v":{"$error":"#N/A"}},{"$f":"IF(VLOOKUP($E614,liste!$A$31:$B$818,2,FALSE)=TRUE,#REF!,)","v":{"$error":"#N/A"}}," -",{"$f":"INDEX('Cenovnik 2'!$G$2:$G$411,MATCH('Plan unos i pregled'!$E614,Pozicije,0))","v":{"$error":"#N/A"}}]
[null,null,null,null,null,{"$f":"IF($E615=0, \" \", VLOOKUP($E615, 'Cenovnik 2'!$A$2:$D$411, 2, FALSE))","v":" "},{"$f":"IF($E615=0, \" \", VLOOKUP($E615, 'Cenovnik 2'!$A$2:$D$411, 3, FALSE))","v":" "},{"$f":"IF($E615=0, \" \", VLOOKUP($E615, 'Cenovnik 2'!$A$2:$D$411, 4, FALSE))","v":" "},null,"-","","","ДА",null,null,null,null,{"$f":"IF($C615=0, \" \", VLOOKUP($C615, DrzavniPuteviRed, 2, FALSE))","v":" "}," "," ",{"$f":"IF(VLOOKUP($E615,[0]!ProveraPDV,2,FALSE)=TRUE,$J615,)","v":{"$error":"#N/A"}},{"$f":"IF(VLOOKUP($E615,liste!$A$31:$B$818,2,FALSE)=TRUE,#REF!,)","v":{"$error":"#N/A"}}," -",{"$f":"INDEX('Cenovnik 2'!$G$2:$G$411,MATCH('Plan unos i pregled'!$E615,Pozicije,0))","v":{"$error":"#N/A"}}]
[null,null,null,null,null,{"$f":"IF($E616=0, \" \", VLOOKUP($E616, 'Cenovnik 2'!$A$2:$D$411, 2, FALSE))","v":" "},{"$f":"IF($E616=0, \" \", VLOOKUP($E616, 'Cenovnik 2'!$A$2:$D$411, 3, FALSE))","v":" "},{"$f":"IF($E616=0, \" \", VLOOKUP($E616, 'Cenovnik 2'!$A$2:$D$411, 4, FALSE))","v":" "},null,"-","","","ДА",null,null,null,null,{"$f":"IF($C616=0, \" \", VLOOKUP($C616, DrzavniPuteviRed, 2, FALSE))","v":" "}," "," ",{"$f":"IF(VLOOKUP($E616,[0]!ProveraPDV,2,FALSE)=TRUE,$J616,)","v":{"$error":"#N/A"}},{"$f":"IF(VLOOKUP($E616,liste!$A$31:$B$818,2,FALSE)=TRUE,#REF!,)","v":{"$error":"#N/A"}}," -",{"$f":"INDEX('Cenovnik 2'!$G$2:$G$411,MATCH('Plan unos i pregled'!$E616,Pozicije,0))","v":{"$error":"#N/A"}}]
[null,null,null,null,null,{"$f":"IF($E617=0, \" \", VLOOKUP($E617, 'Cenovnik 2'!$A$2:$D$411, 2, FALSE))","v":" "},{"$f":"IF($E617=0, \" \", VLOOKUP($E617, 'Cenovnik 2'!$A$2:$D$411, 3, FALSE))","v":" "},{"$f":"IF($E617=0, \" \", VLOOKUP($E617, 'Cenovnik 2'!$A$2:$D$411, 4, FALSE))","v":" "},null,"-","","","ДА",null,null,null,null,{"$f":"IF($C617=0, \" \", VLOOKUP($C617, DrzavniPuteviRed, 2, FALSE))","v":" "}," "," ",{"$f":"IF(VLOOKUP($E617,[0]!ProveraPDV,2,FALSE)=TRUE,$J617,)","v":{"$error":"#N/A"}},{"$f":"IF(VLOOKUP($E617,liste!$A$31:$B$818,2,FALSE)=TRUE,#REF!,)","v":{"$error":"#N/A"}}," -",{"$f":"INDEX('Cenovnik 2'!$G$2:$G$411,MATCH('Plan unos i pregled'!$E617,Pozicije,0))","v":{"$error":"#N/A"}}]
[null,null,null,null,null,{"$f":"IF($E618=0, \" \", VLOOKUP($E618, 'Cenovnik 2'!$A$2:$D$411, 2, FALSE))","v":" "},{"$f":"IF($E618=0, \" \", VLOOKUP($E618, 'Cenovnik 2'!$A$2:$D$411, 3, FALSE))","v":" "},{"$f":"IF($E618=0, \" \", VLOOKUP($E618, 'Cenovnik 2'!$A$2:$D$411, 4, FALSE))","v":" "},null,"-","","","ДА",null,null,null,null,{"$f":"IF($C618=0, \" \", VLOOKUP($C618, DrzavniPuteviRed, 2, FALSE))","v":" "}," "," ",{"$f":"IF(VLOOKUP($E618,[0]!ProveraPDV,2,FALSE)=TRUE,$J618,)","v":{"$error":"#N/A"}},{"$f":"IF(VLOOKUP($E618,liste!$A$31:$B$818,2,FALSE)=TRUE,#REF!,)","v":{"$error":"#N/A"}}," -",{"$f":"INDEX('Cenovnik 2'!$G$2:$G$411,MATCH('Plan unos i pregled'!$E618,Pozicije,0))","v":{"$error":"#N/A"}}]
[null,null,null,null,null,{"$f":"IF($E619=0, \" \", VLOOKUP($E619, 'Cenovnik 2'!$A$2:$D$411, 2, FALSE))","v":" "},{"$f":"IF($E619=0, \" \", VLOOKUP($E619, 'Cenovnik 2'!$A$2:$D$411, 3, FALSE))","v":" "},{"$f":"IF($E619=0, \" \", VLOOKUP($E619, 'Cenovnik 2'!$A$2:$D$411, 4, FALSE))","v":" "},null,"-","","","ДА",null,null,null,null,{"$f":"IF($C619=0, \" \", VLOOKUP($C619, DrzavniPuteviRed, 2, FALSE))","v":" "}," "," ",{"$f":"IF(VLOOKUP($E619,[0]!ProveraPDV,2,FALSE)=TRUE,$J619,)","v":{"$error":"#N/A"}},{"$f":"IF(VLOOKUP($E619,liste!$A$31:$B$818,2,FALSE)=TRUE,#REF!,)","v":{"$error":"#N/A"}}," -",{"$f":"INDEX('Cenovnik 2'!$G$2:$G$411,MATCH('Plan unos i pregled'!$E619,Pozicije,0))","v":{"$error":"#N/A"}}]
[null,null,null,null,null,{"$f":"IF($E620=0, \" \", VLOOKUP($E620, 'Cenovnik 2'!$A$2:$D$411, 2, FALSE))","v":" "},{"$f":"IF($E620=0, \" \", VLOOKUP($E620, 'Cenovnik 2'!$A$2:$D$411, 3, FALSE))","v":" "},{"$f":"IF($E620=0, \" \", VLOOKUP($E620, 'Cenovnik 2'!$A$2:$D$411, 4, FALSE))","v":" "},null,"-","","","ДА",null,null,null,null,{"$f":"IF($C620=0, \" \", VLOOKUP($C620, DrzavniPuteviRed, 2, FALSE))","v":" "}," "," ",{"$f":"IF(VLOOKUP($E620,[0]!ProveraPDV,2,FALSE)=TRUE,$J620,)","v":{"$error":"#N/A"}},{"$f":"IF(VLOOKUP($E620,liste!$A$31:$B$818,2,FALSE)=TRUE,#REF!,)","v":{"$error":"#N/A"}}," -",{"$f":"INDEX('Cenovnik 2'!$G$2:$G$411,MATCH('Plan unos i pregled'!$E620,Pozicije,0))","v":{"$error":"#N/A"}}]
[null,null,null,null,null,{"$f":"IF($E621=0, \" \", VLOOKUP($E621, 'Cenovnik 2'!$A$2:$D$411, 2, FALSE))","v":" "},{"$f":"IF($E621=0, \" \", VLOOKUP($E621, 'Cenovnik 2'!$A$2:$D$411, 3, FALSE))","v":" "},{"$f":"IF($E621=0, \" \", VLOOKUP($E621, 'Cenovnik 2'!$A$2:$D$411, 4, FALSE))","v":" "},null,"-","","","ДА",null,null,null,null,{"$f":"IF($C621=0, \" \", VLOOKUP($C621, DrzavniPuteviRed, 2, FALSE))","v":" "}," "," ",{"$f":"IF(VLOOKUP($E621,[0]!ProveraPDV,2,FALSE)=TRUE,$J621,)","v":{"$error":"#N/A"}},{"$f":"IF(VLOOKUP($E621,liste!$A$31:$B$818,2,FALSE)=TRUE,#REF!,)","v":{"$error":"#N/A"}}," -",{"$f":"INDEX('Cenovnik 2'!$G$2:$G$411,MATCH('Plan unos i pregled'!$E621,Pozicije,0))","v":{"$error":"#N/A"}}]
[null,null,null,null,null,{"$f":"IF($E622=0, \" \", VLOOKUP($E622, 'Cenovnik 2'!$A$2:$D$411, 2, FALSE))","v":" "},{"$f":"IF($E622=0, \" \", VLOOKUP($E622, 'Cenovnik 2'!$A$2:$D$411, 3, FALSE))","v":" "},{"$f":"IF($E622=0, \" \", VLOOKUP($E622, 'Cenovnik 2'!$A$2:$D$411, 4, FALSE))","v":" "},null,"-","","","ДА",null,null,null,null,{"$f":"IF($C622=0, \" \", VLOOKUP($C622, DrzavniPuteviRed, 2, FALSE))","v":" "}," "," ",{"$f":"IF(VLOOKUP($E622,[0]!ProveraPDV,2,FALSE)=TRUE,$J622,)","v":{"$error":"#N/A"}},{"$f":"IF(VLOOKUP($E622,liste!$A$31:$B$818,2,FALSE)=TRUE,#REF!,)","v":{"$error":"#N/A"}}," -",{"$f":"INDEX('Cenovnik 2'!$G$2:$G$411,MATCH('Plan unos i pregled'!$E622,Pozicije,0))","v":{"$error":"#N/A"}}]
[null,null,null,null,null,{"$f":"IF($E623=0, \" \", VLOOKUP($E623, 'Cenovnik 2'!$A$2:$D$411, 2, FALSE))","v":" "},{"$f":"IF($E623=0, \" \", VLOOKUP($E623, 'Cenovnik 2'!$A$2:$D$411, 3, FALSE))","v":" "},{"$f":"IF($E623=0, \" \", VLOOKUP($E623, 'Cenovnik 2'!$A$2:$D$411, 4, FALSE))","v":" "},null,"-","","","ДА",null,null,null,null,{"$f":"IF($C623=0, \" \", VLOOKUP($C623, DrzavniPuteviRed, 2, FALSE))","v":" "}," "," ",{"$f":"IF(VLOOKUP($E623,[0]!ProveraPDV,2,FALSE)=TRUE,$J623,)","v":{"$error":"#N/A"}},{"$f":"IF(VLOOKUP($E623,liste!$A$31:$B$818,2,FALSE)=TRUE,#REF!,)","v":{"$error":"#N/A"}}," -",{"$f":"INDEX('Cenovnik 2'!$G$2:$G$411,MATCH('Plan unos i pregled'!$E623,Pozicije,0))","v":{"$error":"#N/A"}}]
[null,null,null,null,null,{"$f":"IF($E624=0, \" \", VLOOKUP($E624, 'Cenovnik 2'!$A$2:$D$411, 2, FALSE))","v":" "},{"$f":"IF($E624=0, \" \", VLOOKUP($E624, 'Cenovnik 2'!$A$2:$D$411, 3, FALSE))","v":" "},{"$f":"IF($E624=0, \" \", VLOOKUP($E624, 'Cenovnik 2'!$A$2:$D$411, 4, FALSE))","v":" "},null,"-","","","ДА",null,null,null,null,{"$f":"IF($C624=0, \" \", VLOOKUP($C624, DrzavniPuteviRed, 2, FALSE))","v":" "}," "," ",{"$f":"IF(VLOOKUP($E624,[0]!ProveraPDV,2,FALSE)=TRUE,$J624,)","v":{"$error":"#N/A"}},{"$f":"IF(VLOOKUP($E624,liste!$A$31:$B$818,2,FALSE)=TRUE,#REF!,)","v":{"$error":"#N/A"}}," -",{"$f":"INDEX('Cenovnik 2'!$G$2:$G$411,MATCH('Plan unos i pregled'!$E624,Pozicije,0))","v":{"$error":"#N/A"}}]
[null,null,null,null,null,{"$f":"IF($E625=0, \" \", VLOOKUP($E625, 'Cenovnik 2'!$A$2:$D$411, 2, FALSE))","v":" "},{"$f":"IF($E625=0, \" \", VLOOKUP($E625, 'Cenovnik 2'!$A$2:$D$411, 3, FALSE))","v":" "},{"$f":"IF($E625=0, \" \", VLOOKUP($E625, 'Cenovnik 2'!$A$2:$D$411, 4, FALSE))","v":" "},null,"-","","","ДА",null,null,null,null,{"$f":"IF($C625=0, \" \", VLOOKUP($C625, DrzavniPuteviRed, 2, FALSE))","v":" "}," "," ",{"$f":"IF(VLOOKUP($E625,[0]!ProveraPDV,2,FALSE)=TRUE,$J625,)","v":{"$error":"#N/A"}},{"$f":"IF(VLOOKUP($E625,liste!$A$31:$B$818,2,FALSE)=TRUE,#REF!,)","v":{"$error":"#N/A"}}," -",{"$f":"INDEX('Cenovnik 2'!$G$2:$G$411,MATCH('Plan unos i pregled'!$E625,Pozicije,0))","v":{"$error":"#N/A"}}]
[null,null,null,null,null,{"$f":"IF($E626=0, \" \", VLOOKUP($E626, 'Cenovnik 2'!$A$2:$D$411, 2, FALSE))","v":" "},{"$f":"IF($E626=0, \" \", VLOOKUP($E626, 'Cenovnik 2'!$A$2:$D$411, 3, FALSE))","v":" "},{"$f":"IF($E626=0, \" \", VLOOKUP($E626, 'Cenovnik 2'!$A$2:$D$411, 4, FALSE))","v":" "},null,"-","","","ДА",null,null,null,null,{"$f":"IF($C626=0, \" \", VLOOKUP($C626, DrzavniPuteviRed, 2, FALSE))","v":" "}," "," ",{"$f":"IF(VLOOKUP($E626,[0]!ProveraPDV,2,FALSE)=TRUE,$J626,)","v":{"$error":"#N/A"}},{"$f":"IF(VLOOKUP($E626,liste!$A$31:$B$818,2,FALSE)=TRUE,#REF!,)","v":{"$error":"#N/A"}}," -",{"$f":"INDEX('Cenovnik 2'!$G$2:$G$411,MATCH('Plan unos i pregled'!$E626,Pozicije,0))","v":{"$error":"#N/A"}}]
[null,null,null,null,null,{"$f":"IF($E627=0, \" \", VLOOKUP($E627, 'Cenovnik 2'!$A$2:$D$411, 2, FALSE))","v":" "},{"$f":"IF($E627=0, \" \", VLOOKUP($E627, 'Cenovnik 2'!$A$2:$D$411, 3, FALSE))","v":" "},{"$f":"IF($E627=0, \" \", VLOOKUP($E627, 'Cenovnik 2'!$A$2:$D$411, 4, FALSE))","v":" "},null,"-","","","ДА",null,null,null,null,{"$f":"IF($C627=0, \" \", VLOOKUP($C627, DrzavniPuteviRed, 2, FALSE))","v":" "}," "," ",{"$f":"IF(VLOOKUP($E627,[0]!ProveraPDV,2,FALSE)=TRUE,$J627,)","v":{"$error":"#N/A"}},{"$f":"IF(VLOOKUP($E627,liste!$A$31:$B$818,2,FALSE)=TRUE,#REF!,)","v":{"$error":"#N/A"}}," -",{"$f":"INDEX('Cenovnik 2'!$G$2:$G$411,MATCH('Plan unos i pregled'!$E627,Pozicije,0))","v":{"$error":"#N/A"}}]
[null,null,null,null,null,{"$f":"IF($E628=0, \" \", VLOOKUP($E628, 'Cenovnik 2'!$A$2:$D$411, 2, FALSE))","v":" "},{"$f":"IF($E628=0, \" \", VLOOKUP($E628, 'Cenovnik 2'!$A$2:$D$411, 3, FALSE))","v":" "},{"$f":"IF($E628=0, \" \", VLOOKUP($E628, 'Cenovnik 2'!$A$2:$D$411, 4, FALSE))","v":" "},null,"-","","","ДА",null,null,null,null,{"$f":"IF($C628=0, \" \", VLOOKUP($C628, DrzavniPuteviRed, 2, FALSE))","v":" "}," "," ",{"$f":"IF(VLOOKUP($E628,[0]!ProveraPDV,2,FALSE)=TRUE,$J628,)","v":{"$error":"#N/A"}},{"$f":"IF(VLOOKUP($E628,liste!$A$31:$B$818,2,FALSE)=TRUE,#REF!,)","v":{"$error":"#N/A"}}," -",{"$f":"INDEX('Cenovnik 2'!$G$2:$G$411,MATCH('Plan unos i pregled'!$E628,Pozicije,0))","v":{"$error":"#N/A"}}]
[null,null,null,null,null,{"$f":"IF($E629=0, \" \", VLOOKUP($E629, 'Cenovnik 2'!$A$2:$D$411, 2, FALSE))","v":" "},{"$f":"IF($E629=0, \" \", VLOOKUP($E629, 'Cenovnik 2'!$A$2:$D$411, 3, FALSE))","v":" "},{"$f":"IF($E629=0, \" \", VLOOKUP($E629, 'Cenovnik 2'!$A$2:$D$411, 4, FALSE))","v":" "},null,"-","","","ДА",null,null,null,null,{"$f":"IF($C629=0, \" \", VLOOKUP($C629, DrzavniPuteviRed, 2, FALSE))","v":" "}," "," ",{"$f":"IF(VLOOKUP($E629,[0]!ProveraPDV,2,FALSE)=TRUE,$J629,)","v":{"$error":"#N/A"}},{"$f":"IF(VLOOKUP($E629,liste!$A$31:$B$818,2,FALSE)=TRUE,#REF!,)","v":{"$error":"#N/A"}}," -",{"$f":"INDEX('Cenovnik 2'!$G$2:$G$411,MATCH('Plan unos i pregled'!$E629,Pozicije,0))","v":{"$error":"#N/A"}}]
[null,null,null,null,null,{"$f":"IF($E630=0, \" \", VLOOKUP($E630, 'Cenovnik 2'!$A$2:$D$411, 2, FALSE))","v":" "},{"$f":"IF($E630=0, \" \", VLOOKUP($E630, 'Cenovnik 2'!$A$2:$D$411, 3, FALSE))","v":" "},{"$f":"IF($E630=0, \" \", VLOOKUP($E630, 'Cenovnik 2'!$A$2:$D$411, 4, FALSE))","v":" "},null,"-","","","ДА",null,null,null,null,{"$f":"IF($C630=0, \" \", VLOOKUP($C630, DrzavniPuteviRed, 2, FALSE))","v":" "}," "," ",{"$f":"IF(VLOOKUP($E630,[0]!ProveraPDV,2,FALSE)=TRUE,$J630,)","v":{"$error":"#N/A"}},{"$f":"IF(VLOOKUP($E630,liste!$A$31:$B$818,2,FALSE)=TRUE,#REF!,)","v":{"$error":"#N/A"}}," -",{"$f":"INDEX('Cenovnik 2'!$G$2:$G$411,MATCH('Plan unos i pregled'!$E630,Pozicije,0))","v":{"$error":"#N/A"}}]
[null,null,null,null,null,{"$f":"IF($E631=0, \" \", VLOOKUP($E631, 'Cenovnik 2'!$A$2:$D$411, 2, FALSE))","v":" "},{"$f":"IF($E631=0, \" \", VLOOKUP($E631, 'Cenovnik 2'!$A$2:$D$411, 3, FALSE))","v":" "},{"$f":"IF($E631=0, \" \", VLOOKUP($E631, 'Cenovnik 2'!$A$2:$D$411, 4, FALSE))","v":" "},null,"-","","","ДА",null,null,null,null,{"$f":"IF($C631=0, \" \", VLOOKUP($C631, DrzavniPuteviRed, 2, FALSE))","v":" "}," "," ",{"$f":"IF(VLOOKUP($E631,[0]!ProveraPDV,2,FALSE)=TRUE,$J631,)","v":{"$error":"#N/A"}},{"$f":"IF(VLOOKUP($E631,liste!$A$31:$B$818,2,FALSE)=TRUE,#REF!,)","v":{"$error":"#N/A"}}," -",{"$f":"INDEX('Cenovnik 2'!$G$2:$G$411,MATCH('Plan unos i pregled'!$E631,Pozicije,0))","v":{"$error":"#N/A"}}]
[null,null,null,null,null,{"$f":"IF($E632=0, \" \", VLOOKUP($E632, 'Cenovnik 2'!$A$2:$D$411, 2, FALSE))","v":" "},{"$f":"IF($E632=0, \" \", VLOOKUP($E632, 'Cenovnik 2'!$A$2:$D$411, 3, FALSE))","v":" "},{"$f":"IF($E632=0, \" \", VLOOKUP($E632, 'Cenovnik 2'!$A$2:$D$411, 4, FALSE))","v":" "},null,"-","","","ДА",null,null,null,null,{"$f":"IF($C632=0, \" \", VLOOKUP($C632, DrzavniPuteviRed, 2, FALSE))","v":" "},{"$f":"IF($E632=0, \" \", VLOOKUP($E632, SifrePozicijaBezTacke, 2, FALSE))","v":" "}," ",{"$f":"IF(VLOOKUP($E632,[0]!ProveraPDV,2,FALSE)=TRUE,$J632,)","v":{"$error":"#N/A"}},{"$f":"IF(VLOOKUP($E632,liste!$A$31:$B$818,2,FALSE)=TRUE,#REF!,)","v":{"$error":"#N/A"}}," -",{"$f":"INDEX('Cenovnik 2'!$G$2:$G$411,MATCH('Plan unos i pregled'!$E632,Pozicije,0))","v":{"$error":"#N/A"}}]
[null,null,null,null,null,{"$f":"IF($E633=0, \" \", VLOOKUP($E633, 'Cenovnik 2'!$A$2:$D$411, 2, FALSE))","v":" "},{"$f":"IF($E633=0, \" \", VLOOKUP($E633, 'Cenovnik 2'!$A$2:$D$411, 3, FALSE))","v":" "},{"$f":"IF($E633=0, \" \", VLOOKUP($E633, 'Cenovnik 2'!$A$2:$D$411, 4, FALSE))","v":" "},null,{"$f":"IF(ISNUMBER($H633), $H633*$I633, \"-\")","v":"-"},"",{"$f":"TEXT(LEFT($E633,FIND(\".\",$E633&\".\")-1), \"00\")","v":""},"ДА",null,null,null,null,{"$f":"IF($C633=0, \" \", VLOOKUP($C633, DrzavniPuteviRed, 2, FALSE))","v":" "}," ",{"$f":"LEFT($S633, 3)","v":" "},{"$f":"IF(VLOOKUP($E633,[0]!ProveraPDV,2,FALSE)=TRUE,$J633,)","v":{"$error":"#N/A"}},{"$f":"IF(VLOOKUP($E633,liste!$A$31:$B$818,2,FALSE)=TRUE,#REF!,)","v":{"$error":"#N/A"}},{"$f":"R633&\"-\"&C633","v":" -"},{"$f":"INDEX('Cenovnik 2'!$G$2:$G$411,MATCH('Plan unos i pregled'!$E633,Pozicije,0))","v":{"$error":"#N/A"}}]
[null,null,null,null,null,{"$f":"IF($E634=0, \" \", VLOOKUP($E634, 'Cenovnik 2'!$A$2:$D$411, 2, FALSE))","v":" "},{"$f":"IF($E634=0, \" \", VLOOKUP($E634, 'Cenovnik 2'!$A$2:$D$411, 3, FALSE))","v":" "},{"$f":"IF($E634=0, \" \", VLOOKUP($E634, 'Cenovnik 2'!$A$2:$D$411, 4, FALSE))","v":" "},null,"-","","","ДА",null,null,null,null,{"$f":"IF($C634=0, \" \", VLOOKUP($C634, DrzavniPuteviRed, 2, FALSE))","v":" "}," "," ",{"$f":"IF(VLOOKUP($E634,[0]!ProveraPDV,2,FALSE)=TRUE,$J634,)","v":{"$error":"#N/A"}},{"$f":"IF(VLOOKUP($E634,liste!$A$31:$B$818,2,FALSE)=TRUE,#REF!,)","v":{"$error":"#N/A"}}," -",{"$f":"INDEX('Cenovnik 2'!$G$2:$G$411,MATCH('Plan unos i pregled'!$E634,Pozicije,0))","v":{"$error":"#N/A"}}]
[null,null,null,null,null,{"$f":"IF($E635=0, \" \", VLOOKUP($E635, 'Cenovnik 2'!$A$2:$D$411, 2, FALSE))","v":" "},{"$f":"IF($E635=0, \" \", VLOOKUP($E635, 'Cenovnik 2'!$A$2:$D$411, 3, FALSE))","v":" "},{"$f":"IF($E635=0, \" \", VLOOKUP($E635, 'Cenovnik 2'!$A$2:$D$411, 4, FALSE))","v":" "},null,"-","","","ДА",null,null,null,null,{"$f":"IF($C635=0, \" \", VLOOKUP($C635, DrzavniPuteviRed, 2, FALSE))","v":" "}," "," ",{"$f":"IF(VLOOKUP($E635,[0]!ProveraPDV,2,FALSE)=TRUE,$J635,)","v":{"$error":"#N/A"}},{"$f":"IF(VLOOKUP($E635,liste!$A$31:$B$818,2,FALSE)=TRUE,#REF!,)","v":{"$error":"#N/A"}}," -",{"$f":"INDEX('Cenovnik 2'!$G$2:$G$411,MATCH('Plan unos i pregled'!$E635,Pozicije,0))","v":{"$error":"#N/A"}}]
[null,null,null,null,null,{"$f":"IF($E636=0, \" \", VLOOKUP($E636, 'Cenovnik 2'!$A$2:$D$411, 2, FALSE))","v":" "},{"$f":"IF($E636=0, \" \", VLOOKUP($E636, 'Cenovnik 2'!$A$2:$D$411, 3, FALSE))","v":" "},{"$f":"IF($E636=0, \" \", VLOOKUP($E636, 'Cenovnik 2'!$A$2:$D$411, 4, FALSE))","v":" "},null,"-","","","ДА",null,null,null,null,{"$f":"IF($C636=0, \" \", VLOOKUP($C636, DrzavniPuteviRed, 2, FALSE))","v":" "}," "," ",{"$f":"IF(VLOOKUP($E636,[0]!ProveraPDV,2,FALSE)=TRUE,$J636,)","v":{"$error":"#N/A"}},{"$f":"IF(VLOOKUP($E636,liste!$A$31:$B$818,2,FALSE)=TRUE,#REF!,)","v":{"$error":"#N/A"}}," -",{"$f":"INDEX('Cenovnik 2'!$G$2:$G$411,MATCH('Plan unos i pregled'!$E636,Pozicije,0))","v":{"$error":"#N/A"}}]
[null,null,null,null,null,{"$f":"IF($E637=0, \" \", VLOOKUP($E637, 'Cenovnik 2'!$A$2:$D$411, 2, FALSE))","v":" "},{"$f":"IF($E637=0, \" \", VLOOKUP($E637, 'Cenovnik 2'!$A$2:$D$411, 3, FALSE))","v":" "},{"$f":"IF($E637=0, \" \", VLOOKUP($E637, 'Cenovnik 2'!$A$2:$D$411, 4, FALSE))","v":" "},null,"-","","","ДА",null,null,null,null,{"$f":"IF($C637=0, \" \", VLOOKUP($C637, DrzavniPuteviRed, 2, FALSE))","v":" "}," "," ",{"$f":"IF(VLOOKUP($E637,[0]!ProveraPDV,2,FALSE)=TRUE,$J637,)","v":{"$error":"#N/A"}},{"$f":"IF(VLOOKUP($E637,liste!$A$31:$B$818,2,FALSE)=TRUE,#REF!,)","v":{"$error":"#N/A"}}," -",{"$f":"INDEX('Cenovnik 2'!$G$2:$G$411,MATCH('Plan unos i pregled'!$E637,Pozicije,0))","v":{"$error":"#N/A"}}]
[null,null,null,null,null,{"$f":"IF($E638=0, \" \", VLOOKUP($E638, 'Cenovnik 2'!$A$2:$D$411, 2, FALSE))","v":" "},{"$f":"IF($E638=0, \" \", VLOOKUP($E638, 'Cenovnik 2'!$A$2:$D$411, 3, FALSE))","v":" "},{"$f":"IF($E638=0, \" \", VLOOKUP($E638, 'Cenovnik 2'!$A$2:$D$411, 4, FALSE))","v":" "},null,"-","","","ДА",null,null,null,null,{"$f":"IF($C638=0, \" \", VLOOKUP($C638, DrzavniPuteviRed, 2, FALSE))","v":" "}," "," ",{"$f":"IF(VLOOKUP($E638,[0]!ProveraPDV,2,FALSE)=TRUE,$J638,)","v":{"$error":"#N/A"}},{"$f":"IF(VLOOKUP($E638,liste!$A$31:$B$818,2,FALSE)=TRUE,#REF!,)","v":{"$error":"#N/A"}}," -",{"$f":"INDEX('Cenovnik 2'!$G$2:$G$411,MATCH('Plan unos i pregled'!$E638,Pozicije,0))","v":{"$error":"#N/A"}}]
[null,null,null,null,null,{"$f":"IF($E639=0, \" \", VLOOKUP($E639, 'Cenovnik 2'!$A$2:$D$411, 2, FALSE))","v":" "},{"$f":"IF($E639=0, \" \", VLOOKUP($E639, 'Cenovnik 2'!$A$2:$D$411, 3, FALSE))","v":" "},{"$f":"IF($E639=0, \" \", VLOOKUP($E639, 'Cenovnik 2'!$A$2:$D$411, 4, FALSE))","v":" "},null,"-","","","ДА",null,null,null,null,{"$f":"IF($C639=0, \" \", VLOOKUP($C639, DrzavniPuteviRed, 2, FALSE))","v":" "}," "," ",{"$f":"IF(VLOOKUP($E639,[0]!ProveraPDV,2,FALSE)=TRUE,$J639,)","v":{"$error":"#N/A"}},{"$f":"IF(VLOOKUP($E639,liste!$A$31:$B$818,2,FALSE)=TRUE,#REF!,)","v":{"$error":"#N/A"}}," -",{"$f":"INDEX('Cenovnik 2'!$G$2:$G$411,MATCH('Plan unos i pregled'!$E639,Pozicije,0))","v":{"$error":"#N/A"}}]
[null,null,null,null,null,{"$f":"IF($E640=0, \" \", VLOOKUP($E640, 'Cenovnik 2'!$A$2:$D$411, 2, FALSE))","v":" "},{"$f":"IF($E640=0, \" \", VLOOKUP($E640, 'Cenovnik 2'!$A$2:$D$411, 3, FALSE))","v":" "},{"$f":"IF($E640=0, \" \", VLOOKUP($E640, 'Cenovnik 2'!$A$2:$D$411, 4, FALSE))","v":" "},null,"-","","","ДА",null,null,null,null,{"$f":"IF($C640=0, \" \", VLOOKUP($C640, DrzavniPuteviRed, 2, FALSE))","v":" "}," "," ",{"$f":"IF(VLOOKUP($E640,[0]!ProveraPDV,2,FALSE)=TRUE,$J640,)","v":{"$error":"#N/A"}},{"$f":"IF(VLOOKUP($E640,liste!$A$31:$B$818,2,FALSE)=TRUE,#REF!,)","v":{"$error":"#N/A"}}," -",{"$f":"INDEX('Cenovnik 2'!$G$2:$G$411,MATCH('Plan unos i pregled'!$E640,Pozicije,0))","v":{"$error":"#N/A"}}]
[null,null,null,null,null,{"$f":"IF($E641=0, \" \", VLOOKUP($E641, 'Cenovnik 2'!$A$2:$D$411, 2, FALSE))","v":" "},{"$f":"IF($E641=0, \" \", VLOOKUP($E641, 'Cenovnik 2'!$A$2:$D$411, 3, FALSE))","v":" "},{"$f":"IF($E641=0, \" \", VLOOKUP($E641, 'Cenovnik 2'!$A$2:$D$411, 4, FALSE))","v":" "},null,"-","","","ДА",null,null,null,null,{"$f":"IF($C641=0, \" \", VLOOKUP($C641, DrzavniPuteviRed, 2, FALSE))","v":" "}," "," ",{"$f":"IF(VLOOKUP($E641,[0]!ProveraPDV,2,FALSE)=TRUE,$J641,)","v":{"$error":"#N/A"}},{"$f":"IF(VLOOKUP($E641,liste!$A$31:$B$818,2,FALSE)=TRUE,#REF!,)","v":{"$error":"#N/A"}}," -",{"$f":"INDEX('Cenovnik 2'!$G$2:$G$411,MATCH('Plan unos i pregled'!$E641,Pozicije,0))","v":{"$error":"#N/A"}}]
[null,null,null,null,null,{"$f":"IF($E642=0, \" \", VLOOKUP($E642, 'Cenovnik 2'!$A$2:$D$411, 2, FALSE))","v":" "},{"$f":"IF($E642=0, \" \", VLOOKUP($E642, 'Cenovnik 2'!$A$2:$D$411, 3, FALSE))","v":" "},{"$f":"IF($E642=0, \" \", VLOOKUP($E642, 'Cenovnik 2'!$A$2:$D$411, 4, FALSE))","v":" "},null,"-","","","ДА",null,null,null,null,{"$f":"IF($C642=0, \" \", VLOOKUP($C642, DrzavniPuteviRed, 2, FALSE))","v":" "}," "," ",{"$f":"IF(VLOOKUP($E642,[0]!ProveraPDV,2,FALSE)=TRUE,$J642,)","v":{"$error":"#N/A"}},{"$f":"IF(VLOOKUP($E642,liste!$A$31:$B$818,2,FALSE)=TRUE,#REF!,)","v":{"$error":"#N/A"}}," -",{"$f":"INDEX('Cenovnik 2'!$G$2:$G$411,MATCH('Plan unos i pregled'!$E642,Pozicije,0))","v":{"$error":"#N/A"}}]
[null,null,null,null,null,{"$f":"IF($E643=0, \" \", VLOOKUP($E643, 'Cenovnik 2'!$A$2:$D$411, 2, FALSE))","v":" "},{"$f":"IF($E643=0, \" \", VLOOKUP($E643, 'Cenovnik 2'!$A$2:$D$411, 3, FALSE))","v":" "},{"$f":"IF($E643=0, \" \", VLOOKUP($E643, 'Cenovnik 2'!$A$2:$D$411, 4, FALSE))","v":" "},null,"-","","","ДА",null,null,null,null,{"$f":"IF($C643=0, \" \", VLOOKUP($C643, DrzavniPuteviRed, 2, FALSE))","v":" "}," "," ",{"$f":"IF(VLOOKUP($E643,[0]!ProveraPDV,2,FALSE)=TRUE,$J643,)","v":{"$error":"#N/A"}},{"$f":"IF(VLOOKUP($E643,liste!$A$31:$B$818,2,FALSE)=TRUE,#REF!,)","v":{"$error":"#N/A"}}," -",{"$f":"INDEX('Cenovnik 2'!$G$2:$G$411,MATCH('Plan unos i pregled'!$E643,Pozicije,0))","v":{"$error":"#N/A"}}]
[null,null,null,null,null,{"$f":"IF($E644=0, \" \", VLOOKUP($E644, 'Cenovnik 2'!$A$2:$D$411, 2, FALSE))","v":" "},{"$f":"IF($E644=0, \" \", VLOOKUP($E644, 'Cenovnik 2'!$A$2:$D$411, 3, FALSE))","v":" "},{"$f":"IF($E644=0, \" \", VLOOKUP($E644, 'Cenovnik 2'!$A$2:$D$411, 4, FALSE))","v":" "},null,"-","","","ДА",null,null,null,null,{"$f":"IF($C644=0, \" \", VLOOKUP($C644, DrzavniPuteviRed, 2, FALSE))","v":" "}," "," ",{"$f":"IF(VLOOKUP($E644,[0]!ProveraPDV,2,FALSE)=TRUE,$J644,)","v":{"$error":"#N/A"}},{"$f":"IF(VLOOKUP($E644,liste!$A$31:$B$818,2,FALSE)=TRUE,#REF!,)","v":{"$error":"#N/A"}}," -",{"$f":"INDEX('Cenovnik 2'!$G$2:$G$411,MATCH('Plan unos i pregled'!$E644,Pozicije,0))","v":{"$error":"#N/A"}}]
[null,null,null,null,null,{"$f":"IF($E645=0, \" \", VLOOKUP($E645, 'Cenovnik 2'!$A$2:$D$411, 2, FALSE))","v":" "},{"$f":"IF($E645=0, \" \", VLOOKUP($E645, 'Cenovnik 2'!$A$2:$D$411, 3, FALSE))","v":" "},{"$f":"IF($E645=0, \" \", VLOOKUP($E645, 'Cenovnik 2'!$A$2:$D$411, 4, FALSE))","v":" "},null,"-","","","ДА",null,null,null,null,{"$f":"IF($C645=0, \" \", VLOOKUP($C645, DrzavniPuteviRed, 2, FALSE))","v":" "}," "," ",{"$f":"IF(VLOOKUP($E645,[0]!ProveraPDV,2,FALSE)=TRUE,$J645,)","v":{"$error":"#N/A"}},{"$f":"IF(VLOOKUP($E645,liste!$A$31:$B$818,2,FALSE)=TRUE,#REF!,)","v":{"$error":"#N/A"}}," -",{"$f":"INDEX('Cenovnik 2'!$G$2:$G$411,MATCH('Plan unos i pregled'!$E645,Pozicije,0))","v":{"$error":"#N/A"}}]
[null,null,null,null,null,{"$f":"IF($E646=0, \" \", VLOOKUP($E646, 'Cenovnik 2'!$A$2:$D$411, 2, FALSE))","v":" "},{"$f":"IF($E646=0, \" \", VLOOKUP($E646, 'Cenovnik 2'!$A$2:$D$411, 3, FALSE))","v":" "},{"$f":"IF($E646=0, \" \", VLOOKUP($E646, 'Cenovnik 2'!$A$2:$D$411, 4, FALSE))","v":" "},null,"-","","","ДА",null,null,null,null,{"$f":"IF($C646=0, \" \", VLOOKUP($C646, DrzavniPuteviRed, 2, FALSE))","v":" "}," "," ",{"$f":"IF(VLOOKUP($E646,[0]!ProveraPDV,2,FALSE)=TRUE,$J646,)","v":{"$error":"#N/A"}},{"$f":"IF(VLOOKUP($E646,liste!$A$31:$B$818,2,FALSE)=TRUE,#REF!,)","v":{"$error":"#N/A"}}," -",{"$f":"INDEX('Cenovnik 2'!$G$2:$G$411,MATCH('Plan unos i pregled'!$E646,Pozicije,0))","v":{"$error":"#N/A"}}]
[null,null,null,null,null,{"$f":"IF($E647=0, \" \", VLOOKUP($E647, 'Cenovnik 2'!$A$2:$D$411, 2, FALSE))","v":" "},{"$f":"IF($E647=0, \" \", VLOOKUP($E647, 'Cenovnik 2'!$A$2:$D$411, 3, FALSE))","v":" "},{"$f":"IF($E647=0, \" \", VLOOKUP($E647, 'Cenovnik 2'!$A$2:$D$411, 4, FALSE))","v":" "},null,"-","","","ДА",null,null,null,null,{"$f":"IF($C647=0, \" \", VLOOKUP($C647, DrzavniPuteviRed, 2, FALSE))","v":" "}," "," ",{"$f":"IF(VLOOKUP($E647,[0]!ProveraPDV,2,FALSE)=TRUE,$J647,)","v":{"$error":"#N/A"}},{"$f":"IF(VLOOKUP($E647,liste!$A$31:$B$818,2,FALSE)=TRUE,#REF!,)","v":{"$error":"#N/A"}}," -",{"$f":"INDEX('Cenovnik 2'!$G$2:$G$411,MATCH('Plan unos i pregled'!$E647,Pozicije,0))","v":{"$error":"#N/A"}}]
[null,null,null,null,null,{"$f":"IF($E648=0, \" \", VLOOKUP($E648, 'Cenovnik 2'!$A$2:$D$411, 2, FALSE))","v":" "},{"$f":"IF($E648=0, \" \", VLOOKUP($E648, 'Cenovnik 2'!$A$2:$D$411, 3, FALSE))","v":" "},{"$f":"IF($E648=0, \" \", VLOOKUP($E648, 'Cenovnik 2'!$A$2:$D$411, 4, FALSE))","v":" "},null,"-","","","ДА",null,null,null,null,{"$f":"IF($C648=0, \" \", VLOOKUP($C648, DrzavniPuteviRed, 2, FALSE))","v":" "}," "," ",{"$f":"IF(VLOOKUP($E648,[0]!ProveraPDV,2,FALSE)=TRUE,$J648,)","v":{"$error":"#N/A"}},{"$f":"IF(VLOOKUP($E648,liste!$A$31:$B$818,2,FALSE)=TRUE,#REF!,)","v":{"$error":"#N/A"}}," -",{"$f":"INDEX('Cenovnik 2'!$G$2:$G$411,MATCH('Plan unos i pregled'!$E648,Pozicije,0))","v":{"$error":"#N/A"}}]
[null,null,null,null,null,{"$f":"IF($E649=0, \" \", VLOOKUP($E649, 'Cenovnik 2'!$A$2:$D$411, 2, FALSE))","v":" "},{"$f":"IF($E649=0, \" \", VLOOKUP($E649, 'Cenovnik 2'!$A$2:$D$411, 3, FALSE))","v":" "},{"$f":"IF($E649=0, \" \", VLOOKUP($E649, 'Cenovnik 2'!$A$2:$D$411, 4, FALSE))","v":" "},null,"-","","","ДА",null,null,null,null,{"$f":"IF($C649=0, \" \", VLOOKUP($C649, DrzavniPuteviRed, 2, FALSE))","v":" "}," "," ",{"$f":"IF(VLOOKUP($E649,[0]!ProveraPDV,2,FALSE)=TRUE,$J649,)","v":{"$error":"#N/A"}},{"$f":"IF(VLOOKUP($E649,liste!$A$31:$B$818,2,FALSE)=TRUE,#REF!,)","v":{"$error":"#N/A"}}," -",{"$f":"INDEX('Cenovnik 2'!$G$2:$G$411,MATCH('Plan unos i pregled'!$E649,Pozicije,0))","v":{"$error":"#N/A"}}]
[null,null,null,null,null,{"$f":"IF($E650=0, \" \", VLOOKUP($E650, 'Cenovnik 2'!$A$2:$D$411, 2, FALSE))","v":" "},{"$f":"IF($E650=0, \" \", VLOOKUP($E650, 'Cenovnik 2'!$A$2:$D$411, 3, FALSE))","v":" "},{"$f":"IF($E650=0, \" \", VLOOKUP($E650, 'Cenovnik 2'!$A$2:$D$411, 4, FALSE))","v":" "},null,"-","","","ДА",null,null,null,null,{"$f":"IF($C650=0, \" \", VLOOKUP($C650, DrzavniPuteviRed, 2, FALSE))","v":" "}," "," ",{"$f":"IF(VLOOKUP($E650,[0]!ProveraPDV,2,FALSE)=TRUE,$J650,)","v":{"$error":"#N/A"}},{"$f":"IF(VLOOKUP($E650,liste!$A$31:$B$818,2,FALSE)=TRUE,#REF!,)","v":{"$error":"#N/A"}}," -",{"$f":"INDEX('Cenovnik 2'!$G$2:$G$411,MATCH('Plan unos i pregled'!$E650,Pozicije,0))","v":{"$error":"#N/A"}}]
[null,null,null,null,null,{"$f":"IF($E651=0, \" \", VLOOKUP($E651, 'Cenovnik 2'!$A$2:$D$411, 2, FALSE))","v":" "},{"$f":"IF($E651=0, \" \", VLOOKUP($E651, 'Cenovnik 2'!$A$2:$D$411, 3, FALSE))","v":" "},{"$f":"IF($E651=0, \" \", VLOOKUP($E651, 'Cenovnik 2'!$A$2:$D$411, 4, FALSE))","v":" "},null,"-","","","ДА",null,null,null,null,{"$f":"IF($C651=0, \" \", VLOOKUP($C651, DrzavniPuteviRed, 2, FALSE))","v":" "}," "," ",{"$f":"IF(VLOOKUP($E651,[0]!ProveraPDV,2,FALSE)=TRUE,$J651,)","v":{"$error":"#N/A"}},{"$f":"IF(VLOOKUP($E651,liste!$A$31:$B$818,2,FALSE)=TRUE,#REF!,)","v":{"$error":"#N/A"}}," -",{"$f":"INDEX('Cenovnik 2'!$G$2:$G$411,MATCH('Plan unos i pregled'!$E651,Pozicije,0))","v":{"$error":"#N/A"}}]
[null,null,null,null,null,{"$f":"IF($E652=0, \" \", VLOOKUP($E652, 'Cenovnik 2'!$A$2:$D$411, 2, FALSE))","v":" "},{"$f":"IF($E652=0, \" \", VLOOKUP($E652, 'Cenovnik 2'!$A$2:$D$411, 3, FALSE))","v":" "},{"$f":"IF($E652=0, \" \", VLOOKUP($E652, 'Cenovnik 2'!$A$2:$D$411, 4, FALSE))","v":" "},null,"-","","","ДА",null,null,null,null,{"$f":"IF($C652=0, \" \", VLOOKUP($C652, DrzavniPuteviRed, 2, FALSE))","v":" "}," "," ",{"$f":"IF(VLOOKUP($E652,[0]!ProveraPDV,2,FALSE)=TRUE,$J652,)","v":{"$error":"#N/A"}},{"$f":"IF(VLOOKUP($E652,liste!$A$31:$B$818,2,FALSE)=TRUE,#REF!,)","v":{"$error":"#N/A"}}," -",{"$f":"INDEX('Cenovnik 2'!$G$2:$G$411,MATCH('Plan unos i pregled'!$E652,Pozicije,0))","v":{"$error":"#N/A"}}]
[null,null,null,null,null,{"$f":"IF($E653=0, \" \", VLOOKUP($E653, 'Cenovnik 2'!$A$2:$D$411, 2, FALSE))","v":" "},{"$f":"IF($E653=0, \" \", VLOOKUP($E653, 'Cenovnik 2'!$A$2:$D$411, 3, FALSE))","v":" "},{"$f":"IF($E653=0, \" \", VLOOKUP($E653, 'Cenovnik 2'!$A$2:$D$411, 4, FALSE))","v":" "},null,"-","","","ДА",null,null,null,null,{"$f":"IF($C653=0, \" \", VLOOKUP($C653, DrzavniPuteviRed, 2, FALSE))","v":" "}," "," ",{"$f":"IF(VLOOKUP($E653,[0]!ProveraPDV,2,FALSE)=TRUE,$J653,)","v":{"$error":"#N/A"}},{"$f":"IF(VLOOKUP($E653,liste!$A$31:$B$818,2,FALSE)=TRUE,#REF!,)","v":{"$error":"#N/A"}}," -",{"$f":"INDEX('Cenovnik 2'!$G$2:$G$411,MATCH('Plan unos i pregled'!$E653,Pozicije,0))","v":{"$error":"#N/A"}}]
[null,null,null,null,null,{"$f":"IF($E654=0, \" \", VLOOKUP($E654, 'Cenovnik 2'!$A$2:$D$411, 2, FALSE))","v":" "},{"$f":"IF($E654=0, \" \", VLOOKUP($E654, 'Cenovnik 2'!$A$2:$D$411, 3, FALSE))","v":" "},{"$f":"IF($E654=0, \" \", VLOOKUP($E654, 'Cenovnik 2'!$A$2:$D$411, 4, FALSE))","v":" "},null,"-","","","ДА",null,null,null,null,{"$f":"IF($C654=0, \" \", VLOOKUP($C654, DrzavniPuteviRed, 2, FALSE))","v":" "}," "," ",{"$f":"IF(VLOOKUP($E654,[0]!ProveraPDV,2,FALSE)=TRUE,$J654,)","v":{"$error":"#N/A"}},{"$f":"IF(VLOOKUP($E654,liste!$A$31:$B$818,2,FALSE)=TRUE,#REF!,)","v":{"$error":"#N/A"}}," -",{"$f":"INDEX('Cenovnik 2'!$G$2:$G$411,MATCH('Plan unos i pregled'!$E654,Pozicije,0))","v":{"$error":"#N/A"}}]
[null,null,null,null,null,{"$f":"IF($E655=0, \" \", VLOOKUP($E655, 'Cenovnik 2'!$A$2:$D$411, 2, FALSE))","v":" "},{"$f":"IF($E655=0, \" \", VLOOKUP($E655, 'Cenovnik 2'!$A$2:$D$411, 3, FALSE))","v":" "},{"$f":"IF($E655=0, \" \", VLOOKUP($E655, 'Cenovnik 2'!$A$2:$D$411, 4, FALSE))","v":" "},null,"-","","","ДА",null,null,null,null,{"$f":"IF($C655=0, \" \", VLOOKUP($C655, DrzavniPuteviRed, 2, FALSE))","v":" "}," "," ",{"$f":"IF(VLOOKUP($E655,[0]!ProveraPDV,2,FALSE)=TRUE,$J655,)","v":{"$error":"#N/A"}},{"$f":"IF(VLOOKUP($E655,liste!$A$31:$B$818,2,FALSE)=TRUE,#REF!,)","v":{"$error":"#N/A"}}," -",{"$f":"INDEX('Cenovnik 2'!$G$2:$G$411,MATCH('Plan unos i pregled'!$E655,Pozicije,0))","v":{"$error":"#N/A"}}]
[null,null,null,null,null,{"$f":"IF($E656=0, \" \", VLOOKUP($E656, 'Cenovnik 2'!$A$2:$D$411, 2, FALSE))","v":" "},{"$f":"IF($E656=0, \" \", VLOOKUP($E656, 'Cenovnik 2'!$A$2:$D$411, 3, FALSE))","v":" "},{"$f":"IF($E656=0, \" \", VLOOKUP($E656, 'Cenovnik 2'!$A$2:$D$411, 4, FALSE))","v":" "},null,"-","","","ДА",null,null,null,null,{"$f":"IF($C656=0, \" \", VLOOKUP($C656, DrzavniPuteviRed, 2, FALSE))","v":" "}," "," ",{"$f":"IF(VLOOKUP($E656,[0]!ProveraPDV,2,FALSE)=TRUE,$J656,)","v":{"$error":"#N/A"}},{"$f":"IF(VLOOKUP($E656,liste!$A$31:$B$818,2,FALSE)=TRUE,#REF!,)","v":{"$error":"#N/A"}}," -",{"$f":"INDEX('Cenovnik 2'!$G$2:$G$411,MATCH('Plan unos i pregled'!$E656,Pozicije,0))","v":{"$error":"#N/A"}}]
[null,null,null,null,null,{"$f":"IF($E657=0, \" \", VLOOKUP($E657, 'Cenovnik 2'!$A$2:$D$411, 2, FALSE))","v":" "},{"$f":"IF($E657=0, \" \", VLOOKUP($E657, 'Cenovnik 2'!$A$2:$D$411, 3, FALSE))","v":" "},{"$f":"IF($E657=0, \" \", VLOOKUP($E657, 'Cenovnik 2'!$A$2:$D$411, 4, FALSE))","v":" "},null,"-","","","ДА",null,null,null,null,{"$f":"IF($C657=0, \" \", VLOOKUP($C657, DrzavniPuteviRed, 2, FALSE))","v":" "}," "," ",{"$f":"IF(VLOOKUP($E657,[0]!ProveraPDV,2,FALSE)=TRUE,$J657,)","v":{"$error":"#N/A"}},{"$f":"IF(VLOOKUP($E657,liste!$A$31:$B$818,2,FALSE)=TRUE,#REF!,)","v":{"$error":"#N/A"}}," -",{"$f":"INDEX('Cenovnik 2'!$G$2:$G$411,MATCH('Plan unos i pregled'!$E657,Pozicije,0))","v":{"$error":"#N/A"}}]
[null,null,null,null,null,{"$f":"IF($E658=0, \" \", VLOOKUP($E658, 'Cenovnik 2'!$A$2:$D$411, 2, FALSE))","v":" "},{"$f":"IF($E658=0, \" \", VLOOKUP($E658, 'Cenovnik 2'!$A$2:$D$411, 3, FALSE))","v":" "},{"$f":"IF($E658=0, \" \", VLOOKUP($E658, 'Cenovnik 2'!$A$2:$D$411, 4, FALSE))","v":" "},null,"-","","","ДА",null,null,null,null,{"$f":"IF($C658=0, \" \", VLOOKUP($C658, DrzavniPuteviRed, 2, FALSE))","v":" "}," "," ",{"$f":"IF(VLOOKUP($E658,[0]!ProveraPDV,2,FALSE)=TRUE,$J658,)","v":{"$error":"#N/A"}},{"$f":"IF(VLOOKUP($E658,liste!$A$31:$B$818,2,FALSE)=TRUE,#REF!,)","v":{"$error":"#N/A"}}," -",{"$f":"INDEX('Cenovnik 2'!$G$2:$G$411,MATCH('Plan unos i pregled'!$E658,Pozicije,0))","v":{"$error":"#N/A"}}]
[null,null,null,null,null,{"$f":"IF($E659=0, \" \", VLOOKUP($E659, 'Cenovnik 2'!$A$2:$D$411, 2, FALSE))","v":" "},{"$f":"IF($E659=0, \" \", VLOOKUP($E659, 'Cenovnik 2'!$A$2:$D$411, 3, FALSE))","v":" "},{"$f":"IF($E659=0, \" \", VLOOKUP($E659, 'Cenovnik 2'!$A$2:$D$411, 4, FALSE))","v":" "},null,"-","","","ДА",null,null,null,null,{"$f":"IF($C659=0, \" \", VLOOKUP($C659, DrzavniPuteviRed, 2, FALSE))","v":" "}," "," ",{"$f":"IF(VLOOKUP($E659,[0]!ProveraPDV,2,FALSE)=TRUE,$J659,)","v":{"$error":"#N/A"}},{"$f":"IF(VLOOKUP($E659,liste!$A$31:$B$818,2,FALSE)=TRUE,#REF!,)","v":{"$error":"#N/A"}}," -",{"$f":"INDEX('Cenovnik 2'!$G$2:$G$411,MATCH('Plan unos i pregled'!$E659,Pozicije,0))","v":{"$error":"#N/A"}}]
[null,null,null,null,null,{"$f":"IF($E660=0, \" \", VLOOKUP($E660, 'Cenovnik 2'!$A$2:$D$411, 2, FALSE))","v":" "},{"$f":"IF($E660=0, \" \", VLOOKUP($E660, 'Cenovnik 2'!$A$2:$D$411, 3, FALSE))","v":" "},{"$f":"IF($E660=0, \" \", VLOOKUP($E660, 'Cenovnik 2'!$A$2:$D$411, 4, FALSE))","v":" "},null,"-","","","ДА",null,null,null,null,{"$f":"IF($C660=0, \" \", VLOOKUP($C660, DrzavniPuteviRed, 2, FALSE))","v":" "}," "," ",{"$f":"IF(VLOOKUP($E660,[0]!ProveraPDV,2,FALSE)=TRUE,$J660,)","v":{"$error":"#N/A"}},{"$f":"IF(VLOOKUP($E660,liste!$A$31:$B$818,2,FALSE)=TRUE,#REF!,)","v":{"$error":"#N/A"}}," -",{"$f":"INDEX('Cenovnik 2'!$G$2:$G$411,MATCH('Plan unos i pregled'!$E660,Pozicije,0))","v":{"$error":"#N/A"}}]
[null,null,null,null,null,{"$f":"IF($E661=0, \" \", VLOOKUP($E661, 'Cenovnik 2'!$A$2:$D$411, 2, FALSE))","v":" "},{"$f":"IF($E661=0, \" \", VLOOKUP($E661, 'Cenovnik 2'!$A$2:$D$411, 3, FALSE))","v":" "},{"$f":"IF($E661=0, \" \", VLOOKUP($E661, 'Cenovnik 2'!$A$2:$D$411, 4, FALSE))","v":" "},null,"-","","","ДА",null,null,null,null,{"$f":"IF($C661=0, \" \", VLOOKUP($C661, DrzavniPuteviRed, 2, FALSE))","v":" "}," "," ",{"$f":"IF(VLOOKUP($E661,[0]!ProveraPDV,2,FALSE)=TRUE,$J661,)","v":{"$error":"#N/A"}},{"$f":"IF(VLOOKUP($E661,liste!$A$31:$B$818,2,FALSE)=TRUE,#REF!,)","v":{"$error":"#N/A"}}," -",{"$f":"INDEX('Cenovnik 2'!$G$2:$G$411,MATCH('Plan unos i pregled'!$E661,Pozicije,0))","v":{"$error":"#N/A"}}]
[null,null,null,null,null,{"$f":"IF($E662=0, \" \", VLOOKUP($E662, 'Cenovnik 2'!$A$2:$D$411, 2, FALSE))","v":" "},{"$f":"IF($E662=0, \" \", VLOOKUP($E662, 'Cenovnik 2'!$A$2:$D$411, 3, FALSE))","v":" "},{"$f":"IF($E662=0, \" \", VLOOKUP($E662, 'Cenovnik 2'!$A$2:$D$411, 4, FALSE))","v":" "},null,"-","","","ДА",null,null,null,null,{"$f":"IF($C662=0, \" \", VLOOKUP($C662, DrzavniPuteviRed, 2, FALSE))","v":" "}," "," ",{"$f":"IF(VLOOKUP($E662,[0]!ProveraPDV,2,FALSE)=TRUE,$J662,)","v":{"$error":"#N/A"}},{"$f":"IF(VLOOKUP($E662,liste!$A$31:$B$818,2,FALSE)=TRUE,#REF!,)","v":{"$error":"#N/A"}}," -",{"$f":"INDEX('Cenovnik 2'!$G$2:$G$411,MATCH('Plan unos i pregled'!$E662,Pozicije,0))","v":{"$error":"#N/A"}}]
[null,null,null,null,null,{"$f":"IF($E663=0, \" \", VLOOKUP($E663, 'Cenovnik 2'!$A$2:$D$411, 2, FALSE))","v":" "},{"$f":"IF($E663=0, \" \", VLOOKUP($E663, 'Cenovnik 2'!$A$2:$D$411, 3, FALSE))","v":" "},{"$f":"IF($E663=0, \" \", VLOOKUP($E663, 'Cenovnik 2'!$A$2:$D$411, 4, FALSE))","v":" "},null,"-","","","ДА",null,null,null,null,{"$f":"IF($C663=0, \" \", VLOOKUP($C663, DrzavniPuteviRed, 2, FALSE))","v":" "}," "," ",{"$f":"IF(VLOOKUP($E663,[0]!ProveraPDV,2,FALSE)=TRUE,$J663,)","v":{"$error":"#N/A"}},{"$f":"IF(VLOOKUP($E663,liste!$A$31:$B$818,2,FALSE)=TRUE,#REF!,)","v":{"$error":"#N/A"}}," -",{"$f":"INDEX('Cenovnik 2'!$G$2:$G$411,MATCH('Plan unos i pregled'!$E663,Pozicije,0))","v":{"$error":"#N/A"}}]
[null,null,null,null,null,{"$f":"IF($E664=0, \" \", VLOOKUP($E664, 'Cenovnik 2'!$A$2:$D$411, 2, FALSE))","v":" "},{"$f":"IF($E664=0, \" \", VLOOKUP($E664, 'Cenovnik 2'!$A$2:$D$411, 3, FALSE))","v":" "},{"$f":"IF($E664=0, \" \", VLOOKUP($E664, 'Cenovnik 2'!$A$2:$D$411, 4, FALSE))","v":" "},null,"-","","","ДА",null,null,null,null,{"$f":"IF($C664=0, \" \", VLOOKUP($C664, DrzavniPuteviRed, 2, FALSE))","v":" "}," "," ",{"$f":"IF(VLOOKUP($E664,[0]!ProveraPDV,2,FALSE)=TRUE,$J664,)","v":{"$error":"#N/A"}},{"$f":"IF(VLOOKUP($E664,liste!$A$31:$B$818,2,FALSE)=TRUE,#REF!,)","v":{"$error":"#N/A"}}," -",{"$f":"INDEX('Cenovnik 2'!$G$2:$G$411,MATCH('Plan unos i pregled'!$E664,Pozicije,0))","v":{"$error":"#N/A"}}]
[null,null,null,null,null,{"$f":"IF($E665=0, \" \", VLOOKUP($E665, 'Cenovnik 2'!$A$2:$D$411, 2, FALSE))","v":" "},{"$f":"IF($E665=0, \" \", VLOOKUP($E665, 'Cenovnik 2'!$A$2:$D$411, 3, FALSE))","v":" "},{"$f":"IF($E665=0, \" \", VLOOKUP($E665, 'Cenovnik 2'!$A$2:$D$411, 4, FALSE))","v":" "},null,"-","","","ДА",null,null,null,null,{"$f":"IF($C665=0, \" \", VLOOKUP($C665, DrzavniPuteviRed, 2, FALSE))","v":" "}," "," ",{"$f":"IF(VLOOKUP($E665,[0]!ProveraPDV,2,FALSE)=TRUE,$J665,)","v":{"$error":"#N/A"}},{"$f":"IF(VLOOKUP($E665,liste!$A$31:$B$818,2,FALSE)=TRUE,#REF!,)","v":{"$error":"#N/A"}}," -",{"$f":"INDEX('Cenovnik 2'!$G$2:$G$411,MATCH('Plan unos i pregled'!$E665,Pozicije,0))","v":{"$error":"#N/A"}}]
[null,null,null,null,null,{"$f":"IF($E666=0, \" \", VLOOKUP($E666, 'Cenovnik 2'!$A$2:$D$411, 2, FALSE))","v":" "},{"$f":"IF($E666=0, \" \", VLOOKUP($E666, 'Cenovnik 2'!$A$2:$D$411, 3, FALSE))","v":" "},{"$f":"IF($E666=0, \" \", VLOOKUP($E666, 'Cenovnik 2'!$A$2:$D$411, 4, FALSE))","v":" "},null,"-","","","ДА",null,null,null,null,{"$f":"IF($C666=0, \" \", VLOOKUP($C666, DrzavniPuteviRed, 2, FALSE))","v":" "}," "," ",{"$f":"IF(VLOOKUP($E666,[0]!ProveraPDV,2,FALSE)=TRUE,$J666,)","v":{"$error":"#N/A"}},{"$f":"IF(VLOOKUP($E666,liste!$A$31:$B$818,2,FALSE)=TRUE,#REF!,)","v":{"$error":"#N/A"}}," -",{"$f":"INDEX('Cenovnik 2'!$G$2:$G$411,MATCH('Plan unos i pregled'!$E666,Pozicije,0))","v":{"$error":"#N/A"}}]
[null,null,null,null,null,{"$f":"IF($E667=0, \" \", VLOOKUP($E667, 'Cenovnik 2'!$A$2:$D$411, 2, FALSE))","v":" "},{"$f":"IF($E667=0, \" \", VLOOKUP($E667, 'Cenovnik 2'!$A$2:$D$411, 3, FALSE))","v":" "},{"$f":"IF($E667=0, \" \", VLOOKUP($E667, 'Cenovnik 2'!$A$2:$D$411, 4, FALSE))","v":" "},null,"-","","","ДА",null,null,null,null,{"$f":"IF($C667=0, \" \", VLOOKUP($C667, DrzavniPuteviRed, 2, FALSE))","v":" "}," "," ",{"$f":"IF(VLOOKUP($E667,[0]!ProveraPDV,2,FALSE)=TRUE,$J667,)","v":{"$error":"#N/A"}},{"$f":"IF(VLOOKUP($E667,liste!$A$31:$B$818,2,FALSE)=TRUE,#REF!,)","v":{"$error":"#N/A"}}," -",{"$f":"INDEX('Cenovnik 2'!$G$2:$G$411,MATCH('Plan unos i pregled'!$E667,Pozicije,0))","v":{"$error":"#N/A"}}]
[null,null,null,null,null,{"$f":"IF($E668=0, \" \", VLOOKUP($E668, 'Cenovnik 2'!$A$2:$D$411, 2, FALSE))","v":" "},{"$f":"IF($E668=0, \" \", VLOOKUP($E668, 'Cenovnik 2'!$A$2:$D$411, 3, FALSE))","v":" "},{"$f":"IF($E668=0, \" \", VLOOKUP($E668, 'Cenovnik 2'!$A$2:$D$411, 4, FALSE))","v":" "},null,"-","","","ДА",null,null,null,null,{"$f":"IF($C668=0, \" \", VLOOKUP($C668, DrzavniPuteviRed, 2, FALSE))","v":" "}," "," ",{"$f":"IF(VLOOKUP($E668,[0]!ProveraPDV,2,FALSE)=TRUE,$J668,)","v":{"$error":"#N/A"}},{"$f":"IF(VLOOKUP($E668,liste!$A$31:$B$818,2,FALSE)=TRUE,#REF!,)","v":{"$error":"#N/A"}}," -",{"$f":"INDEX('Cenovnik 2'!$G$2:$G$411,MATCH('Plan unos i pregled'!$E668,Pozicije,0))","v":{"$error":"#N/A"}}]
[null,null,null,null,null,{"$f":"IF($E669=0, \" \", VLOOKUP($E669, 'Cenovnik 2'!$A$2:$D$411, 2, FALSE))","v":" "},{"$f":"IF($E669=0, \" \", VLOOKUP($E669, 'Cenovnik 2'!$A$2:$D$411, 3, FALSE))","v":" "},{"$f":"IF($E669=0, \" \", VLOOKUP($E669, 'Cenovnik 2'!$A$2:$D$411, 4, FALSE))","v":" "},null,"-","","","ДА",null,null,null,null,{"$f":"IF($C669=0, \" \", VLOOKUP($C669, DrzavniPuteviRed, 2, FALSE))","v":" "}," "," ",{"$f":"IF(VLOOKUP($E669,[0]!ProveraPDV,2,FALSE)=TRUE,$J669,)","v":{"$error":"#N/A"}},{"$f":"IF(VLOOKUP($E669,liste!$A$31:$B$818,2,FALSE)=TRUE,#REF!,)","v":{"$error":"#N/A"}}," -",{"$f":"INDEX('Cenovnik 2'!$G$2:$G$411,MATCH('Plan unos i pregled'!$E669,Pozicije,0))","v":{"$error":"#N/A"}}]
[null,null,null,null,null,{"$f":"IF($E670=0, \" \", VLOOKUP($E670, 'Cenovnik 2'!$A$2:$D$411, 2, FALSE))","v":" "},{"$f":"IF($E670=0, \" \", VLOOKUP($E670, 'Cenovnik 2'!$A$2:$D$411, 3, FALSE))","v":" "},{"$f":"IF($E670=0, \" \", VLOOKUP($E670, 'Cenovnik 2'!$A$2:$D$411, 4, FALSE))","v":" "},null,"-","","","ДА",null,null,null,null,{"$f":"IF($C670=0, \" \", VLOOKUP($C670, DrzavniPuteviRed, 2, FALSE))","v":" "}," "," ",{"$f":"IF(VLOOKUP($E670,[0]!ProveraPDV,2,FALSE)=TRUE,$J670,)","v":{"$error":"#N/A"}},{"$f":"IF(VLOOKUP($E670,liste!$A$31:$B$818,2,FALSE)=TRUE,#REF!,)","v":{"$error":"#N/A"}}," -",{"$f":"INDEX('Cenovnik 2'!$G$2:$G$411,MATCH('Plan unos i pregled'!$E670,Pozicije,0))","v":{"$error":"#N/A"}}]
[null,null,null,null,null,{"$f":"IF($E671=0, \" \", VLOOKUP($E671, 'Cenovnik 2'!$A$2:$D$411, 2, FALSE))","v":" "},{"$f":"IF($E671=0, \" \", VLOOKUP($E671, 'Cenovnik 2'!$A$2:$D$411, 3, FALSE))","v":" "},{"$f":"IF($E671=0, \" \", VLOOKUP($E671, 'Cenovnik 2'!$A$2:$D$411, 4, FALSE))","v":" "},null,"-","","","ДА",null,null,null,null,{"$f":"IF($C671=0, \" \", VLOOKUP($C671, DrzavniPuteviRed, 2, FALSE))","v":" "}," "," ",{"$f":"IF(VLOOKUP($E671,[0]!ProveraPDV,2,FALSE)=TRUE,$J671,)","v":{"$error":"#N/A"}},{"$f":"IF(VLOOKUP($E671,liste!$A$31:$B$818,2,FALSE)=TRUE,#REF!,)","v":{"$error":"#N/A"}}," -",{"$f":"INDEX('Cenovnik 2'!$G$2:$G$411,MATCH('Plan unos i pregled'!$E671,Pozicije,0))","v":{"$error":"#N/A"}}]
[null,null,null,null,null,{"$f":"IF($E672=0, \" \", VLOOKUP($E672, 'Cenovnik 2'!$A$2:$D$411, 2, FALSE))","v":" "},{"$f":"IF($E672=0, \" \", VLOOKUP($E672, 'Cenovnik 2'!$A$2:$D$411, 3, FALSE))","v":" "},{"$f":"IF($E672=0, \" \", VLOOKUP($E672, 'Cenovnik 2'!$A$2:$D$411, 4, FALSE))","v":" "},null,"-","","","ДА",null,null,null,null,{"$f":"IF($C672=0, \" \", VLOOKUP($C672, DrzavniPuteviRed, 2, FALSE))","v":" "}," "," ",{"$f":"IF(VLOOKUP($E672,[0]!ProveraPDV,2,FALSE)=TRUE,$J672,)","v":{"$error":"#N/A"}},{"$f":"IF(VLOOKUP($E672,liste!$A$31:$B$818,2,FALSE)=TRUE,#REF!,)","v":{"$error":"#N/A"}}," -",{"$f":"INDEX('Cenovnik 2'!$G$2:$G$411,MATCH('Plan unos i pregled'!$E672,Pozicije,0))","v":{"$error":"#N/A"}}]
[null,null,null,null,null,{"$f":"IF($E673=0, \" \", VLOOKUP($E673, 'Cenovnik 2'!$A$2:$D$411, 2, FALSE))","v":" "},{"$f":"IF($E673=0, \" \", VLOOKUP($E673, 'Cenovnik 2'!$A$2:$D$411, 3, FALSE))","v":" "},{"$f":"IF($E673=0, \" \", VLOOKUP($E673, 'Cenovnik 2'!$A$2:$D$411, 4, FALSE))","v":" "},null,"-","","","ДА",null,null,null,null,{"$f":"IF($C673=0, \" \", VLOOKUP($C673, DrzavniPuteviRed, 2, FALSE))","v":" "}," "," ",{"$f":"IF(VLOOKUP($E673,[0]!ProveraPDV,2,FALSE)=TRUE,$J673,)","v":{"$error":"#N/A"}},{"$f":"IF(VLOOKUP($E673,liste!$A$31:$B$818,2,FALSE)=TRUE,#REF!,)","v":{"$error":"#N/A"}}," -",{"$f":"INDEX('Cenovnik 2'!$G$2:$G$411,MATCH('Plan unos i pregled'!$E673,Pozicije,0))","v":{"$error":"#N/A"}}]
[null,null,null,null,null,{"$f":"IF($E674=0, \" \", VLOOKUP($E674, 'Cenovnik 2'!$A$2:$D$411, 2, FALSE))","v":" "},{"$f":"IF($E674=0, \" \", VLOOKUP($E674, 'Cenovnik 2'!$A$2:$D$411, 3, FALSE))","v":" "},{"$f":"IF($E674=0, \" \", VLOOKUP($E674, 'Cenovnik 2'!$A$2:$D$411, 4, FALSE))","v":" "},null,"-","","","ДА",null,null,null,null,{"$f":"IF($C674=0, \" \", VLOOKUP($C674, DrzavniPuteviRed, 2, FALSE))","v":" "}," "," ",{"$f":"IF(VLOOKUP($E674,[0]!ProveraPDV,2,FALSE)=TRUE,$J674,)","v":{"$error":"#N/A"}},{"$f":"IF(VLOOKUP($E674,liste!$A$31:$B$818,2,FALSE)=TRUE,#REF!,)","v":{"$error":"#N/A"}}," -",{"$f":"INDEX('Cenovnik 2'!$G$2:$G$411,MATCH('Plan unos i pregled'!$E674,Pozicije,0))","v":{"$error":"#N/A"}}]
[null,null,null,null,null,{"$f":"IF($E675=0, \" \", VLOOKUP($E675, 'Cenovnik 2'!$A$2:$D$411, 2, FALSE))","v":" "},{"$f":"IF($E675=0, \" \", VLOOKUP($E675, 'Cenovnik 2'!$A$2:$D$411, 3, FALSE))","v":" "},{"$f":"IF($E675=0, \" \", VLOOKUP($E675, 'Cenovnik 2'!$A$2:$D$411, 4, FALSE))","v":" "},null,"-","","","ДА",null,null,null,null,{"$f":"IF($C675=0, \" \", VLOOKUP($C675, DrzavniPuteviRed, 2, FALSE))","v":" "}," "," ",{"$f":"IF(VLOOKUP($E675,[0]!ProveraPDV,2,FALSE)=TRUE,$J675,)","v":{"$error":"#N/A"}},{"$f":"IF(VLOOKUP($E675,liste!$A$31:$B$818,2,FALSE)=TRUE,#REF!,)","v":{"$error":"#N/A"}}," -",{"$f":"INDEX('Cenovnik 2'!$G$2:$G$411,MATCH('Plan unos i pregled'!$E675,Pozicije,0))","v":{"$error":"#N/A"}}]
[null,null,null,null,null,{"$f":"IF($E676=0, \" \", VLOOKUP($E676, 'Cenovnik 2'!$A$2:$D$411, 2, FALSE))","v":" "},{"$f":"IF($E676=0, \" \", VLOOKUP($E676, 'Cenovnik 2'!$A$2:$D$411, 3, FALSE))","v":" "},{"$f":"IF($E676=0, \" \", VLOOKUP($E676, 'Cenovnik 2'!$A$2:$D$411, 4, FALSE))","v":" "},null,"-","","","ДА",null,null,null,null,{"$f":"IF($C676=0, \" \", VLOOKUP($C676, DrzavniPuteviRed, 2, FALSE))","v":" "}," "," ",{"$f":"IF(VLOOKUP($E676,[0]!ProveraPDV,2,FALSE)=TRUE,$J676,)","v":{"$error":"#N/A"}},{"$f":"IF(VLOOKUP($E676,liste!$A$31:$B$818,2,FALSE)=TRUE,#REF!,)","v":{"$error":"#N/A"}}," -",{"$f":"INDEX('Cenovnik 2'!$G$2:$G$411,MATCH('Plan unos i pregled'!$E676,Pozicije,0))","v":{"$error":"#N/A"}}]
[null,null,null,null,null,{"$f":"IF($E677=0, \" \", VLOOKUP($E677, 'Cenovnik 2'!$A$2:$D$411, 2, FALSE))","v":" "},{"$f":"IF($E677=0, \" \", VLOOKUP($E677, 'Cenovnik 2'!$A$2:$D$411, 3, FALSE))","v":" "},{"$f":"IF($E677=0, \" \", VLOOKUP($E677, 'Cenovnik 2'!$A$2:$D$411, 4, FALSE))","v":" "},null,"-","","","ДА",null,null,null,null,{"$f":"IF($C677=0, \" \", VLOOKUP($C677, DrzavniPuteviRed, 2, FALSE))","v":" "}," "," ",{"$f":"IF(VLOOKUP($E677,[0]!ProveraPDV,2,FALSE)=TRUE,$J677,)","v":{"$error":"#N/A"}},{"$f":"IF(VLOOKUP($E677,liste!$A$31:$B$818,2,FALSE)=TRUE,#REF!,)","v":{"$error":"#N/A"}}," -",{"$f":"INDEX('Cenovnik 2'!$G$2:$G$411,MATCH('Plan unos i pregled'!$E677,Pozicije,0))","v":{"$error":"#N/A"}}]
[null,null,null,null,null,{"$f":"IF($E678=0, \" \", VLOOKUP($E678, 'Cenovnik 2'!$A$2:$D$411, 2, FALSE))","v":" "},{"$f":"IF($E678=0, \" \", VLOOKUP($E678, 'Cenovnik 2'!$A$2:$D$411, 3, FALSE))","v":" "},{"$f":"IF($E678=0, \" \", VLOOKUP($E678, 'Cenovnik 2'!$A$2:$D$411, 4, FALSE))","v":" "},null,"-",{"$f":"IFERROR(INDEX(LokacijeRadovaLat,MATCH(C678,LokacijaRadova,0)),\"\")","v":""},"","ДА",null,null,null,null,{"$f":"IF($C678=0, \" \", VLOOKUP($C678, DrzavniPuteviRed, 2, FALSE))","v":" "}," "," ",{"$f":"IF(VLOOKUP($E678,[0]!ProveraPDV,2,FALSE)=TRUE,$J678,)","v":{"$error":"#N/A"}},{"$f":"IF(VLOOKUP($E678,liste!$A$31:$B$818,2,FALSE)=TRUE,#REF!,)","v":{"$error":"#N/A"}}," -",{"$f":"INDEX('Cenovnik 2'!$G$2:$G$411,MATCH('Plan unos i pregled'!$E678,Pozicije,0))","v":{"$error":"#N/A"}}]
[null,null,null,null,null,{"$f":"IF($E679=0, \" \", VLOOKUP($E679, 'Cenovnik 2'!$A$2:$D$411, 2, FALSE))","v":" "},{"$f":"IF($E679=0, \" \", VLOOKUP($E679, 'Cenovnik 2'!$A$2:$D$411, 3, FALSE))","v":" "},{"$f":"IF($E679=0, \" \", VLOOKUP($E679, 'Cenovnik 2'!$A$2:$D$411, 4, FALSE))","v":" "},null,"-","","","ДА",null,null,null,null,{"$f":"IF($C679=0, \" \", VLOOKUP($C679, DrzavniPuteviRed, 2, FALSE))","v":" "}," "," ",{"$f":"IF(VLOOKUP($E679,[0]!ProveraPDV,2,FALSE)=TRUE,$J679,)","v":{"$error":"#N/A"}},{"$f":"IF(VLOOKUP($E679,liste!$A$31:$B$818,2,FALSE)=TRUE,#REF!,)","v":{"$error":"#N/A"}}," -",{"$f":"INDEX('Cenovnik 2'!$G$2:$G$411,MATCH('Plan unos i pregled'!$E679,Pozicije,0))","v":{"$error":"#N/A"}}]
[null,null,null,null,null,{"$f":"IF($E680=0, \" \", VLOOKUP($E680, 'Cenovnik 2'!$A$2:$D$411, 2, FALSE))","v":" "},{"$f":"IF($E680=0, \" \", VLOOKUP($E680, 'Cenovnik 2'!$A$2:$D$411, 3, FALSE))","v":" "},{"$f":"IF($E680=0, \" \", VLOOKUP($E680, 'Cenovnik 2'!$A$2:$D$411, 4, FALSE))","v":" "},null,"-","","","ДА",null,null,null,null,{"$f":"IF($C680=0, \" \", VLOOKUP($C680, DrzavniPuteviRed, 2, FALSE))","v":" "}," "," ",{"$f":"IF(VLOOKUP($E680,[0]!ProveraPDV,2,FALSE)=TRUE,$J680,)","v":{"$error":"#N/A"}},{"$f":"IF(VLOOKUP($E680,liste!$A$31:$B$818,2,FALSE)=TRUE,#REF!,)","v":{"$error":"#N/A"}}," -",{"$f":"INDEX('Cenovnik 2'!$G$2:$G$411,MATCH('Plan unos i pregled'!$E680,Pozicije,0))","v":{"$error":"#N/A"}}]
[null,null,null,null,null,{"$f":"IF($E681=0, \" \", VLOOKUP($E681, 'Cenovnik 2'!$A$2:$D$411, 2, FALSE))","v":" "},{"$f":"IF($E681=0, \" \", VLOOKUP($E681, 'Cenovnik 2'!$A$2:$D$411, 3, FALSE))","v":" "},{"$f":"IF($E681=0, \" \", VLOOKUP($E681, 'Cenovnik 2'!$A$2:$D$411, 4, FALSE))","v":" "},null,"-","","","ДА",null,null,null,null,{"$f":"IF($C681=0, \" \", VLOOKUP($C681, DrzavniPuteviRed, 2, FALSE))","v":" "}," "," ",{"$f":"IF(VLOOKUP($E681,[0]!ProveraPDV,2,FALSE)=TRUE,$J681,)","v":{"$error":"#N/A"}},{"$f":"IF(VLOOKUP($E681,liste!$A$31:$B$818,2,FALSE)=TRUE,#REF!,)","v":{"$error":"#N/A"}}," -",{"$f":"INDEX('Cenovnik 2'!$G$2:$G$411,MATCH('Plan unos i pregled'!$E681,Pozicije,0))","v":{"$error":"#N/A"}}]
[null,null,null,null,null,{"$f":"IF($E682=0, \" \", VLOOKUP($E682, 'Cenovnik 2'!$A$2:$D$411, 2, FALSE))","v":" "},{"$f":"IF($E682=0, \" \", VLOOKUP($E682, 'Cenovnik 2'!$A$2:$D$411, 3, FALSE))","v":" "},{"$f":"IF($E682=0, \" \", VLOOKUP($E682, 'Cenovnik 2'!$A$2:$D$411, 4, FALSE))","v":" "},null,"-","","","ДА",null,null,null,null,{"$f":"IF($C682=0, \" \", VLOOKUP($C682, DrzavniPuteviRed, 2, FALSE))","v":" "}," "," ",{"$f":"IF(VLOOKUP($E682,[0]!ProveraPDV,2,FALSE)=TRUE,$J682,)","v":{"$error":"#N/A"}},{"$f":"IF(VLOOKUP($E682,liste!$A$31:$B$818,2,FALSE)=TRUE,#REF!,)","v":{"$error":"#N/A"}}," -",{"$f":"INDEX('Cenovnik 2'!$G$2:$G$411,MATCH('Plan unos i pregled'!$E682,Pozicije,0))","v":{"$error":"#N/A"}}]
[null,null,null,null,null,{"$f":"IF($E683=0, \" \", VLOOKUP($E683, 'Cenovnik 2'!$A$2:$D$411, 2, FALSE))","v":" "},{"$f":"IF($E683=0, \" \", VLOOKUP($E683, 'Cenovnik 2'!$A$2:$D$411, 3, FALSE))","v":" "},{"$f":"IF($E683=0, \" \", VLOOKUP($E683, 'Cenovnik 2'!$A$2:$D$411, 4, FALSE))","v":" "},null,"-","","","ДА",null,null,null,null,{"$f":"IF($C683=0, \" \", VLOOKUP($C683, DrzavniPuteviRed, 2, FALSE))","v":" "}," "," ",{"$f":"IF(VLOOKUP($E683,[0]!ProveraPDV,2,FALSE)=TRUE,$J683,)","v":{"$error":"#N/A"}},{"$f":"IF(VLOOKUP($E683,liste!$A$31:$B$818,2,FALSE)=TRUE,#REF!,)","v":{"$error":"#N/A"}}," -",{"$f":"INDEX('Cenovnik 2'!$G$2:$G$411,MATCH('Plan unos i pregled'!$E683,Pozicije,0))","v":{"$error":"#N/A"}}]
[null,null,null,null,null,{"$f":"IF($E684=0, \" \", VLOOKUP($E684, 'Cenovnik 2'!$A$2:$D$411, 2, FALSE))","v":" "},{"$f":"IF($E684=0, \" \", VLOOKUP($E684, 'Cenovnik 2'!$A$2:$D$411, 3, FALSE))","v":" "},{"$f":"IF($E684=0, \" \", VLOOKUP($E684, 'Cenovnik 2'!$A$2:$D$411, 4, FALSE))","v":" "},null,"-","","","ДА",null,null,null,null,{"$f":"IF($C684=0, \" \", VLOOKUP($C684, DrzavniPuteviRed, 2, FALSE))","v":" "}," "," ",{"$f":"IF(VLOOKUP($E684,[0]!ProveraPDV,2,FALSE)=TRUE,$J684,)","v":{"$error":"#N/A"}},{"$f":"IF(VLOOKUP($E684,liste!$A$31:$B$818,2,FALSE)=TRUE,#REF!,)","v":{"$error":"#N/A"}}," -",{"$f":"INDEX('Cenovnik 2'!$G$2:$G$411,MATCH('Plan unos i pregled'!$E684,Pozicije,0))","v":{"$error":"#N/A"}}]
[null,null,null,null,null,{"$f":"IF($E685=0, \" \", VLOOKUP($E685, 'Cenovnik 2'!$A$2:$D$411, 2, FALSE))","v":" "},{"$f":"IF($E685=0, \" \", VLOOKUP($E685, 'Cenovnik 2'!$A$2:$D$411, 3, FALSE))","v":" "},{"$f":"IF($E685=0, \" \", VLOOKUP($E685, 'Cenovnik 2'!$A$2:$D$411, 4, FALSE))","v":" "},null,"-","","","ДА",null,null,null,null,{"$f":"IF($C685=0, \" \", VLOOKUP($C685, DrzavniPuteviRed, 2, FALSE))","v":" "}," "," ",{"$f":"IF(VLOOKUP($E685,[0]!ProveraPDV,2,FALSE)=TRUE,$J685,)","v":{"$error":"#N/A"}},{"$f":"IF(VLOOKUP($E685,liste!$A$31:$B$818,2,FALSE)=TRUE,#REF!,)","v":{"$error":"#N/A"}}," -",{"$f":"INDEX('Cenovnik 2'!$G$2:$G$411,MATCH('Plan unos i pregled'!$E685,Pozicije,0))","v":{"$error":"#N/A"}}]
[null,null,null,null,null,{"$f":"IF($E686=0, \" \", VLOOKUP($E686, 'Cenovnik 2'!$A$2:$D$411, 2, FALSE))","v":" "},{"$f":"IF($E686=0, \" \", VLOOKUP($E686, 'Cenovnik 2'!$A$2:$D$411, 3, FALSE))","v":" "},{"$f":"IF($E686=0, \" \", VLOOKUP($E686, 'Cenovnik 2'!$A$2:$D$411, 4, FALSE))","v":" "},null,"-","","","ДА",null,null,null,null,{"$f":"IF($C686=0, \" \", VLOOKUP($C686, DrzavniPuteviRed, 2, FALSE))","v":" "}," "," ",{"$f":"IF(VLOOKUP($E686,[0]!ProveraPDV,2,FALSE)=TRUE,$J686,)","v":{"$error":"#N/A"}},{"$f":"IF(VLOOKUP($E686,liste!$A$31:$B$818,2,FALSE)=TRUE,#REF!,)","v":{"$error":"#N/A"}}," -",{"$f":"INDEX('Cenovnik 2'!$G$2:$G$411,MATCH('Plan unos i pregled'!$E686,Pozicije,0))","v":{"$error":"#N/A"}}]
[null,null,null,null,null,{"$f":"IF($E687=0, \" \", VLOOKUP($E687, 'Cenovnik 2'!$A$2:$D$411, 2, FALSE))","v":" "},{"$f":"IF($E687=0, \" \", VLOOKUP($E687, 'Cenovnik 2'!$A$2:$D$411, 3, FALSE))","v":" "},{"$f":"IF($E687=0, \" \", VLOOKUP($E687, 'Cenovnik 2'!$A$2:$D$411, 4, FALSE))","v":" "},null,"-","","","ДА",null,null,null,null,{"$f":"IF($C687=0, \" \", VLOOKUP($C687, DrzavniPuteviRed, 2, FALSE))","v":" "}," "," ",{"$f":"IF(VLOOKUP($E687,[0]!ProveraPDV,2,FALSE)=TRUE,$J687,)","v":{"$error":"#N/A"}},{"$f":"IF(VLOOKUP($E687,liste!$A$31:$B$818,2,FALSE)=TRUE,#REF!,)","v":{"$error":"#N/A"}}," -",{"$f":"INDEX('Cenovnik 2'!$G$2:$G$411,MATCH('Plan unos i pregled'!$E687,Pozicije,0))","v":{"$error":"#N/A"}}]
[null,null,null,null,null,{"$f":"IF($E688=0, \" \", VLOOKUP($E688, 'Cenovnik 2'!$A$2:$D$411, 2, FALSE))","v":" "},{"$f":"IF($E688=0, \" \", VLOOKUP($E688, 'Cenovnik 2'!$A$2:$D$411, 3, FALSE))","v":" "},{"$f":"IF($E688=0, \" \", VLOOKUP($E688, 'Cenovnik 2'!$A$2:$D$411, 4, FALSE))","v":" "},null,"-","","","ДА",null,null,null,null,{"$f":"IF($C688=0, \" \", VLOOKUP($C688, DrzavniPuteviRed, 2, FALSE))","v":" "}," "," ",{"$f":"IF(VLOOKUP($E688,[0]!ProveraPDV,2,FALSE)=TRUE,$J688,)","v":{"$error":"#N/A"}},{"$f":"IF(VLOOKUP($E688,liste!$A$31:$B$818,2,FALSE)=TRUE,#REF!,)","v":{"$error":"#N/A"}}," -",{"$f":"INDEX('Cenovnik 2'!$G$2:$G$411,MATCH('Plan unos i pregled'!$E688,Pozicije,0))","v":{"$error":"#N/A"}}]
[null,null,null,null,null,{"$f":"IF($E689=0, \" \", VLOOKUP($E689, 'Cenovnik 2'!$A$2:$D$411, 2, FALSE))","v":" "},{"$f":"IF($E689=0, \" \", VLOOKUP($E689, 'Cenovnik 2'!$A$2:$D$411, 3, FALSE))","v":" "},{"$f":"IF($E689=0, \" \", VLOOKUP($E689, 'Cenovnik 2'!$A$2:$D$411, 4, FALSE))","v":" "},null,"-","","","ДА",null,null,null,null,{"$f":"IF($C689=0, \" \", VLOOKUP($C689, DrzavniPuteviRed, 2, FALSE))","v":" "}," "," ",{"$f":"IF(VLOOKUP($E689,[0]!ProveraPDV,2,FALSE)=TRUE,$J689,)","v":{"$error":"#N/A"}},{"$f":"IF(VLOOKUP($E689,liste!$A$31:$B$818,2,FALSE)=TRUE,#REF!,)","v":{"$error":"#N/A"}}," -",{"$f":"INDEX('Cenovnik 2'!$G$2:$G$411,MATCH('Plan unos i pregled'!$E689,Pozicije,0))","v":{"$error":"#N/A"}}]
[null,null,null,null,null,{"$f":"IF($E690=0, \" \", VLOOKUP($E690, 'Cenovnik 2'!$A$2:$D$411, 2, FALSE))","v":" "},{"$f":"IF($E690=0, \" \", VLOOKUP($E690, 'Cenovnik 2'!$A$2:$D$411, 3, FALSE))","v":" "},{"$f":"IF($E690=0, \" \", VLOOKUP($E690, 'Cenovnik 2'!$A$2:$D$411, 4, FALSE))","v":" "},null,"-","","","ДА",null,null,null,null,{"$f":"IF($C690=0, \" \", VLOOKUP($C690, DrzavniPuteviRed, 2, FALSE))","v":" "}," "," ",{"$f":"IF(VLOOKUP($E690,[0]!ProveraPDV,2,FALSE)=TRUE,$J690,)","v":{"$error":"#N/A"}},{"$f":"IF(VLOOKUP($E690,liste!$A$31:$B$818,2,FALSE)=TRUE,#REF!,)","v":{"$error":"#N/A"}}," -",{"$f":"INDEX('Cenovnik 2'!$G$2:$G$411,MATCH('Plan unos i pregled'!$E690,Pozicije,0))","v":{"$error":"#N/A"}}]
[null,null,null,null,null,{"$f":"IF($E691=0, \" \", VLOOKUP($E691, 'Cenovnik 2'!$A$2:$D$411, 2, FALSE))","v":" "},{"$f":"IF($E691=0, \" \", VLOOKUP($E691, 'Cenovnik 2'!$A$2:$D$411, 3, FALSE))","v":" "},{"$f":"IF($E691=0, \" \", VLOOKUP($E691, 'Cenovnik 2'!$A$2:$D$411, 4, FALSE))","v":" "},null,"-","","","ДА",null,null,null,null,{"$f":"IF($C691=0, \" \", VLOOKUP($C691, DrzavniPuteviRed, 2, FALSE))","v":" "}," "," ",{"$f":"IF(VLOOKUP($E691,[0]!ProveraPDV,2,FALSE)=TRUE,$J691,)","v":{"$error":"#N/A"}},{"$f":"IF(VLOOKUP($E691,liste!$A$31:$B$818,2,FALSE)=TRUE,#REF!,)","v":{"$error":"#N/A"}}," -",{"$f":"INDEX('Cenovnik 2'!$G$2:$G$411,MATCH('Plan unos i pregled'!$E691,Pozicije,0))","v":{"$error":"#N/A"}}]
[null,null,null,null,null,{"$f":"IF($E692=0, \" \", VLOOKUP($E692, 'Cenovnik 2'!$A$2:$D$411, 2, FALSE))","v":" "},{"$f":"IF($E692=0, \" \", VLOOKUP($E692, 'Cenovnik 2'!$A$2:$D$411, 3, FALSE))","v":" "},{"$f":"IF($E692=0, \" \", VLOOKUP($E692, 'Cenovnik 2'!$A$2:$D$411, 4, FALSE))","v":" "},null,"-","","","ДА",null,null,null,null,{"$f":"IF($C692=0, \" \", VLOOKUP($C692, DrzavniPuteviRed, 2, FALSE))","v":" "}," "," ",{"$f":"IF(VLOOKUP($E692,[0]!ProveraPDV,2,FALSE)=TRUE,$J692,)","v":{"$error":"#N/A"}},{"$f":"IF(VLOOKUP($E692,liste!$A$31:$B$818,2,FALSE)=TRUE,#REF!,)","v":{"$error":"#N/A"}}," -",{"$f":"INDEX('Cenovnik 2'!$G$2:$G$411,MATCH('Plan unos i pregled'!$E692,Pozicije,0))","v":{"$error":"#N/A"}}]
[null,null,null,null,null,{"$f":"IF($E693=0, \" \", VLOOKUP($E693, 'Cenovnik 2'!$A$2:$D$411, 2, FALSE))","v":" "},{"$f":"IF($E693=0, \" \", VLOOKUP($E693, 'Cenovnik 2'!$A$2:$D$411, 3, FALSE))","v":" "},{"$f":"IF($E693=0, \" \", VLOOKUP($E693, 'Cenovnik 2'!$A$2:$D$411, 4, FALSE))","v":" "},null,"-","","","ДА",null,null,null,null,{"$f":"IF($C693=0, \" \", VLOOKUP($C693, DrzavniPuteviRed, 2, FALSE))","v":" "}," "," ",{"$f":"IF(VLOOKUP($E693,[0]!ProveraPDV,2,FALSE)=TRUE,$J693,)","v":{"$error":"#N/A"}},{"$f":"IF(VLOOKUP($E693,liste!$A$31:$B$818,2,FALSE)=TRUE,#REF!,)","v":{"$error":"#N/A"}}," -",{"$f":"INDEX('Cenovnik 2'!$G$2:$G$411,MATCH('Plan unos i pregled'!$E693,Pozicije,0))","v":{"$error":"#N/A"}}]
[null,null,null,null,null,{"$f":"IF($E694=0, \" \", VLOOKUP($E694, 'Cenovnik 2'!$A$2:$D$411, 2, FALSE))","v":" "},{"$f":"IF($E694=0, \" \", VLOOKUP($E694, 'Cenovnik 2'!$A$2:$D$411, 3, FALSE))","v":" "},{"$f":"IF($E694=0, \" \", VLOOKUP($E694, 'Cenovnik 2'!$A$2:$D$411, 4, FALSE))","v":" "},null,"-","","","ДА",null,null,null,null,{"$f":"IF($C694=0, \" \", VLOOKUP($C694, DrzavniPuteviRed, 2, FALSE))","v":" "}," "," ",{"$f":"IF(VLOOKUP($E694,[0]!ProveraPDV,2,FALSE)=TRUE,$J694,)","v":{"$error":"#N/A"}},{"$f":"IF(VLOOKUP($E694,liste!$A$31:$B$818,2,FALSE)=TRUE,#REF!,)","v":{"$error":"#N/A"}}," -",{"$f":"INDEX('Cenovnik 2'!$G$2:$G$411,MATCH('Plan unos i pregled'!$E694,Pozicije,0))","v":{"$error":"#N/A"}}]
[null,null,null,null,null,{"$f":"IF($E695=0, \" \", VLOOKUP($E695, 'Cenovnik 2'!$A$2:$D$411, 2, FALSE))","v":" "},{"$f":"IF($E695=0, \" \", VLOOKUP($E695, 'Cenovnik 2'!$A$2:$D$411, 3, FALSE))","v":" "},{"$f":"IF($E695=0, \" \", VLOOKUP($E695, 'Cenovnik 2'!$A$2:$D$411, 4, FALSE))","v":" "},null,"-","","","ДА",null,null,null,null,{"$f":"IF($C695=0, \" \", VLOOKUP($C695, DrzavniPuteviRed, 2, FALSE))","v":" "}," "," ",{"$f":"IF(VLOOKUP($E695,[0]!ProveraPDV,2,FALSE)=TRUE,$J695,)","v":{"$error":"#N/A"}},{"$f":"IF(VLOOKUP($E695,liste!$A$31:$B$818,2,FALSE)=TRUE,#REF!,)","v":{"$error":"#N/A"}}," -",{"$f":"INDEX('Cenovnik 2'!$G$2:$G$411,MATCH('Plan unos i pregled'!$E695,Pozicije,0))","v":{"$error":"#N/A"}}]
[null,null,null,null,null,{"$f":"IF($E696=0, \" \", VLOOKUP($E696, 'Cenovnik 2'!$A$2:$D$411, 2, FALSE))","v":" "},{"$f":"IF($E696=0, \" \", VLOOKUP($E696, 'Cenovnik 2'!$A$2:$D$411, 3, FALSE))","v":" "},{"$f":"IF($E696=0, \" \", VLOOKUP($E696, 'Cenovnik 2'!$A$2:$D$411, 4, FALSE))","v":" "},null,"-","","","ДА",null,null,null,null,{"$f":"IF($C696=0, \" \", VLOOKUP($C696, DrzavniPuteviRed, 2, FALSE))","v":" "},{"$f":"IF($E696=0, \" \", VLOOKUP($E696, SifrePozicijaBezTacke, 2, FALSE))","v":" "}," ",{"$f":"IF(VLOOKUP($E696,[0]!ProveraPDV,2,FALSE)=TRUE,$J696,)","v":{"$error":"#N/A"}},{"$f":"IF(VLOOKUP($E696,liste!$A$31:$B$818,2,FALSE)=TRUE,#REF!,)","v":{"$error":"#N/A"}}," -",{"$f":"INDEX('Cenovnik 2'!$G$2:$G$411,MATCH('Plan unos i pregled'!$E696,Pozicije,0))","v":{"$error":"#N/A"}}]
[null,null,null,null,null,{"$f":"IF($E697=0, \" \", VLOOKUP($E697, 'Cenovnik 2'!$A$2:$D$411, 2, FALSE))","v":" "},{"$f":"IF($E697=0, \" \", VLOOKUP($E697, 'Cenovnik 2'!$A$2:$D$411, 3, FALSE))","v":" "},{"$f":"IF($E697=0, \" \", VLOOKUP($E697, 'Cenovnik 2'!$A$2:$D$411, 4, FALSE))","v":" "},null,{"$f":"IF(ISNUMBER($H697), $H697*$I697, \"-\")","v":"-"},"",{"$f":"TEXT(LEFT($E697,FIND(\".\",$E697&\".\")-1), \"00\")","v":""},"ДА",null,null,null,null,{"$f":"IF($C697=0, \" \", VLOOKUP($C697, DrzavniPuteviRed, 2, FALSE))","v":" "}," ",{"$f":"LEFT($S697, 3)","v":" "},{"$f":"IF(VLOOKUP($E697,[0]!ProveraPDV,2,FALSE)=TRUE,$J697,)","v":{"$error":"#N/A"}},{"$f":"IF(VLOOKUP($E697,liste!$A$31:$B$818,2,FALSE)=TRUE,#REF!,)","v":{"$error":"#N/A"}},{"$f":"R697&\"-\"&C697","v":" -"},{"$f":"INDEX('Cenovnik 2'!$G$2:$G$411,MATCH('Plan unos i pregled'!$E697,Pozicije,0))","v":{"$error":"#N/A"}}]
[null,null,null,null,null,{"$f":"IF($E698=0, \" \", VLOOKUP($E698, 'Cenovnik 2'!$A$2:$D$411, 2, FALSE))","v":" "},{"$f":"IF($E698=0, \" \", VLOOKUP($E698, 'Cenovnik 2'!$A$2:$D$411, 3, FALSE))","v":" "},{"$f":"IF($E698=0, \" \", VLOOKUP($E698, 'Cenovnik 2'!$A$2:$D$411, 4, FALSE))","v":" "},null,"-","","","ДА",null,null,null,null,{"$f":"IF($C698=0, \" \", VLOOKUP($C698, DrzavniPuteviRed, 2, FALSE))","v":" "}," "," ",{"$f":"IF(VLOOKUP($E698,[0]!ProveraPDV,2,FALSE)=TRUE,$J698,)","v":{"$error":"#N/A"}},{"$f":"IF(VLOOKUP($E698,liste!$A$31:$B$818,2,FALSE)=TRUE,#REF!,)","v":{"$error":"#N/A"}}," -",{"$f":"INDEX('Cenovnik 2'!$G$2:$G$411,MATCH('Plan unos i pregled'!$E698,Pozicije,0))","v":{"$error":"#N/A"}}]
[null,null,null,null,null,{"$f":"IF($E699=0, \" \", VLOOKUP($E699, 'Cenovnik 2'!$A$2:$D$411, 2, FALSE))","v":" "},{"$f":"IF($E699=0, \" \", VLOOKUP($E699, 'Cenovnik 2'!$A$2:$D$411, 3, FALSE))","v":" "},{"$f":"IF($E699=0, \" \", VLOOKUP($E699, 'Cenovnik 2'!$A$2:$D$411, 4, FALSE))","v":" "},null,"-","","","ДА",null,null,null,null,{"$f":"IF($C699=0, \" \", VLOOKUP($C699, DrzavniPuteviRed, 2, FALSE))","v":" "}," "," ",{"$f":"IF(VLOOKUP($E699,[0]!ProveraPDV,2,FALSE)=TRUE,$J699,)","v":{"$error":"#N/A"}},{"$f":"IF(VLOOKUP($E699,liste!$A$31:$B$818,2,FALSE)=TRUE,#REF!,)","v":{"$error":"#N/A"}}," -",{"$f":"INDEX('Cenovnik 2'!$G$2:$G$411,MATCH('Plan unos i pregled'!$E699,Pozicije,0))","v":{"$error":"#N/A"}}]
[null,null,null,null,null,{"$f":"IF($E700=0, \" \", VLOOKUP($E700, 'Cenovnik 2'!$A$2:$D$411, 2, FALSE))","v":" "},{"$f":"IF($E700=0, \" \", VLOOKUP($E700, 'Cenovnik 2'!$A$2:$D$411, 3, FALSE))","v":" "},{"$f":"IF($E700=0, \" \", VLOOKUP($E700, 'Cenovnik 2'!$A$2:$D$411, 4, FALSE))","v":" "},null,"-","","","ДА",null,null,null,null,{"$f":"IF($C700=0, \" \", VLOOKUP($C700, DrzavniPuteviRed, 2, FALSE))","v":" "}," "," ",{"$f":"IF(VLOOKUP($E700,[0]!ProveraPDV,2,FALSE)=TRUE,$J700,)","v":{"$error":"#N/A"}},{"$f":"IF(VLOOKUP($E700,liste!$A$31:$B$818,2,FALSE)=TRUE,#REF!,)","v":{"$error":"#N/A"}}," -",{"$f":"INDEX('Cenovnik 2'!$G$2:$G$411,MATCH('Plan unos i pregled'!$E700,Pozicije,0))","v":{"$error":"#N/A"}}]
[null,null,null,null,null,{"$f":"IF($E701=0, \" \", VLOOKUP($E701, 'Cenovnik 2'!$A$2:$D$411, 2, FALSE))","v":" "},{"$f":"IF($E701=0, \" \", VLOOKUP($E701, 'Cenovnik 2'!$A$2:$D$411, 3, FALSE))","v":" "},{"$f":"IF($E701=0, \" \", VLOOKUP($E701, 'Cenovnik 2'!$A$2:$D$411, 4, FALSE))","v":" "},null,"-","","","ДА",null,null,null,null,{"$f":"IF($C701=0, \" \", VLOOKUP($C701, DrzavniPuteviRed, 2, FALSE))","v":" "}," "," ",{"$f":"IF(VLOOKUP($E701,[0]!ProveraPDV,2,FALSE)=TRUE,$J701,)","v":{"$error":"#N/A"}},{"$f":"IF(VLOOKUP($E701,liste!$A$31:$B$818,2,FALSE)=TRUE,#REF!,)","v":{"$error":"#N/A"}}," -",{"$f":"INDEX('Cenovnik 2'!$G$2:$G$411,MATCH('Plan unos i pregled'!$E701,Pozicije,0))","v":{"$error":"#N/A"}}]
[null,null,null,null,null,{"$f":"IF($E702=0, \" \", VLOOKUP($E702, 'Cenovnik 2'!$A$2:$D$411, 2, FALSE))","v":" "},{"$f":"IF($E702=0, \" \", VLOOKUP($E702, 'Cenovnik 2'!$A$2:$D$411, 3, FALSE))","v":" "},{"$f":"IF($E702=0, \" \", VLOOKUP($E702, 'Cenovnik 2'!$A$2:$D$411, 4, FALSE))","v":" "},null,"-","","","ДА",null,null,null,null,{"$f":"IF($C702=0, \" \", VLOOKUP($C702, DrzavniPuteviRed, 2, FALSE))","v":" "}," "," ",{"$f":"IF(VLOOKUP($E702,[0]!ProveraPDV,2,FALSE)=TRUE,$J702,)","v":{"$error":"#N/A"}},{"$f":"IF(VLOOKUP($E702,liste!$A$31:$B$818,2,FALSE)=TRUE,#REF!,)","v":{"$error":"#N/A"}}," -",{"$f":"INDEX('Cenovnik 2'!$G$2:$G$411,MATCH('Plan unos i pregled'!$E702,Pozicije,0))","v":{"$error":"#N/A"}}]
[null,null,null,null,null,{"$f":"IF($E703=0, \" \", VLOOKUP($E703, 'Cenovnik 2'!$A$2:$D$411, 2, FALSE))","v":" "},{"$f":"IF($E703=0, \" \", VLOOKUP($E703, 'Cenovnik 2'!$A$2:$D$411, 3, FALSE))","v":" "},{"$f":"IF($E703=0, \" \", VLOOKUP($E703, 'Cenovnik 2'!$A$2:$D$411, 4, FALSE))","v":" "},null,"-","","","ДА",null,null,null,null,{"$f":"IF($C703=0, \" \", VLOOKUP($C703, DrzavniPuteviRed, 2, FALSE))","v":" "}," "," ",{"$f":"IF(VLOOKUP($E703,[0]!ProveraPDV,2,FALSE)=TRUE,$J703,)","v":{"$error":"#N/A"}},{"$f":"IF(VLOOKUP($E703,liste!$A$31:$B$818,2,FALSE)=TRUE,#REF!,)","v":{"$error":"#N/A"}}," -",{"$f":"INDEX('Cenovnik 2'!$G$2:$G$411,MATCH('Plan unos i pregled'!$E703,Pozicije,0))","v":{"$error":"#N/A"}}]
[null,null,null,null,null,{"$f":"IF($E704=0, \" \", VLOOKUP($E704, 'Cenovnik 2'!$A$2:$D$411, 2, FALSE))","v":" "},{"$f":"IF($E704=0, \" \", VLOOKUP($E704, 'Cenovnik 2'!$A$2:$D$411, 3, FALSE))","v":" "},{"$f":"IF($E704=0, \" \", VLOOKUP($E704, 'Cenovnik 2'!$A$2:$D$411, 4, FALSE))","v":" "},null,"-","","","ДА",null,null,null,null,{"$f":"IF($C704=0, \" \", VLOOKUP($C704, DrzavniPuteviRed, 2, FALSE))","v":" "}," "," ",{"$f":"IF(VLOOKUP($E704,[0]!ProveraPDV,2,FALSE)=TRUE,$J704,)","v":{"$error":"#N/A"}},{"$f":"IF(VLOOKUP($E704,liste!$A$31:$B$818,2,FALSE)=TRUE,#REF!,)","v":{"$error":"#N/A"}}," -",{"$f":"INDEX('Cenovnik 2'!$G$2:$G$411,MATCH('Plan unos i pregled'!$E704,Pozicije,0))","v":{"$error":"#N/A"}}]
[null,null,null,null,null,{"$f":"IF($E705=0, \" \", VLOOKUP($E705, 'Cenovnik 2'!$A$2:$D$411, 2, FALSE))","v":" "},{"$f":"IF($E705=0, \" \", VLOOKUP($E705, 'Cenovnik 2'!$A$2:$D$411, 3, FALSE))","v":" "},{"$f":"IF($E705=0, \" \", VLOOKUP($E705, 'Cenovnik 2'!$A$2:$D$411, 4, FALSE))","v":" "},null,"-","","","ДА",null,null,null,null,{"$f":"IF($C705=0, \" \", VLOOKUP($C705, DrzavniPuteviRed, 2, FALSE))","v":" "}," "," ",{"$f":"IF(VLOOKUP($E705,[0]!ProveraPDV,2,FALSE)=TRUE,$J705,)","v":{"$error":"#N/A"}},{"$f":"IF(VLOOKUP($E705,liste!$A$31:$B$818,2,FALSE)=TRUE,#REF!,)","v":{"$error":"#N/A"}}," -",{"$f":"INDEX('Cenovnik 2'!$G$2:$G$411,MATCH('Plan unos i pregled'!$E705,Pozicije,0))","v":{"$error":"#N/A"}}]
[null,null,null,null,null,{"$f":"IF($E706=0, \" \", VLOOKUP($E706, 'Cenovnik 2'!$A$2:$D$411, 2, FALSE))","v":" "},{"$f":"IF($E706=0, \" \", VLOOKUP($E706, 'Cenovnik 2'!$A$2:$D$411, 3, FALSE))","v":" "},{"$f":"IF($E706=0, \" \", VLOOKUP($E706, 'Cenovnik 2'!$A$2:$D$411, 4, FALSE))","v":" "},null,"-","","","ДА",null,null,null,null,{"$f":"IF($C706=0, \" \", VLOOKUP($C706, DrzavniPuteviRed, 2, FALSE))","v":" "}," "," ",{"$f":"IF(VLOOKUP($E706,[0]!ProveraPDV,2,FALSE)=TRUE,$J706,)","v":{"$error":"#N/A"}},{"$f":"IF(VLOOKUP($E706,liste!$A$31:$B$818,2,FALSE)=TRUE,#REF!,)","v":{"$error":"#N/A"}}," -",{"$f":"INDEX('Cenovnik 2'!$G$2:$G$411,MATCH('Plan unos i pregled'!$E706,Pozicije,0))","v":{"$error":"#N/A"}}]
[null,null,null,null,null,{"$f":"IF($E707=0, \" \", VLOOKUP($E707, 'Cenovnik 2'!$A$2:$D$411, 2, FALSE))","v":" "},{"$f":"IF($E707=0, \" \", VLOOKUP($E707, 'Cenovnik 2'!$A$2:$D$411, 3, FALSE))","v":" "},{"$f":"IF($E707=0, \" \", VLOOKUP($E707, 'Cenovnik 2'!$A$2:$D$411, 4, FALSE))","v":" "},null,"-","","","ДА",null,null,null,null,{"$f":"IF($C707=0, \" \", VLOOKUP($C707, DrzavniPuteviRed, 2, FALSE))","v":" "}," "," ",{"$f":"IF(VLOOKUP($E707,[0]!ProveraPDV,2,FALSE)=TRUE,$J707,)","v":{"$error":"#N/A"}},{"$f":"IF(VLOOKUP($E707,liste!$A$31:$B$818,2,FALSE)=TRUE,#REF!,)","v":{"$error":"#N/A"}}," -",{"$f":"INDEX('Cenovnik 2'!$G$2:$G$411,MATCH('Plan unos i pregled'!$E707,Pozicije,0))","v":{"$error":"#N/A"}}]
[null,null,null,null,null,{"$f":"IF($E708=0, \" \", VLOOKUP($E708, 'Cenovnik 2'!$A$2:$D$411, 2, FALSE))","v":" "},{"$f":"IF($E708=0, \" \", VLOOKUP($E708, 'Cenovnik 2'!$A$2:$D$411, 3, FALSE))","v":" "},{"$f":"IF($E708=0, \" \", VLOOKUP($E708, 'Cenovnik 2'!$A$2:$D$411, 4, FALSE))","v":" "},null,"-","","","ДА",null,null,null,null,{"$f":"IF($C708=0, \" \", VLOOKUP($C708, DrzavniPuteviRed, 2, FALSE))","v":" "}," "," ",{"$f":"IF(VLOOKUP($E708,[0]!ProveraPDV,2,FALSE)=TRUE,$J708,)","v":{"$error":"#N/A"}},{"$f":"IF(VLOOKUP($E708,liste!$A$31:$B$818,2,FALSE)=TRUE,#REF!,)","v":{"$error":"#N/A"}}," -",{"$f":"INDEX('Cenovnik 2'!$G$2:$G$411,MATCH('Plan unos i pregled'!$E708,Pozicije,0))","v":{"$error":"#N/A"}}]
[null,null,null,null,null,{"$f":"IF($E709=0, \" \", VLOOKUP($E709, 'Cenovnik 2'!$A$2:$D$411, 2, FALSE))","v":" "},{"$f":"IF($E709=0, \" \", VLOOKUP($E709, 'Cenovnik 2'!$A$2:$D$411, 3, FALSE))","v":" "},{"$f":"IF($E709=0, \" \", VLOOKUP($E709, 'Cenovnik 2'!$A$2:$D$411, 4, FALSE))","v":" "},null,"-","","","ДА",null,null,null,null,{"$f":"IF($C709=0, \" \", VLOOKUP($C709, DrzavniPuteviRed, 2, FALSE))","v":" "}," "," ",{"$f":"IF(VLOOKUP($E709,[0]!ProveraPDV,2,FALSE)=TRUE,$J709,)","v":{"$error":"#N/A"}},{"$f":"IF(VLOOKUP($E709,liste!$A$31:$B$818,2,FALSE)=TRUE,#REF!,)","v":{"$error":"#N/A"}}," -",{"$f":"INDEX('Cenovnik 2'!$G$2:$G$411,MATCH('Plan unos i pregled'!$E709,Pozicije,0))","v":{"$error":"#N/A"}}]
[null,null,null,null,null,{"$f":"IF($E710=0, \" \", VLOOKUP($E710, 'Cenovnik 2'!$A$2:$D$411, 2, FALSE))","v":" "},{"$f":"IF($E710=0, \" \", VLOOKUP($E710, 'Cenovnik 2'!$A$2:$D$411, 3, FALSE))","v":" "},{"$f":"IF($E710=0, \" \", VLOOKUP($E710, 'Cenovnik 2'!$A$2:$D$411, 4, FALSE))","v":" "},null,"-","","","ДА",null,null,null,null,{"$f":"IF($C710=0, \" \", VLOOKUP($C710, DrzavniPuteviRed, 2, FALSE))","v":" "}," "," ",{"$f":"IF(VLOOKUP($E710,[0]!ProveraPDV,2,FALSE)=TRUE,$J710,)","v":{"$error":"#N/A"}},{"$f":"IF(VLOOKUP($E710,liste!$A$31:$B$818,2,FALSE)=TRUE,#REF!,)","v":{"$error":"#N/A"}}," -",{"$f":"INDEX('Cenovnik 2'!$G$2:$G$411,MATCH('Plan unos i pregled'!$E710,Pozicije,0))","v":{"$error":"#N/A"}}]
[null,null,null,null,null,{"$f":"IF($E711=0, \" \", VLOOKUP($E711, 'Cenovnik 2'!$A$2:$D$411, 2, FALSE))","v":" "},{"$f":"IF($E711=0, \" \", VLOOKUP($E711, 'Cenovnik 2'!$A$2:$D$411, 3, FALSE))","v":" "},{"$f":"IF($E711=0, \" \", VLOOKUP($E711, 'Cenovnik 2'!$A$2:$D$411, 4, FALSE))","v":" "},null,"-","","","ДА",null,null,null,null,{"$f":"IF($C711=0, \" \", VLOOKUP($C711, DrzavniPuteviRed, 2, FALSE))","v":" "}," "," ",{"$f":"IF(VLOOKUP($E711,[0]!ProveraPDV,2,FALSE)=TRUE,$J711,)","v":{"$error":"#N/A"}},{"$f":"IF(VLOOKUP($E711,liste!$A$31:$B$818,2,FALSE)=TRUE,#REF!,)","v":{"$error":"#N/A"}}," -",{"$f":"INDEX('Cenovnik 2'!$G$2:$G$411,MATCH('Plan unos i pregled'!$E711,Pozicije,0))","v":{"$error":"#N/A"}}]
[null,null,null,null,null,{"$f":"IF($E712=0, \" \", VLOOKUP($E712, 'Cenovnik 2'!$A$2:$D$411, 2, FALSE))","v":" "},{"$f":"IF($E712=0, \" \", VLOOKUP($E712, 'Cenovnik 2'!$A$2:$D$411, 3, FALSE))","v":" "},{"$f":"IF($E712=0, \" \", VLOOKUP($E712, 'Cenovnik 2'!$A$2:$D$411, 4, FALSE))","v":" "},null,"-","","","ДА",null,null,null,null,{"$f":"IF($C712=0, \" \", VLOOKUP($C712, DrzavniPuteviRed, 2, FALSE))","v":" "}," "," ",{"$f":"IF(VLOOKUP($E712,[0]!ProveraPDV,2,FALSE)=TRUE,$J712,)","v":{"$error":"#N/A"}},{"$f":"IF(VLOOKUP($E712,liste!$A$31:$B$818,2,FALSE)=TRUE,#REF!,)","v":{"$error":"#N/A"}}," -",{"$f":"INDEX('Cenovnik 2'!$G$2:$G$411,MATCH('Plan unos i pregled'!$E712,Pozicije,0))","v":{"$error":"#N/A"}}]
[null,null,null,null,null,{"$f":"IF($E713=0, \" \", VLOOKUP($E713, 'Cenovnik 2'!$A$2:$D$411, 2, FALSE))","v":" "},{"$f":"IF($E713=0, \" \", VLOOKUP($E713, 'Cenovnik 2'!$A$2:$D$411, 3, FALSE))","v":" "},{"$f":"IF($E713=0, \" \", VLOOKUP($E713, 'Cenovnik 2'!$A$2:$D$411, 4, FALSE))","v":" "},null,"-","","","ДА",null,null,null,null,{"$f":"IF($C713=0, \" \", VLOOKUP($C713, DrzavniPuteviRed, 2, FALSE))","v":" "}," "," ",{"$f":"IF(VLOOKUP($E713,[0]!ProveraPDV,2,FALSE)=TRUE,$J713,)","v":{"$error":"#N/A"}},{"$f":"IF(VLOOKUP($E713,liste!$A$31:$B$818,2,FALSE)=TRUE,#REF!,)","v":{"$error":"#N/A"}}," -",{"$f":"INDEX('Cenovnik 2'!$G$2:$G$411,MATCH('Plan unos i pregled'!$E713,Pozicije,0))","v":{"$error":"#N/A"}}]
[null,null,null,null,null,{"$f":"IF($E714=0, \" \", VLOOKUP($E714, 'Cenovnik 2'!$A$2:$D$411, 2, FALSE))","v":" "},{"$f":"IF($E714=0, \" \", VLOOKUP($E714, 'Cenovnik 2'!$A$2:$D$411, 3, FALSE))","v":" "},{"$f":"IF($E714=0, \" \", VLOOKUP($E714, 'Cenovnik 2'!$A$2:$D$411, 4, FALSE))","v":" "},null,"-","","","ДА",null,null,null,null,{"$f":"IF($C714=0, \" \", VLOOKUP($C714, DrzavniPuteviRed, 2, FALSE))","v":" "}," "," ",{"$f":"IF(VLOOKUP($E714,[0]!ProveraPDV,2,FALSE)=TRUE,$J714,)","v":{"$error":"#N/A"}},{"$f":"IF(VLOOKUP($E714,liste!$A$31:$B$818,2,FALSE)=TRUE,#REF!,)","v":{"$error":"#N/A"}}," -",{"$f":"INDEX('Cenovnik 2'!$G$2:$G$411,MATCH('Plan unos i pregled'!$E714,Pozicije,0))","v":{"$error":"#N/A"}}]
[null,null,null,null,null,{"$f":"IF($E715=0, \" \", VLOOKUP($E715, 'Cenovnik 2'!$A$2:$D$411, 2, FALSE))","v":" "},{"$f":"IF($E715=0, \" \", VLOOKUP($E715, 'Cenovnik 2'!$A$2:$D$411, 3, FALSE))","v":" "},{"$f":"IF($E715=0, \" \", VLOOKUP($E715, 'Cenovnik 2'!$A$2:$D$411, 4, FALSE))","v":" "},null,"-","","","ДА",null,null,null,null,{"$f":"IF($C715=0, \" \", VLOOKUP($C715, DrzavniPuteviRed, 2, FALSE))","v":" "}," "," ",{"$f":"IF(VLOOKUP($E715,[0]!ProveraPDV,2,FALSE)=TRUE,$J715,)","v":{"$error":"#N/A"}},{"$f":"IF(VLOOKUP($E715,liste!$A$31:$B$818,2,FALSE)=TRUE,#REF!,)","v":{"$error":"#N/A"}}," -",{"$f":"INDEX('Cenovnik 2'!$G$2:$G$411,MATCH('Plan unos i pregled'!$E715,Pozicije,0))","v":{"$error":"#N/A"}}]
[null,null,null,null,null,{"$f":"IF($E716=0, \" \", VLOOKUP($E716, 'Cenovnik 2'!$A$2:$D$411, 2, FALSE))","v":" "},{"$f":"IF($E716=0, \" \", VLOOKUP($E716, 'Cenovnik 2'!$A$2:$D$411, 3, FALSE))","v":" "},{"$f":"IF($E716=0, \" \", VLOOKUP($E716, 'Cenovnik 2'!$A$2:$D$411, 4, FALSE))","v":" "},null,"-","","","ДА",null,null,null,null,{"$f":"IF($C716=0, \" \", VLOOKUP($C716, DrzavniPuteviRed, 2, FALSE))","v":" "}," "," ",{"$f":"IF(VLOOKUP($E716,[0]!ProveraPDV,2,FALSE)=TRUE,$J716,)","v":{"$error":"#N/A"}},{"$f":"IF(VLOOKUP($E716,liste!$A$31:$B$818,2,FALSE)=TRUE,#REF!,)","v":{"$error":"#N/A"}}," -",{"$f":"INDEX('Cenovnik 2'!$G$2:$G$411,MATCH('Plan unos i pregled'!$E716,Pozicije,0))","v":{"$error":"#N/A"}}]
[null,null,null,null,null,{"$f":"IF($E717=0, \" \", VLOOKUP($E717, 'Cenovnik 2'!$A$2:$D$411, 2, FALSE))","v":" "},{"$f":"IF($E717=0, \" \", VLOOKUP($E717, 'Cenovnik 2'!$A$2:$D$411, 3, FALSE))","v":" "},{"$f":"IF($E717=0, \" \", VLOOKUP($E717, 'Cenovnik 2'!$A$2:$D$411, 4, FALSE))","v":" "},null,"-","","","ДА",null,null,null,null,{"$f":"IF($C717=0, \" \", VLOOKUP($C717, DrzavniPuteviRed, 2, FALSE))","v":" "}," "," ",{"$f":"IF(VLOOKUP($E717,[0]!ProveraPDV,2,FALSE)=TRUE,$J717,)","v":{"$error":"#N/A"}},{"$f":"IF(VLOOKUP($E717,liste!$A$31:$B$818,2,FALSE)=TRUE,#REF!,)","v":{"$error":"#N/A"}}," -",{"$f":"INDEX('Cenovnik 2'!$G$2:$G$411,MATCH('Plan unos i pregled'!$E717,Pozicije,0))","v":{"$error":"#N/A"}}]
[null,null,null,null,null,{"$f":"IF($E718=0, \" \", VLOOKUP($E718, 'Cenovnik 2'!$A$2:$D$411, 2, FALSE))","v":" "},{"$f":"IF($E718=0, \" \", VLOOKUP($E718, 'Cenovnik 2'!$A$2:$D$411, 3, FALSE))","v":" "},{"$f":"IF($E718=0, \" \", VLOOKUP($E718, 'Cenovnik 2'!$A$2:$D$411, 4, FALSE))","v":" "},null,"-","","","ДА",null,null,null,null,{"$f":"IF($C718=0, \" \", VLOOKUP($C718, DrzavniPuteviRed, 2, FALSE))","v":" "}," "," ",{"$f":"IF(VLOOKUP($E718,[0]!ProveraPDV,2,FALSE)=TRUE,$J718,)","v":{"$error":"#N/A"}},{"$f":"IF(VLOOKUP($E718,liste!$A$31:$B$818,2,FALSE)=TRUE,#REF!,)","v":{"$error":"#N/A"}}," -",{"$f":"INDEX('Cenovnik 2'!$G$2:$G$411,MATCH('Plan unos i pregled'!$E718,Pozicije,0))","v":{"$error":"#N/A"}}]
[null,null,null,null,null,{"$f":"IF($E719=0, \" \", VLOOKUP($E719, 'Cenovnik 2'!$A$2:$D$411, 2, FALSE))","v":" "},{"$f":"IF($E719=0, \" \", VLOOKUP($E719, 'Cenovnik 2'!$A$2:$D$411, 3, FALSE))","v":" "},{"$f":"IF($E719=0, \" \", VLOOKUP($E719, 'Cenovnik 2'!$A$2:$D$411, 4, FALSE))","v":" "},null,"-","","","ДА",null,null,null,null,{"$f":"IF($C719=0, \" \", VLOOKUP($C719, DrzavniPuteviRed, 2, FALSE))","v":" "}," "," ",{"$f":"IF(VLOOKUP($E719,[0]!ProveraPDV,2,FALSE)=TRUE,$J719,)","v":{"$error":"#N/A"}},{"$f":"IF(VLOOKUP($E719,liste!$A$31:$B$818,2,FALSE)=TRUE,#REF!,)","v":{"$error":"#N/A"}}," -",{"$f":"INDEX('Cenovnik 2'!$G$2:$G$411,MATCH('Plan unos i pregled'!$E719,Pozicije,0))","v":{"$error":"#N/A"}}]
[null,null,null,null,null,{"$f":"IF($E720=0, \" \", VLOOKUP($E720, 'Cenovnik 2'!$A$2:$D$411, 2, FALSE))","v":" "},{"$f":"IF($E720=0, \" \", VLOOKUP($E720, 'Cenovnik 2'!$A$2:$D$411, 3, FALSE))","v":" "},{"$f":"IF($E720=0, \" \", VLOOKUP($E720, 'Cenovnik 2'!$A$2:$D$411, 4, FALSE))","v":" "},null,"-","","","ДА",null,null,null,null,{"$f":"IF($C720=0, \" \", VLOOKUP($C720, DrzavniPuteviRed, 2, FALSE))","v":" "}," "," ",{"$f":"IF(VLOOKUP($E720,[0]!ProveraPDV,2,FALSE)=TRUE,$J720,)","v":{"$error":"#N/A"}},{"$f":"IF(VLOOKUP($E720,liste!$A$31:$B$818,2,FALSE)=TRUE,#REF!,)","v":{"$error":"#N/A"}}," -",{"$f":"INDEX('Cenovnik 2'!$G$2:$G$411,MATCH('Plan unos i pregled'!$E720,Pozicije,0))","v":{"$error":"#N/A"}}]
[null,null,null,null,null,{"$f":"IF($E721=0, \" \", VLOOKUP($E721, 'Cenovnik 2'!$A$2:$D$411, 2, FALSE))","v":" "},{"$f":"IF($E721=0, \" \", VLOOKUP($E721, 'Cenovnik 2'!$A$2:$D$411, 3, FALSE))","v":" "},{"$f":"IF($E721=0, \" \", VLOOKUP($E721, 'Cenovnik 2'!$A$2:$D$411, 4, FALSE))","v":" "},null,"-","","","ДА",null,null,null,null,{"$f":"IF($C721=0, \" \", VLOOKUP($C721, DrzavniPuteviRed, 2, FALSE))","v":" "}," "," ",{"$f":"IF(VLOOKUP($E721,[0]!ProveraPDV,2,FALSE)=TRUE,$J721,)","v":{"$error":"#N/A"}},{"$f":"IF(VLOOKUP($E721,liste!$A$31:$B$818,2,FALSE)=TRUE,#REF!,)","v":{"$error":"#N/A"}}," -",{"$f":"INDEX('Cenovnik 2'!$G$2:$G$411,MATCH('Plan unos i pregled'!$E721,Pozicije,0))","v":{"$error":"#N/A"}}]
[null,null,null,null,null,{"$f":"IF($E722=0, \" \", VLOOKUP($E722, 'Cenovnik 2'!$A$2:$D$411, 2, FALSE))","v":" "},{"$f":"IF($E722=0, \" \", VLOOKUP($E722, 'Cenovnik 2'!$A$2:$D$411, 3, FALSE))","v":" "},{"$f":"IF($E722=0, \" \", VLOOKUP($E722, 'Cenovnik 2'!$A$2:$D$411, 4, FALSE))","v":" "},null,"-","","","ДА",null,null,null,null,{"$f":"IF($C722=0, \" \", VLOOKUP($C722, DrzavniPuteviRed, 2, FALSE))","v":" "}," "," ",{"$f":"IF(VLOOKUP($E722,[0]!ProveraPDV,2,FALSE)=TRUE,$J722,)","v":{"$error":"#N/A"}},{"$f":"IF(VLOOKUP($E722,liste!$A$31:$B$818,2,FALSE)=TRUE,#REF!,)","v":{"$error":"#N/A"}}," -",{"$f":"INDEX('Cenovnik 2'!$G$2:$G$411,MATCH('Plan unos i pregled'!$E722,Pozicije,0))","v":{"$error":"#N/A"}}]
[null,null,null,null,null,{"$f":"IF($E723=0, \" \", VLOOKUP($E723, 'Cenovnik 2'!$A$2:$D$411, 2, FALSE))","v":" "},{"$f":"IF($E723=0, \" \", VLOOKUP($E723, 'Cenovnik 2'!$A$2:$D$411, 3, FALSE))","v":" "},{"$f":"IF($E723=0, \" \", VLOOKUP($E723, 'Cenovnik 2'!$A$2:$D$411, 4, FALSE))","v":" "},null,"-","","","ДА",null,null,null,null,{"$f":"IF($C723=0, \" \", VLOOKUP($C723, DrzavniPuteviRed, 2, FALSE))","v":" "}," "," ",{"$f":"IF(VLOOKUP($E723,[0]!ProveraPDV,2,FALSE)=TRUE,$J723,)","v":{"$error":"#N/A"}},{"$f":"IF(VLOOKUP($E723,liste!$A$31:$B$818,2,FALSE)=TRUE,#REF!,)","v":{"$error":"#N/A"}}," -",{"$f":"INDEX('Cenovnik 2'!$G$2:$G$411,MATCH('Plan unos i pregled'!$E723,Pozicije,0))","v":{"$error":"#N/A"}}]
[null,null,null,null,null,{"$f":"IF($E724=0, \" \", VLOOKUP($E724, 'Cenovnik 2'!$A$2:$D$411, 2, FALSE))","v":" "},{"$f":"IF($E724=0, \" \", VLOOKUP($E724, 'Cenovnik 2'!$A$2:$D$411, 3, FALSE))","v":" "},{"$f":"IF($E724=0, \" \", VLOOKUP($E724, 'Cenovnik 2'!$A$2:$D$411, 4, FALSE))","v":" "},null,"-","","","ДА",null,null,null,null,{"$f":"IF($C724=0, \" \", VLOOKUP($C724, DrzavniPuteviRed, 2, FALSE))","v":" "}," "," ",{"$f":"IF(VLOOKUP($E724,[0]!ProveraPDV,2,FALSE)=TRUE,$J724,)","v":{"$error":"#N/A"}},{"$f":"IF(VLOOKUP($E724,liste!$A$31:$B$818,2,FALSE)=TRUE,#REF!,)","v":{"$error":"#N/A"}}," -",{"$f":"INDEX('Cenovnik 2'!$G$2:$G$411,MATCH('Plan unos i pregled'!$E724,Pozicije,0))","v":{"$error":"#N/A"}}]
[null,null,null,null,null,{"$f":"IF($E725=0, \" \", VLOOKUP($E725, 'Cenovnik 2'!$A$2:$D$411, 2, FALSE))","v":" "},{"$f":"IF($E725=0, \" \", VLOOKUP($E725, 'Cenovnik 2'!$A$2:$D$411, 3, FALSE))","v":" "},{"$f":"IF($E725=0, \" \", VLOOKUP($E725, 'Cenovnik 2'!$A$2:$D$411, 4, FALSE))","v":" "},null,"-","","","ДА",null,null,null,null,{"$f":"IF($C725=0, \" \", VLOOKUP($C725, DrzavniPuteviRed, 2, FALSE))","v":" "}," "," ",{"$f":"IF(VLOOKUP($E725,[0]!ProveraPDV,2,FALSE)=TRUE,$J725,)","v":{"$error":"#N/A"}},{"$f":"IF(VLOOKUP($E725,liste!$A$31:$B$818,2,FALSE)=TRUE,#REF!,)","v":{"$error":"#N/A"}}," -",{"$f":"INDEX('Cenovnik 2'!$G$2:$G$411,MATCH('Plan unos i pregled'!$E725,Pozicije,0))","v":{"$error":"#N/A"}}]
[null,null,null,null,null,{"$f":"IF($E726=0, \" \", VLOOKUP($E726, 'Cenovnik 2'!$A$2:$D$411, 2, FALSE))","v":" "},{"$f":"IF($E726=0, \" \", VLOOKUP($E726, 'Cenovnik 2'!$A$2:$D$411, 3, FALSE))","v":" "},{"$f":"IF($E726=0, \" \", VLOOKUP($E726, 'Cenovnik 2'!$A$2:$D$411, 4, FALSE))","v":" "},null,"-","","","ДА",null,null,null,null,{"$f":"IF($C726=0, \" \", VLOOKUP($C726, DrzavniPuteviRed, 2, FALSE))","v":" "}," "," ",{"$f":"IF(VLOOKUP($E726,[0]!ProveraPDV,2,FALSE)=TRUE,$J726,)","v":{"$error":"#N/A"}},{"$f":"IF(VLOOKUP($E726,liste!$A$31:$B$818,2,FALSE)=TRUE,#REF!,)","v":{"$error":"#N/A"}}," -",{"$f":"INDEX('Cenovnik 2'!$G$2:$G$411,MATCH('Plan unos i pregled'!$E726,Pozicije,0))","v":{"$error":"#N/A"}}]
[null,null,null,null,null,{"$f":"IF($E727=0, \" \", VLOOKUP($E727, 'Cenovnik 2'!$A$2:$D$411, 2, FALSE))","v":" "},{"$f":"IF($E727=0, \" \", VLOOKUP($E727, 'Cenovnik 2'!$A$2:$D$411, 3, FALSE))","v":" "},{"$f":"IF($E727=0, \" \", VLOOKUP($E727, 'Cenovnik 2'!$A$2:$D$411, 4, FALSE))","v":" "},null,"-","","","ДА",null,null,null,null,{"$f":"IF($C727=0, \" \", VLOOKUP($C727, DrzavniPuteviRed, 2, FALSE))","v":" "}," "," ",{"$f":"IF(VLOOKUP($E727,[0]!ProveraPDV,2,FALSE)=TRUE,$J727,)","v":{"$error":"#N/A"}},{"$f":"IF(VLOOKUP($E727,liste!$A$31:$B$818,2,FALSE)=TRUE,#REF!,)","v":{"$error":"#N/A"}}," -",{"$f":"INDEX('Cenovnik 2'!$G$2:$G$411,MATCH('Plan unos i pregled'!$E727,Pozicije,0))","v":{"$error":"#N/A"}}]
[null,null,null,null,null,{"$f":"IF($E728=0, \" \", VLOOKUP($E728, 'Cenovnik 2'!$A$2:$D$411, 2, FALSE))","v":" "},{"$f":"IF($E728=0, \" \", VLOOKUP($E728, 'Cenovnik 2'!$A$2:$D$411, 3, FALSE))","v":" "},{"$f":"IF($E728=0, \" \", VLOOKUP($E728, 'Cenovnik 2'!$A$2:$D$411, 4, FALSE))","v":" "},null,"-","","","ДА",null,null,null,null,{"$f":"IF($C728=0, \" \", VLOOKUP($C728, DrzavniPuteviRed, 2, FALSE))","v":" "},{"$f":"IF($E728=0, \" \", VLOOKUP($E728, SifrePozicijaBezTacke, 2, FALSE))","v":" "}," ",{"$f":"IF(VLOOKUP($E728,[0]!ProveraPDV,2,FALSE)=TRUE,$J728,)","v":{"$error":"#N/A"}},{"$f":"IF(VLOOKUP($E728,liste!$A$31:$B$818,2,FALSE)=TRUE,#REF!,)","v":{"$error":"#N/A"}}," -",{"$f":"INDEX('Cenovnik 2'!$G$2:$G$411,MATCH('Plan unos i pregled'!$E728,Pozicije,0))","v":{"$error":"#N/A"}}]
[null,null,null,null,null,{"$f":"IF($E729=0, \" \", VLOOKUP($E729, 'Cenovnik 2'!$A$2:$D$411, 2, FALSE))","v":" "},{"$f":"IF($E729=0, \" \", VLOOKUP($E729, 'Cenovnik 2'!$A$2:$D$411, 3, FALSE))","v":" "},{"$f":"IF($E729=0, \" \", VLOOKUP($E729, 'Cenovnik 2'!$A$2:$D$411, 4, FALSE))","v":" "},null,"-","","","ДА",null,null,null,null,{"$f":"IF($C729=0, \" \", VLOOKUP($C729, DrzavniPuteviRed, 2, FALSE))","v":" "}," "," ",{"$f":"IF(VLOOKUP($E729,[0]!ProveraPDV,2,FALSE)=TRUE,$J729,)","v":{"$error":"#N/A"}},{"$f":"IF(VLOOKUP($E729,liste!$A$31:$B$818,2,FALSE)=TRUE,#REF!,)","v":{"$error":"#N/A"}}," -",{"$f":"INDEX('Cenovnik 2'!$G$2:$G$411,MATCH('Plan unos i pregled'!$E729,Pozicije,0))","v":{"$error":"#N/A"}}]
[null,null,null,null,null,{"$f":"IF($E730=0, \" \", VLOOKUP($E730, 'Cenovnik 2'!$A$2:$D$411, 2, FALSE))","v":" "},{"$f":"IF($E730=0, \" \", VLOOKUP($E730, 'Cenovnik 2'!$A$2:$D$411, 3, FALSE))","v":" "},{"$f":"IF($E730=0, \" \", VLOOKUP($E730, 'Cenovnik 2'!$A$2:$D$411, 4, FALSE))","v":" "},null,"-","","","ДА",null,null,null,null,{"$f":"IF($C730=0, \" \", VLOOKUP($C730, DrzavniPuteviRed, 2, FALSE))","v":" "}," "," ",{"$f":"IF(VLOOKUP($E730,[0]!ProveraPDV,2,FALSE)=TRUE,$J730,)","v":{"$error":"#N/A"}},{"$f":"IF(VLOOKUP($E730,liste!$A$31:$B$818,2,FALSE)=TRUE,#REF!,)","v":{"$error":"#N/A"}}," -",{"$f":"INDEX('Cenovnik 2'!$G$2:$G$411,MATCH('Plan unos i pregled'!$E730,Pozicije,0))","v":{"$error":"#N/A"}}]
[null,null,null,null,null,{"$f":"IF($E731=0, \" \", VLOOKUP($E731, 'Cenovnik 2'!$A$2:$D$411, 2, FALSE))","v":" "},{"$f":"IF($E731=0, \" \", VLOOKUP($E731, 'Cenovnik 2'!$A$2:$D$411, 3, FALSE))","v":" "},{"$f":"IF($E731=0, \" \", VLOOKUP($E731, 'Cenovnik 2'!$A$2:$D$411, 4, FALSE))","v":" "},null,"-","","","ДА",null,null,null,null,{"$f":"IF($C731=0, \" \", VLOOKUP($C731, DrzavniPuteviRed, 2, FALSE))","v":" "}," "," ",{"$f":"IF(VLOOKUP($E731,[0]!ProveraPDV,2,FALSE)=TRUE,$J731,)","v":{"$error":"#N/A"}},{"$f":"IF(VLOOKUP($E731,liste!$A$31:$B$818,2,FALSE)=TRUE,#REF!,)","v":{"$error":"#N/A"}}," -",{"$f":"INDEX('Cenovnik 2'!$G$2:$G$411,MATCH('Plan unos i pregled'!$E731,Pozicije,0))","v":{"$error":"#N/A"}}]
[null,null,null,null,null,{"$f":"IF($E732=0, \" \", VLOOKUP($E732, 'Cenovnik 2'!$A$2:$D$411, 2, FALSE))","v":" "},{"$f":"IF($E732=0, \" \", VLOOKUP($E732, 'Cenovnik 2'!$A$2:$D$411, 3, FALSE))","v":" "},{"$f":"IF($E732=0, \" \", VLOOKUP($E732, 'Cenovnik 2'!$A$2:$D$411, 4, FALSE))","v":" "},null,"-","","","ДА",null,null,null,null,{"$f":"IF($C732=0, \" \", VLOOKUP($C732, DrzavniPuteviRed, 2, FALSE))","v":" "}," "," ",{"$f":"IF(VLOOKUP($E732,[0]!ProveraPDV,2,FALSE)=TRUE,$J732,)","v":{"$error":"#N/A"}},{"$f":"IF(VLOOKUP($E732,liste!$A$31:$B$818,2,FALSE)=TRUE,#REF!,)","v":{"$error":"#N/A"}}," -",{"$f":"INDEX('Cenovnik 2'!$G$2:$G$411,MATCH('Plan unos i pregled'!$E732,Pozicije,0))","v":{"$error":"#N/A"}}]
[null,null,null,null,null,{"$f":"IF($E733=0, \" \", VLOOKUP($E733, 'Cenovnik 2'!$A$2:$D$411, 2, FALSE))","v":" "},{"$f":"IF($E733=0, \" \", VLOOKUP($E733, 'Cenovnik 2'!$A$2:$D$411, 3, FALSE))","v":" "},{"$f":"IF($E733=0, \" \", VLOOKUP($E733, 'Cenovnik 2'!$A$2:$D$411, 4, FALSE))","v":" "},null,"-","","","ДА",null,null,null,null,{"$f":"IF($C733=0, \" \", VLOOKUP($C733, DrzavniPuteviRed, 2, FALSE))","v":" "}," "," ",{"$f":"IF(VLOOKUP($E733,[0]!ProveraPDV,2,FALSE)=TRUE,$J733,)","v":{"$error":"#N/A"}},{"$f":"IF(VLOOKUP($E733,liste!$A$31:$B$818,2,FALSE)=TRUE,#REF!,)","v":{"$error":"#N/A"}}," -",{"$f":"INDEX('Cenovnik 2'!$G$2:$G$411,MATCH('Plan unos i pregled'!$E733,Pozicije,0))","v":{"$error":"#N/A"}}]
[null,null,null,null,null,{"$f":"IF($E734=0, \" \", VLOOKUP($E734, 'Cenovnik 2'!$A$2:$D$411, 2, FALSE))","v":" "},{"$f":"IF($E734=0, \" \", VLOOKUP($E734, 'Cenovnik 2'!$A$2:$D$411, 3, FALSE))","v":" "},{"$f":"IF($E734=0, \" \", VLOOKUP($E734, 'Cenovnik 2'!$A$2:$D$411, 4, FALSE))","v":" "},null,"-","","","ДА",null,null,null,null,{"$f":"IF($C734=0, \" \", VLOOKUP($C734, DrzavniPuteviRed, 2, FALSE))","v":" "}," "," ",{"$f":"IF(VLOOKUP($E734,[0]!ProveraPDV,2,FALSE)=TRUE,$J734,)","v":{"$error":"#N/A"}},{"$f":"IF(VLOOKUP($E734,liste!$A$31:$B$818,2,FALSE)=TRUE,#REF!,)","v":{"$error":"#N/A"}}," -",{"$f":"INDEX('Cenovnik 2'!$G$2:$G$411,MATCH('Plan unos i pregled'!$E734,Pozicije,0))","v":{"$error":"#N/A"}}]
[null,null,null,null,null,{"$f":"IF($E735=0, \" \", VLOOKUP($E735, 'Cenovnik 2'!$A$2:$D$411, 2, FALSE))","v":" "},{"$f":"IF($E735=0, \" \", VLOOKUP($E735, 'Cenovnik 2'!$A$2:$D$411, 3, FALSE))","v":" "},{"$f":"IF($E735=0, \" \", VLOOKUP($E735, 'Cenovnik 2'!$A$2:$D$411, 4, FALSE))","v":" "},null,"-","","","ДА",null,null,null,null,{"$f":"IF($C735=0, \" \", VLOOKUP($C735, DrzavniPuteviRed, 2, FALSE))","v":" "}," "," ",{"$f":"IF(VLOOKUP($E735,[0]!ProveraPDV,2,FALSE)=TRUE,$J735,)","v":{"$error":"#N/A"}},{"$f":"IF(VLOOKUP($E735,liste!$A$31:$B$818,2,FALSE)=TRUE,#REF!,)","v":{"$error":"#N/A"}}," -",{"$f":"INDEX('Cenovnik 2'!$G$2:$G$411,MATCH('Plan unos i pregled'!$E735,Pozicije,0))","v":{"$error":"#N/A"}}]
[null,null,null,null,null,{"$f":"IF($E736=0, \" \", VLOOKUP($E736, 'Cenovnik 2'!$A$2:$D$411, 2, FALSE))","v":" "},{"$f":"IF($E736=0, \" \", VLOOKUP($E736, 'Cenovnik 2'!$A$2:$D$411, 3, FALSE))","v":" "},{"$f":"IF($E736=0, \" \", VLOOKUP($E736, 'Cenovnik 2'!$A$2:$D$411, 4, FALSE))","v":" "},null,"-","","","ДА",null,null,null,null,{"$f":"IF($C736=0, \" \", VLOOKUP($C736, DrzavniPuteviRed, 2, FALSE))","v":" "}," "," ",{"$f":"IF(VLOOKUP($E736,[0]!ProveraPDV,2,FALSE)=TRUE,$J736,)","v":{"$error":"#N/A"}},{"$f":"IF(VLOOKUP($E736,liste!$A$31:$B$818,2,FALSE)=TRUE,#REF!,)","v":{"$error":"#N/A"}}," -",{"$f":"INDEX('Cenovnik 2'!$G$2:$G$411,MATCH('Plan unos i pregled'!$E736,Pozicije,0))","v":{"$error":"#N/A"}}]
[null,null,null,null,null,{"$f":"IF($E737=0, \" \", VLOOKUP($E737, 'Cenovnik 2'!$A$2:$D$411, 2, FALSE))","v":" "},{"$f":"IF($E737=0, \" \", VLOOKUP($E737, 'Cenovnik 2'!$A$2:$D$411, 3, FALSE))","v":" "},{"$f":"IF($E737=0, \" \", VLOOKUP($E737, 'Cenovnik 2'!$A$2:$D$411, 4, FALSE))","v":" "},null,"-","","","ДА",null,null,null,null,{"$f":"IF($C737=0, \" \", VLOOKUP($C737, DrzavniPuteviRed, 2, FALSE))","v":" "}," "," ",{"$f":"IF(VLOOKUP($E737,[0]!ProveraPDV,2,FALSE)=TRUE,$J737,)","v":{"$error":"#N/A"}},{"$f":"IF(VLOOKUP($E737,liste!$A$31:$B$818,2,FALSE)=TRUE,#REF!,)","v":{"$error":"#N/A"}}," -",{"$f":"INDEX('Cenovnik 2'!$G$2:$G$411,MATCH('Plan unos i pregled'!$E737,Pozicije,0))","v":{"$error":"#N/A"}}]
[null,null,null,null,null,{"$f":"IF($E738=0, \" \", VLOOKUP($E738, 'Cenovnik 2'!$A$2:$D$411, 2, FALSE))","v":" "},{"$f":"IF($E738=0, \" \", VLOOKUP($E738, 'Cenovnik 2'!$A$2:$D$411, 3, FALSE))","v":" "},{"$f":"IF($E738=0, \" \", VLOOKUP($E738, 'Cenovnik 2'!$A$2:$D$411, 4, FALSE))","v":" "},null,"-","","","ДА",null,null,null,null,{"$f":"IF($C738=0, \" \", VLOOKUP($C738, DrzavniPuteviRed, 2, FALSE))","v":" "}," "," ",{"$f":"IF(VLOOKUP($E738,[0]!ProveraPDV,2,FALSE)=TRUE,$J738,)","v":{"$error":"#N/A"}},{"$f":"IF(VLOOKUP($E738,liste!$A$31:$B$818,2,FALSE)=TRUE,#REF!,)","v":{"$error":"#N/A"}}," -",{"$f":"INDEX('Cenovnik 2'!$G$2:$G$411,MATCH('Plan unos i pregled'!$E738,Pozicije,0))","v":{"$error":"#N/A"}}]
[null,null,null,null,null,{"$f":"IF($E739=0, \" \", VLOOKUP($E739, 'Cenovnik 2'!$A$2:$D$411, 2, FALSE))","v":" "},{"$f":"IF($E739=0, \" \", VLOOKUP($E739, 'Cenovnik 2'!$A$2:$D$411, 3, FALSE))","v":" "},{"$f":"IF($E739=0, \" \", VLOOKUP($E739, 'Cenovnik 2'!$A$2:$D$411, 4, FALSE))","v":" "},null,"-","","","ДА",null,null,null,null,{"$f":"IF($C739=0, \" \", VLOOKUP($C739, DrzavniPuteviRed, 2, FALSE))","v":" "}," "," ",{"$f":"IF(VLOOKUP($E739,[0]!ProveraPDV,2,FALSE)=TRUE,$J739,)","v":{"$error":"#N/A"}},{"$f":"IF(VLOOKUP($E739,liste!$A$31:$B$818,2,FALSE)=TRUE,#REF!,)","v":{"$error":"#N/A"}}," -",{"$f":"INDEX('Cenovnik 2'!$G$2:$G$411,MATCH('Plan unos i pregled'!$E739,Pozicije,0))","v":{"$error":"#N/A"}}]
[null,null,null,null,null,{"$f":"IF($E740=0, \" \", VLOOKUP($E740, 'Cenovnik 2'!$A$2:$D$411, 2, FALSE))","v":" "},{"$f":"IF($E740=0, \" \", VLOOKUP($E740, 'Cenovnik 2'!$A$2:$D$411, 3, FALSE))","v":" "},{"$f":"IF($E740=0, \" \", VLOOKUP($E740, 'Cenovnik 2'!$A$2:$D$411, 4, FALSE))","v":" "},null,"-","","","ДА",null,null,null,null,{"$f":"IF($C740=0, \" \", VLOOKUP($C740, DrzavniPuteviRed, 2, FALSE))","v":" "}," "," ",{"$f":"IF(VLOOKUP($E740,[0]!ProveraPDV,2,FALSE)=TRUE,$J740,)","v":{"$error":"#N/A"}},{"$f":"IF(VLOOKUP($E740,liste!$A$31:$B$818,2,FALSE)=TRUE,#REF!,)","v":{"$error":"#N/A"}}," -",{"$f":"INDEX('Cenovnik 2'!$G$2:$G$411,MATCH('Plan unos i pregled'!$E740,Pozicije,0))","v":{"$error":"#N/A"}}]
[null,null,null,null,null,{"$f":"IF($E741=0, \" \", VLOOKUP($E741, 'Cenovnik 2'!$A$2:$D$411, 2, FALSE))","v":" "},{"$f":"IF($E741=0, \" \", VLOOKUP($E741, 'Cenovnik 2'!$A$2:$D$411, 3, FALSE))","v":" "},{"$f":"IF($E741=0, \" \", VLOOKUP($E741, 'Cenovnik 2'!$A$2:$D$411, 4, FALSE))","v":" "},null,"-","","","ДА",null,null,null,null,{"$f":"IF($C741=0, \" \", VLOOKUP($C741, DrzavniPuteviRed, 2, FALSE))","v":" "}," "," ",{"$f":"IF(VLOOKUP($E741,[0]!ProveraPDV,2,FALSE)=TRUE,$J741,)","v":{"$error":"#N/A"}},{"$f":"IF(VLOOKUP($E741,liste!$A$31:$B$818,2,FALSE)=TRUE,#REF!,)","v":{"$error":"#N/A"}}," -",{"$f":"INDEX('Cenovnik 2'!$G$2:$G$411,MATCH('Plan unos i pregled'!$E741,Pozicije,0))","v":{"$error":"#N/A"}}]
[null,null,null,null,null,{"$f":"IF($E742=0, \" \", VLOOKUP($E742, 'Cenovnik 2'!$A$2:$D$411, 2, FALSE))","v":" "},{"$f":"IF($E742=0, \" \", VLOOKUP($E742, 'Cenovnik 2'!$A$2:$D$411, 3, FALSE))","v":" "},{"$f":"IF($E742=0, \" \", VLOOKUP($E742, 'Cenovnik 2'!$A$2:$D$411, 4, FALSE))","v":" "},null,"-",{"$f":"IFERROR(INDEX(LokacijeRadovaLat,MATCH(C742,LokacijaRadova,0)),\"\")","v":""},"","ДА",null,null,null,null,{"$f":"IF($C742=0, \" \", VLOOKUP($C742, DrzavniPuteviRed, 2, FALSE))","v":" "}," "," ",{"$f":"IF(VLOOKUP($E742,[0]!ProveraPDV,2,FALSE)=TRUE,$J742,)","v":{"$error":"#N/A"}},{"$f":"IF(VLOOKUP($E742,liste!$A$31:$B$818,2,FALSE)=TRUE,#REF!,)","v":{"$error":"#N/A"}}," -",{"$f":"INDEX('Cenovnik 2'!$G$2:$G$411,MATCH('Plan unos i pregled'!$E742,Pozicije,0))","v":{"$error":"#N/A"}}]
[null,null,null,null,null,{"$f":"IF($E743=0, \" \", VLOOKUP($E743, 'Cenovnik 2'!$A$2:$D$411, 2, FALSE))","v":" "},{"$f":"IF($E743=0, \" \", VLOOKUP($E743, 'Cenovnik 2'!$A$2:$D$411, 3, FALSE))","v":" "},{"$f":"IF($E743=0, \" \", VLOOKUP($E743, 'Cenovnik 2'!$A$2:$D$411, 4, FALSE))","v":" "},null,"-","","","ДА",null,null,null,null,{"$f":"IF($C743=0, \" \", VLOOKUP($C743, DrzavniPuteviRed, 2, FALSE))","v":" "}," "," ",{"$f":"IF(VLOOKUP($E743,[0]!ProveraPDV,2,FALSE)=TRUE,$J743,)","v":{"$error":"#N/A"}},{"$f":"IF(VLOOKUP($E743,liste!$A$31:$B$818,2,FALSE)=TRUE,#REF!,)","v":{"$error":"#N/A"}}," -",{"$f":"INDEX('Cenovnik 2'!$G$2:$G$411,MATCH('Plan unos i pregled'!$E743,Pozicije,0))","v":{"$error":"#N/A"}}]
[null,null,null,null,null,{"$f":"IF($E744=0, \" \", VLOOKUP($E744, 'Cenovnik 2'!$A$2:$D$411, 2, FALSE))","v":" "},{"$f":"IF($E744=0, \" \", VLOOKUP($E744, 'Cenovnik 2'!$A$2:$D$411, 3, FALSE))","v":" "},{"$f":"IF($E744=0, \" \", VLOOKUP($E744, 'Cenovnik 2'!$A$2:$D$411, 4, FALSE))","v":" "},null,"-","","","ДА",null,null,null,null,{"$f":"IF($C744=0, \" \", VLOOKUP($C744, DrzavniPuteviRed, 2, FALSE))","v":" "}," "," ",{"$f":"IF(VLOOKUP($E744,[0]!ProveraPDV,2,FALSE)=TRUE,$J744,)","v":{"$error":"#N/A"}},{"$f":"IF(VLOOKUP($E744,liste!$A$31:$B$818,2,FALSE)=TRUE,#REF!,)","v":{"$error":"#N/A"}}," -",{"$f":"INDEX('Cenovnik 2'!$G$2:$G$411,MATCH('Plan unos i pregled'!$E744,Pozicije,0))","v":{"$error":"#N/A"}}]
[null,null,null,null,null,{"$f":"IF($E745=0, \" \", VLOOKUP($E745, 'Cenovnik 2'!$A$2:$D$411, 2, FALSE))","v":" "},{"$f":"IF($E745=0, \" \", VLOOKUP($E745, 'Cenovnik 2'!$A$2:$D$411, 3, FALSE))","v":" "},{"$f":"IF($E745=0, \" \", VLOOKUP($E745, 'Cenovnik 2'!$A$2:$D$411, 4, FALSE))","v":" "},null,"-","","","ДА",null,null,null,null,{"$f":"IF($C745=0, \" \", VLOOKUP($C745, DrzavniPuteviRed, 2, FALSE))","v":" "}," "," ",{"$f":"IF(VLOOKUP($E745,[0]!ProveraPDV,2,FALSE)=TRUE,$J745,)","v":{"$error":"#N/A"}},{"$f":"IF(VLOOKUP($E745,liste!$A$31:$B$818,2,FALSE)=TRUE,#REF!,)","v":{"$error":"#N/A"}}," -",{"$f":"INDEX('Cenovnik 2'!$G$2:$G$411,MATCH('Plan unos i pregled'!$E745,Pozicije,0))","v":{"$error":"#N/A"}}]
[null,null,null,null,null,{"$f":"IF($E746=0, \" \", VLOOKUP($E746, 'Cenovnik 2'!$A$2:$D$411, 2, FALSE))","v":" "},{"$f":"IF($E746=0, \" \", VLOOKUP($E746, 'Cenovnik 2'!$A$2:$D$411, 3, FALSE))","v":" "},{"$f":"IF($E746=0, \" \", VLOOKUP($E746, 'Cenovnik 2'!$A$2:$D$411, 4, FALSE))","v":" "},null,"-","","","ДА",null,null,null,null,{"$f":"IF($C746=0, \" \", VLOOKUP($C746, DrzavniPuteviRed, 2, FALSE))","v":" "}," "," ",{"$f":"IF(VLOOKUP($E746,[0]!ProveraPDV,2,FALSE)=TRUE,$J746,)","v":{"$error":"#N/A"}},{"$f":"IF(VLOOKUP($E746,liste!$A$31:$B$818,2,FALSE)=TRUE,#REF!,)","v":{"$error":"#N/A"}}," -",{"$f":"INDEX('Cenovnik 2'!$G$2:$G$411,MATCH('Plan unos i pregled'!$E746,Pozicije,0))","v":{"$error":"#N/A"}}]
[null,null,null,null,null,{"$f":"IF($E747=0, \" \", VLOOKUP($E747, 'Cenovnik 2'!$A$2:$D$411, 2, FALSE))","v":" "},{"$f":"IF($E747=0, \" \", VLOOKUP($E747, 'Cenovnik 2'!$A$2:$D$411, 3, FALSE))","v":" "},{"$f":"IF($E747=0, \" \", VLOOKUP($E747, 'Cenovnik 2'!$A$2:$D$411, 4, FALSE))","v":" "},null,"-","","","ДА",null,null,null,null,{"$f":"IF($C747=0, \" \", VLOOKUP($C747, DrzavniPuteviRed, 2, FALSE))","v":" "}," "," ",{"$f":"IF(VLOOKUP($E747,[0]!ProveraPDV,2,FALSE)=TRUE,$J747,)","v":{"$error":"#N/A"}},{"$f":"IF(VLOOKUP($E747,liste!$A$31:$B$818,2,FALSE)=TRUE,#REF!,)","v":{"$error":"#N/A"}}," -",{"$f":"INDEX('Cenovnik 2'!$G$2:$G$411,MATCH('Plan unos i pregled'!$E747,Pozicije,0))","v":{"$error":"#N/A"}}]
[null,null,null,null,null,{"$f":"IF($E748=0, \" \", VLOOKUP($E748, 'Cenovnik 2'!$A$2:$D$411, 2, FALSE))","v":" "},{"$f":"IF($E748=0, \" \", VLOOKUP($E748, 'Cenovnik 2'!$A$2:$D$411, 3, FALSE))","v":" "},{"$f":"IF($E748=0, \" \", VLOOKUP($E748, 'Cenovnik 2'!$A$2:$D$411, 4, FALSE))","v":" "},null,"-","","","ДА",null,null,null,null,{"$f":"IF($C748=0, \" \", VLOOKUP($C748, DrzavniPuteviRed, 2, FALSE))","v":" "}," "," ",{"$f":"IF(VLOOKUP($E748,[0]!ProveraPDV,2,FALSE)=TRUE,$J748,)","v":{"$error":"#N/A"}},{"$f":"IF(VLOOKUP($E748,liste!$A$31:$B$818,2,FALSE)=TRUE,#REF!,)","v":{"$error":"#N/A"}}," -",{"$f":"INDEX('Cenovnik 2'!$G$2:$G$411,MATCH('Plan unos i pregled'!$E748,Pozicije,0))","v":{"$error":"#N/A"}}]
[null,null,null,null,null,{"$f":"IF($E749=0, \" \", VLOOKUP($E749, 'Cenovnik 2'!$A$2:$D$411, 2, FALSE))","v":" "},{"$f":"IF($E749=0, \" \", VLOOKUP($E749, 'Cenovnik 2'!$A$2:$D$411, 3, FALSE))","v":" "},{"$f":"IF($E749=0, \" \", VLOOKUP($E749, 'Cenovnik 2'!$A$2:$D$411, 4, FALSE))","v":" "},null,"-","","","ДА",null,null,null,null,{"$f":"IF($C749=0, \" \", VLOOKUP($C749, DrzavniPuteviRed, 2, FALSE))","v":" "}," "," ",{"$f":"IF(VLOOKUP($E749,[0]!ProveraPDV,2,FALSE)=TRUE,$J749,)","v":{"$error":"#N/A"}},{"$f":"IF(VLOOKUP($E749,liste!$A$31:$B$818,2,FALSE)=TRUE,#REF!,)","v":{"$error":"#N/A"}}," -",{"$f":"INDEX('Cenovnik 2'!$G$2:$G$411,MATCH('Plan unos i pregled'!$E749,Pozicije,0))","v":{"$error":"#N/A"}}]
[null,null,null,null,null,{"$f":"IF($E750=0, \" \", VLOOKUP($E750, 'Cenovnik 2'!$A$2:$D$411, 2, FALSE))","v":" "},{"$f":"IF($E750=0, \" \", VLOOKUP($E750, 'Cenovnik 2'!$A$2:$D$411, 3, FALSE))","v":" "},{"$f":"IF($E750=0, \" \", VLOOKUP($E750, 'Cenovnik 2'!$A$2:$D$411, 4, FALSE))","v":" "},null,"-","","","ДА",null,null,null,null,{"$f":"IF($C750=0, \" \", VLOOKUP($C750, DrzavniPuteviRed, 2, FALSE))","v":" "}," "," ",{"$f":"IF(VLOOKUP($E750,[0]!ProveraPDV,2,FALSE)=TRUE,$J750,)","v":{"$error":"#N/A"}},{"$f":"IF(VLOOKUP($E750,liste!$A$31:$B$818,2,FALSE)=TRUE,#REF!,)","v":{"$error":"#N/A"}}," -",{"$f":"INDEX('Cenovnik 2'!$G$2:$G$411,MATCH('Plan unos i pregled'!$E750,Pozicije,0))","v":{"$error":"#N/A"}}]
[null,null,null,null,null,{"$f":"IF($E751=0, \" \", VLOOKUP($E751, 'Cenovnik 2'!$A$2:$D$411, 2, FALSE))","v":" "},{"$f":"IF($E751=0, \" \", VLOOKUP($E751, 'Cenovnik 2'!$A$2:$D$411, 3, FALSE))","v":" "},{"$f":"IF($E751=0, \" \", VLOOKUP($E751, 'Cenovnik 2'!$A$2:$D$411, 4, FALSE))","v":" "},null,"-","","","ДА",null,null,null,null,{"$f":"IF($C751=0, \" \", VLOOKUP($C751, DrzavniPuteviRed, 2, FALSE))","v":" "}," "," ",{"$f":"IF(VLOOKUP($E751,[0]!ProveraPDV,2,FALSE)=TRUE,$J751,)","v":{"$error":"#N/A"}},{"$f":"IF(VLOOKUP($E751,liste!$A$31:$B$818,2,FALSE)=TRUE,#REF!,)","v":{"$error":"#N/A"}}," -",{"$f":"INDEX('Cenovnik 2'!$G$2:$G$411,MATCH('Plan unos i pregled'!$E751,Pozicije,0))","v":{"$error":"#N/A"}}]
[null,null,null,null,null,{"$f":"IF($E752=0, \" \", VLOOKUP($E752, 'Cenovnik 2'!$A$2:$D$411, 2, FALSE))","v":" "},{"$f":"IF($E752=0, \" \", VLOOKUP($E752, 'Cenovnik 2'!$A$2:$D$411, 3, FALSE))","v":" "},{"$f":"IF($E752=0, \" \", VLOOKUP($E752, 'Cenovnik 2'!$A$2:$D$411, 4, FALSE))","v":" "},null,"-","","","ДА",null,null,null,null,{"$f":"IF($C752=0, \" \", VLOOKUP($C752, DrzavniPuteviRed, 2, FALSE))","v":" "}," "," ",{"$f":"IF(VLOOKUP($E752,[0]!ProveraPDV,2,FALSE)=TRUE,$J752,)","v":{"$error":"#N/A"}},{"$f":"IF(VLOOKUP($E752,liste!$A$31:$B$818,2,FALSE)=TRUE,#REF!,)","v":{"$error":"#N/A"}}," -",{"$f":"INDEX('Cenovnik 2'!$G$2:$G$411,MATCH('Plan unos i pregled'!$E752,Pozicije,0))","v":{"$error":"#N/A"}}]
[null,null,null,null,null,{"$f":"IF($E753=0, \" \", VLOOKUP($E753, 'Cenovnik 2'!$A$2:$D$411, 2, FALSE))","v":" "},{"$f":"IF($E753=0, \" \", VLOOKUP($E753, 'Cenovnik 2'!$A$2:$D$411, 3, FALSE))","v":" "},{"$f":"IF($E753=0, \" \", VLOOKUP($E753, 'Cenovnik 2'!$A$2:$D$411, 4, FALSE))","v":" "},null,"-","","","ДА",null,null,null,null,{"$f":"IF($C753=0, \" \", VLOOKUP($C753, DrzavniPuteviRed, 2, FALSE))","v":" "}," "," ",{"$f":"IF(VLOOKUP($E753,[0]!ProveraPDV,2,FALSE)=TRUE,$J753,)","v":{"$error":"#N/A"}},{"$f":"IF(VLOOKUP($E753,liste!$A$31:$B$818,2,FALSE)=TRUE,#REF!,)","v":{"$error":"#N/A"}}," -",{"$f":"INDEX('Cenovnik 2'!$G$2:$G$411,MATCH('Plan unos i pregled'!$E753,Pozicije,0))","v":{"$error":"#N/A"}}]
[null,null,null,null,null,{"$f":"IF($E754=0, \" \", VLOOKUP($E754, 'Cenovnik 2'!$A$2:$D$411, 2, FALSE))","v":" "},{"$f":"IF($E754=0, \" \", VLOOKUP($E754, 'Cenovnik 2'!$A$2:$D$411, 3, FALSE))","v":" "},{"$f":"IF($E754=0, \" \", VLOOKUP($E754, 'Cenovnik 2'!$A$2:$D$411, 4, FALSE))","v":" "},null,"-","","","ДА",null,null,null,null,{"$f":"IF($C754=0, \" \", VLOOKUP($C754, DrzavniPuteviRed, 2, FALSE))","v":" "}," "," ",{"$f":"IF(VLOOKUP($E754,[0]!ProveraPDV,2,FALSE)=TRUE,$J754,)","v":{"$error":"#N/A"}},{"$f":"IF(VLOOKUP($E754,liste!$A$31:$B$818,2,FALSE)=TRUE,#REF!,)","v":{"$error":"#N/A"}}," -",{"$f":"INDEX('Cenovnik 2'!$G$2:$G$411,MATCH('Plan unos i pregled'!$E754,Pozicije,0))","v":{"$error":"#N/A"}}]
[null,null,null,null,null,{"$f":"IF($E755=0, \" \", VLOOKUP($E755, 'Cenovnik 2'!$A$2:$D$411, 2, FALSE))","v":" "},{"$f":"IF($E755=0, \" \", VLOOKUP($E755, 'Cenovnik 2'!$A$2:$D$411, 3, FALSE))","v":" "},{"$f":"IF($E755=0, \" \", VLOOKUP($E755, 'Cenovnik 2'!$A$2:$D$411, 4, FALSE))","v":" "},null,"-","","","ДА",null,null,null,null,{"$f":"IF($C755=0, \" \", VLOOKUP($C755, DrzavniPuteviRed, 2, FALSE))","v":" "}," "," ",{"$f":"IF(VLOOKUP($E755,[0]!ProveraPDV,2,FALSE)=TRUE,$J755,)","v":{"$error":"#N/A"}},{"$f":"IF(VLOOKUP($E755,liste!$A$31:$B$818,2,FALSE)=TRUE,#REF!,)","v":{"$error":"#N/A"}}," -",{"$f":"INDEX('Cenovnik 2'!$G$2:$G$411,MATCH('Plan unos i pregled'!$E755,Pozicije,0))","v":{"$error":"#N/A"}}]
[null,null,null,null,null,{"$f":"IF($E756=0, \" \", VLOOKUP($E756, 'Cenovnik 2'!$A$2:$D$411, 2, FALSE))","v":" "},{"$f":"IF($E756=0, \" \", VLOOKUP($E756, 'Cenovnik 2'!$A$2:$D$411, 3, FALSE))","v":" "},{"$f":"IF($E756=0, \" \", VLOOKUP($E756, 'Cenovnik 2'!$A$2:$D$411, 4, FALSE))","v":" "},null,"-","","","ДА",null,null,null,null,{"$f":"IF($C756=0, \" \", VLOOKUP($C756, DrzavniPuteviRed, 2, FALSE))","v":" "}," "," ",{"$f":"IF(VLOOKUP($E756,[0]!ProveraPDV,2,FALSE)=TRUE,$J756,)","v":{"$error":"#N/A"}},{"$f":"IF(VLOOKUP($E756,liste!$A$31:$B$818,2,FALSE)=TRUE,#REF!,)","v":{"$error":"#N/A"}}," -",{"$f":"INDEX('Cenovnik 2'!$G$2:$G$411,MATCH('Plan unos i pregled'!$E756,Pozicije,0))","v":{"$error":"#N/A"}}]
[null,null,null,null,null,{"$f":"IF($E757=0, \" \", VLOOKUP($E757, 'Cenovnik 2'!$A$2:$D$411, 2, FALSE))","v":" "},{"$f":"IF($E757=0, \" \", VLOOKUP($E757, 'Cenovnik 2'!$A$2:$D$411, 3, FALSE))","v":" "},{"$f":"IF($E757=0, \" \", VLOOKUP($E757, 'Cenovnik 2'!$A$2:$D$411, 4, FALSE))","v":" "},null,"-","","","ДА",null,null,null,null,{"$f":"IF($C757=0, \" \", VLOOKUP($C757, DrzavniPuteviRed, 2, FALSE))","v":" "}," "," ",{"$f":"IF(VLOOKUP($E757,[0]!ProveraPDV,2,FALSE)=TRUE,$J757,)","v":{"$error":"#N/A"}},{"$f":"IF(VLOOKUP($E757,liste!$A$31:$B$818,2,FALSE)=TRUE,#REF!,)","v":{"$error":"#N/A"}}," -",{"$f":"INDEX('Cenovnik 2'!$G$2:$G$411,MATCH('Plan unos i pregled'!$E757,Pozicije,0))","v":{"$error":"#N/A"}}]
[null,null,null,null,null,{"$f":"IF($E758=0, \" \", VLOOKUP($E758, 'Cenovnik 2'!$A$2:$D$411, 2, FALSE))","v":" "},{"$f":"IF($E758=0, \" \", VLOOKUP($E758, 'Cenovnik 2'!$A$2:$D$411, 3, FALSE))","v":" "},{"$f":"IF($E758=0, \" \", VLOOKUP($E758, 'Cenovnik 2'!$A$2:$D$411, 4, FALSE))","v":" "},null,"-","","","ДА",null,null,null,null,{"$f":"IF($C758=0, \" \", VLOOKUP($C758, DrzavniPuteviRed, 2, FALSE))","v":" "}," "," ",{"$f":"IF(VLOOKUP($E758,[0]!ProveraPDV,2,FALSE)=TRUE,$J758,)","v":{"$error":"#N/A"}},{"$f":"IF(VLOOKUP($E758,liste!$A$31:$B$818,2,FALSE)=TRUE,#REF!,)","v":{"$error":"#N/A"}}," -",{"$f":"INDEX('Cenovnik 2'!$G$2:$G$411,MATCH('Plan unos i pregled'!$E758,Pozicije,0))","v":{"$error":"#N/A"}}]
[null,null,null,null,null,{"$f":"IF($E759=0, \" \", VLOOKUP($E759, 'Cenovnik 2'!$A$2:$D$411, 2, FALSE))","v":" "},{"$f":"IF($E759=0, \" \", VLOOKUP($E759, 'Cenovnik 2'!$A$2:$D$411, 3, FALSE))","v":" "},{"$f":"IF($E759=0, \" \", VLOOKUP($E759, 'Cenovnik 2'!$A$2:$D$411, 4, FALSE))","v":" "},null,"-","","","ДА",null,null,null,null,{"$f":"IF($C759=0, \" \", VLOOKUP($C759, DrzavniPuteviRed, 2, FALSE))","v":" "}," "," ",{"$f":"IF(VLOOKUP($E759,[0]!ProveraPDV,2,FALSE)=TRUE,$J759,)","v":{"$error":"#N/A"}},{"$f":"IF(VLOOKUP($E759,liste!$A$31:$B$818,2,FALSE)=TRUE,#REF!,)","v":{"$error":"#N/A"}}," -",{"$f":"INDEX('Cenovnik 2'!$G$2:$G$411,MATCH('Plan unos i pregled'!$E759,Pozicije,0))","v":{"$error":"#N/A"}}]
[null,null,null,null,null,{"$f":"IF($E760=0, \" \", VLOOKUP($E760, 'Cenovnik 2'!$A$2:$D$411, 2, FALSE))","v":" "},{"$f":"IF($E760=0, \" \", VLOOKUP($E760, 'Cenovnik 2'!$A$2:$D$411, 3, FALSE))","v":" "},{"$f":"IF($E760=0, \" \", VLOOKUP($E760, 'Cenovnik 2'!$A$2:$D$411, 4, FALSE))","v":" "},null,"-","","","ДА",null,null,null,null,{"$f":"IF($C760=0, \" \", VLOOKUP($C760, DrzavniPuteviRed, 2, FALSE))","v":" "},{"$f":"IF($E760=0, \" \", VLOOKUP($E760, SifrePozicijaBezTacke, 2, FALSE))","v":" "}," ",{"$f":"IF(VLOOKUP($E760,[0]!ProveraPDV,2,FALSE)=TRUE,$J760,)","v":{"$error":"#N/A"}},{"$f":"IF(VLOOKUP($E760,liste!$A$31:$B$818,2,FALSE)=TRUE,#REF!,)","v":{"$error":"#N/A"}}," -",{"$f":"INDEX('Cenovnik 2'!$G$2:$G$411,MATCH('Plan unos i pregled'!$E760,Pozicije,0))","v":{"$error":"#N/A"}}]
[null,null,null,null,null,{"$f":"IF($E761=0, \" \", VLOOKUP($E761, 'Cenovnik 2'!$A$2:$D$411, 2, FALSE))","v":" "},{"$f":"IF($E761=0, \" \", VLOOKUP($E761, 'Cenovnik 2'!$A$2:$D$411, 3, FALSE))","v":" "},{"$f":"IF($E761=0, \" \", VLOOKUP($E761, 'Cenovnik 2'!$A$2:$D$411, 4, FALSE))","v":" "},null,{"$f":"IF(ISNUMBER($H761), $H761*$I761, \"-\")","v":"-"},"",{"$f":"TEXT(LEFT($E761,FIND(\".\",$E761&\".\")-1), \"00\")","v":""},"ДА",null,null,null,null,{"$f":"IF($C761=0, \" \", VLOOKUP($C761, DrzavniPuteviRed, 2, FALSE))","v":" "}," ",{"$f":"LEFT($S761, 3)","v":" "},{"$f":"IF(VLOOKUP($E761,[0]!ProveraPDV,2,FALSE)=TRUE,$J761,)","v":{"$error":"#N/A"}},{"$f":"IF(VLOOKUP($E761,liste!$A$31:$B$818,2,FALSE)=TRUE,#REF!,)","v":{"$error":"#N/A"}},{"$f":"R761&\"-\"&C761","v":" -"},{"$f":"INDEX('Cenovnik 2'!$G$2:$G$411,MATCH('Plan unos i pregled'!$E761,Pozicije,0))","v":{"$error":"#N/A"}}]
[null,null,null,null,null,{"$f":"IF($E762=0, \" \", VLOOKUP($E762, 'Cenovnik 2'!$A$2:$D$411, 2, FALSE))","v":" "},{"$f":"IF($E762=0, \" \", VLOOKUP($E762, 'Cenovnik 2'!$A$2:$D$411, 3, FALSE))","v":" "},{"$f":"IF($E762=0, \" \", VLOOKUP($E762, 'Cenovnik 2'!$A$2:$D$411, 4, FALSE))","v":" "},null,"-","","","ДА",null,null,null,null,{"$f":"IF($C762=0, \" \", VLOOKUP($C762, DrzavniPuteviRed, 2, FALSE))","v":" "}," "," ",{"$f":"IF(VLOOKUP($E762,[0]!ProveraPDV,2,FALSE)=TRUE,$J762,)","v":{"$error":"#N/A"}},{"$f":"IF(VLOOKUP($E762,liste!$A$31:$B$818,2,FALSE)=TRUE,#REF!,)","v":{"$error":"#N/A"}}," -",{"$f":"INDEX('Cenovnik 2'!$G$2:$G$411,MATCH('Plan unos i pregled'!$E762,Pozicije,0))","v":{"$error":"#N/A"}}]
[null,null,null,null,null,{"$f":"IF($E763=0, \" \", VLOOKUP($E763, 'Cenovnik 2'!$A$2:$D$411, 2, FALSE))","v":" "},{"$f":"IF($E763=0, \" \", VLOOKUP($E763, 'Cenovnik 2'!$A$2:$D$411, 3, FALSE))","v":" "},{"$f":"IF($E763=0, \" \", VLOOKUP($E763, 'Cenovnik 2'!$A$2:$D$411, 4, FALSE))","v":" "},null,"-","","","ДА",null,null,null,null,{"$f":"IF($C763=0, \" \", VLOOKUP($C763, DrzavniPuteviRed, 2, FALSE))","v":" "}," "," ",{"$f":"IF(VLOOKUP($E763,[0]!ProveraPDV,2,FALSE)=TRUE,$J763,)","v":{"$error":"#N/A"}},{"$f":"IF(VLOOKUP($E763,liste!$A$31:$B$818,2,FALSE)=TRUE,#REF!,)","v":{"$error":"#N/A"}}," -",{"$f":"INDEX('Cenovnik 2'!$G$2:$G$411,MATCH('Plan unos i pregled'!$E763,Pozicije,0))","v":{"$error":"#N/A"}}]
[null,null,null,null,null,{"$f":"IF($E764=0, \" \", VLOOKUP($E764, 'Cenovnik 2'!$A$2:$D$411, 2, FALSE))","v":" "},{"$f":"IF($E764=0, \" \", VLOOKUP($E764, 'Cenovnik 2'!$A$2:$D$411, 3, FALSE))","v":" "},{"$f":"IF($E764=0, \" \", VLOOKUP($E764, 'Cenovnik 2'!$A$2:$D$411, 4, FALSE))","v":" "},null,"-","","","ДА",null,null,null,null,{"$f":"IF($C764=0, \" \", VLOOKUP($C764, DrzavniPuteviRed, 2, FALSE))","v":" "}," "," ",{"$f":"IF(VLOOKUP($E764,[0]!ProveraPDV,2,FALSE)=TRUE,$J764,)","v":{"$error":"#N/A"}},{"$f":"IF(VLOOKUP($E764,liste!$A$31:$B$818,2,FALSE)=TRUE,#REF!,)","v":{"$error":"#N/A"}}," -",{"$f":"INDEX('Cenovnik 2'!$G$2:$G$411,MATCH('Plan unos i pregled'!$E764,Pozicije,0))","v":{"$error":"#N/A"}}]
[null,null,null,null,null,{"$f":"IF($E765=0, \" \", VLOOKUP($E765, 'Cenovnik 2'!$A$2:$D$411, 2, FALSE))","v":" "},{"$f":"IF($E765=0, \" \", VLOOKUP($E765, 'Cenovnik 2'!$A$2:$D$411, 3, FALSE))","v":" "},{"$f":"IF($E765=0, \" \", VLOOKUP($E765, 'Cenovnik 2'!$A$2:$D$411, 4, FALSE))","v":" "},null,"-","","","ДА",null,null,null,null,{"$f":"IF($C765=0, \" \", VLOOKUP($C765, DrzavniPuteviRed, 2, FALSE))","v":" "}," "," ",{"$f":"IF(VLOOKUP($E765,[0]!ProveraPDV,2,FALSE)=TRUE,$J765,)","v":{"$error":"#N/A"}},{"$f":"IF(VLOOKUP($E765,liste!$A$31:$B$818,2,FALSE)=TRUE,#REF!,)","v":{"$error":"#N/A"}}," -",{"$f":"INDEX('Cenovnik 2'!$G$2:$G$411,MATCH('Plan unos i pregled'!$E765,Pozicije,0))","v":{"$error":"#N/A"}}]
[null,null,null,null,null,{"$f":"IF($E766=0, \" \", VLOOKUP($E766, 'Cenovnik 2'!$A$2:$D$411, 2, FALSE))","v":" "},{"$f":"IF($E766=0, \" \", VLOOKUP($E766, 'Cenovnik 2'!$A$2:$D$411, 3, FALSE))","v":" "},{"$f":"IF($E766=0, \" \", VLOOKUP($E766, 'Cenovnik 2'!$A$2:$D$411, 4, FALSE))","v":" "},null,"-","","","ДА",null,null,null,null,{"$f":"IF($C766=0, \" \", VLOOKUP($C766, DrzavniPuteviRed, 2, FALSE))","v":" "}," "," ",{"$f":"IF(VLOOKUP($E766,[0]!ProveraPDV,2,FALSE)=TRUE,$J766,)","v":{"$error":"#N/A"}},{"$f":"IF(VLOOKUP($E766,liste!$A$31:$B$818,2,FALSE)=TRUE,#REF!,)","v":{"$error":"#N/A"}}," -",{"$f":"INDEX('Cenovnik 2'!$G$2:$G$411,MATCH('Plan unos i pregled'!$E766,Pozicije,0))","v":{"$error":"#N/A"}}]
[null,null,null,null,null,{"$f":"IF($E767=0, \" \", VLOOKUP($E767, 'Cenovnik 2'!$A$2:$D$411, 2, FALSE))","v":" "},{"$f":"IF($E767=0, \" \", VLOOKUP($E767, 'Cenovnik 2'!$A$2:$D$411, 3, FALSE))","v":" "},{"$f":"IF($E767=0, \" \", VLOOKUP($E767, 'Cenovnik 2'!$A$2:$D$411, 4, FALSE))","v":" "},null,"-","","","ДА",null,null,null,null,{"$f":"IF($C767=0, \" \", VLOOKUP($C767, DrzavniPuteviRed, 2, FALSE))","v":" "}," "," ",{"$f":"IF(VLOOKUP($E767,[0]!ProveraPDV,2,FALSE)=TRUE,$J767,)","v":{"$error":"#N/A"}},{"$f":"IF(VLOOKUP($E767,liste!$A$31:$B$818,2,FALSE)=TRUE,#REF!,)","v":{"$error":"#N/A"}}," -",{"$f":"INDEX('Cenovnik 2'!$G$2:$G$411,MATCH('Plan unos i pregled'!$E767,Pozicije,0))","v":{"$error":"#N/A"}}]
[null,null,null,null,null,{"$f":"IF($E768=0, \" \", VLOOKUP($E768, 'Cenovnik 2'!$A$2:$D$411, 2, FALSE))","v":" "},{"$f":"IF($E768=0, \" \", VLOOKUP($E768, 'Cenovnik 2'!$A$2:$D$411, 3, FALSE))","v":" "},{"$f":"IF($E768=0, \" \", VLOOKUP($E768, 'Cenovnik 2'!$A$2:$D$411, 4, FALSE))","v":" "},null,"-","","","ДА",null,null,null,null,{"$f":"IF($C768=0, \" \", VLOOKUP($C768, DrzavniPuteviRed, 2, FALSE))","v":" "}," "," ",{"$f":"IF(VLOOKUP($E768,[0]!ProveraPDV,2,FALSE)=TRUE,$J768,)","v":{"$error":"#N/A"}},{"$f":"IF(VLOOKUP($E768,liste!$A$31:$B$818,2,FALSE)=TRUE,#REF!,)","v":{"$error":"#N/A"}}," -",{"$f":"INDEX('Cenovnik 2'!$G$2:$G$411,MATCH('Plan unos i pregled'!$E768,Pozicije,0))","v":{"$error":"#N/A"}}]
[null,null,null,null,null,{"$f":"IF($E769=0, \" \", VLOOKUP($E769, 'Cenovnik 2'!$A$2:$D$411, 2, FALSE))","v":" "},{"$f":"IF($E769=0, \" \", VLOOKUP($E769, 'Cenovnik 2'!$A$2:$D$411, 3, FALSE))","v":" "},{"$f":"IF($E769=0, \" \", VLOOKUP($E769, 'Cenovnik 2'!$A$2:$D$411, 4, FALSE))","v":" "},null,"-","","","ДА",null,null,null,null,{"$f":"IF($C769=0, \" \", VLOOKUP($C769, DrzavniPuteviRed, 2, FALSE))","v":" "}," "," ",{"$f":"IF(VLOOKUP($E769,[0]!ProveraPDV,2,FALSE)=TRUE,$J769,)","v":{"$error":"#N/A"}},{"$f":"IF(VLOOKUP($E769,liste!$A$31:$B$818,2,FALSE)=TRUE,#REF!,)","v":{"$error":"#N/A"}}," -",{"$f":"INDEX('Cenovnik 2'!$G$2:$G$411,MATCH('Plan unos i pregled'!$E769,Pozicije,0))","v":{"$error":"#N/A"}}]
[null,null,null,null,null,{"$f":"IF($E770=0, \" \", VLOOKUP($E770, 'Cenovnik 2'!$A$2:$D$411, 2, FALSE))","v":" "},{"$f":"IF($E770=0, \" \", VLOOKUP($E770, 'Cenovnik 2'!$A$2:$D$411, 3, FALSE))","v":" "},{"$f":"IF($E770=0, \" \", VLOOKUP($E770, 'Cenovnik 2'!$A$2:$D$411, 4, FALSE))","v":" "},null,"-","","","ДА",null,null,null,null,{"$f":"IF($C770=0, \" \", VLOOKUP($C770, DrzavniPuteviRed, 2, FALSE))","v":" "}," "," ",{"$f":"IF(VLOOKUP($E770,[0]!ProveraPDV,2,FALSE)=TRUE,$J770,)","v":{"$error":"#N/A"}},{"$f":"IF(VLOOKUP($E770,liste!$A$31:$B$818,2,FALSE)=TRUE,#REF!,)","v":{"$error":"#N/A"}}," -",{"$f":"INDEX('Cenovnik 2'!$G$2:$G$411,MATCH('Plan unos i pregled'!$E770,Pozicije,0))","v":{"$error":"#N/A"}}]
[null,null,null,null,null,{"$f":"IF($E771=0, \" \", VLOOKUP($E771, 'Cenovnik 2'!$A$2:$D$411, 2, FALSE))","v":" "},{"$f":"IF($E771=0, \" \", VLOOKUP($E771, 'Cenovnik 2'!$A$2:$D$411, 3, FALSE))","v":" "},{"$f":"IF($E771=0, \" \", VLOOKUP($E771, 'Cenovnik 2'!$A$2:$D$411, 4, FALSE))","v":" "},null,"-","","","ДА",null,null,null,null,{"$f":"IF($C771=0, \" \", VLOOKUP($C771, DrzavniPuteviRed, 2, FALSE))","v":" "}," "," ",{"$f":"IF(VLOOKUP($E771,[0]!ProveraPDV,2,FALSE)=TRUE,$J771,)","v":{"$error":"#N/A"}},{"$f":"IF(VLOOKUP($E771,liste!$A$31:$B$818,2,FALSE)=TRUE,#REF!,)","v":{"$error":"#N/A"}}," -",{"$f":"INDEX('Cenovnik 2'!$G$2:$G$411,MATCH('Plan unos i pregled'!$E771,Pozicije,0))","v":{"$error":"#N/A"}}]
[null,null,null,null,null,{"$f":"IF($E772=0, \" \", VLOOKUP($E772, 'Cenovnik 2'!$A$2:$D$411, 2, FALSE))","v":" "},{"$f":"IF($E772=0, \" \", VLOOKUP($E772, 'Cenovnik 2'!$A$2:$D$411, 3, FALSE))","v":" "},{"$f":"IF($E772=0, \" \", VLOOKUP($E772, 'Cenovnik 2'!$A$2:$D$411, 4, FALSE))","v":" "},null,"-","","","ДА",null,null,null,null,{"$f":"IF($C772=0, \" \", VLOOKUP($C772, DrzavniPuteviRed, 2, FALSE))","v":" "}," "," ",{"$f":"IF(VLOOKUP($E772,[0]!ProveraPDV,2,FALSE)=TRUE,$J772,)","v":{"$error":"#N/A"}},{"$f":"IF(VLOOKUP($E772,liste!$A$31:$B$818,2,FALSE)=TRUE,#REF!,)","v":{"$error":"#N/A"}}," -",{"$f":"INDEX('Cenovnik 2'!$G$2:$G$411,MATCH('Plan unos i pregled'!$E772,Pozicije,0))","v":{"$error":"#N/A"}}]
[null,null,null,null,null,{"$f":"IF($E773=0, \" \", VLOOKUP($E773, 'Cenovnik 2'!$A$2:$D$411, 2, FALSE))","v":" "},{"$f":"IF($E773=0, \" \", VLOOKUP($E773, 'Cenovnik 2'!$A$2:$D$411, 3, FALSE))","v":" "},{"$f":"IF($E773=0, \" \", VLOOKUP($E773, 'Cenovnik 2'!$A$2:$D$411, 4, FALSE))","v":" "},null,"-","","","ДА",null,null,null,null,{"$f":"IF($C773=0, \" \", VLOOKUP($C773, DrzavniPuteviRed, 2, FALSE))","v":" "}," "," ",{"$f":"IF(VLOOKUP($E773,[0]!ProveraPDV,2,FALSE)=TRUE,$J773,)","v":{"$error":"#N/A"}},{"$f":"IF(VLOOKUP($E773,liste!$A$31:$B$818,2,FALSE)=TRUE,#REF!,)","v":{"$error":"#N/A"}}," -",{"$f":"INDEX('Cenovnik 2'!$G$2:$G$411,MATCH('Plan unos i pregled'!$E773,Pozicije,0))","v":{"$error":"#N/A"}}]
[null,null,null,null,null,{"$f":"IF($E774=0, \" \", VLOOKUP($E774, 'Cenovnik 2'!$A$2:$D$411, 2, FALSE))","v":" "},{"$f":"IF($E774=0, \" \", VLOOKUP($E774, 'Cenovnik 2'!$A$2:$D$411, 3, FALSE))","v":" "},{"$f":"IF($E774=0, \" \", VLOOKUP($E774, 'Cenovnik 2'!$A$2:$D$411, 4, FALSE))","v":" "},null,"-","","","ДА",null,null,null,null,{"$f":"IF($C774=0, \" \", VLOOKUP($C774, DrzavniPuteviRed, 2, FALSE))","v":" "}," "," ",{"$f":"IF(VLOOKUP($E774,[0]!ProveraPDV,2,FALSE)=TRUE,$J774,)","v":{"$error":"#N/A"}},{"$f":"IF(VLOOKUP($E774,liste!$A$31:$B$818,2,FALSE)=TRUE,#REF!,)","v":{"$error":"#N/A"}}," -",{"$f":"INDEX('Cenovnik 2'!$G$2:$G$411,MATCH('Plan unos i pregled'!$E774,Pozicije,0))","v":{"$error":"#N/A"}}]
[null,null,null,null,null,{"$f":"IF($E775=0, \" \", VLOOKUP($E775, 'Cenovnik 2'!$A$2:$D$411, 2, FALSE))","v":" "},{"$f":"IF($E775=0, \" \", VLOOKUP($E775, 'Cenovnik 2'!$A$2:$D$411, 3, FALSE))","v":" "},{"$f":"IF($E775=0, \" \", VLOOKUP($E775, 'Cenovnik 2'!$A$2:$D$411, 4, FALSE))","v":" "},null,"-","","","ДА",null,null,null,null,{"$f":"IF($C775=0, \" \", VLOOKUP($C775, DrzavniPuteviRed, 2, FALSE))","v":" "}," "," ",{"$f":"IF(VLOOKUP($E775,[0]!ProveraPDV,2,FALSE)=TRUE,$J775,)","v":{"$error":"#N/A"}},{"$f":"IF(VLOOKUP($E775,liste!$A$31:$B$818,2,FALSE)=TRUE,#REF!,)","v":{"$error":"#N/A"}}," -",{"$f":"INDEX('Cenovnik 2'!$G$2:$G$411,MATCH('Plan unos i pregled'!$E775,Pozicije,0))","v":{"$error":"#N/A"}}]
[null,null,null,null,null,{"$f":"IF($E776=0, \" \", VLOOKUP($E776, 'Cenovnik 2'!$A$2:$D$411, 2, FALSE))","v":" "},{"$f":"IF($E776=0, \" \", VLOOKUP($E776, 'Cenovnik 2'!$A$2:$D$411, 3, FALSE))","v":" "},{"$f":"IF($E776=0, \" \", VLOOKUP($E776, 'Cenovnik 2'!$A$2:$D$411, 4, FALSE))","v":" "},null,"-","","","ДА",null,null,null,null,{"$f":"IF($C776=0, \" \", VLOOKUP($C776, DrzavniPuteviRed, 2, FALSE))","v":" "}," "," ",{"$f":"IF(VLOOKUP($E776,[0]!ProveraPDV,2,FALSE)=TRUE,$J776,)","v":{"$error":"#N/A"}},{"$f":"IF(VLOOKUP($E776,liste!$A$31:$B$818,2,FALSE)=TRUE,#REF!,)","v":{"$error":"#N/A"}}," -",{"$f":"INDEX('Cenovnik 2'!$G$2:$G$411,MATCH('Plan unos i pregled'!$E776,Pozicije,0))","v":{"$error":"#N/A"}}]
[null,null,null,null,null,{"$f":"IF($E777=0, \" \", VLOOKUP($E777, 'Cenovnik 2'!$A$2:$D$411, 2, FALSE))","v":" "},{"$f":"IF($E777=0, \" \", VLOOKUP($E777, 'Cenovnik 2'!$A$2:$D$411, 3, FALSE))","v":" "},{"$f":"IF($E777=0, \" \", VLOOKUP($E777, 'Cenovnik 2'!$A$2:$D$411, 4, FALSE))","v":" "},null,"-","","","ДА",null,null,null,null,{"$f":"IF($C777=0, \" \", VLOOKUP($C777, DrzavniPuteviRed, 2, FALSE))","v":" "}," "," ",{"$f":"IF(VLOOKUP($E777,[0]!ProveraPDV,2,FALSE)=TRUE,$J777,)","v":{"$error":"#N/A"}},{"$f":"IF(VLOOKUP($E777,liste!$A$31:$B$818,2,FALSE)=TRUE,#REF!,)","v":{"$error":"#N/A"}}," -",{"$f":"INDEX('Cenovnik 2'!$G$2:$G$411,MATCH('Plan unos i pregled'!$E777,Pozicije,0))","v":{"$error":"#N/A"}}]
[null,null,null,null,null,{"$f":"IF($E778=0, \" \", VLOOKUP($E778, 'Cenovnik 2'!$A$2:$D$411, 2, FALSE))","v":" "},{"$f":"IF($E778=0, \" \", VLOOKUP($E778, 'Cenovnik 2'!$A$2:$D$411, 3, FALSE))","v":" "},{"$f":"IF($E778=0, \" \", VLOOKUP($E778, 'Cenovnik 2'!$A$2:$D$411, 4, FALSE))","v":" "},null,"-","","","ДА",null,null,null,null,{"$f":"IF($C778=0, \" \", VLOOKUP($C778, DrzavniPuteviRed, 2, FALSE))","v":" "}," "," ",{"$f":"IF(VLOOKUP($E778,[0]!ProveraPDV,2,FALSE)=TRUE,$J778,)","v":{"$error":"#N/A"}},{"$f":"IF(VLOOKUP($E778,liste!$A$31:$B$818,2,FALSE)=TRUE,#REF!,)","v":{"$error":"#N/A"}}," -",{"$f":"INDEX('Cenovnik 2'!$G$2:$G$411,MATCH('Plan unos i pregled'!$E778,Pozicije,0))","v":{"$error":"#N/A"}}]
[null,null,null,null,null,{"$f":"IF($E779=0, \" \", VLOOKUP($E779, 'Cenovnik 2'!$A$2:$D$411, 2, FALSE))","v":" "},{"$f":"IF($E779=0, \" \", VLOOKUP($E779, 'Cenovnik 2'!$A$2:$D$411, 3, FALSE))","v":" "},{"$f":"IF($E779=0, \" \", VLOOKUP($E779, 'Cenovnik 2'!$A$2:$D$411, 4, FALSE))","v":" "},null,"-","","","ДА",null,null,null,null,{"$f":"IF($C779=0, \" \", VLOOKUP($C779, DrzavniPuteviRed, 2, FALSE))","v":" "}," "," ",{"$f":"IF(VLOOKUP($E779,[0]!ProveraPDV,2,FALSE)=TRUE,$J779,)","v":{"$error":"#N/A"}},{"$f":"IF(VLOOKUP($E779,liste!$A$31:$B$818,2,FALSE)=TRUE,#REF!,)","v":{"$error":"#N/A"}}," -",{"$f":"INDEX('Cenovnik 2'!$G$2:$G$411,MATCH('Plan unos i pregled'!$E779,Pozicije,0))","v":{"$error":"#N/A"}}]
[null,null,null,null,null,{"$f":"IF($E780=0, \" \", VLOOKUP($E780, 'Cenovnik 2'!$A$2:$D$411, 2, FALSE))","v":" "},{"$f":"IF($E780=0, \" \", VLOOKUP($E780, 'Cenovnik 2'!$A$2:$D$411, 3, FALSE))","v":" "},{"$f":"IF($E780=0, \" \", VLOOKUP($E780, 'Cenovnik 2'!$A$2:$D$411, 4, FALSE))","v":" "},null,"-","","","ДА",null,null,null,null,{"$f":"IF($C780=0, \" \", VLOOKUP($C780, DrzavniPuteviRed, 2, FALSE))","v":" "}," "," ",{"$f":"IF(VLOOKUP($E780,[0]!ProveraPDV,2,FALSE)=TRUE,$J780,)","v":{"$error":"#N/A"}},{"$f":"IF(VLOOKUP($E780,liste!$A$31:$B$818,2,FALSE)=TRUE,#REF!,)","v":{"$error":"#N/A"}}," -",{"$f":"INDEX('Cenovnik 2'!$G$2:$G$411,MATCH('Plan unos i pregled'!$E780,Pozicije,0))","v":{"$error":"#N/A"}}]
[null,null,null,null,null,{"$f":"IF($E781=0, \" \", VLOOKUP($E781, 'Cenovnik 2'!$A$2:$D$411, 2, FALSE))","v":" "},{"$f":"IF($E781=0, \" \", VLOOKUP($E781, 'Cenovnik 2'!$A$2:$D$411, 3, FALSE))","v":" "},{"$f":"IF($E781=0, \" \", VLOOKUP($E781, 'Cenovnik 2'!$A$2:$D$411, 4, FALSE))","v":" "},null,"-","","","ДА",null,null,null,null,{"$f":"IF($C781=0, \" \", VLOOKUP($C781, DrzavniPuteviRed, 2, FALSE))","v":" "}," "," ",{"$f":"IF(VLOOKUP($E781,[0]!ProveraPDV,2,FALSE)=TRUE,$J781,)","v":{"$error":"#N/A"}},{"$f":"IF(VLOOKUP($E781,liste!$A$31:$B$818,2,FALSE)=TRUE,#REF!,)","v":{"$error":"#N/A"}}," -",{"$f":"INDEX('Cenovnik 2'!$G$2:$G$411,MATCH('Plan unos i pregled'!$E781,Pozicije,0))","v":{"$error":"#N/A"}}]
[null,null,null,null,null,{"$f":"IF($E782=0, \" \", VLOOKUP($E782, 'Cenovnik 2'!$A$2:$D$411, 2, FALSE))","v":" "},{"$f":"IF($E782=0, \" \", VLOOKUP($E782, 'Cenovnik 2'!$A$2:$D$411, 3, FALSE))","v":" "},{"$f":"IF($E782=0, \" \", VLOOKUP($E782, 'Cenovnik 2'!$A$2:$D$411, 4, FALSE))","v":" "},null,"-","","","ДА",null,null,null,null,{"$f":"IF($C782=0, \" \", VLOOKUP($C782, DrzavniPuteviRed, 2, FALSE))","v":" "}," "," ",{"$f":"IF(VLOOKUP($E782,[0]!ProveraPDV,2,FALSE)=TRUE,$J782,)","v":{"$error":"#N/A"}},{"$f":"IF(VLOOKUP($E782,liste!$A$31:$B$818,2,FALSE)=TRUE,#REF!,)","v":{"$error":"#N/A"}}," -",{"$f":"INDEX('Cenovnik 2'!$G$2:$G$411,MATCH('Plan unos i pregled'!$E782,Pozicije,0))","v":{"$error":"#N/A"}}]
[null,null,null,null,null,{"$f":"IF($E783=0, \" \", VLOOKUP($E783, 'Cenovnik 2'!$A$2:$D$411, 2, FALSE))","v":" "},{"$f":"IF($E783=0, \" \", VLOOKUP($E783, 'Cenovnik 2'!$A$2:$D$411, 3, FALSE))","v":" "},{"$f":"IF($E783=0, \" \", VLOOKUP($E783, 'Cenovnik 2'!$A$2:$D$411, 4, FALSE))","v":" "},null,"-","","","ДА",null,null,null,null,{"$f":"IF($C783=0, \" \", VLOOKUP($C783, DrzavniPuteviRed, 2, FALSE))","v":" "}," "," ",{"$f":"IF(VLOOKUP($E783,[0]!ProveraPDV,2,FALSE)=TRUE,$J783,)","v":{"$error":"#N/A"}},{"$f":"IF(VLOOKUP($E783,liste!$A$31:$B$818,2,FALSE)=TRUE,#REF!,)","v":{"$error":"#N/A"}}," -",{"$f":"INDEX('Cenovnik 2'!$G$2:$G$411,MATCH('Plan unos i pregled'!$E783,Pozicije,0))","v":{"$error":"#N/A"}}]
[null,null,null,null,null,{"$f":"IF($E784=0, \" \", VLOOKUP($E784, 'Cenovnik 2'!$A$2:$D$411, 2, FALSE))","v":" "},{"$f":"IF($E784=0, \" \", VLOOKUP($E784, 'Cenovnik 2'!$A$2:$D$411, 3, FALSE))","v":" "},{"$f":"IF($E784=0, \" \", VLOOKUP($E784, 'Cenovnik 2'!$A$2:$D$411, 4, FALSE))","v":" "},null,"-","","","ДА",null,null,null,null,{"$f":"IF($C784=0, \" \", VLOOKUP($C784, DrzavniPuteviRed, 2, FALSE))","v":" "}," "," ",{"$f":"IF(VLOOKUP($E784,[0]!ProveraPDV,2,FALSE)=TRUE,$J784,)","v":{"$error":"#N/A"}},{"$f":"IF(VLOOKUP($E784,liste!$A$31:$B$818,2,FALSE)=TRUE,#REF!,)","v":{"$error":"#N/A"}}," -",{"$f":"INDEX('Cenovnik 2'!$G$2:$G$411,MATCH('Plan unos i pregled'!$E784,Pozicije,0))","v":{"$error":"#N/A"}}]
[null,null,null,null,null,{"$f":"IF($E785=0, \" \", VLOOKUP($E785, 'Cenovnik 2'!$A$2:$D$411, 2, FALSE))","v":" "},{"$f":"IF($E785=0, \" \", VLOOKUP($E785, 'Cenovnik 2'!$A$2:$D$411, 3, FALSE))","v":" "},{"$f":"IF($E785=0, \" \", VLOOKUP($E785, 'Cenovnik 2'!$A$2:$D$411, 4, FALSE))","v":" "},null,"-","","","ДА",null,null,null,null,{"$f":"IF($C785=0, \" \", VLOOKUP($C785, DrzavniPuteviRed, 2, FALSE))","v":" "}," "," ",{"$f":"IF(VLOOKUP($E785,[0]!ProveraPDV,2,FALSE)=TRUE,$J785,)","v":{"$error":"#N/A"}},{"$f":"IF(VLOOKUP($E785,liste!$A$31:$B$818,2,FALSE)=TRUE,#REF!,)","v":{"$error":"#N/A"}}," -",{"$f":"INDEX('Cenovnik 2'!$G$2:$G$411,MATCH('Plan unos i pregled'!$E785,Pozicije,0))","v":{"$error":"#N/A"}}]
[null,null,null,null,null,{"$f":"IF($E786=0, \" \", VLOOKUP($E786, 'Cenovnik 2'!$A$2:$D$411, 2, FALSE))","v":" "},{"$f":"IF($E786=0, \" \", VLOOKUP($E786, 'Cenovnik 2'!$A$2:$D$411, 3, FALSE))","v":" "},{"$f":"IF($E786=0, \" \", VLOOKUP($E786, 'Cenovnik 2'!$A$2:$D$411, 4, FALSE))","v":" "},null,"-","","","ДА",null,null,null,null,{"$f":"IF($C786=0, \" \", VLOOKUP($C786, DrzavniPuteviRed, 2, FALSE))","v":" "}," "," ",{"$f":"IF(VLOOKUP($E786,[0]!ProveraPDV,2,FALSE)=TRUE,$J786,)","v":{"$error":"#N/A"}},{"$f":"IF(VLOOKUP($E786,liste!$A$31:$B$818,2,FALSE)=TRUE,#REF!,)","v":{"$error":"#N/A"}}," -",{"$f":"INDEX('Cenovnik 2'!$G$2:$G$411,MATCH('Plan unos i pregled'!$E786,Pozicije,0))","v":{"$error":"#N/A"}}]
[null,null,null,null,null,{"$f":"IF($E787=0, \" \", VLOOKUP($E787, 'Cenovnik 2'!$A$2:$D$411, 2, FALSE))","v":" "},{"$f":"IF($E787=0, \" \", VLOOKUP($E787, 'Cenovnik 2'!$A$2:$D$411, 3, FALSE))","v":" "},{"$f":"IF($E787=0, \" \", VLOOKUP($E787, 'Cenovnik 2'!$A$2:$D$411, 4, FALSE))","v":" "},null,{"$f":"IF(ISNUMBER($H787), $H787*$I787, \"-\")","v":"-"},null,{"$f":"TEXT(LEFT($E787,FIND(\".\",$E787&\".\")-1), \"00\")","v":""},null,null,null,null,null,null,{"$f":"IF($E787=0, \" \", VLOOKUP($E787, SifrePozicijaBezTacke, 2, FALSE))","v":" "},{"$f":"LEFT($S787, 3)","v":" "},{"$f":"IF(VLOOKUP($E787,[0]!ProveraPDV,2,FALSE)=TRUE,$J787,)","v":{"$error":"#N/A"}},{"$f":"IF(VLOOKUP($E787,ProveraPDV,2,FALSE)=TRUE,#REF!,)","v":{"$error":"#N/A"}},{"$f":"R787&\"-\"&C787","v":"-"},{"$f":"INDEX('Cenovnik 2'!$G$2:$G$411,MATCH('Plan unos i pregled'!$E787,Pozicije,0))","v":{"$error":"#N/A"}}]
["$","$","$",null,"$","$","$","$","$","$",null,"$","$",null,"$","$",null,"$","$",null,"$",{"$f":"IF(VLOOKUP($E788,ProveraPDV,2,FALSE)=TRUE,#REF!,)","v":{"$error":"#N/A"}},"$",{"$f":"INDEX('Cenovnik 2'!$G$2:$G$411,MATCH('Plan unos i pregled'!$E788,Pozicije,0))","v":{"$error":"#N/A"}}]

{"sheet":"Cenovnik 2","index":2,"n_rows":416,"n_cols":7,"rows_kept":416,"cut":false,"hidden":true,"merged":[[0,5,0,6]]}
["Шифра позиције","Назив Позиције","Jedinica mere","Једин. Цена",null,"Prevoz i nabavka materijala da li je uračunat"]
["1","Послови јавних овлашћења из заштите путева",null,null,null,null,{"$f":"IF(F2>0, \"bez prevoza\", \"nebitno\")","v":"nebitno"}]
["1.1","Послови на утврђивању штетних радњи на трупу пута и узурпацији земљишта у заштитном појасу пута, идентификацији прекршиоца, вођењу управног поступка и евиденције. Цена обухвата: рад грађевинског инжењера и путничког возила и то 70% у вожњи и 30% по цени за чекање.","час",2094.41,null,null,{"$f":"IF(F3>0, \"bez prevoza\", \"nebitno\")","v":"nebitno"}]
["2","Преглед јавних путева",null,null,null,null,"nebitno"]
["2.1","Редовни прегледи јавних путева","km",83.78,null,null,"nebitno"]
["2.2","Сезонски прегледи јавних путева, два пута годишње","km",363.6,null,null,"nebitno"]
["2.3","Викенд служба-дежурство суботом, недељом и празником (искључује се период зимске службе). Екипу сачињавају: техничар и два радника путара са полутеретним камионом-путарцем.",null,null,null,null,"nebitno"]
["2.3.1","Викенд служба - дежурство суботом, недељом и празником -Техничар","час",694.81,null,null,"nebitno"]
["2.3.2","Викенд служба - дежурство суботом, недељом и празником - Радник путар (за једног радника)","час",518.27,null,null,"nebitno"]
["2.3.3","Викенд служба - дежурство суботом, недељом и празником - Камион путарац - ефективан рад","час",1692.88,null,null,"nebitno"]
["2.3.4","Викенд служба - дежурство суботом, недељом и празником - Камион путарац - дежурство","час",540,null,null,"nebitno"]
[3,"Одржавање саобраћајне сигнализације",null,null,null,null,"nebitno"]
["3.1","Постављање саобраћајног знака на једном стубу и бетонском темељу МБ 20. Обрачун  по комаду комплет изведене позиције са ископом земље за темељ",null,null,null,null,"nebitno"]
["3.1.1","Постављање саобраћајног знака на једном стубу и бетонском темељу МБ 20. Обрачун  по комаду комплет изведене позиције са ископом земље за темељ. - Само рад без материјала","ком",881,null,null,"nebitno"]
["3.1.2","Постављање саобраћајног знака на једном стубу и бетонском темељу МБ 20. Обрачун  по комаду комплет изведене позиције са ископом земље за темељ. - Рад са материјалом, без табле саобраћајног знака","ком",3117,null,null,"nebitno"]
["3.2","Демонтажа постојећег и поновна монтажа табле саобраћајног знака на постојећем стубу и темељу. Обрачун по комаду демонтираног и поново монтираног знака само рад без материјала","ком",730,null,null,"nebitno"]
["3.3","Монтажа табле саобраћајног знака са једним стубом. Обрачун по комаду намонтиране табле на постојећем стубу комплет са спојним материјалом.",null,null,null,null,"nebitno"]
["3.3.1","Монтажа табле саобраћајног знака са једним стубом. Обрачун по комаду намонтиране табле на постојећем стубу комплет са спојним материјалом. - Само мотажа, за више од 10 комада","ком",475,null,null,"nebitno"]
["3.3.2","Монтажа табле саобраћајног знака са једним стубом. Обрачун по комаду намонтиране табле на постојећем стубу комплет са спојним материјалом. - Само монтажа, за 10 комада или мање","ком",582,null,null,"nebitno"]
["3.4","Монтажа саобраћајне табле са два стуба. Обрачун по комаду монтиране табле без материјала","ком",621,null,null,"nebitno"]
["3.5","Постављање комплет саобраћајног знака са два носећа стуба и темељима од бетона МБ 20. Обрачун по комаду монтираног знака без цене табле која се наплаћује по фактури добављача",null,null,null,null,"nebitno"]
["3.5.1","Постављање комплет саобраћајног знака са два носећа стуба и темељима од бетона МБ 20. Обрачун по комаду монтираног знака без цене табле која се наплаћује по фактури добављача. - Комплет са материјалом (без табле)","ком",4636,null,null,"nebitno"]
["3.5.2","Постављање комплет саобраћајног знака са два носећа стуба и темељима од бетона МБ 20. Обрачун по комаду монтираног знака без цене табле која се наплаћује по фактури добављача. - Само монтажа на постојећим стубовима (без табле)","ком",730,null,null,"nebitno"]
[4,"Одржавање зелених површина и спортских терена",null,null,null,null,"nebitno"]
["4.1","Грабуљање паркова од лишћа и отпадака са одвозом.","m2",5.2,null,null,"nebitno"]
["4.2","Ручно сакупљање отпадака са парковских површина.","m2",4,null,null,"nebitno"]
["4.3","Кошење парковског травњака косачицом са ручном поправком.","m2",10,null,null,"nebitno"]
["4.4","Грабуљање травњака од отпадака са одвозом.","m2",8,null,null,"nebitno"]
["4.5","Заливање","m2",31,null,null,"nebitno"]
["4.6","Кошење парковског травњака тримером","m2",6.5,null,null,"nebitno"]
["4.7","Кошење траве са банкина самоходном моторном косачицом","m2",3.99,null,null,"nebitno"]
["4.8","Утовар траве у камион и превоз на депонију на 5 km","m2",3.61,null,null,"nebitno"]
["4.9","Разастирање ђубрива","m2",15.6,null,null,"nebitno"]
["4.10","Набавка ђубрива","по рачуну",1,null,null,"nebitno"]
["4.11","Обележавање фудбалског терена (по фактури добављача), ценом није обухваћен превоз и рад радника","m",26.8,null,null,"nebitno"]
["4.12","Поливање травњака (ценом није обухваћен рад радника)","m2",3.1,null,null,"nebitno"]
["4.13","Сејање траве  (ценом није обухваћен рад радника и семе траве по фактури добављача)","m2",15.6,null,null,"nebitno"]
["4.14","Отклањање дотрајалог стабла у дрвореду са вађењем пања после сечења","ком",4145,null,null,"nebitno"]
["4.15","Орезивање дрвореда са прикупљањем грана и корективно орезивање. Обрачун по комаду стабла","ком",800,null,null,"nebitno"]
["4.16","Окопавање земље око стабла и плевљење корова","ком",311,null,null,"nebitno"]
["4.17","Садња новог стабла са ископом јаме у постојећу фризу","ком",1295,null,null,"nebitno"]
["4.17.1","Садња новог стабла са ископом јаме у постојећу фризу - Набавка саднице ","по рачуну",1,null,null,"nebitno"]
["4.17.2","Садња новог стабла са ископом јаме у постојећу фризу - Заливанње","ком",31,null,null,"nebitno"]
["4.18","Ручно сечење дрвећа.\nЦена обухвата: сечење стабла изнад корена, кресање грана, резање стабла и дебљих грана на погодну дужину и остављање на страну.",null,null,null,null,"nebitno"]
["4.18.1","Ручно сечење дрвећа.\nЦена обухвата: сечење стабла изнад корена, кресање грана, резање стабла и дебљих грана на погодну дужину и остављање на страну. \n- Пречник стабла од 10-20 cm","ком",518.54,null,null,"nebitno"]
["4.18.2","Ручно сечење дрвећа.\nЦена обухвата: сечење стабла изнад корена, кресање грана, резање стабла и дебљих грана на погодну дужину и остављање на страну. \n- Пречник стабла од 20-30 cm","ком",1337.28,null,null,"nebitno"]
["4.18.3","Ручно сечење дрвећа.\nЦена обухвата: сечење стабла изнад корена, кресање грана, резање стабла и дебљих грана на погодну дужину и остављање на страну. \n- Пречник стабла од 30-50 cm","ком",3493.31,null,null,"nebitno"]
["4.19","Кресање грана са одлагањем на страну моторном тестером. Пречник грана",null,null,null,null,"nebitno"]
["4.19.1","Кресање грана са одлагањем на страну моторном тестером. Пречник грана од 0 - 10 cm","ком",256.38,null,null,"nebitno"]
["4.19.2","Кресање грана са одлагањем на страну моторном тестером. Пречник грана од 0 - 20 cm","ком",640.96,null,null,"nebitno"]
["4.20","Кресање грана дрвореда које сметају саобраћају и другим објектима са слагањем на страну",null,null,null,null,"nebitno"]
["4.20.1","Кресање грана дрвореда које сметају саобраћају и другим објектима са слагањем на страну - Пречника до 10 cm","ком",62.22,null,null,"nebitno"]
["4.20.2","Кресање грана дрвореда које сметају саобраћају и другим објектима са слагањем на страну - Пречника 10-20 cm","ком",87.23,null,null,"nebitno"]
["4.20.3","Кресање грана дрвореда које сметају саобраћају и другим објектима са слагањем на страну - Пречника 20-30 cm","ком",141.91,null,null,"nebitno"]
["4.20.4","Кресање грана дрвореда које сметају саобраћају и другим објектима са слагањем на страну - Пречника преко 30 cm","ком",283.83,null,null,"nebitno"]
["4.21","Машинско сечење дрвећа са вађењем пањева ровокопачем. Цена обухвата рад радника са моторном тестером на сечењу стабала са кресањеем грана и вађење пањева ровокопачем са остављањем на страну",null,null,null,null,"nebitno"]
["4.21.1","Машинско сечење дрвећа са вађењем пањева ровокопачем. Цена обухвата рад радника са моторном тестером на сечењу стабала са кресањеем грана и вађење пањева ровокопачем са остављањем на страну \n- Пречник стабла од 10 -20 cm","ком",590,null,null,"nebitno"]
["4.21.2","Машинско сечење дрвећа са вађењем пањева ровокопачем. Цена обухвата рад радника са моторном тестером на сечењу стабала са кресањеем грана и вађење пањева ровокопачем са остављањем на страну \n- Пречник стабла од 20 -30 cm","ком",1500,null,null,"nebitno"]
["4.21.3","Машинско сечење дрвећа са вађењем пањева ровокопачем. Цена обухвата рад радника са моторном тестером на сечењу стабала са кресањеем грана и вађење пањева ровокопачем са остављањем на страну \n- Пречник стабла од 30 -50 cm","ком",3500,null,null,"nebitno"]
["4.22","Сечење густог шибља преко 50 ком на m²","m2",60,null,null,"nebitno"]
["4.23","Утовар и одвоз шибља на 1 km","m2",32,null,null,"nebitno"]
["4.24","Ручно чишћење дивљих депонија (без одвоза)","m3",1800,null,null,"nebitno"]
["4.25","Ручно чишћење наноса из цевастих пропуста. Цена  обухвата превоз радника, одстрањивање свих наноса и отпадака из пропуста са утоваром у колица, превоз уз косину на 10 m, ручни утовар у камион и превоз на депонију",null,0,null,null,"nebitno"]
["4.25.1","Ручно чишћење наноса из цевастих пропуста. Цена  обухвата превоз радника, одстрањивање свих наноса и отпадака из пропуста са утоваром у колица, превоз уз косину на 10 m, ручни утовар у камион и превоз на депонију - одлагањем на страну","m3",1870,null,null,"nebitno"]
["4.25.2","Ручно чишћење наноса из цевастих пропуста. Цена  обухвата превоз радника, одстрањивање свих наноса и отпадака из пропуста са утоваром у колица, превоз уз косину на 10 m, ручни утовар у камион и превоз на депонију - са превозом на 2 km","m3",2130,null,null,"nebitno"]
["4.26","Кошење траве на слободним површинама косачицом прикљученом на трактор","m2",4.3499999999999996,null,null,"nebitno"]
["5","Одржавање трупа пута",null,null,null,null,{"$f":"IF(F67>0, \"bez prevoza\", \"nebitno\")","v":"nebitno"}]
["5.1","Ручно кресање денивелисане банкине     \nЦена обухвата: кресање банкине у слоју од 10 cm са планирањем и разастирањем материјала низ косину насипа.","m2",109.16,null,null,"nebitno"]
["5.2","Ручно кресање денивелисане банкине испод одбојне ограде. Цена обухвата: кресање банкине у слоју од 10 cm са планирањем и разастирањем материјала низ косину насипа.","m2",152.83000000000001,null,null,"nebitno"]
["5.3","Машинско кресање денивелисане банкине. Цена обухвата: кресање банкине у слоју до 10 cm машински 90% и ручним дотеривањем 10% са разастирањем материјала низ косину насипа.","m2",26.57,null,null,"nebitno"]
["5.4","Ручно разастирање шљунка или каменог агрегата на банкинама у слоју d = 10 cm са ваљањем. Цена обухвата: набавку шљунка природне мешавине или дробљеног каменог агрегата, са превозом на 30 km, ручно разастирање материјала и ваљање виброваљком.",null,null,null,null,"nebitno"]
["5.4.1","Ручно разастирање шљунка или каменог агрегата на банкинама у слоју d = 10 cm са ваљањем. Цена обухвата: набавку шљунка природне мешавине или дробљеног каменог агрегата, са превозом на 30 km, ручно разастирање материјала и ваљање виброваљком. - Шљунак природне мешавине   ","m2",249.99,null,null,"nebitno"]
["5.4.2","Ручно разастирање шљунка или каменог агрегата на банкинама у слојуd = 10 cm са ваљањем.                               \nЦена обухвата: набавку шљунка природне мешавине или дробљеног каменог агрегата, са превозом на 30 km, ручно разастирање материјала и ваљање виброваљком. -  Дробљени камени агрегат","m2",280.24,null,null,"nebitno"]
["5.5","Машинско разастирање шљунка или каменог агрегата на банкинама у слоју d = 10 cm са ваљањем.                    \nЦена обухвата: набавку шљунка природне мешавине или дробљеног каменог агрегата, са превозом на 30 km, разастирање шљунка машински 90% уз ручну поправку 10% и ваљање виброваљком.",null,null,null,null,"nebitno"]
["5.5.1","Машинско разастирање шљунка или каменог агрегата на банкинама у слоју d = 10 cm са ваљањем.                    \nЦена обухвата: набавку шљунка природне мешавине или дробљеног каменог агрегата, са превозом на 30 km, разастирање шљунка машински 90% уз ручну поправку 10% и ваљање виброваљком. - Шљунак природне мешавине","m2",166.78,null,null,"nebitno"]
["5.5.2","Машинско разастирање шљунка или каменог агрегата на банкинама у слоју d = 10 cm са ваљањем.                    \nЦена обухвата: набавку шљунка природне мешавине или дробљеног каменог агрегата, са превозом на 30 km, разастирање шљунка машински 90% уз ручну поправку 10% и ваљање виброваљком. - Дробљени камен агрегат","m2",197.03,null,null,"nebitno"]
["5.6","Ручно чишћење наноса и осулина са коловоза са ручним утоваром и одвозом матријала на депонију.",null,0,null,null,"nebitno"]
["5.6.1","Ручно чишћење наноса и осулина са коловоза са ручним утоваром и одвозом матријала на депонију. - Са превозом на 1 km","m3",1714.75,null,null,"nebitno"]
["5.6.2","Ручно чишћење наноса и осулина са коловоза са ручним утоваром и одвозом матријала на депонију. - Са превозом на 2 km","m3",1748.86,null,null,"nebitno"]
["5.6.3","Ручно чишћење наноса и осулина са коловоза са ручним утоваром и одвозом матријала на депонију. - Са превозом на 3 km","m3",1779.39,null,null,"nebitno"]
["5.6.4","Ручно чишћење наноса и осулина са коловоза са ручним утоваром и одвозом матријала на депонију. - Са превозом на 5 km","m3",1831.85,null,null,"nebitno"]
["5.6.5","Ручно чишћење наноса и осулина са коловоза са ручним утоваром и одвозом матријала на депонију. - Са превозом на 10 km","m3",1928.31,null,null,"nebitno"]
["5.7","Машинско чишћење наноса и осулина са коловоза                                \nЦена обухвата: машинско прикупљање наноса и осулина са одбацивањем на страну или утоваром и превозом материјала на депонију.",null,0,null,null,"nebitno"]
["5.7.1","Машинско чишћење наноса и осулина са коловоза                                \nЦена обухвата: машинско прикупљање наноса и осулина са одбацивањем на страну или утоваром и превозом материјала на депонију. \n- Са одбацивањем материјала на страну","m3",235.91,null,null,"nebitno"]
["5.7.2","Машинско чишћење наноса и осулина са коловоза                                \nЦена обухвата: машинско прикупљање наноса и осулина са одбацивањем на страну или утоваром и превозом материјала на депонију. \n- Са превозом материјала на 1 km","m3",375.22,null,null,"nebitno"]
["5.7.3","Машинско чишћење наноса и осулина са коловоза                                \nЦена обухвата: машинско прикупљање наноса и осулина са одбацивањем на страну или утоваром и превозом материјала на депонију. \n- Са превозом материјала на 2 km","m3",409.34,null,null,"nebitno"]
["5.7.4","Машинско чишћење наноса и осулина са коловоза                                \nЦена обухвата: машинско прикупљање наноса и осулина са одбацивањем на страну или утоваром и превозом материјала на депонију. \n- Са превозом материјала на 3 km","m3",439.88,null,null,"nebitno"]
["5.7.5","Машинско чишћење наноса и осулина са коловоза                                \nЦена обухвата: машинско прикупљање наноса и осулина са одбацивањем на страну или утоваром и превозом материјала на депонију. - Са превозом материјала на 10 km","m3",588.79,null,null,"nebitno"]
["5.8","Машинско планирање косина усека и насипа Цена обухвата: фино планирање косина Машински 90% са ручним дотеривањем 10%","m2",40.32,null,null,"nebitno"]
["6","Одржавање система за одводњавање површине коловоза и трупа пута",null,null,null,null,"nebitno"]
["6.1","Ручно чишћење путних јаркова у слоју до d = 10 cm са планирањем дна јарка. Цена обухвата: чишћење јарка, планирање дна јарка и одстрањивање сувишног материјала одбацивањем на страну или утоваром у колица и одвозом до 20 м ",null,0,null,null,"nebitno"]
["6.1.1","Ручно чишћење путних јаркова у слоју до d = 10 cm са планирањем дна јарка. Цена обухвата: чишћење јарка, планирање дна јарка и одстрањивање сувишног материјала одбацивањем на страну или утоваром у колица и одвозом до 20 м  \n- Са одбацивањем на страну","m",109.16,null,null,"nebitno"]
["6.1.2","Ручно чишћење путних јаркова у слоју до d = 10 cm са планирањем дна јарка. Цена обухвата: чишћење јарка, планирање дна јарка и одстрањивање сувишног материјала одбацивањем на страну или утоваром у колица и одвозом до 20 м  \n- Са одвозом материјала до 20 м","m",160.47999999999999,null,null,"nebitno"]
["6.2","Ручно чишћење ригола и берми од наноса у слоју до d = 10 cm. Цена обухвата: чишћење риголе или берме са уклањањем материјала одбацивањем на страну или утоваром у колица и одвозом до 20 м.",null,0,null,null,"nebitno"]
["6.2.1","Ручно чишћење ригола и берми од наноса у слоју до d = 10 cm. Цена обухвата: чишћење риголе или берме са уклањањем материјала одбацивањем на страну или утоваром у колица и одвозом до 20 м. \n- Са одбацивањем на страну","m",87.32,null,null,"nebitno"]
["6.2.2","Ручно чишћење ригола и берми од наноса у слоју до d = 10 cm. Цена обухвата: чишћење риголе или берме са уклањањем материјала одбацивањем на страну или утоваром у колица и одвозом до 20 м. \n- Са одвозом материјала до 20 м","m",138.63999999999999,null,null,"nebitno"]
["6.3","Машинско чишћење берми од наноса у слоју до 10 cm са пребацивањем материјала на страну или утоваром и превозом на депонију.",null,0,null,null,"nebitno"]
["6.3.1","Машинско чишћење берми од наноса у слоју до 10 cm са пребацивањем материјала на страну или утоваром и превозом на депонију. \n- Са одбацивањем материјала на страну.","m",24.68,null,null,"nebitno"]
["6.3.2","Машинско чишћење берми од наноса у слоју до 10 cm са пребацивањем материјала на страну или утоваром и превозом на депонију.\n- Са превозом на 1 km","m",52.43,null,null,"nebitno"]
["6.3.3","Машинско чишћење берми од наноса у слоју до 10 cm са пребацивањем материјала на страну или утоваром и превозом на депонију.\n- Са превозом на 2 km","m",55.84,null,null,"nebitno"]
["6.3.4","Машинско чишћење берми од наноса у слоју до 10 cm са пребацивањем материјала на страну или утоваром и превозом на депонију.\n- Са превозом на 3 km","m",58.91,null,null,"nebitno"]
["6.3.5","Машинско чишћење берми од наноса у слоју до 10 cm са пребацивањем материјала на страну или утоваром и превозом на депонију.\n- Са превозом на 5 km","m",64.150000000000006,null,null,"nebitno"]
["6.4","Ручни ископ одводних јаркова и корекција. Цена обухвата: ископ земље према типу јарка, пребацивање на банкину или утовар у колица и одвоз на депонију.",null,0,null,null,"nebitno"]
["6.4.1","Ручни ископ одводних јаркова и корекција. Цена обухвата: ископ земље према типу јарка, пребацивање на банкину или утовар у колица и одвоз на депонију.\n- Са пребацивањем земље до 3 м","m",1981.36,null,null,"nebitno"]
["6.4.2","Ручни ископ одводних јаркова и корекција. Цена обухвата: ископ земље према типу јарка, пребацивање на банкину или утовар у колица и одвоз на депонију.\n- Са одвозом земље на 10 м","m",2308.87,null,null,"nebitno"]
["6.4.3","Ручни ископ одводних јаркова и корекција. Цена обухвата: ископ земље према типу јарка, пребацивање на банкину или утовар у колица и одвоз на депонију.\n- Са одвозом земље на 20 м","m",2461.6999999999998,null,null,"nebitno"]
["6.5","Машински ископ одводних јаркова и корекција. Цена обухвата: чишћење јарка, планирање, утовар у камион и превоз на депонију. ",null,0,null,null,"nebitno"]
["6.5.1","Машински ископ одводних јаркова и корекција. Цена обухвата: чишћење јарка, планирање, утовар у камион и превоз на депонију. \n- Са одлагањем на страну","m",100,null,null,"nebitno"]
["6.5.2.","Машински ископ одводних јаркова и корекција. Цена обухвата: чишћење јарка, планирање, утовар у камион и превоз на депонију. \n- Са превозом на 3 km","m3",420,null,null,"nebitno"]
["6.6","Машински ископ одводних јаркова и корекција. Цена обухвата: ископ земље ровокопачем 80% са ручним дотеривањем  20%, пребацивање земље на банкину или утовар у возило и превоз на депонију.  ",null,0,null,null,"nebitno"]
["6.6.1","Машински ископ одводних јаркова и корекција. Цена обухвата: ископ земље ровокопачем 80% са ручним дотеривањем  20%, пребацивање земље на банкину или утовар у возило и превоз на депонију.\n- Са одлагањем на страну","m3",549.6,null,null,"nebitno"]
["6.6.2","Машински ископ одводних јаркова и корекција. Цена обухвата: ископ земље ровокопачем 80% са ручним дотеривањем  20%, пребацивање земље на банкину или утовар у возило и превоз на депонију.\n- Са превозом земље до 1 km","m3",721,null,null,"nebitno"]
["6.6.3","Машински ископ одводних јаркова и корекција. Цена обухвата: ископ земље ровокопачем 80% са ручним дотеривањем  20%, пребацивање земље на банкину или утовар у возило и превоз на депонију.\n- Са превозом земље до 2 km","m3",768,null,null,"nebitno"]
["6.6.4","Машински ископ одводних јаркова и корекција. Цена обухвата: ископ земље ровокопачем 80% са ручним дотеривањем  20%, пребацивање земље на банкину или утовар у возило и превоз на депонију\n- Са превозом земље до 3 km","m3",810,null,null,"nebitno"]
["6.6.5","Машински ископ одводних јаркова и корекција. Цена обухвата: ископ земље ровокопачем 80% са ручним дотеривањем  20%, пребацивање земље на банкину или утовар у возило и превоз на депонију\n- Са превозом земље до 5 km","m3",882,null,null,"nebitno"]
["6.7","Облагање одводних јаркова бетоном МБ-20 на слоју шљунка d = 15 cm. Цена обухвата: набавку и превоз шљунка на 30 km, справљање бетона МБ-20, превоз бетона аутомешалицом на 30 km, уграђивање шљунка у подлогу и бетона первибратором у оплату. ","m2",2153.9899999999998,null,null,"nebitno"]
["6.8","Облагање одводних јаркова монтажним бетонским каналетама на слоју песка d = 10 cm са фуговањем цементним малтером 1:2. Цена обухвата: набавку песка и цементног малтера 1:2 са превозом на 30 km и полагање каналета на подлогу од песка са фуговањем. Набавка и превоз каналета нису обухваћени ценом. ","m",738.49,null,null,"nebitno"]
["6.9","Ручно и машинско чишћење постојећих цевастих пропуста","ком",2000,null,null,"nebitno"]
["6.10","Рушење старог пропуста са одвозом шута на депонију","ком",9460,null,null,"nebitno"]
["6.11","Израда обостраног проширења засведеног пропуста по 2 м у дужини око 3,5 м МБ 30 РА 400/500","m2",5000,null,null,"nebitno"]
["6.12","Фино планирање рова и косине ","m2",148,null,null,"nebitno"]
["6.13","Израда улазне шахте и излазне главе МБ 25 армирана Q188. Утрошак бетона:","m3",16350,null,null,"nebitno"]
["6.13.1","Израда улазне шахте и излазне главе МБ 25 армирана Q188. Утрошак бетона:Ø 300 mm - 0.70 m³","m",0,null,null,"nebitno"]
["6.13.2","Израда улазне шахте и излазне главе МБ 25 армирана Q188. Утрошак бетона:Ø 400 mm - 0.80 m³","m",0,null,null,"nebitno"]
["6.13.3","Израда улазне шахте и излазне главе МБ 25 армирана Q188. Утрошак бетона:Ø 500 mm - 0.90 m³","m",0,null,null,"nebitno"]
["6.13.4","Израда улазне шахте и излазне главе МБ 25 армирана Q188. Утрошак бетона:Ø 600 mm - 1.0 m³","m",0,null,null,"nebitno"]
["6.13.5","Израда улазне шахте и излазне главе МБ 25 армирана Q188. Утрошак бетона:Ø 1000 mm - 1.40 m³","m",0,null,null,"nebitno"]
["6.14","Набавка бетона МБ 20","m3",12500,null,null,"nebitno"]
["6.15","Уградње цеви на подлози од бетона d = 10 cm МБ 20 ",null,0,null,null,"nebitno"]
["6.15.1","Уградње цеви на подлози од бетона d = 10 cm МБ 20 Ø 300 mm","m",1188.32,null,null,"nebitno"]
["6.15.2","Уградње цеви на подлози од бетона d = 10 cm МБ 20 Ø 400 mm","m",1188.32,null,null,{"$f":"IF(F131>0, \"bez prevoza\", \"nebitno\")","v":"nebitno"}]
["6.15.3","Уградње цеви на подлози од бетона d = 10 cm МБ 20 Ø 500 mm","m",1446.68,null,null,"nebitno"]
["6.15.4","Уградње цеви на подлози од бетона d = 10 cm МБ 20 Ø 600 mm","m",1765.4,null,null,"nebitno"]
["6.15.5","Уградње цеви на подлози од бетона d = 10 cm МБ 20 Ø 800 mm","m",2586,null,null,"nebitno"]
["6.15.6","Уградње цеви на подлози од бетона d = 10 cm МБ 20 Ø 1000 mm","m",2800,null,null,"nebitno"]
["6.16","Транспорт цеви на 30 km",null,0,null,null,"nebitno"]
["6.16.1","Транспорт цеви на 30 km Ø 300 mm","m",342,null,null,"nebitno"]
["6.16.2","Транспорт цеви на 30 km Ø 400 mm","m",342,null,null,"nebitno"]
["6.16.3","Транспорт цеви на 30 km Ø 500 mm","m",432,null,null,"nebitno"]
["6.16.4","Транспорт цеви на 30 km Ø 600 mm","m",522,null,null,"nebitno"]
["6.16.5","Транспорт цеви на 30 km Ø 800 mm","m",648,null,null,"nebitno"]
["6.16.6","Транспорт цеви на 30 km Ø 1000 mm","m",918,null,null,"nebitno"]
["6.17","Набавка цеви ",null,0,null,null,"nebitno"]
["6.17.1","Неармиране цеви ",null,0,null,null,"nebitno"]
["6.17.1.1","Набавка цеви - Неармиране цеви Ø 300 mm","по рачуну",3600,null,null,"nebitno"]
["6.17.1.2","Набавка цеви - Неармиране цеви Ø 400 mm","по рачуну",4080,null,null,"nebitno"]
["6.17.1.3","Набавка цеви - Неармиране цеви Ø 500 mm","по рачуну",0,null,null,"nebitno"]
["6.17.1.4","Набавка цеви - Неармиране цеви Ø 600 mm","по рачуну",8400,null,null,"nebitno"]
["6.17.1.5","Набавка цеви - Неармиране цеви Ø 800 mm","по рачуну",9600,null,null,"nebitno"]
["6.17.1.6","Набавка цеви - Неармиране цеви Ø 1000 mm","по рачуну",14400,null,null,"nebitno"]
["6.17.1.7","Набавка цеви - Неармиране цеви Бетонски гајгер сливник Ø 400 mm","ком",8400,null,null,"nebitno"]
["6.17.2","Набавка цеви - Армиране цеви ",null,0,null,null,"nebitno"]
["6.17.2.1","Набавка цеви - Армиране цеви Ø 300 mm","по рачуну",0,null,null,"nebitno"]
["6.17.2.2","Набавка цеви - Армиране цеви Ø 400 mm","по рачуну",0,null,null,"nebitno"]
["6.17.2.3","Набавка цеви - Армиране цеви Ø 500 mm","по рачуну",0,null,null,"nebitno"]
["6.17.2.4","Набавка цеви - Армиране цеви Ø 600 mm","по рачуну",0,null,null,"nebitno"]
["6.17.2.5","Набавка цеви - Армиране цеви Ø 800 mm","по рачуну",0,null,null,"nebitno"]
["6.17.2.6","Набавка цеви - Армиране цеви Ø 1000 mm","по рачуну",0,null,null,"nebitno"]
["7","Ископ земље",null,null,null,null,"nebitno"]
["7.1","Машински ископ земље III и IV категорије са утоваром у камион или одбацивањем са стране","m3",380,null,null,"nebitno"]
["7.2","Машински ископ земље V категорије са утоваром у камион или одбацивањем са стране","m3",400,null,null,"nebitno"]
["7.3","Машински ископ природно влажне земље ровокопачем са утоваром у камион","m3",297,null,null,"nebitno"]
["7.4","Ручни ископ земље III категорије за темеље потпорних зидова са одбацивањем","m3",1500,null,null,"nebitno"]
["7.5","Машински утовар материјала (земље, шљунка, гребаног асфалта, туцаника и слицно)","m3",100,null,null,"nebitno"]
["7.6","Ручни утовар у камион:",null,0,null,null,"nebitno"]
["7.6.1","Ручни утовар у камион: Шљунка, песка, ризле и туцаника","m3",191,null,null,"nebitno"]
["7.6.2","Ручни утовар у камион: Земље","m3",193,null,null,"nebitno"]
["7.6.3","Ручни утовар у камион: Асфалта","t",191,null,null,"nebitno"]
["7.6.4","Ручни утовар у камион: Шута","m3",253,null,null,"nebitno"]
["7.6.5","Ручни утовар у камион: Ивичњака","t",208,null,null,"nebitno"]
["8","Редовно одржавање асфалтних коловоза",null,null,null,null,"nebitno"]
["8.1","Израда постељице.\nЦена обухвата: планирање постељице машински уз ручну поправку и ваљање вибоваљком.","m2",73.42,null,null,"nebitno"]
["8.2","Поправка неасвалтираног каменог застора брдском дробином из сипара или шљунком са спрудишта.\nЦена обухвата: машинско прикупљање материјала, риљање старог застора, разастирање, планирање дробљеног каменог агрегата и сабијање ваљком уз потребно квашење. Превоз материјала и менаизације се обрачунава посебно.","m3",2547.6999999999998,null,null,"nebitno"]
["8.3","Ручно крпљење ударних рупа брдском дробином из сипара или шљунком са спрудишта.\nЦена обухвата: машинско прикупљање материјала и утовар у камион, исецања ивице рупе, раскопавање застора, чишћење и попуњавање рупе, раскопавање застора, чишћење и попуњавање рупе као и ваљање виброваљком. Превоз материјала и механизације се обрачунава посебно.",null,0,null,null,"nebitno"]
["8.3.1","Ручно крпљење ударних рупа брдском дробином из сипара или шљунком са спрудишта.\nЦена обухвата: машинско прикупљање материјала и утовар у камион, исецања ивице рупе, раскопавање застора, чишћење и попуњавање рупе, раскопавање застора, чишћење и попуњавање рупе као и ваљање виброваљком. Превоз материјала и механизације се обрачунава посебно.\n- са ваљањем","m3",2747.19,null,null,"nebitno"]
["8.3.2","Ручно крпљење ударних рупа брдском дробином из сипара или шљунком са спрудишта.\nЦена обухвата: машинско прикупљање материјала и утовар у камион, исецања ивице рупе, раскопавање застора, чишћење и попуњавање рупе, раскопавање застора, чишћење и попуњавање рупе као и ваљање виброваљком. Превоз материјала и механизације се обрачунава посебно.\n- без ваљања","m3",2695,null,null,"nebitno"]
["8.4","Опсецање ивица ударних рупа и улегнућа коловозу са пребацивањем раскопаног материјала на банкину и чишћење рупе.",null,0,null,null,"nebitno"]
["8.4.1","Опсецање ивица ударних рупа и улегнућа коловозу са пребацивањем раскопаног материјала на банкину и чишћење рупе. Ручно","m",83.62,null,null,"nebitno"]
["8.4.2","Опсецање ивица ударних рупа и улегнућа коловозу са пребацивањем раскопаног материјала на банкину и чишћење рупе. Машински","m",58.51,null,null,"nebitno"]
["8.5","Рушење испуцалог асфалтног коловоза дебљине d = 6-8 cm, са пребацивањем ископаног материјала на банкину и чишћењем рупе. За дебљину већу или мању од 6 cm кориговати на одговарајућу дебљину од средње. ",null,0,null,null,"nebitno"]
["8.5.1","Рушење испуцалог асфалтног коловоза дебљине d = 6-8 cm, са пребацивањем ископаног материјала на банкину и чишћењем рупе. За дебљину већу или мању од 6 cm кориговати на одговарајућу дебљину од средње. \n- Машински","m2",304.82,null,null,"nebitno"]
["8.5.2","Рушење испуцалог асфалтног коловоза дебљине d = 6-8 cm, са пребацивањем ископаног материјала на банкину и чишћењем рупе. За дебљину већу или мању од 6 cm кориговати на одговарајућу дебљину од средње. \n- Ручно","m2",398.75,null,null,"nebitno"]
["8.6","Ручно крпљење ударних рупа природним шљунком. Цена обухвата: раскопавање застора, чишцење и попуњавање рупе и ваљање виброваљком. Превоз материјала и механизације се обрачунава посебно. ",null,0,null,null,"nebitno"]
["8.6.1","Ручно крпљење ударних рупа природним шљунком. Цена обухвата: раскопавање застора, чишцење и попуњавање рупе и ваљање виброваљком. Превоз материјала и механизације се обрачунава посебно. \n- Са ваљањем","t",3281.21,null,null,"nebitno"]
["8.6.2","Ручно крпљење ударних рупа природним шљунком. Цена обухвата: раскопавање застора, чишцење и попуњавање рупе и ваљање виброваљком. Превоз материјала и механизације се обрачунава посебно. \n- Без ваљања","t",3229.03,null,null,"nebitno"]
["8.7","Ручно пресвлачење асфалтом мањих деоница коловоза до 300 м2.\nЦена обухвата: набавку и прскање емулзијом у предходно очишћену површину, превоз механизације до места уграђивања асфалта и ваљање виброваљком. Посебно се обрачунава: припрема подлоге по ценовнику и превоз асфалта и асфалтне масе.","t",4200,null,null,"nebitno"]
["8.8","Ручно крпљење ударних рупа асфалтном масом на коловозу, у предходно очишценом емулзијом препрскану ударну рупу и ивица. Ударну рупу попунити асфалтном масом са надвишењем и ваљати до потребне збијености. Набавку асфалтне масе и транспорт асфалтне масе од произвиђача до места уграђивања посебно урачунати.","t",4600,null,null,"nebitno"]
["8.9","Пресвлачење мањих деоница коловоза финишером (дузине 250 м у целој ширини коловоза или 500 м у 1/2 коловоза) Цена обухвата: производњу асфалтне масе, превоз механизације и радника од асфалтне базе до места уграђивања, уграђивање финишером и ваљање гарнитуром ваљка. Пре пресвлачења обавезно се врши ручно крпљење коловоза и то се посебно наплаћује. Транспорт агрегата од произвођача до асфалтне базе, као и транспорт асфалтне масе од базе до места уграђивања посебно наплаћује.",null,0,null,null,"nebitno"]
["8.9.1","Пресвлачење мањих деоница коловоза финишером (дузине 250 м у целој ширини коловоза или 500 м у 1/2 коловоза) Цена обухвата: производњу асфалтне масе, превоз механизације и радника од асфалтне базе до места уграђивања, уграђивање финишером и ваљање гарнитуром ваљка. Пре пресвлачења обавезно се врши ручно крпљење коловоза и то се посебно наплаћује. Транспорт агрегата од произвођача до асфалтне базе, као и транспорт асфалтне масе од базе до места уграђивања посебно наплаћује.\n- Асфалт бетоном или БНХС","t",12000,null,null,"nebitno"]
["8.10","Ручно опсецање ивица ударних рупа и улегнућа секачем са пребацивањем раскопаног материјала на банкину и издувавањем рупе на компресором.","m",102.21,null,null,"nebitno"]
["8.11","Ручно чишцење савремених коловоза од блата и нечистоће. Цена обухвата рад радника на чишћењу блата, просечне дебљине 2 cm, са утоваром у колица и одвозом на      20 м.","m2",36.25,null,null,"nebitno"]
["8.12","Ручно рушење асфалтног коловоза d = 7 cm на тампону са вађењем материјала, утоваром и превозом на депонију.","m2",95,null,null,"nebitno"]
["8.13","Ваљање туцаничког коловозног застора од камена IV категорије","m2",51,null,null,"nebitno"]
["8.14","Планирање-припрема подлоге пешачке стазе. Цена обухвата: ручно планирање са сабијањем тротоарским ваљком. Превоз материјала и механизације се обраачунава посебно.",null,0,null,null,"nebitno"]
["8.14.1","Планирање-припрема подлоге пешачке стазе. Цена обухвата: ручно планирање са сабијањем тротоарским ваљком. Превоз материјала и механизације се обраачунава посебно.\n- У материјалу III и IV категорије","m2",59.77,null,null,{"$f":"IF(F195>0, \"bez prevoza\", \"nebitno\")","v":"nebitno"}]
["8.14.2","У материјалу V и VI категорије","m2",71.73,null,null,"nebitno"]
["8.15","Ручно рушење ивичњака са бетонском подлогом и утоваром у камион. ",null,0,null,null,"nebitno"]
["8.15.1","Ручно рушење ивичњака са бетонском подлогом и утоваром у камион. \n20/24 cm","m",446,null,null,"nebitno"]
["8.15.2","Ручно рушење ивичњака са бетонском подлогом и утоваром у камион. \n- 18/24 cm","m",357,null,null,"nebitno"]
["8.16","Демонтажа ивичњака са рушењем бетонске подлоге и слагањем ","m",0,null,null,"nebitno"]
["8.16.1","Демонтажа ивичњака са рушењем бетонске подлоге и слагањем 20/24 cm","m",503,null,null,"nebitno"]
["8.16.2","Демонтажа ивичњака са рушењем бетонске подлоге и слагањем 18/24 cm","m",402,null,null,"nebitno"]
["8.17","Постављање ивичњака са израдом бетонске подлоге и заливање фуга цементним малтером ",null,0,null,null,"nebitno"]
["8.17.1","Постављање ивичњака са израдом бетонске подлоге и заливање фуга цементним малтером 20/24 cm","m",900,null,null,"nebitno"]
["8.17.2","Постављање ивичњака са израдом бетонске подлоге и заливање фуга цементним малтером 18/24 cm","m",860,null,null,"nebitno"]
["8.18 ","Постављање баштанског ивичњака 10/20/40 на слоју бетона МБ15 d = 15cm према пројекту са заливањем спојница цементним малтером ","m",860,null,null,"nebitno"]
["8.19","Ручно рушење неармираних бетонских плоча",null,0,null,null,"nebitno"]
["8.19.1","Ручно рушење неармираних бетонских плоча 10 cm дебљине","m",446,null,null,"nebitno"]
["8.19.2","Ручно рушење неармираних бетонских плоча 20 cm дебљине","m",357,null,null,"nebitno"]
["8.20","Набавка асфалтне масе ","t",9000,null,null,"nebitno"]
["8.21","Набавка битуменске емулзије (по фактури добављача)","l",103,null,null,"nebitno"]
["8.22","Разастирање и ваљање гребаног асфалта","m3",350,null,null,"nebitno"]
["8.23","Израда решетке за атмосферску воду ширине 30 cm","m",6000,null,null,"nebitno"]
["8.24","Бетонирање потпорних зидова у оплати","m3",11096.92,null,null,"nebitno"]
["8.25","Армирање потпорних зидова, само рад","kg",18,null,null,"nebitno"]
["8.26","Израда и монтажа металне ограде на мостовима са свим нормираним радњама","m2",4200,null,null,"nebitno"]
["8.27","Фарбање металне ограде на мосту са материјалом","m2",960,null,null,"nebitno"]
["8.28","Ручно уграђивање бетона малих пресека на m2 или m конструкције са квашењем бетона и превозом бетона аутомешалицом на 30km",null,0,null,null,"nebitno"]
["8.28.1","Ручно уграђивање бетона малих пресека на m2 или m конструкције са квашењем бетона и превозом бетона аутомешалицом на 30km\nНеармине конструкције","m3",5524.17,null,null,"nebitno"]
["8.28.2","Ручно уграђивање бетона малих пресека на m2 или m конструкције са квашењем бетона и превозом бетона аутомешалицом на 30km\nАрмиране конструкције","m3",5702.82,null,null,"nebitno"]
["8.29","Набавка дробљеног кречњачког каменог агрегата фракције 0-31,5 mm ","t",645,null,null,"nebitno"]
["8.30","Набавка дробљеног кречњачког каменог агрегата фракције 2 - 4 mm ","t",827,null,null,"nebitno"]
["8.31","Набавка природног шљунка","m3",1660,null,null,"nebitno"]
["8.32","Набавка сепарисаног песка 0-4мм","m3",2080,null,null,"nebitno"]
["8.33","Набавка сепарисане мешавине","m3",2000,null,null,"nebitno"]
["8.34","Набавка иберлауфа","m3",1500,null,null,"nebitno"]
["8.35","Набавка тињавице-земље","m3",1400,null,null,"nebitno"]
["9","Превоз асфалта, тампона, туцаника и осталог грађевинског материјала",null,null,null,null,"nebitno"]
["9.1","Камион носивости од 8 - 25 тона ",null,0,null,null,"nebitno"]
["9.1.1","Камион носивости од 8 - 25 тона до 3 km","t",288.36,null,null,"nebitno"]
["9.1.2","Камион носивости од 8 - 25 тона 3-10 km","t",360.26,null,null,"nebitno"]
["9.1.3","Камион носивости од 8 - 25 тона 10-15 km","t",416.4,null,null,"nebitno"]
["9.1.4","Камион носивости од 8 - 25 тона 15-20 km","t",461.52,null,null,"nebitno"]
["9.1.5","Камион носивости од 8 - 25 тона 20-25 km","t",474,null,null,"nebitno"]
["9.1.6","Камион носивости од 8 - 25 тона 25-30 km","t",498.65,null,null,"nebitno"]
["9.1.7","Камион носивости од 8 - 25 тона 30-40 km","t",719.21,null,null,"nebitno"]
["9.1.8","Камион носивости од 8 - 25 тона 40-45 km","t",792.74,null,null,"nebitno"]
["9.1.9","Камион носивости од 8 - 25 тона 45-50 km","t",866.28,null,null,"nebitno"]
["9.1.10","Камион носивости од 8 - 25 тона 50-55 km","t",939.8,null,null,"nebitno"]
["9.1.11","Камион носивости од 8 - 25 тона 55-60 km","t",1086.8499999999999,null,null,"nebitno"]
["9.1.12","Камион носивости од 8 - 25 тона 60-70 km","t",1233.9100000000001,null,null,"nebitno"]
["9.1.13","Камион носивости од 8 - 25 тона 70-80 km","t",1380.97,null,null,"nebitno"]
["9.1.14","Камион носивости од 8 - 25 тона 80-100 km","t",1528.01,null,null,"nebitno"]
["9.2","Превоз нисконосећом приколицом. У цену урачунат: ",null,0,null,null,"nebitno"]
["9.2.1","Превоз нисконосећом приколицом. У цену урачунат: Рад нисконосеће приколице на превозу","km",731.5,null,null,"nebitno"]
["9.2.2","Превоз нисконосећом приколицом. У цену урачунат: Рад вучног камиона по радном часу, ФАП 1314","час",3300,null,null,"nebitno"]
["9.2.3","Превоз нисконосећом приколицом. У цену урачунат: Рад вучног камиона по радном часу, ФАП 2023","час",3500,null,null,"nebitno"]
["9.2.4","Превоз нисконосећом приколицом. У цену урачунат: Чекање нисконосеће приколице у моменту утовара, истовара","час",256.12,null,null,"nebitno"]
["9.2.5","Превоз нисконосећом приколицом. У цену урачунат: Чекање вучног камиона у моменту утовара, истовара","час",753.99,null,null,"nebitno"]
[10,"Цене рада радника",null,null,null,null,"nebitno"]
["10.1","Физички радник","час",491.12,null,null,"nebitno"]
["10.2","Радник на одржавању водовода и канализације","час",590,null,null,"nebitno"]
["10.3","Грађевински радник - Бравар","час",590,null,null,"nebitno"]
["10.4","Електричар","час",687.56,null,null,"nebitno"]
["10.5","Магационер","час",687.56,null,null,"nebitno"]
["10.6","Механичар","час",687.56,null,null,"nebitno"]
["10.7","Руководилац грађевинских машина","час",687.56,null,null,"nebitno"]
["10.8","Возач","час",687.56,null,null,"nebitno"]
["10.9","Пословођа радних јединица и шеф возног парка","час",785.79,null,null,"nebitno"]
["10.10","Инжењер","час",982.23,null,null,"nebitno"]
["10.11","Дипломирани грађевински инжењер","час",1227.79,null,null,"nebitno"]
["11","Цене рада механизације",null,null,null,null,"nebitno"]
["11.1","Конбинована машина Неw Холланд","час",4715,null,null,"nebitno"]
["11.2","Мини хидраулични багер","час",4370,null,null,{"$f":"IF(F264>0, \"bez prevoza\", \"nebitno\")","v":"nebitno"}]
["11.3","Комбинована машина CASE","час",5405,null,null,"nebitno"]
["11.4","Ваљак од 10 t","час",4025,null,null,"nebitno"]
["11.5","Ваљак од 2 t","час",2875,null,null,"nebitno"]
[null,"Камион ФАП 1314","час",3300,null,null,"nebitno"]
["11.6","Камион ФАП 2023","час",4025,null,null,"nebitno"]
["11.7","Трактор до 60 кw ИМТ 560 i Solis 50",null,0,null,null,"nebitno"]
["11.7.1","Трактор до 60 кw ИМТ 560 i Solis 50 цена за рад","час",2331,null,null,"nebitno"]
["11.7.2","Трактор до 60 кw ИМТ 560 i Solis 50 цена за цекање","час",1495,null,null,"nebitno"]
["11.8","Утоваривач JCB \"Robot 150\" ",null,0,null,null,"nebitno"]
["11.8.1","Утоваривач JCB \"Robot 150\" Цена за рад","час",3680,null,null,"nebitno"]
["11.8.2","Утоваривач JCB \"Robot 150\" Цена за цекање","час",2070,null,null,"nebitno"]
["11.9","Kamion TAM 80, GAZ","km",161,null,null,"nebitno"]
["11.10","Ротациони багер гусеничар JCB ","час",6900,null,null,"nebitno"]
["11.11","Ротациони багер гусеничар JCB - ископ земље у материјалу III и IV категорије са одбацивањем у страну за формирање обала. Делимичан рад у мокром","m3",237.75,null,null,"nebitno"]
["11.12","Ротациони багер гусеничар JCB машинско разастирање до 30м предходно ископаног материјала, насип материјала (обала) са планирањем ","m3",97.75,null,null,"nebitno"]
["11.13","Ротациони багер гусеничар JCB машински ископ са депоније, утовар у возило","m3",287.5,null,null,"nebitno"]
["11.14","Нисконосећа приколица са камионом (200+160)","km",414,null,null,"nebitno"]
["11.15","Fiat panda, Lada Niva, Volkswagen, Caddy,  Peugeot 407","km",80.5,null,null,"nebitno"]
[null,"Лада нива","km",80.5,null,null,"nebitno"]
["11.16","Моторни телескоп-пецаљка","час",1932,null,null,"nebitno"]
["11.17","Вибро плоча","час",2875,null,null,"nebitno"]
["11.18","Аутогено заваривање (по вару)","ком",908.5,null,null,"nebitno"]
["11.19","Електрична варилица (по вару)","ком",1138.5,null,null,"nebitno"]
["11.20","Секачица за бетон","m",322,null,null,"nebitno"]
["11.21","Секачица за асфалт","m",284.5,null,null,"nebitno"]
["11.22","Агрегат 6 кw","час",3565,null,null,"nebitno"]
["11.23","Радио локатор","час",4600,null,null,"nebitno"]
["11.24","Машина за отпушивање канализационе цеви","час",4025,null,null,"nebitno"]
["11.25","Хилти бушалица","час",603.75,null,null,"nebitno"]
["11.26","Мешалица за бетон","час",223.1,null,null,"nebitno"]
["11.27","Моторна тестера за дрва","час",966,null,null,"nebitno"]
["11.28","Вакум пумпа Хонда","час",575,null,null,"nebitno"]
["11.29","Ручна моторна косачица за шибље (тример)","час",966,null,null,"nebitno"]
["11.30","Моторна косачица за траву (спортски терени)","m2",2.13,null,null,"nebitno"]
["11.31","Вожња аутосмећара","km",161,null,null,"nebitno"]
["11.32","Камион за одвоз смећа - аутосмећар (мањи) IVЕЦО","тура",4485,null,null,"nebitno"]
["11.33","Камион за одвоз смећа ФАП 1823 - аутосмећар","тура",5175,null,null,"nebitno"]
["11.34","Мобилне пластичне цистерне за воду за пиће од 1 м³ (без превоза)","дан",172.5,null,null,"nebitno"]
["11.35","Цистерна за воду за пиће ",null,0,null,null,"nebitno"]
["11.35.1","Цистерна за воду за пиће Фиксни део","час",5175,null,null,"nebitno"]
["11.35.2","Цистерна за воду за пиће Превоз","km",161,null,null,"nebitno"]
["11.36","Булдозер 75-150 kw","час",7475,null,null,"nebitno"]
[null,"Булдозер 100 ks","час",7475,null,null,"nebitno"]
[null,"Булдозер 150 ks","час",7475,null,null,"nebitno"]
["11.37","Грејдер","час",8050,null,null,"nebitno"]
["12","Бушење испод пута са припремом терена",null,null,null,null,"nebitno"]
["12.1","Бушење испод пута Ø 63 mm - 2 col","m",3000,null,null,"nebitno"]
["12.2","Бушење испод пута Ø 110 mm - 4 col ","m",3500,null,null,"nebitno"]
["12.3","Бушење испод пута Ø 125 mm - 4,5 col","m",4000,null,null,"nebitno"]
["12.4","Бушење испод пута Ø 160 mm - 6 col","m",4800,null,null,"nebitno"]
["12.5","Бушење испод пута Ø 200 mm - 7 col","m",5100,null,null,"nebitno"]
["12.6","Бушење испод пута Ø 315 mm - 12 col","m",5500,null,null,"nebitno"]
["13","Механизација на пословима зимског одржавања локалних путева и улица",null,null,null,null,"nebitno"]
["13.1","Ровокопач утоваривач \"New Holland\" ","час",5658,null,null,"nebitno"]
["13.1.1","Ровокопач утоваривач \"New Holland\" Празан ход","час",3000,null,null,"nebitno"]
["13.1.2","Ровокопач утоваривач \"New Holland\" Дежурство са возачем","час",1040,null,null,"nebitno"]
["13.2","Ровокопач утоваривач \"CASE\" ","час",6486,null,null,"nebitno"]
["13.2.1","Ровокопач утоваривач \"CASE\" Празан ход","час",3300,null,null,"nebitno"]
["13.2.2","Ровокопач утоваривач \"CASE\" Дежурство са возачем","час",1040,null,null,"nebitno"]
["13.3","Камион 4x4 са раоником и епохом ","час",5544,null,null,"nebitno"]
["13.3.1","Камион 4x4 са раоником и епохом Празан ход","час",2600,null,null,"nebitno"]
["13.3.2","Камион 4x4 са раоником и епохом Дежурство са возачем","час",1170,null,null,"nebitno"]
["13.4","Камион кипер са раоником ","час",4621,null,null,"nebitno"]
["13.4.1","Камион кипер са раоником Празан ход","час",2600,null,null,{"$f":"IF(F328>0, \"bez prevoza\", \"nebitno\")","v":"nebitno"}]
["13.4.2","Камион кипер са раоником Дежурство са возачем","час",1040,null,null,"nebitno"]
["13.5","Мини хидраулицни багер ","час",5244,null,null,"nebitno"]
["13.5.1","Мини хидраулицни багер Празан ход","час",2600,null,null,"nebitno"]
["13.5.2","Мини хидраулицни багер Дежурство са возачем","час",1040,null,null,"nebitno"]
["13.6","Утоваривач JCB \"Robot 150\" ","час",3520,null,null,"nebitno"]
["13.6.1","Утоваривач JCB \"Robot 150\" Празан ход","час",1900,null,null,"nebitno"]
["13.6.2","Утоваривач JCB \"Robot 150\" Дежурство са возачем","час",800,null,null,"nebitno"]
["13.7","Камион TAM 80 путар","km",193,null,null,"nebitno"]
["13.8","Лада нива","km",193,null,null,"nebitno"]
["13.9","Фиат панда","km",193,null,null,"nebitno"]
["13.10","Ручно бацање соли(утрошак соли и ризле по фактури)","час",858,null,null,"nebitno"]
["13.11","Трактор ИМТ 560 са елеватором ","час",2860,null,null,"nebitno"]
["13.11.1.","Трактор ИМТ 560 са елеватором Празан ход","час",2600,null,null,"nebitno"]
["13.11.2","Трактор ИМТ 560 са елеватором Дежурство са возачем","час",1040,null,null,"nebitno"]
["13.12","Набавка соли(транспорт се посебно наплаћује)","kg",15.95,null,null,"nebitno"]
["13.13","Набавка камене дробине 2-4 mm за епоху и ручно забацивање(транспорт се посебно наплаћује)","t",827,null,null,"nebitno"]
["14","Радници на пословима зимског одржавања локалних путева и улица",null,null,null,null,"nebitno"]
["14.1","Радник на зимском одржавању локалних и некатегорисаних путева","час",589.4,null,null,"nebitno"]
["14.2","Радник на чишћењу улица","час",589.4,null,null,"nebitno"]
["14.3","Радник НК, путар - Физички радник","час",928.5,null,null,"nebitno"]
["14.4","Механичар","час",996,null,null,"nebitno"]
["14.5","Магационер","час",825,null,null,"nebitno"]
["14.6","Пословођа радних јединица","час",943,null,null,"nebitno"]
["14.7","Шеф машинског парка","час",1037.24,null,null,"nebitno"]
["14.8","Возач - машиниста(цена обухвата дежурство возача или руковаоца машине)","час",996,null,null,"nebitno"]
["14.9","Шеф радних јединица","час",1386,null,null,"nebitno"]
["14.10","Машиниста","час",928.51,null,null,"nebitno"]
["14.11","Возач путничког аутомобила","час",928.51,null,null,"nebitno"]
["14.12","Одговорно лице","час",1155,null,null,"nebitno"]
[15,"Дезинфекција улица",null,null,null,null,"nebitno"]
["15.1","Ручно чишћење улица",null,0,null,null,"nebitno"]
["15.1.1","Ручно чишћење улица које се не чисте свакодневно","m2",1.37,null,null,"nebitno"]
["15.2","Прање улица аутоцистерном - дезинфекција",null,0,null,null,"nebitno"]
["15.2.1","Прање улица аутоцистерном - цревом","m2",2.9,null,null,"nebitno"]
["15.2.2","Прање улица аутоцистерном - на чкољку","m2",1.3,null,null,"nebitno"]
["15.3","Дезинфекција улица",null,0,null,null,"nebitno"]
["15.3.1","Дезинфекција улица, јавних површина (леђном ручном прскалицом)","m2",6.7,null,null,"nebitno"]
["16","Радови по рачуну",null,null,null,null,"nebitno"]
["16.1",{"$f":"'Radovi po RACUNU'!B3","v":"Набавка материјала за израду решетке"},{"$f":"'Radovi po RACUNU'!C3","v":"ком"},{"$f":"'Radovi po RACUNU'!D3","v":29150},null,null,"nebitno"]
["16.2",{"$f":"'Radovi po RACUNU'!B4","v":"Набавка материјала за крпљење ударних рупа"},{"$f":"'Radovi po RACUNU'!C4","v":"дин"},{"$f":"'Radovi po RACUNU'!D4","v":33200},null,null,"nebitno"]
["16.3",{"$f":"'Radovi po RACUNU'!B5","v":"Набавка материјала за израду ударних рупа"},{"$f":"'Radovi po RACUNU'!C5","v":"дин"},{"$f":"'Radovi po RACUNU'!D5","v":8000},null,null,"nebitno"]
["16.4",{"$f":"'Radovi po RACUNU'!B6","v":"Ручно уграђивање бетона малих пресека на м2 или м конструкциј са квашењем бетона и превозом бетона аутомешалицом на 30км"},{"$f":"'Radovi po RACUNU'!C6","v":"м2"},{"$f":"'Radovi po RACUNU'!D6","v":5524.17},null,null,"nebitno"]
["16.5",{"$f":"'Radovi po RACUNU'!B7","v":"Набавка цевстих пропуста Ф1000"},{"$f":"'Radovi po RACUNU'!C7","v":"ком"},{"$f":"'Radovi po RACUNU'!D7","v":14400},null,null,"nebitno"]
["16.6",{"$f":"'Radovi po RACUNU'!B8","v":"Набавка каменог агрегата 0-31,5 мм (радови из маја месеца)"},{"$f":"'Radovi po RACUNU'!C8","v":"т"},{"$f":"'Radovi po RACUNU'!D8","v":645},null,null,"nebitno"]
["16.7",{"$f":"'Radovi po RACUNU'!B9","v":0},{"$f":"'Radovi po RACUNU'!C9","v":0},{"$f":"'Radovi po RACUNU'!D9","v":0},null,null,"nebitno"]
["16.8",{"$f":"'Radovi po RACUNU'!B10","v":0},{"$f":"'Radovi po RACUNU'!C10","v":0},{"$f":"'Radovi po RACUNU'!D10","v":0},null,null,"nebitno"]
["16.9",{"$f":"'Radovi po RACUNU'!B11","v":0},{"$f":"'Radovi po RACUNU'!C11","v":0},{"$f":"'Radovi po RACUNU'!D11","v":0},null,null,"nebitno"]
["16.10",{"$f":"'Radovi po RACUNU'!B12","v":0},{"$f":"'Radovi po RACUNU'!C12","v":0},{"$f":"'Radovi po RACUNU'!D12","v":0},null,null,"nebitno"]
["16.11",{"$f":"'Radovi po RACUNU'!B13","v":0},{"$f":"'Radovi po RACUNU'!C13","v":0},{"$f":"'Radovi po RACUNU'!D13","v":0},null,null,"nebitno"]
["16.12",{"$f":"'Radovi po RACUNU'!B14","v":0},{"$f":"'Radovi po RACUNU'!C14","v":0},{"$f":"'Radovi po RACUNU'!D14","v":0},null,null,"nebitno"]
["16.13",{"$f":"'Radovi po RACUNU'!B15","v":0},{"$f":"'Radovi po RACUNU'!C15","v":0},{"$f":"'Radovi po RACUNU'!D15","v":0},null,null,"nebitno"]
["16.14",{"$f":"'Radovi po RACUNU'!B16","v":0},{"$f":"'Radovi po RACUNU'!C16","v":0},{"$f":"'Radovi po RACUNU'!D16","v":0},null,null,"nebitno"]
["16.15",{"$f":"'Radovi po RACUNU'!B17","v":0},{"$f":"'Radovi po RACUNU'!C17","v":0},{"$f":"'Radovi po RACUNU'!D17","v":0},null,null,"nebitno"]
["16.16",{"$f":"'Radovi po RACUNU'!B18","v":0},{"$f":"'Radovi po RACUNU'!C18","v":0},{"$f":"'Radovi po RACUNU'!D18","v":0},null,null,"nebitno"]
["16.17",{"$f":"'Radovi po RACUNU'!B19","v":0},{"$f":"'Radovi po RACUNU'!C19","v":0},{"$f":"'Radovi po RACUNU'!D19","v":0},null,null,"nebitno"]
["16.18",{"$f":"'Radovi po RACUNU'!B20","v":0},{"$f":"'Radovi po RACUNU'!C20","v":0},{"$f":"'Radovi po RACUNU'!D20","v":0},null,null,"nebitno"]
["16.19",{"$f":"'Radovi po RACUNU'!B21","v":0},{"$f":"'Radovi po RACUNU'!C21","v":0},{"$f":"'Radovi po RACUNU'!D21","v":0},null,null,"nebitno"]
["16.20",{"$f":"'Radovi po RACUNU'!B22","v":0},{"$f":"'Radovi po RACUNU'!C22","v":0},{"$f":"'Radovi po RACUNU'!D22","v":0},null,null,"nebitno"]
["16.21",{"$f":"'Radovi po RACUNU'!B23","v":0},{"$f":"'Radovi po RACUNU'!C23","v":0},{"$f":"'Radovi po RACUNU'!D23","v":0},null,null,"nebitno"]
["16.22",{"$f":"'Radovi po RACUNU'!B24","v":0},{"$f":"'Radovi po RACUNU'!C24","v":0},{"$f":"'Radovi po RACUNU'!D24","v":0},null,null,"nebitno"]
["16.23",{"$f":"'Radovi po RACUNU'!B25","v":0},{"$f":"'Radovi po RACUNU'!C25","v":0},{"$f":"'Radovi po RACUNU'!D25","v":0},null,null,"nebitno"]
["16.24",{"$f":"'Radovi po RACUNU'!B26","v":0},{"$f":"'Radovi po RACUNU'!C26","v":0},{"$f":"'Radovi po RACUNU'!D26","v":0},null,null,"nebitno"]
["16.25",{"$f":"'Radovi po RACUNU'!B27","v":0},{"$f":"'Radovi po RACUNU'!C27","v":0},{"$f":"'Radovi po RACUNU'!D27","v":0},null,null,"nebitno"]
["16.26",{"$f":"'Radovi po RACUNU'!B28","v":0},{"$f":"'Radovi po RACUNU'!C28","v":0},{"$f":"'Radovi po RACUNU'!D28","v":0},null,null,{"$f":"IF(F392>0, \"bez prevoza\", \"nebitno\")","v":"nebitno"}]
["16.27",{"$f":"'Radovi po RACUNU'!B29","v":0},{"$f":"'Radovi po RACUNU'!C29","v":0},{"$f":"'Radovi po RACUNU'!D29","v":0},null,null,"nebitno"]
["16.28",{"$f":"'Radovi po RACUNU'!B30","v":0},{"$f":"'Radovi po RACUNU'!C30","v":0},{"$f":"'Radovi po RACUNU'!D30","v":0},null,null,"nebitno"]
["16.29",{"$f":"'Radovi po RACUNU'!B31","v":0},{"$f":"'Radovi po RACUNU'!C31","v":0},{"$f":"'Radovi po RACUNU'!D31","v":0},null,null,"nebitno"]
["16.30",{"$f":"'Radovi po RACUNU'!B32","v":0},{"$f":"'Radovi po RACUNU'!C32","v":0},{"$f":"'Radovi po RACUNU'!D32","v":0},null,null,"nebitno"]
["16.31",{"$f":"'Radovi po RACUNU'!B33","v":0},{"$f":"'Radovi po RACUNU'!C33","v":0},{"$f":"'Radovi po RACUNU'!D33","v":0},null,null,"nebitno"]
["16.32",{"$f":"'Radovi po RACUNU'!B34","v":0},{"$f":"'Radovi po RACUNU'!C34","v":0},{"$f":"'Radovi po RACUNU'!D34","v":0},null,null,"nebitno"]
["16.33",{"$f":"'Radovi po RACUNU'!B35","v":0},{"$f":"'Radovi po RACUNU'!C35","v":0},{"$f":"'Radovi po RACUNU'!D35","v":0},null,null,"nebitno"]
["16.34",{"$f":"'Radovi po RACUNU'!B36","v":0},{"$f":"'Radovi po RACUNU'!C36","v":0},{"$f":"'Radovi po RACUNU'!D36","v":0},null,null,"nebitno"]
["16.35",{"$f":"'Radovi po RACUNU'!B37","v":0},{"$f":"'Radovi po RACUNU'!C37","v":0},{"$f":"'Radovi po RACUNU'!D37","v":0},null,null,"nebitno"]
["16.36",{"$f":"'Radovi po RACUNU'!B38","v":0},{"$f":"'Radovi po RACUNU'!C38","v":0},{"$f":"'Radovi po RACUNU'!D38","v":0},null,null,"nebitno"]
["16.37",{"$f":"'Radovi po RACUNU'!B39","v":0},{"$f":"'Radovi po RACUNU'!C39","v":0},{"$f":"'Radovi po RACUNU'!D39","v":0},null,null,"nebitno"]
["16.38",{"$f":"'Radovi po RACUNU'!B40","v":0},{"$f":"'Radovi po RACUNU'!C40","v":0},{"$f":"'Radovi po RACUNU'!D40","v":0},null,null,"nebitno"]
["16.39",{"$f":"'Radovi po RACUNU'!B41","v":0},{"$f":"'Radovi po RACUNU'!C41","v":0},{"$f":"'Radovi po RACUNU'!D41","v":0},null,null,"nebitno"]
["16.40",{"$f":"'Radovi po RACUNU'!B42","v":0},{"$f":"'Radovi po RACUNU'!C42","v":0},{"$f":"'Radovi po RACUNU'!D42","v":0},null,null,"nebitno"]
["16.41",{"$f":"'Radovi po RACUNU'!B43","v":0},{"$f":"'Radovi po RACUNU'!C43","v":0},{"$f":"'Radovi po RACUNU'!D43","v":0},null,null,"nebitno"]
["16.42",{"$f":"'Radovi po RACUNU'!B44","v":0},{"$f":"'Radovi po RACUNU'!C44","v":0},{"$f":"'Radovi po RACUNU'!D44","v":0},null,null,"nebitno"]
["16.43",{"$f":"'Radovi po RACUNU'!B45","v":0},{"$f":"'Radovi po RACUNU'!C45","v":0},{"$f":"'Radovi po RACUNU'!D45","v":0},null,null,"nebitno"]
["16.44",{"$f":"'Radovi po RACUNU'!B46","v":0},{"$f":"'Radovi po RACUNU'!C46","v":0},{"$f":"'Radovi po RACUNU'!D46","v":0},null,null,"nebitno"]
["16.45",{"$f":"'Radovi po RACUNU'!B47","v":0},{"$f":"'Radovi po RACUNU'!C47","v":0},{"$f":"'Radovi po RACUNU'!D47","v":0},null,null,"nebitno"]
["16.46",{"$f":"'Radovi po RACUNU'!B48","v":0},{"$f":"'Radovi po RACUNU'!C48","v":0},{"$f":"'Radovi po RACUNU'!D48","v":0},null,null,"nebitno"]
["16.47",{"$f":"'Radovi po RACUNU'!B49","v":0},{"$f":"'Radovi po RACUNU'!C49","v":0},{"$f":"'Radovi po RACUNU'!D49","v":0},null,null,"nebitno"]
["16.48",{"$f":"'Radovi po RACUNU'!B50","v":0},{"$f":"'Radovi po RACUNU'!C50","v":0},{"$f":"'Radovi po RACUNU'!D50","v":0},null,null,"nebitno"]
["16.49",{"$f":"'Radovi po RACUNU'!B51","v":0},{"$f":"'Radovi po RACUNU'!C51","v":0},{"$f":"'Radovi po RACUNU'!D51","v":0},null,null,"nebitno"]
["16.50",{"$f":"'Radovi po RACUNU'!B52","v":0},{"$f":"'Radovi po RACUNU'!C52","v":0},{"$f":"'Radovi po RACUNU'!D52","v":0},null,null,"nebitno"]

{"sheet":"Cenovnik","index":3,"n_rows":416,"n_cols":4,"rows_kept":416,"cut":false,"hidden":false,"merged":[]}
["Шифра позиције","Назив Позиције","Jedinica mere","Једин. Цена"]
["1","Послови јавних овлашћења из заштите путева"]
["1.1","Послови на утврђивању штетних радњи на трупу пута и узурпацији земљишта у заштитном појасу пута, идентификацији прекршиоца, вођењу управног поступка и евиденције. Цена обухвата: рад грађевинског инжењера и путничког возила и то 70% у вожњи и 30% по цени за чекање.","час",2094.41]
["2","Преглед јавних путева"]
["2.1","Редовни прегледи јавних путева","km",83.78]
["2.2","Сезонски прегледи јавних путева, два пута годишње","km",363.6]
["2.3","Викенд служба-дежурство суботом, недељом и празником (искључује се период зимске службе). Екипу сачињавају: техничар и два радника путара са полутеретним камионом-путарцем."]
["2.3.1","Викенд служба - дежурство суботом, недељом и празником -Техничар","час",694.81]
["2.3.2","Викенд служба - дежурство суботом, недељом и празником - Радник путар (за једног радника)","час",518.27]
["2.3.3","Викенд служба - дежурство суботом, недељом и празником - Камион путарац - ефективан рад","час",1692.88]
["2.3.4","Викенд служба - дежурство суботом, недељом и празником - Камион путарац - дежурство","час",540]
[3,"Одржавање саобраћајне сигнализације"]
["3.1","Постављање саобраћајног знака на једном стубу и бетонском темељу МБ 20. Обрачун  по комаду комплет изведене позиције са ископом земље за темељ"]
["3.1.1","Постављање саобраћајног знака на једном стубу и бетонском темељу МБ 20. Обрачун  по комаду комплет изведене позиције са ископом земље за темељ. - Само рад без материјала","ком",881]
["3.1.2","Постављање саобраћајног знака на једном стубу и бетонском темељу МБ 20. Обрачун  по комаду комплет изведене позиције са ископом земље за темељ. - Рад са материјалом, без табле саобраћајног знака","ком",3117]
["3.2","Демонтажа постојећег и поновна монтажа табле саобраћајног знака на постојећем стубу и темељу. Обрачун по комаду демонтираног и поново монтираног знака само рад без материјала","ком",730]
["3.3","Монтажа табле саобраћајног знака са једним стубом. Обрачун по комаду намонтиране табле на постојећем стубу комплет са спојним материјалом."]
["3.3.1","Монтажа табле саобраћајног знака са једним стубом. Обрачун по комаду намонтиране табле на постојећем стубу комплет са спојним материјалом. - Само мотажа, за више од 10 комада","ком",475]
["3.3.2","Монтажа табле саобраћајног знака са једним стубом. Обрачун по комаду намонтиране табле на постојећем стубу комплет са спојним материјалом. - Само монтажа, за 10 комада или мање","ком",582]
["3.4","Монтажа саобраћајне табле са два стуба. Обрачун по комаду монтиране табле без материјала","ком",621]
["3.5","Постављање комплет саобраћајног знака са два носећа стуба и темељима од бетона МБ 20. Обрачун по комаду монтираног знака без цене табле која се наплаћује по фактури добављача"]
["3.5.1","Постављање комплет саобраћајног знака са два носећа стуба и темељима од бетона МБ 20. Обрачун по комаду монтираног знака без цене табле која се наплаћује по фактури добављача. - Комплет са материјалом (без табле)","ком",4636]
["3.5.2","Постављање комплет саобраћајног знака са два носећа стуба и темељима од бетона МБ 20. Обрачун по комаду монтираног знака без цене табле која се наплаћује по фактури добављача. - Само монтажа на постојећим стубовима (без табле)","ком",730]
[4,"Одржавање зелених површина и спортских терена"]
["4.1","Грабуљање паркова од лишћа и отпадака са одвозом.","m2",5.2]
["4.2","Ручно сакупљање отпадака са парковских површина.","m2",4]
["4.3","Кошење парковског травњака косачицом са ручном поправком.","m2",10]
["4.4","Грабуљање травњака од отпадака са одвозом.","m2",8]
["4.5","Заливање","m2",31]
["4.6","Кошење парковског травњака тримером","m2",6.5]
["4.7","Кошење траве са банкина самоходном моторном косачицом","m2",3.99]
["4.8","Утовар траве у камион и превоз на депонију на 5 km","m2",3.61]
["4.9","Разастирање ђубрива","m2",15.6]
["4.10","Набавка ђубрива","по рачуну",1]
["4.11","Обележавање фудбалског терена (по фактури добављача), ценом није обухваћен превоз и рад радника","m",26.8]
["4.12","Поливање травњака (ценом није обухваћен рад радника)","m2",3.1]
["4.13","Сејање траве  (ценом није обухваћен рад радника и семе траве по фактури добављача)","m2",15.6]
["4.14","Отклањање дотрајалог стабла у дрвореду са вађењем пања после сечења","ком",4145]
["4.15","Орезивање дрвореда са прикупљањем грана и корективно орезивање. Обрачун по комаду стабла","ком",800]
["4.16","Окопавање земље око стабла и плевљење корова","ком",311]
["4.17","Садња новог стабла са ископом јаме у постојећу фризу","ком",1295]
["4.17.1","Садња новог стабла са ископом јаме у постојећу фризу - Набавка саднице ","по рачуну",1]
["4.17.2","Садња новог стабла са ископом јаме у постојећу фризу - Заливанње","ком",31]
["4.18","Ручно сечење дрвећа.\nЦена обухвата: сечење стабла изнад корена, кресање грана, резање стабла и дебљих грана на погодну дужину и остављање на страну."]
["4.18.1","Ручно сечење дрвећа.\nЦена обухвата: сечење стабла изнад корена, кресање грана, резање стабла и дебљих грана на погодну дужину и остављање на страну. \n- Пречник стабла од 10-20 cm","ком",518.54]
["4.18.2","Ручно сечење дрвећа.\nЦена обухвата: сечење стабла изнад корена, кресање грана, резање стабла и дебљих грана на погодну дужину и остављање на страну. \n- Пречник стабла од 20-30 cm","ком",1337.28]
["4.18.3","Ручно сечење дрвећа.\nЦена обухвата: сечење стабла изнад корена, кресање грана, резање стабла и дебљих грана на погодну дужину и остављање на страну. \n- Пречник стабла од 30-50 cm","ком",3493.31]
["4.19","Кресање грана са одлагањем на страну моторном тестером. Пречник грана"]
["4.19.1","Кресање грана са одлагањем на страну моторном тестером. Пречник грана од 0 - 10 cm","ком",256.38]
["4.19.2","Кресање грана са одлагањем на страну моторном тестером. Пречник грана од 0 - 20 cm","ком",640.96]
["4.20","Кресање грана дрвореда које сметају саобраћају и другим објектима са слагањем на страну"]
["4.20.1","Кресање грана дрвореда које сметају саобраћају и другим објектима са слагањем на страну - Пречника до 10 cm","ком",62.22]
["4.20.2","Кресање грана дрвореда које сметају саобраћају и другим објектима са слагањем на страну - Пречника 10-20 cm","ком",87.23]
["4.20.3","Кресање грана дрвореда које сметају саобраћају и другим објектима са слагањем на страну - Пречника 20-30 cm","ком",141.91]
["4.20.4","Кресање грана дрвореда које сметају саобраћају и другим објектима са слагањем на страну - Пречника преко 30 cm","ком",283.83]
["4.21","Машинско сечење дрвећа са вађењем пањева ровокопачем. Цена обухвата рад радника са моторном тестером на сечењу стабала са кресањеем грана и вађење пањева ровокопачем са остављањем на страну"]
["4.21.1","Машинско сечење дрвећа са вађењем пањева ровокопачем. Цена обухвата рад радника са моторном тестером на сечењу стабала са кресањеем грана и вађење пањева ровокопачем са остављањем на страну \n- Пречник стабла од 10 -20 cm","ком",590]
["4.21.2","Машинско сечење дрвећа са вађењем пањева ровокопачем. Цена обухвата рад радника са моторном тестером на сечењу стабала са кресањеем грана и вађење пањева ровокопачем са остављањем на страну \n- Пречник стабла од 20 -30 cm","ком",1500]
["4.21.3","Машинско сечење дрвећа са вађењем пањева ровокопачем. Цена обухвата рад радника са моторном тестером на сечењу стабала са кресањеем грана и вађење пањева ровокопачем са остављањем на страну \n- Пречник стабла од 30 -50 cm","ком",3500]
["4.22","Сечење густог шибља преко 50 ком на m²","m2",60]
["4.23","Утовар и одвоз шибља на 1 km","m2",32]
["4.24","Ручно чишћење дивљих депонија (без одвоза)","m3",1800]
["4.25","Ручно чишћење наноса из цевастих пропуста. Цена  обухвата превоз радника, одстрањивање свих наноса и отпадака из пропуста са утоваром у колица, превоз уз косину на 10 m, ручни утовар у камион и превоз на депонију",null,0]
["4.25.1","Ручно чишћење наноса из цевастих пропуста. Цена  обухвата превоз радника, одстрањивање свих наноса и отпадака из пропуста са утоваром у колица, превоз уз косину на 10 m, ручни утовар у камион и превоз на депонију - одлагањем на страну","m3",1870]
["4.25.2","Ручно чишћење наноса из цевастих пропуста. Цена  обухвата превоз радника, одстрањивање свих наноса и отпадака из пропуста са утоваром у колица, превоз уз косину на 10 m, ручни утовар у камион и превоз на депонију - са превозом на 2 km","m3",2130]
["4.26","Кошење траве на слободним површинама косачицом прикљученом на трактор","m2",4.3499999999999996]
["5","Одржавање трупа пута"]
["5.1","Ручно кресање денивелисане банкине     \nЦена обухвата: кресање банкине у слоју од 10 cm са планирањем и разастирањем материјала низ косину насипа.","m2",109.16]
["5.2","Ручно кресање денивелисане банкине испод одбојне ограде. Цена обухвата: кресање банкине у слоју од 10 cm са планирањем и разастирањем материјала низ косину насипа.","m2",152.83000000000001]
["5.3","Машинско кресање денивелисане банкине. Цена обухвата: кресање банкине у слоју до 10 cm машински 90% и ручним дотеривањем 10% са разастирањем материјала низ косину насипа.","m2",26.57]
["5.4","Ручно разастирање шљунка или каменог агрегата на банкинама у слоју d = 10 cm са ваљањем. Цена обухвата: набавку шљунка природне мешавине или дробљеног каменог агрегата, са превозом на 30 km, ручно разастирање материјала и ваљање виброваљком."]
["5.4.1","Ручно разастирање шљунка или каменог агрегата на банкинама у слоју d = 10 cm са ваљањем. Цена обухвата: набавку шљунка природне мешавине или дробљеног каменог агрегата, са превозом на 30 km, ручно разастирање материјала и ваљање виброваљком. - Шљунак природне мешавине   ","m2",249.99]
["5.4.2","Ручно разастирање шљунка или каменог агрегата на банкинама у слојуd = 10 cm са ваљањем.                               \nЦена обухвата: набавку шљунка природне мешавине или дробљеног каменог агрегата, са превозом на 30 km, ручно разастирање материјала и ваљање виброваљком. -  Дробљени камени агрегат","m2",280.24]
["5.5","Машинско разастирање шљунка или каменог агрегата на банкинама у слоју d = 10 cm са ваљањем.                    \nЦена обухвата: набавку шљунка природне мешавине или дробљеног каменог агрегата, са превозом на 30 km, разастирање шљунка машински 90% уз ручну поправку 10% и ваљање виброваљком."]
["5.5.1","Машинско разастирање шљунка или каменог агрегата на банкинама у слоју d = 10 cm са ваљањем.                    \nЦена обухвата: набавку шљунка природне мешавине или дробљеног каменог агрегата, са превозом на 30 km, разастирање шљунка машински 90% уз ручну поправку 10% и ваљање виброваљком. - Шљунак природне мешавине","m2",166.78]
["5.5.2","Машинско разастирање шљунка или каменог агрегата на банкинама у слоју d = 10 cm са ваљањем.                    \nЦена обухвата: набавку шљунка природне мешавине или дробљеног каменог агрегата, са превозом на 30 km, разастирање шљунка машински 90% уз ручну поправку 10% и ваљање виброваљком. - Дробљени камен агрегат","m2",197.03]
["5.6","Ручно чишћење наноса и осулина са коловоза са ручним утоваром и одвозом матријала на депонију.",null,0]
["5.6.1","Ручно чишћење наноса и осулина са коловоза са ручним утоваром и одвозом матријала на депонију. - Са превозом на 1 km","m3",1714.75]
["5.6.2","Ручно чишћење наноса и осулина са коловоза са ручним утоваром и одвозом матријала на депонију. - Са превозом на 2 km","m3",1748.86]
["5.6.3","Ручно чишћење наноса и осулина са коловоза са ручним утоваром и одвозом матријала на депонију. - Са превозом на 3 km","m3",1779.39]
["5.6.4","Ручно чишћење наноса и осулина са коловоза са ручним утоваром и одвозом матријала на депонију. - Са превозом на 5 km","m3",1831.85]
["5.6.5","Ручно чишћење наноса и осулина са коловоза са ручним утоваром и одвозом матријала на депонију. - Са превозом на 10 km","m3",1928.31]
["5.7","Машинско чишћење наноса и осулина са коловоза                                \nЦена обухвата: машинско прикупљање наноса и осулина са одбацивањем на страну или утоваром и превозом материјала на депонију.",null,0]
["5.7.1","Машинско чишћење наноса и осулина са коловоза                                \nЦена обухвата: машинско прикупљање наноса и осулина са одбацивањем на страну или утоваром и превозом материјала на депонију. \n- Са одбацивањем материјала на страну","m3",235.91]
["5.7.2","Машинско чишћење наноса и осулина са коловоза                                \nЦена обухвата: машинско прикупљање наноса и осулина са одбацивањем на страну или утоваром и превозом материјала на депонију. \n- Са превозом материјала на 1 km","m3",375.22]
["5.7.3","Машинско чишћење наноса и осулина са коловоза                                \nЦена обухвата: машинско прикупљање наноса и осулина са одбацивањем на страну или утоваром и превозом материјала на депонију. \n- Са превозом материјала на 2 km","m3",409.34]
["5.7.4","Машинско чишћење наноса и осулина са коловоза                                \nЦена обухвата: машинско прикупљање наноса и осулина са одбацивањем на страну или утоваром и превозом материјала на депонију. \n- Са превозом материјала на 3 km","m3",439.88]
["5.7.5","Машинско чишћење наноса и осулина са коловоза                                \nЦена обухвата: машинско прикупљање наноса и осулина са одбацивањем на страну или утоваром и превозом материјала на депонију. - Са превозом материјала на 10 km","m3",588.79]
["5.8","Машинско планирање косина усека и насипа Цена обухвата: фино планирање косина Машински 90% са ручним дотеривањем 10%","m2",40.32]
["6","Одржавање система за одводњавање површине коловоза и трупа пута"]
["6.1","Ручно чишћење путних јаркова у слоју до d = 10 cm са планирањем дна јарка. Цена обухвата: чишћење јарка, планирање дна јарка и одстрањивање сувишног материјала одбацивањем на страну или утоваром у колица и одвозом до 20 м ",null,0]
["6.1.1","Ручно чишћење путних јаркова у слоју до d = 10 cm са планирањем дна јарка. Цена обухвата: чишћење јарка, планирање дна јарка и одстрањивање сувишног материјала одбацивањем на страну или утоваром у колица и одвозом до 20 м  \n- Са одбацивањем на страну","m",109.16]
["6.1.2","Ручно чишћење путних јаркова у слоју до d = 10 cm са планирањем дна јарка. Цена обухвата: чишћење јарка, планирање дна јарка и одстрањивање сувишног материјала одбацивањем на страну или утоваром у колица и одвозом до 20 м  \n- Са одвозом материјала до 20 м","m",160.47999999999999]
["6.2","Ручно чишћење ригола и берми од наноса у слоју до d = 10 cm. Цена обухвата: чишћење риголе или берме са уклањањем материјала одбацивањем на страну или утоваром у колица и одвозом до 20 м.",null,0]
["6.2.1","Ручно чишћење ригола и берми од наноса у слоју до d = 10 cm. Цена обухвата: чишћење риголе или берме са уклањањем материјала одбацивањем на страну или утоваром у колица и одвозом до 20 м. \n- Са одбацивањем на страну","m",87.32]
["6.2.2","Ручно чишћење ригола и берми од наноса у слоју до d = 10 cm. Цена обухвата: чишћење риголе или берме са уклањањем материјала одбацивањем на страну или утоваром у колица и одвозом до 20 м. \n- Са одвозом материјала до 20 м","m",138.63999999999999]
["6.3","Машинско чишћење берми од наноса у слоју до 10 cm са пребацивањем материјала на страну или утоваром и превозом на депонију.",null,0]
["6.3.1","Машинско чишћење берми од наноса у слоју до 10 cm са пребацивањем материјала на страну или утоваром и превозом на депонију. \n- Са одбацивањем материјала на страну.","m",24.68]
["6.3.2","Машинско чишћење берми од наноса у слоју до 10 cm са пребацивањем материјала на страну или утоваром и превозом на депонију.\n- Са превозом на 1 km","m",52.43]
["6.3.3","Машинско чишћење берми од наноса у слоју до 10 cm са пребацивањем материјала на страну или утоваром и превозом на депонију.\n- Са превозом на 2 km","m",55.84]
["6.3.4","Машинско чишћење берми од наноса у слоју до 10 cm са пребацивањем материјала на страну или утоваром и превозом на депонију.\n- Са превозом на 3 km","m",58.91]
["6.3.5","Машинско чишћење берми од наноса у слоју до 10 cm са пребацивањем материјала на страну или утоваром и превозом на депонију.\n- Са превозом на 5 km","m",64.150000000000006]
["6.4","Ручни ископ одводних јаркова и корекција. Цена обухвата: ископ земље према типу јарка, пребацивање на банкину или утовар у колица и одвоз на депонију.",null,0]
["6.4.1","Ручни ископ одводних јаркова и корекција. Цена обухвата: ископ земље према типу јарка, пребацивање на банкину или утовар у колица и одвоз на депонију.\n- Са пребацивањем земље до 3 м","m",1981.36]
["6.4.2","Ручни ископ одводних јаркова и корекција. Цена обухвата: ископ земље према типу јарка, пребацивање на банкину или утовар у колица и одвоз на депонију.\n- Са одвозом земље на 10 м","m",2308.87]
["6.4.3","Ручни ископ одводних јаркова и корекција. Цена обухвата: ископ земље према типу јарка, пребацивање на банкину или утовар у колица и одвоз на депонију.\n- Са одвозом земље на 20 м","m",2461.6999999999998]
["6.5","Машински ископ одводних јаркова и корекција. Цена обухвата: чишћење јарка, планирање, утовар у камион и превоз на депонију. ",null,0]
["6.5.1","Машински ископ одводних јаркова и корекција. Цена обухвата: чишћење јарка, планирање, утовар у камион и превоз на депонију. \n- Са одлагањем на страну","m",100]
["6.5.2.","Машински ископ одводних јаркова и корекција. Цена обухвата: чишћење јарка, планирање, утовар у камион и превоз на депонију. \n- Са превозом на 3 km","m3",420]
["6.6","Машински ископ одводних јаркова и корекција. Цена обухвата: ископ земље ровокопачем 80% са ручним дотеривањем  20%, пребацивање земље на банкину или утовар у возило и превоз на депонију.  ",null,0]
["6.6.1","Машински ископ одводних јаркова и корекција. Цена обухвата: ископ земље ровокопачем 80% са ручним дотеривањем  20%, пребацивање земље на банкину или утовар у возило и превоз на депонију.\n- Са одлагањем на страну","m3",549.6]
["6.6.2","Машински ископ одводних јаркова и корекција. Цена обухвата: ископ земље ровокопачем 80% са ручним дотеривањем  20%, пребацивање земље на банкину или утовар у возило и превоз на депонију.\n- Са превозом земље до 1 km","m3",721]
["6.6.3","Машински ископ одводних јаркова и корекција. Цена обухвата: ископ земље ровокопачем 80% са ручним дотеривањем  20%, пребацивање земље на банкину или утовар у возило и превоз на депонију.\n- Са превозом земље до 2 km","m3",768]
["6.6.4","Машински ископ одводних јаркова и корекција. Цена обухвата: ископ земље ровокопачем 80% са ручним дотеривањем  20%, пребацивање земље на банкину или утовар у возило и превоз на депонију\n- Са превозом земље до 3 km","m3",810]
["6.6.5","Машински ископ одводних јаркова и корекција. Цена обухвата: ископ земље ровокопачем 80% са ручним дотеривањем  20%, пребацивање земље на банкину или утовар у возило и превоз на депонију\n- Са превозом земље до 5 km","m3",882]
["6.7","Облагање одводних јаркова бетоном МБ-20 на слоју шљунка d = 15 cm. Цена обухвата: набавку и превоз шљунка на 30 km, справљање бетона МБ-20, превоз бетона аутомешалицом на 30 km, уграђивање шљунка у подлогу и бетона первибратором у оплату. ","m2",2153.9899999999998]
["6.8","Облагање одводних јаркова монтажним бетонским каналетама на слоју песка d = 10 cm са фуговањем цементним малтером 1:2. Цена обухвата: набавку песка и цементног малтера 1:2 са превозом на 30 km и полагање каналета на подлогу од песка са фуговањем. Набавка и превоз каналета нису обухваћени ценом. ","m",738.49]
["6.9","Ручно и машинско чишћење постојећих цевастих пропуста","ком",2000]
["6.10","Рушење старог пропуста са одвозом шута на депонију","ком",9460]
["6.11","Израда обостраног проширења засведеног пропуста по 2 м у дужини око 3,5 м МБ 30 РА 400/500","m2",5000]
["6.12","Фино планирање рова и косине ","m2",148]
["6.13","Израда улазне шахте и излазне главе МБ 25 армирана Q188. Утрошак бетона:","m3",16350]
["6.13.1","Израда улазне шахте и излазне главе МБ 25 армирана Q188. Утрошак бетона:Ø 300 mm - 0.70 m³","m",0]
["6.13.2","Израда улазне шахте и излазне главе МБ 25 армирана Q188. Утрошак бетона:Ø 400 mm - 0.80 m³","m",0]
["6.13.3","Израда улазне шахте и излазне главе МБ 25 армирана Q188. Утрошак бетона:Ø 500 mm - 0.90 m³","m",0]
["6.13.4","Израда улазне шахте и излазне главе МБ 25 армирана Q188. Утрошак бетона:Ø 600 mm - 1.0 m³","m",0]
["6.13.5","Израда улазне шахте и излазне главе МБ 25 армирана Q188. Утрошак бетона:Ø 1000 mm - 1.40 m³","m",0]
["6.14","Набавка бетона МБ 20","m3",12500]
["6.15","Уградње цеви на подлози од бетона d = 10 cm МБ 20 ",null,0]
["6.15.1","Уградње цеви на подлози од бетона d = 10 cm МБ 20 Ø 300 mm","m",1188.32]
["6.15.2","Уградње цеви на подлози од бетона d = 10 cm МБ 20 Ø 400 mm","m",1188.32]
["6.15.3","Уградње цеви на подлози од бетона d = 10 cm МБ 20 Ø 500 mm","m",1446.68]
["6.15.4","Уградње цеви на подлози од бетона d = 10 cm МБ 20 Ø 600 mm","m",1765.4]
["6.15.5","Уградње цеви на подлози од бетона d = 10 cm МБ 20 Ø 800 mm","m",2586]
["6.15.6","Уградње цеви на подлози од бетона d = 10 cm МБ 20 Ø 1000 mm","m",2800]
["6.16","Транспорт цеви на 30 km",null,0]
["6.16.1","Транспорт цеви на 30 km Ø 300 mm","m",342]
["6.16.2","Транспорт цеви на 30 km Ø 400 mm","m",342]
["6.16.3","Транспорт цеви на 30 km Ø 500 mm","m",432]
["6.16.4","Транспорт цеви на 30 km Ø 600 mm","m",522]
["6.16.5","Транспорт цеви на 30 km Ø 800 mm","m",648]
["6.16.6","Транспорт цеви на 30 km Ø 1000 mm","m",918]
["6.17","Набавка цеви ",null,0]
["6.17.1","Неармиране цеви ",null,0]
["6.17.1.1","Набавка цеви - Неармиране цеви Ø 300 mm","по рачуну",3600]
["6.17.1.2","Набавка цеви - Неармиране цеви Ø 400 mm","по рачуну",4080]
["6.17.1.3","Набавка цеви - Неармиране цеви Ø 500 mm","по рачуну",0]
["6.17.1.4","Набавка цеви - Неармиране цеви Ø 600 mm","по рачуну",8400]
["6.17.1.5","Набавка цеви - Неармиране цеви Ø 800 mm","по рачуну",9600]
["6.17.1.6","Набавка цеви - Неармиране цеви Ø 1000 mm","по рачуну",14400]
["6.17.1.7","Набавка цеви - Неармиране цеви Бетонски гајгер сливник Ø 400 mm","ком",8400]
["6.17.2","Набавка цеви - Армиране цеви ",null,0]
["6.17.2.1","Набавка цеви - Армиране цеви Ø 300 mm","по рачуну",0]
["6.17.2.2","Набавка цеви - Армиране цеви Ø 400 mm","по рачуну",0]
["6.17.2.3","Набавка цеви - Армиране цеви Ø 500 mm","по рачуну",0]
["6.17.2.4","Набавка цеви - Армиране цеви Ø 600 mm","по рачуну",0]
["6.17.2.5","Набавка цеви - Армиране цеви Ø 800 mm","по рачуну",0]
["6.17.2.6","Набавка цеви - Армиране цеви Ø 1000 mm","по рачуну",0]
["7","Ископ земље"]
["7.1","Машински ископ земље III и IV категорије са утоваром у камион или одбацивањем са стране","m3",380]
["7.2","Машински ископ земље V категорије са утоваром у камион или одбацивањем са стране","m3",400]
["7.3","Машински ископ природно влажне земље ровокопачем са утоваром у камион","m3",297]
["7.4","Ручни ископ земље III категорије за темеље потпорних зидова са одбацивањем","m3",1500]
["7.5","Машински утовар материјала (земље, шљунка, гребаног асфалта, туцаника и слицно)","m3",100]
["7.6","Ручни утовар у камион:",null,0]
["7.6.1","Ручни утовар у камион: Шљунка, песка, ризле и туцаника","m3",191]
["7.6.2","Ручни утовар у камион: Земље","m3",193]
["7.6.3","Ручни утовар у камион: Асфалта","t",191]
["7.6.4","Ручни утовар у камион: Шута","m3",253]
["7.6.5","Ручни утовар у камион: Ивичњака","t",208]
["8","Редовно одржавање асфалтних коловоза"]
["8.1","Израда постељице.\nЦена обухвата: планирање постељице машински уз ручну поправку и ваљање вибоваљком.","m2",73.42]
["8.2","Поправка неасвалтираног каменог застора брдском дробином из сипара или шљунком са спрудишта.\nЦена обухвата: машинско прикупљање материјала, риљање старог застора, разастирање, планирање дробљеног каменог агрегата и сабијање ваљком уз потребно квашење. Превоз материјала и менаизације се обрачунава посебно.","m3",2547.6999999999998]
["8.3","Ручно крпљење ударних рупа брдском дробином из сипара или шљунком са спрудишта.\nЦена обухвата: машинско прикупљање материјала и утовар у камион, исецања ивице рупе, раскопавање застора, чишћење и попуњавање рупе, раскопавање застора, чишћење и попуњавање рупе као и ваљање виброваљком. Превоз материјала и механизације се обрачунава посебно.",null,0]
["8.3.1","Ручно крпљење ударних рупа брдском дробином из сипара или шљунком са спрудишта.\nЦена обухвата: машинско прикупљање материјала и утовар у камион, исецања ивице рупе, раскопавање застора, чишћење и попуњавање рупе, раскопавање застора, чишћење и попуњавање рупе као и ваљање виброваљком. Превоз материјала и механизације се обрачунава посебно.\n- са ваљањем","m3",2747.19]
["8.3.2","Ручно крпљење ударних рупа брдском дробином из сипара или шљунком са спрудишта.\nЦена обухвата: машинско прикупљање материјала и утовар у камион, исецања ивице рупе, раскопавање застора, чишћење и попуњавање рупе, раскопавање застора, чишћење и попуњавање рупе као и ваљање виброваљком. Превоз материјала и механизације се обрачунава посебно.\n- без ваљања","m3",2695]
["8.4","Опсецање ивица ударних рупа и улегнућа коловозу са пребацивањем раскопаног материјала на банкину и чишћење рупе.",null,0]
["8.4.1","Опсецање ивица ударних рупа и улегнућа коловозу са пребацивањем раскопаног материјала на банкину и чишћење рупе. Ручно","m",83.62]
["8.4.2","Опсецање ивица ударних рупа и улегнућа коловозу са пребацивањем раскопаног материјала на банкину и чишћење рупе. Машински","m",58.51]
["8.5","Рушење испуцалог асфалтног коловоза дебљине d = 6-8 cm, са пребацивањем ископаног материјала на банкину и чишћењем рупе. За дебљину већу или мању од 6 cm кориговати на одговарајућу дебљину од средње. ",null,0]
["8.5.1","Рушење испуцалог асфалтног коловоза дебљине d = 6-8 cm, са пребацивањем ископаног материјала на банкину и чишћењем рупе. За дебљину већу или мању од 6 cm кориговати на одговарајућу дебљину од средње. \n- Машински","m2",304.82]
["8.5.2","Рушење испуцалог асфалтног коловоза дебљине d = 6-8 cm, са пребацивањем ископаног материјала на банкину и чишћењем рупе. За дебљину већу или мању од 6 cm кориговати на одговарајућу дебљину од средње. \n- Ручно","m2",398.75]
["8.6","Ручно крпљење ударних рупа природним шљунком. Цена обухвата: раскопавање застора, чишцење и попуњавање рупе и ваљање виброваљком. Превоз материјала и механизације се обрачунава посебно. ",null,0]
["8.6.1","Ручно крпљење ударних рупа природним шљунком. Цена обухвата: раскопавање застора, чишцење и попуњавање рупе и ваљање виброваљком. Превоз материјала и механизације се обрачунава посебно. \n- Са ваљањем","t",3281.21]
["8.6.2","Ручно крпљење ударних рупа природним шљунком. Цена обухвата: раскопавање застора, чишцење и попуњавање рупе и ваљање виброваљком. Превоз материјала и механизације се обрачунава посебно. \n- Без ваљања","t",3229.03]
["8.7","Ручно пресвлачење асфалтом мањих деоница коловоза до 300 м2.\nЦена обухвата: набавку и прскање емулзијом у предходно очишћену површину, превоз механизације до места уграђивања асфалта и ваљање виброваљком. Посебно се обрачунава: припрема подлоге по ценовнику и превоз асфалта и асфалтне масе.","t",4200]
["8.8","Ручно крпљење ударних рупа асфалтном масом на коловозу, у предходно очишценом емулзијом препрскану ударну рупу и ивица. Ударну рупу попунити асфалтном масом са надвишењем и ваљати до потребне збијености. Набавку асфалтне масе и транспорт асфалтне масе од произвиђача до места уграђивања посебно урачунати.","t",4600]
["8.9","Пресвлачење мањих деоница коловоза финишером (дузине 250 м у целој ширини коловоза или 500 м у 1/2 коловоза) Цена обухвата: производњу асфалтне масе, превоз механизације и радника од асфалтне базе до места уграђивања, уграђивање финишером и ваљање гарнитуром ваљка. Пре пресвлачења обавезно се врши ручно крпљење коловоза и то се посебно наплаћује. Транспорт агрегата од произвођача до асфалтне базе, као и транспорт асфалтне масе од базе до места уграђивања посебно наплаћује.",null,0]
["8.9.1","Пресвлачење мањих деоница коловоза финишером (дузине 250 м у целој ширини коловоза или 500 м у 1/2 коловоза) Цена обухвата: производњу асфалтне масе, превоз механизације и радника од асфалтне базе до места уграђивања, уграђивање финишером и ваљање гарнитуром ваљка. Пре пресвлачења обавезно се врши ручно крпљење коловоза и то се посебно наплаћује. Транспорт агрегата од произвођача до асфалтне базе, као и транспорт асфалтне масе од базе до места уграђивања посебно наплаћује.\n- Асфалт бетоном или БНХС","t",12000]
["8.10","Ручно опсецање ивица ударних рупа и улегнућа секачем са пребацивањем раскопаног материјала на банкину и издувавањем рупе на компресором.","m",102.21]
["8.11","Ручно чишцење савремених коловоза од блата и нечистоће. Цена обухвата рад радника на чишћењу блата, просечне дебљине 2 cm, са утоваром у колица и одвозом на      20 м.","m2",36.25]
["8.12","Ручно рушење асфалтног коловоза d = 7 cm на тампону са вађењем материјала, утоваром и превозом на депонију.","m2",95]
["8.13","Ваљање туцаничког коловозног застора од камена IV категорије","m2",51]
["8.14","Планирање-припрема подлоге пешачке стазе. Цена обухвата: ручно планирање са сабијањем тротоарским ваљком. Превоз материјала и механизације се обраачунава посебно.",null,0]
["8.14.1","Планирање-припрема подлоге пешачке стазе. Цена обухвата: ручно планирање са сабијањем тротоарским ваљком. Превоз материјала и механизације се обраачунава посебно.\n- У материјалу III и IV категорије","m2",59.77]
["8.14.2","У материјалу V и VI категорије","m2",71.73]
["8.15","Ручно рушење ивичњака са бетонском подлогом и утоваром у камион. ",null,0]
["8.15.1","Ручно рушење ивичњака са бетонском подлогом и утоваром у камион. \n20/24 cm","m",446]
["8.15.2","Ручно рушење ивичњака са бетонском подлогом и утоваром у камион. \n- 18/24 cm","m",357]
["8.16","Демонтажа ивичњака са рушењем бетонске подлоге и слагањем ","m",0]
["8.16.1","Демонтажа ивичњака са рушењем бетонске подлоге и слагањем 20/24 cm","m",503]
["8.16.2","Демонтажа ивичњака са рушењем бетонске подлоге и слагањем 18/24 cm","m",402]
["8.17","Постављање ивичњака са израдом бетонске подлоге и заливање фуга цементним малтером ",null,0]
["8.17.1","Постављање ивичњака са израдом бетонске подлоге и заливање фуга цементним малтером 20/24 cm","m",900]
["8.17.2","Постављање ивичњака са израдом бетонске подлоге и заливање фуга цементним малтером 18/24 cm","m",860]
["8.18 ","Постављање баштанског ивичњака 10/20/40 на слоју бетона МБ15 d = 15cm према пројекту са заливањем спојница цементним малтером ","m",860]
["8.19","Ручно рушење неармираних бетонских плоча",null,0]
["8.19.1","Ручно рушење неармираних бетонских плоча 10 cm дебљине","m",446]
["8.19.2","Ручно рушење неармираних бетонских плоча 20 cm дебљине","m",357]
["8.20","Набавка асфалтне масе ","t",9000]
["8.21","Набавка битуменске емулзије (по фактури добављача)","l",103]
["8.22","Разастирање и ваљање гребаног асфалта","m3",350]
["8.23","Израда решетке за атмосферску воду ширине 30 cm","m",6000]
["8.24","Бетонирање потпорних зидова у оплати","m3",11096.92]
["8.25","Армирање потпорних зидова, само рад","kg",18]
["8.26","Израда и монтажа металне ограде на мостовима са свим нормираним радњама","m2",4200]
["8.27","Фарбање металне ограде на мосту са материјалом","m2",960]
["8.28","Ручно уграђивање бетона малих пресека на m2 или m конструкције са квашењем бетона и превозом бетона аутомешалицом на 30km",null,0]
["8.28.1","Ручно уграђивање бетона малих пресека на m2 или m конструкције са квашењем бетона и превозом бетона аутомешалицом на 30km\nНеармине конструкције","m3",5524.17]
["8.28.2","Ручно уграђивање бетона малих пресека на m2 или m конструкције са квашењем бетона и превозом бетона аутомешалицом на 30km\nАрмиране конструкције","m3",5702.82]
["8.29","Набавка дробљеног кречњачког каменог агрегата фракције 0-31,5 mm ","t",645]
["8.30","Набавка дробљеног кречњачког каменог агрегата фракције 2 - 4 mm ","t",827]
["8.31","Набавка природног шљунка","m3",1660]
["8.32","Набавка сепарисаног песка 0-4мм","m3",2080]
["8.33","Набавка сепарисане мешавине","m3",2000]
["8.34","Набавка иберлауфа","m3",1500]
["8.35","Набавка тињавице-земље","m3",1400]
["9","Превоз асфалта, тампона, туцаника и осталог грађевинског материјала"]
["9.1","Камион носивости од 8 - 25 тона ",null,0]
["9.1.1","Камион носивости од 8 - 25 тона до 3 km","t",288.36]
["9.1.2","Камион носивости од 8 - 25 тона 3-10 km","t",360.26]
["9.1.3","Камион носивости од 8 - 25 тона 10-15 km","t",416.4]
["9.1.4","Камион носивости од 8 - 25 тона 15-20 km","t",461.52]
["9.1.5","Камион носивости од 8 - 25 тона 20-25 km","t",474]
["9.1.6","Камион носивости од 8 - 25 тона 25-30 km","t",498.65]
["9.1.7","Камион носивости од 8 - 25 тона 30-40 km","t",719.21]
["9.1.8","Камион носивости од 8 - 25 тона 40-45 km","t",792.74]
["9.1.9","Камион носивости од 8 - 25 тона 45-50 km","t",866.28]
["9.1.10","Камион носивости од 8 - 25 тона 50-55 km","t",939.8]
["9.1.11","Камион носивости од 8 - 25 тона 55-60 km","t",1086.8499999999999]
["9.1.12","Камион носивости од 8 - 25 тона 60-70 km","t",1233.9100000000001]
["9.1.13","Камион носивости од 8 - 25 тона 70-80 km","t",1380.97]
["9.1.14","Камион носивости од 8 - 25 тона 80-100 km","t",1528.01]
["9.2","Превоз нисконосећом приколицом. У цену урачунат: ",null,0]
["9.2.1","Превоз нисконосећом приколицом. У цену урачунат: Рад нисконосеће приколице на превозу","km",731.5]
["9.2.2","Превоз нисконосећом приколицом. У цену урачунат: Рад вучног камиона по радном часу, ФАП 1314","час",3300]
["9.2.3","Превоз нисконосећом приколицом. У цену урачунат: Рад вучног камиона по радном часу, ФАП 2023","час",3500]
["9.2.4","Превоз нисконосећом приколицом. У цену урачунат: Чекање нисконосеће приколице у моменту утовара, истовара","час",256.12]
["9.2.5","Превоз нисконосећом приколицом. У цену урачунат: Чекање вучног камиона у моменту утовара, истовара","час",753.99]
[10,"Цене рада радника"]
["10.1","Физички радник","час",491.12]
["10.2","Радник на одржавању водовода и канализације","час",590]
["10.3","Грађевински радник - Бравар","час",590]
["10.4","Електричар","час",687.56]
["10.5","Магационер","час",687.56]
["10.6","Механичар","час",687.56]
["10.7","Руководилац грађевинских машина","час",687.56]
["10.8","Возач","час",687.56]
["10.9","Пословођа радних јединица и шеф возног парка","час",785.79]
["10.10","Инжењер","час",982.23]
["10.11","Дипломирани грађевински инжењер","час",1227.79]
["11","Цене рада механизације"]
["11.1","Конбинована машина Неw Холланд","час",4715]
["11.2","Мини хидраулични багер","час",4370]
["11.3","Комбинована машина CASE","час",5405]
["11.4","Ваљак од 10 t","час",4025]
["11.5","Ваљак од 2 t","час",2875]
[null,"Камион ФАП 1314","час",3300]
["11.6","Камион ФАП 2023","час",4025]
["11.7","Трактор до 60 кw ИМТ 560 i Solis 50",null,0]
["11.7.1","Трактор до 60 кw ИМТ 560 i Solis 50 цена за рад","час",2331]
["11.7.2","Трактор до 60 кw ИМТ 560 i Solis 50 цена за цекање","час",1495]
["11.8","Утоваривач JCB \"Robot 150\" ",null,0]
["11.8.1","Утоваривач JCB \"Robot 150\" Цена за рад","час",3680]
["11.8.2","Утоваривач JCB \"Robot 150\" Цена за цекање","час",2070]
["11.9","Kamion TAM 80, GAZ","km",161]
["11.10","Ротациони багер гусеничар JCB ","час",6900]
["11.11","Ротациони багер гусеничар JCB - ископ земље у материјалу III и IV категорије са одбацивањем у страну за формирање обала. Делимичан рад у мокром","m3",237.75]
["11.12","Ротациони багер гусеничар JCB машинско разастирање до 30м предходно ископаног материјала, насип материјала (обала) са планирањем ","m3",97.75]
["11.13","Ротациони багер гусеничар JCB машински ископ са депоније, утовар у возило","m3",287.5]
["11.14","Нисконосећа приколица са камионом (200+160)","km",414]
["11.15","Fiat panda, Lada Niva, Volkswagen, Caddy,  Peugeot 407","km",80.5]
[null,"Лада нива","km",80.5]
["11.16","Моторни телескоп-пецаљка","час",1932]
["11.17","Вибро плоча","час",2875]
["11.18","Аутогено заваривање (по вару)","ком",908.5]
["11.19","Електрична варилица (по вару)","ком",1138.5]
["11.20","Секачица за бетон","m",322]
["11.21","Секачица за асфалт","m",284.5]
["11.22","Агрегат 6 кw","час",3565]
["11.23","Радио локатор","час",4600]
["11.24","Машина за отпушивање канализационе цеви","час",4025]
["11.25","Хилти бушалица","час",603.75]
["11.26","Мешалица за бетон","час",223.1]
["11.27","Моторна тестера за дрва","час",966]
["11.28","Вакум пумпа Хонда","час",575]
["11.29","Ручна моторна косачица за шибље (тример)","час",966]
["11.30","Моторна косачица за траву (спортски терени)","m2",2.13]
["11.31","Вожња аутосмећара","km",161]
["11.32","Камион за одвоз смећа - аутосмећар (мањи) IVЕЦО","тура",4485]
["11.33","Камион за одвоз смећа ФАП 1823 - аутосмећар","тура",5175]
["11.34","Мобилне пластичне цистерне за воду за пиће од 1 м³ (без превоза)","дан",172.5]
["11.35","Цистерна за воду за пиће ",null,0]
["11.35.1","Цистерна за воду за пиће Фиксни део","час",5175]
["11.35.2","Цистерна за воду за пиће Превоз","km",161]
["11.36","Булдозер 75-150 kw","час",7475]
[null,"Булдозер 100 ks","час",7475]
[null,"Булдозер 150 ks","час",7475]
["11.37","Грејдер","час",8050]
["12","Бушење испод пута са припремом терена"]
["12.1","Бушење испод пута Ø 63 mm - 2 col","m",3000]
["12.2","Бушење испод пута Ø 110 mm - 4 col ","m",3500]
["12.3","Бушење испод пута Ø 125 mm - 4,5 col","m",4000]
["12.4","Бушење испод пута Ø 160 mm - 6 col","m",4800]
["12.5","Бушење испод пута Ø 200 mm - 7 col","m",5100]
["12.6","Бушење испод пута Ø 315 mm - 12 col","m",5500]
["13","Механизација на пословима зимског одржавања локалних путева и улица"]
["13.1","Ровокопач утоваривач \"New Holland\" ","час",5658]
["13.1.1","Ровокопач утоваривач \"New Holland\" Празан ход","час",3000]
["13.1.2","Ровокопач утоваривач \"New Holland\" Дежурство са возачем","час",1040]
["13.2","Ровокопач утоваривач \"CASE\" ","час",6486]
["13.2.1","Ровокопач утоваривач \"CASE\" Празан ход","час",3300]
["13.2.2","Ровокопач утоваривач \"CASE\" Дежурство са возачем","час",1040]
["13.3","Камион 4x4 са раоником и епохом ","час",5544]
["13.3.1","Камион 4x4 са раоником и епохом Празан ход","час",2600]
["13.3.2","Камион 4x4 са раоником и епохом Дежурство са возачем","час",1170]
["13.4","Камион кипер са раоником ","час",4621]
["13.4.1","Камион кипер са раоником Празан ход","час",2600]
["13.4.2","Камион кипер са раоником Дежурство са возачем","час",1040]
["13.5","Мини хидраулицни багер ","час",5244]
["13.5.1","Мини хидраулицни багер Празан ход","час",2600]
["13.5.2","Мини хидраулицни багер Дежурство са возачем","час",1040]
["13.6","Утоваривач JCB \"Robot 150\" ","час",3520]
["13.6.1","Утоваривач JCB \"Robot 150\" Празан ход","час",1900]
["13.6.2","Утоваривач JCB \"Robot 150\" Дежурство са возачем","час",800]
["13.7","Камион TAM 80 путар","km",193]
["13.8","Лада нива","km",193]
["13.9","Фиат панда","km",193]
["13.10","Ручно бацање соли(утрошак соли и ризле по фактури)","час",858]
["13.11","Трактор ИМТ 560 са елеватором ","час",2860]
["13.11.1.","Трактор ИМТ 560 са елеватором Празан ход","час",2600]
["13.11.2","Трактор ИМТ 560 са елеватором Дежурство са возачем","час",1040]
["13.12","Набавка соли(транспорт се посебно наплаћује)","kg",15.95]
["13.13","Набавка камене дробине 2-4 mm за епоху и ручно забацивање(транспорт се посебно наплаћује)","t",827]
["14","Радници на пословима зимског одржавања локалних путева и улица"]
["14.1","Радник на зимском одржавању локалних и некатегорисаних путева","час",589.4]
["14.2","Радник на чишћењу улица","час",589.4]
["14.3","Радник НК, путар - Физички радник","час",928.5]
["14.4","Механичар","час",996]
["14.5","Магационер","час",825]
["14.6","Пословођа радних јединица","час",943]
["14.7","Шеф машинског парка","час",1037.24]
["14.8","Возач - машиниста(цена обухвата дежурство возача или руковаоца машине)","час",996]
["14.9","Шеф радних јединица","час",1386]
["14.10","Машиниста","час",928.51]
["14.11","Возач путничког аутомобила","час",928.51]
["14.12","Одговорно лице","час",1155]
[15,"Дезинфекција улица"]
["15.1","Ручно чишћење улица",null,0]
["15.1.1","Ручно чишћење улица које се не чисте свакодневно","m2",1.37]
["15.2","Прање улица аутоцистерном - дезинфекција",null,0]
["15.2.1","Прање улица аутоцистерном - цревом","m2",2.9]
["15.2.2","Прање улица аутоцистерном - на чкољку","m2",1.3]
["15.3","Дезинфекција улица",null,0]
["15.3.1","Дезинфекција улица, јавних површина (леђном ручном прскалицом)","m2",6.7]
["16","Радови по рачуну"]
["16.1",{"$f":"'Radovi po RACUNU'!B3","v":"Набавка материјала за израду решетке"},{"$f":"'Radovi po RACUNU'!C3","v":"ком"},{"$f":"'Radovi po RACUNU'!D3","v":29150}]
["16.2",{"$f":"'Radovi po RACUNU'!B4","v":"Набавка материјала за крпљење ударних рупа"},{"$f":"'Radovi po RACUNU'!C4","v":"дин"},{"$f":"'Radovi po RACUNU'!D4","v":33200}]
["16.3",{"$f":"'Radovi po RACUNU'!B5","v":"Набавка материјала за израду ударних рупа"},{"$f":"'Radovi po RACUNU'!C5","v":"дин"},{"$f":"'Radovi po RACUNU'!D5","v":8000}]
["16.4",{"$f":"'Radovi po RACUNU'!B6","v":"Ручно уграђивање бетона малих пресека на м2 или м конструкциј са квашењем бетона и превозом бетона аутомешалицом на 30км"},{"$f":"'Radovi po RACUNU'!C6","v":"м2"},{"$f":"'Radovi po RACUNU'!D6","v":5524.17}]
["16.5",{"$f":"'Radovi po RACUNU'!B7","v":"Набавка цевстих пропуста Ф1000"},{"$f":"'Radovi po RACUNU'!C7","v":"ком"},{"$f":"'Radovi po RACUNU'!D7","v":14400}]
["16.6",{"$f":"'Radovi po RACUNU'!B8","v":"Набавка каменог агрегата 0-31,5 мм (радови из маја месеца)"},{"$f":"'Radovi po RACUNU'!C8","v":"т"},{"$f":"'Radovi po RACUNU'!D8","v":645}]
["16.7",{"$f":"'Radovi po RACUNU'!B9","v":0},{"$f":"'Radovi po RACUNU'!C9","v":0},{"$f":"'Radovi po RACUNU'!D9","v":0}]
["16.8",{"$f":"'Radovi po RACUNU'!B10","v":0},{"$f":"'Radovi po RACUNU'!C10","v":0},{"$f":"'Radovi po RACUNU'!D10","v":0}]
["16.9",{"$f":"'Radovi po RACUNU'!B11","v":0},{"$f":"'Radovi po RACUNU'!C11","v":0},{"$f":"'Radovi po RACUNU'!D11","v":0}]
["16.10",{"$f":"'Radovi po RACUNU'!B12","v":0},{"$f":"'Radovi po RACUNU'!C12","v":0},{"$f":"'Radovi po RACUNU'!D12","v":0}]
["16.11",{"$f":"'Radovi po RACUNU'!B13","v":0},{"$f":"'Radovi po RACUNU'!C13","v":0},{"$f":"'Radovi po RACUNU'!D13","v":0}]
["16.12",{"$f":"'Radovi po RACUNU'!B14","v":0},{"$f":"'Radovi po RACUNU'!C14","v":0},{"$f":"'Radovi po RACUNU'!D14","v":0}]
["16.13",{"$f":"'Radovi po RACUNU'!B15","v":0},{"$f":"'Radovi po RACUNU'!C15","v":0},{"$f":"'Radovi po RACUNU'!D15","v":0}]
["16.14",{"$f":"'Radovi po RACUNU'!B16","v":0},{"$f":"'Radovi po RACUNU'!C16","v":0},{"$f":"'Radovi po RACUNU'!D16","v":0}]
["16.15",{"$f":"'Radovi po RACUNU'!B17","v":0},{"$f":"'Radovi po RACUNU'!C17","v":0},{"$f":"'Radovi po RACUNU'!D17","v":0}]
["16.16",{"$f":"'Radovi po RACUNU'!B18","v":0},{"$f":"'Radovi po RACUNU'!C18","v":0},{"$f":"'Radovi po RACUNU'!D18","v":0}]
["16.17",{"$f":"'Radovi po RACUNU'!B19","v":0},{"$f":"'Radovi po RACUNU'!C19","v":0},{"$f":"'Radovi po RACUNU'!D19","v":0}]
["16.18",{"$f":"'Radovi po RACUNU'!B20","v":0},{"$f":"'Radovi po RACUNU'!C20","v":0},{"$f":"'Radovi po RACUNU'!D20","v":0}]
["16.19",{"$f":"'Radovi po RACUNU'!B21","v":0},{"$f":"'Radovi po RACUNU'!C21","v":0},{"$f":"'Radovi po RACUNU'!D21","v":0}]
["16.20",{"$f":"'Radovi po RACUNU'!B22","v":0},{"$f":"'Radovi po RACUNU'!C22","v":0},{"$f":"'Radovi po RACUNU'!D22","v":0}]
["16.21",{"$f":"'Radovi po RACUNU'!B23","v":0},{"$f":"'Radovi po RACUNU'!C23","v":0},{"$f":"'Radovi po RACUNU'!D23","v":0}]
["16.22",{"$f":"'Radovi po RACUNU'!B24","v":0},{"$f":"'Radovi po RACUNU'!C24","v":0},{"$f":"'Radovi po RACUNU'!D24","v":0}]
["16.23",{"$f":"'Radovi po RACUNU'!B25","v":0},{"$f":"'Radovi po RACUNU'!C25","v":0},{"$f":"'Radovi po RACUNU'!D25","v":0}]
["16.24",{"$f":"'Radovi po RACUNU'!B26","v":0},{"$f":"'Radovi po RACUNU'!C26","v":0},{"$f":"'Radovi po RACUNU'!D26","v":0}]
["16.25",{"$f":"'Radovi po RACUNU'!B27","v":0},{"$f":"'Radovi po RACUNU'!C27","v":0},{"$f":"'Radovi po RACUNU'!D27","v":0}]
["16.26",{"$f":"'Radovi po RACUNU'!B28","v":0},{"$f":"'Radovi po RACUNU'!C28","v":0},{"$f":"'Radovi po RACUNU'!D28","v":0}]
["16.27",{"$f":"'Radovi po RACUNU'!B29","v":0},{"$f":"'Radovi po RACUNU'!C29","v":0},{"$f":"'Radovi po RACUNU'!D29","v":0}]
["16.28",{"$f":"'Radovi po RACUNU'!B30","v":0},{"$f":"'Radovi po RACUNU'!C30","v":0},{"$f":"'Radovi po RACUNU'!D30","v":0}]
["16.29",{"$f":"'Radovi po RACUNU'!B31","v":0},{"$f":"'Radovi po RACUNU'!C31","v":0},{"$f":"'Radovi po RACUNU'!D31","v":0}]
["16.30",{"$f":"'Radovi po RACUNU'!B32","v":0},{"$f":"'Radovi po RACUNU'!C32","v":0},{"$f":"'Radovi po RACUNU'!D32","v":0}]
["16.31",{"$f":"'Radovi po RACUNU'!B33","v":0},{"$f":"'Radovi po RACUNU'!C33","v":0},{"$f":"'Radovi po RACUNU'!D33","v":0}]
["16.32",{"$f":"'Radovi po RACUNU'!B34","v":0},{"$f":"'Radovi po RACUNU'!C34","v":0},{"$f":"'Radovi po RACUNU'!D34","v":0}]
["16.33",{"$f":"'Radovi po RACUNU'!B35","v":0},{"$f":"'Radovi po RACUNU'!C35","v":0},{"$f":"'Radovi po RACUNU'!D35","v":0}]
["16.34",{"$f":"'Radovi po RACUNU'!B36","v":0},{"$f":"'Radovi po RACUNU'!C36","v":0},{"$f":"'Radovi po RACUNU'!D36","v":0}]
["16.35",{"$f":"'Radovi po RACUNU'!B37","v":0},{"$f":"'Radovi po RACUNU'!C37","v":0},{"$f":"'Radovi po RACUNU'!D37","v":0}]
["16.36",{"$f":"'Radovi po RACUNU'!B38","v":0},{"$f":"'Radovi po RACUNU'!C38","v":0},{"$f":"'Radovi po RACUNU'!D38","v":0}]
["16.37",{"$f":"'Radovi po RACUNU'!B39","v":0},{"$f":"'Radovi po RACUNU'!C39","v":0},{"$f":"'Radovi po RACUNU'!D39","v":0}]
["16.38",{"$f":"'Radovi po RACUNU'!B40","v":0},{"$f":"'Radovi po RACUNU'!C40","v":0},{"$f":"'Radovi po RACUNU'!D40","v":0}]
["16.39",{"$f":"'Radovi po RACUNU'!B41","v":0},{"$f":"'Radovi po RACUNU'!C41","v":0},{"$f":"'Radovi po RACUNU'!D41","v":0}]
["16.40",{"$f":"'Radovi po RACUNU'!B42","v":0},{"$f":"'Radovi po RACUNU'!C42","v":0},{"$f":"'Radovi po RACUNU'!D42","v":0}]
["16.41",{"$f":"'Radovi po RACUNU'!B43","v":0},{"$f":"'Radovi po RACUNU'!C43","v":0},{"$f":"'Radovi po RACUNU'!D43","v":0}]
["16.42",{"$f":"'Radovi po RACUNU'!B44","v":0},{"$f":"'Radovi po RACUNU'!C44","v":0},{"$f":"'Radovi po RACUNU'!D44","v":0}]
["16.43",{"$f":"'Radovi po RACUNU'!B45","v":0},{"$f":"'Radovi po RACUNU'!C45","v":0},{"$f":"'Radovi po RACUNU'!D45","v":0}]
["16.44",{"$f":"'Radovi po RACUNU'!B46","v":0},{"$f":"'Radovi po RACUNU'!C46","v":0},{"$f":"'Radovi po RACUNU'!D46","v":0}]
["16.45",{"$f":"'Radovi po RACUNU'!B47","v":0},{"$f":"'Radovi po RACUNU'!C47","v":0},{"$f":"'Radovi po RACUNU'!D47","v":0}]
["16.46",{"$f":"'Radovi po RACUNU'!B48","v":0},{"$f":"'Radovi po RACUNU'!C48","v":0},{"$f":"'Radovi po RACUNU'!D48","v":0}]
["16.47",{"$f":"'Radovi po RACUNU'!B49","v":0},{"$f":"'Radovi po RACUNU'!C49","v":0},{"$f":"'Radovi po RACUNU'!D49","v":0}]
["16.48",{"$f":"'Radovi po RACUNU'!B50","v":0},{"$f":"'Radovi po RACUNU'!C50","v":0},{"$f":"'Radovi po RACUNU'!D50","v":0}]
["16.49",{"$f":"'Radovi po RACUNU'!B51","v":0},{"$f":"'Radovi po RACUNU'!C51","v":0},{"$f":"'Radovi po RACUNU'!D51","v":0}]
["16.50",{"$f":"'Radovi po RACUNU'!B52","v":0},{"$f":"'Radovi po RACUNU'!C52","v":0},{"$f":"'Radovi po RACUNU'!D52","v":0}]

{"sheet":"Radovi po RACUNU","index":4,"n_rows":52,"n_cols":4,"rows_kept":52,"cut":false,"hidden":false,"merged":[]}
["Шифра позиције","Назив Позиције","Jedinica mere","Једин. Цена"]
["16","Радови по рачуну"]
["16.1","Набавка материјала за израду решетке",null,29150]
["16.2","Набавка материјала за крпљење ударних рупа","дин",33200]
["16.3","Набавка материјала за израду ударних рупа","дин",8000]
["16.4","Ручно уграђивање бетона малих пресека на м2 или м конструкциј са квашењем бетона и превозом бетона аутомешалицом на 30км","м2",5524.17]
["16.5","Набавка цевстих пропуста Ф1000","ком",14400]
["16.6","Набавка каменог агрегата 0-31,5 мм (радови из маја месеца)","т",645]
["16.7",null,null,0]
["16.8",null,null,0]
["16.9",null,null,0]
["16.10",null,null,0]
["16.11",null,null,0]
["16.12",null,null,0]
["16.13",null,null,0]
["16.14",null,null,0]
["16.15",null,null,0]
["16.16",null,null,0]
["16.17",null,null,0]
["16.18",null,null,0]
["16.19",null,null,0]
["16.20",null,null,0]
["16.21",null,null,0]
["16.22",null,null,0]
["16.23",null,null,0]
["16.24",null,null,0]
["16.25",null,null,0]
["16.26",null,null,0]
["16.27",null,null,0]
["16.28",null,null,0]
["16.29",null,null,0]
["16.30",null,null,0]
["16.31",null,null,0]
["16.32",null,null,0]
["16.33",null,null,0]
["16.34",null,null,0]
["16.35",null,null,0]
["16.36",null,null,0]
["16.37",null,null,0]
["16.38",null,null,0]
["16.39",null,null,0]
["16.40",null,null,0]
["16.41",null,null,0]
["16.42",null,null,0]
["16.43",null,null,0]
["16.44",null,null,0]
["16.45",null,null,0]
["16.46",null,null,0]
["16.47",null,null,0]
["16.48",null,null,0]
["16.49",null,null,0]
["16.50",null,null,0]

{"sheet":"liste","index":5,"n_rows":1391,"n_cols":16,"rows_kept":1391,"cut":false,"hidden":true,"merged":[]}
[]
["MESECI",null,null,null,"mesec",null,"Odobrenje",null,"LokacijaRadova","LokacijeRadovaCir2","LokacijeRadovaLat",null,"ОП","Ул","ЈЗП","ФТ"]
["ЈАНУАР","01.01.","31.01.",null,"јануар",null,"ДА",null,"Општински путеви","ОП","OP",null,"ОП 136-1 - Гаџин Хан - Доњи Душник","Доње Драговље - Некатегорисан пут","Велики Вртоп-Амбуланта: П 1-2470","Гаџин Хан-Фудбалски терен: П1-9100"]
["ФЕБРУАР","01.02.","28.02.",null,"фебруар",null,"НЕ",null,"Улице","Ул","Ul",null,"ОП 136-2 - Барје - Равна Дубрава","Доње Драговље - Миљковић Трифуна","Велики Вртоп-Задружни Дом, Спомен соба: П 1-330","Гркиња-Фудбалски Терен: П1-5460"]
["МАРТ","01.03.","31.03.",null,"март",null,null,null,"Јавне зелене површине","ЈЗП","JZP",null,"ОП 136-3 - Гаџин Хан - Копривница","Доње Драговље - Јовановић Влајка","Велики Вртоп-Црква Пресвете Богородице: П 1-2080","Доњи Душник-Фудбалски терен: П1-7930"]
["АПРИЛ","01.04.","30.04.",null,"април",null,null,null,"Фудбалски терени","ФТ","FT",null,"ОП 136-4 - Доњи Душник - Гаре","Доње Драговље - Гроздановић Влајка","Велики Вртоп-Школа: П 1-9200","Заплањска Топоница-Фудбалски Терен: П1-5600"]
["МАЈ","01.05.","31.05.",null,"мај",null,null,null,null,null,null,null,"ОП 136-5 - Доњи Душник - Горњи Душник","Доње Драговље - Станковић Богдана","Велики Крчимир-Три локве: П1-5551","Марина Кутина-Фудбалски терен: П1-5490"]
["ЈУН","01.06.","30.06.",null,"јун",null,null,null,null,null,null,null,"ОП 136-6 - Држ.пут II А  бр. 224 - Сопотница - Калетинац","Доње Драговље - Маринковић Цанета","Велики Крчимир-Три локве: П2-588","Тасковићи-Фудбалски терен: П1-6050"]
["ЈУЛ","01.07.","31.07.",null,"јул",null,null,null,null,null,null,null,"ОП 136-7 - Држ.пут II А  бр. 224 - Доње Драговље","Доње Драговље - Николе Грујића","Велики Крчимир-Црква: П1-3326","Личје-Фудбалски терен: П1-1925"]
["АВГУСТ","01.08.","31.08.",null,"август",null,null,null,null,null,null,null,"ОП 136-8 - Држ.пут II А  бр. 224 - Овсињинац","Доње Драговље - Миљковић Антанасије ","Велики Крчимир-Школа: П1-1839","Велики Вртоп-Фудбалски терен: П1-4250"]
["СЕПТЕМБАР","01.09.","30.09.",null,"септембар",null,null,null,null,null,null,null,"ОП 136-9 - Држ.пут II А  бр. 224 - Горње Драговље (Воденица)","Доње Драговље - Милоша Обилића","Велики Крчимир-Школа: П2-411"]
["ОКТОБАР","01.10.","31.10.",null,"октобар",null,null,null,null,null,null,null,"ОП 136-10 - Држ.пут II А  бр. 224 - Личје","Доње Драговље - Никодија Стојановића","Гаџин Хан-Дом здравља: П 1-360"]
["НОВЕМБАР","01.11.","30.11.",null,"новембар",null,null,"Primer padajuće liste",null,null,null,null,"ОП 136-11 - Држ.пут II А  бр. 224 - Семче","Доње Драговље - Владимира Стоиљковића","Гаџин Хан-Дом здравља: П 2-624"]
["ДЕЦЕМБАР","01.12.","31.12.",null,"децембар",null,null,"ЈЗП",{"$f":"INDEX(LokacijeRadovaLat,MATCH(H14,J3:J6,0))","v":"JZP"},"Тасковићи-7. Јули",null,null,"ОП 136-12 - Држ.пут II А  бр. 224 - Личје, Букиче","Доње Драговље - Ненада Цветановића","Гаџин Хан-Дом здравља: П 3-2091"]
[null,null,null,null,null,null,null,null,null,null,null,null,"ОП 136-13 - Равна Дубрава - Комарица","Доње Драговље - Ненада Цветановића  -  прилаз","Гаџин Хан-Дом културе: П 1-560"]
["Godine",null,null,null,null,null,null,null,null,null,null,null,"ОП 136-14 - Држ.пут II А  бр. 224 - Сопотница","Доње Драговље - Илић Јаћима ","Гаџин Хан-Дом културе: П 2-312"]
["2025.",null,null,null,null,null,null,null,null,null,null,null,"ОП 136-15 - Држ.пут II А  бр. 224 - Миљковац","Доње Драговље - Ромска","Гаџин Хан-Дом културе: П 3-848"]
["2026.",null,null,null,null,null,null,null,null,null,null,null,"ОП 136-16 - Држ.пут II А  бр. 224 - Гаре","Доње Драговље - Светог Саве","Гаџин Хан-Кеј: П 1-1318"]
["2027.",null,null,null,null,null,null,null,null,null,null,null,"ОП 136-17 - Краставче - Дуга Пољана","Доњи Барбеш - Некатегорисан пут","Гаџин Хан-Кеј: П 2-4326"]
["2028.",null,null,null,null,null,null,null,null,null,null,null,"ОП 136-18 - Држ.пут II А  бр. 224 - Горње Власе","Доњи Барбеш - Раденковић Тодора","Гаџин Хан-Кеј: П 3-3036"]
["2029.",null,null,null,null,null,null,null,null,null,null,null,"ОП 136-19 - Тасковићи - Гркиња","Доњи Барбеш - Крстић Божидара","Гаџин Хан-Крст: П1-686"]
["2030.",null,null,null,null,null,null,null,null,null,null,null,"ОП 136-20 - Гркиња - Горње Власе","Доњи Барбеш - Стефановић Богосава","Гаџин Хан-Крст: П2-349"]
["2031.",null,null,null,null,null,null,null,null,null,null,null,"ОП 136-21 - Држ.пут II А  бр. 225 - Виландрица","Доњи Барбеш - Јањић Владимира","Гаџин Хан-ОШ Витко и Света: П 1-435"]
["2032.",null,null,null,null,null,null,null,null,null,null,null,"ОП 136-22 - Држ.пут II А  бр. 225 - Дукат","Доњи Барбеш - Цара Лазара","Гаџин Хан-ОШ Витко и Света: П 2-303"]
["2033.",null,null,null,null,null,null,null,null,null,null,null,"ОП 136-23 - Топоница - Ново Село","Доњи Душник - Некатегорисан пут","Гаџин Хан-ОШ Витко и Света: П 3-334"]
["2034.",null,null,null,null,null,null,null,null,null,null,null,"ОП 136-24 - Горњи Барбеш - Дукат","Доњи Душник - Свете Шарчевића","Гаџин Хан-ПУ Прва радост: П 1-253"]
["2035.",null,null,null,null,null,null,null,null,null,null,null,"ОП 136-25 - Горњи Барбеш - Црквиште","Доњи Душник - Милоша Обилића","Гаџин Хан-ПУ Прва радост: П 2-875"]
[null,null,null,null,null,null,null,null,null,null,null,null,"ОП 136-26 - Доњи Барбеш - Гркиња","Доњи Душник - Велимира Вукмановића \"Вукмана\"","Гаџин Хан-ПУ Прва радост: П 3-805"]
[null,null,null,null,null,null,null,null,null,null,null,null,"ОП 136-27 - Барје - Горње Драговље","Доњи Душник - Николе Тесле","Гаџин Хан-Спортска Хала: П 1-325"]
[null,null,null,null,null,null,null,null,null,null,null,null,"ОП 136-28 - Лички Ханови - Ступница","Доњи Душник - Светозара Марковића","Гаџин Хан-Спортска Хала: П 2-1116"]
["Шифра позиције","Једин. цена 01.04.2012.",null,"Шифра позиције","Шифра позиције без тачке",null,null,null,"ОП 136-16 - Држ.пут II А  бр. 224 - Гаре",null,null,null,"ОП 136-29 - Гаџин Хан - Јагличје","Доњи Душник - Синише Јањића","Гаџин Хан-Старачки дом, Стамбена зграда: П1-711"]
[8,true,null,"1","1",null,null,null,"ОП 136-17 - Краставче – Дуга Пољана",null,null,null,"ОП 136-30 - Пут за Чагровац","Доњи Душник - 7. Јули","Гаџин Хан-Трг Драгутина Матића: П 2-81"]
["8.1",true,null,"1.1",11,null,null,null,"ОП 136-18 - Држ.пут II А  бр. 224 – Горње Власе",null,null,null,"ОП 136-31 - Дуга Пољана - Ћелије","Доњи Душник - Стевана Синђелића","Гаџин Хан-Трг Драгутина Матића: П 3-81"]
["8.2",true,null,"2","2",null,null,null,"ОП 136-19 - Тасковићи - Гркиња",null,null,null,"ОП 136-32 - Миљковац - Горњи Душник","Дуга Пољана - Некатегорисан пут","Гаџин Хан-Трг Драгутина Матића: П 4-81"]
["8.3",true,null,"2.1",21,null,null,null,"ОП 136-20 - Гркиња – Горње Власе",null,null,null,"ОП 136-33 - Мали Вртоп - Велики Вртоп-Шебет","Дуга Пољана - Милоша Обилића","Гаџин Хан-Трг Драгутина Матића: П 5-56"]
["8.4",true,null,"2.2",22,null,null,null,"ОП 136-21 - Држ.пут II А  бр. 225 - Виландрица",null,null,null,"ОП 136-34 - Мали Вртоп - Барје","Дуга Пољана - 7. Јули","Гаџин Хан-Трг Драгутина Матића: П1-81"]
["8.5",true,null,"2.3",23,null,null,null,"ОП 136-22 - Држ.пут II А  бр. 225 - Дукат",null,null,null,"ОП 136-35 - Семче - Мали Крчимир","Дукат - Некатегорисан пут","Горње Драговље-Црква: П1-574"]
["8.6.1",true,null,"2.3.1",231,null,null,null,"ОП 136-23 - Топоница – Ново Село",null,null,null,"ОП 136-36 - Пут за Мали Крчимир","Дукат - Браће Војиновића","Горње Драговље-Школа: П1-2432"]
["8.6.2",true,null,"2.3.2",232,null,null,null,"ОП 136-24 - Горњи Барбеш - Дукат",null,null,null,"ОП 136-37 - Мали Крчимир - Три локве","Дукат - Вука Караџића","Горњи Барбеш-Дом Здравља: П1-288"]
["8.6.3",true,null,"2.3.3",233,null,null,null,"ОП 136-25 - Горњи Барбеш - Црквиште",null,null,null,"ОП 136-38 - Мали Крчимир - Велики Крчимир","Дукат - Браће Стојановића","Горњи Барбеш-Месна канцеларија, пошта: П1-819"]
["8.6.4",true,null,"2.3.4",234,null,null,null,"ОП 136-26 - Доњи Барбеш - Гркиња",null,null,null,"ОП 136-39 - Велики Крчимир - Штрбовац","Дукат - Селичевица","Горњи Барбеш-Основна Школа: П1-2720"]
["8.7.1",true,null,3,3,null,null,null,"ОП 136-27 - Барје - Горње Драговље",null,null,null,"ОП 136-40 - Топоница - Грданица","Дукат - Браће Ђорђевића","Горњи Барбеш-Црква Св. Ђорђа: П1-3330"]
["8.7.2",true,null,"3.1",31,null,null,null,"ОП 136-28 - Лички Ханови - Ступница",null,null,null,null,"Дукат - Милисава Николића","Горњи Душник-Основна школа: П 1-2320"]
["8.7.3",true,null,"3.1.1",311,null,null,null,"ОП 136-29 - Гаџин Хан - Јагличје",null,null,null,null,"Дукат - 1. Мај","Горњи Душник-Споменик: П 1-240"]
["8.7.4",true,null,"3.1.2",312,null,null,null,"ОП 136-30 - Пут за Чагровац",null,null,null,null,"Дукат - 7. Јули","Горњи Душник-Црква: П 1-2466"]
["8.8.1",true,null,"3.2",32,null,null,null,"ОП 136-31 - Дуга Пољана - Ћелије",null,null,null,null,"Дукат - Црквиште","Гркиња-Месна канцеларија, З Дом: П1-72"]
["8.8.2",true,null,"3.3",33,null,null,null,"ОП 136-32 - Миљковац – Горњи Душник",null,null,null,null,"Дукат - Браће Војиновића прилаз","Гркиња-Месна канцеларија, З Дом: П2-756"]
["8.8.3",true,null,"3.3.1",331,null,null,null,"ОП 136-33 - Мали Вртоп-Велики Вртоп-Шебет",null,null,null,null,"Гаџин Хан - Некатегорисан пут","Гркиња-Месна канцеларија, З Дом: П3-604"]
["8.8.4",true,null,"3.3.2",332,null,null,null,"ОП 136-34 - Мали Вртоп - Барје",null,null,null,null,"Гаџин Хан - Бранка Миљковића","Гркиња-Основна школа: П1-4654"]
["8.9.1",true,null,"3.4",34,null,null,null,"ОП 136-35 - Семче – Мали Крчимир",null,null,null,null,"Гаџин Хан - Виноградарска","Гркиња-Површина око ФТ: П1-1422"]
["8.9.2",true,null,"3.5",35,null,null,null,"ОП 136-36 - Пут за Мали Крчимир",null,null,null,null,"Гаџин Хан - Свети Никола","Гркиња-Спомен парк палим борцима: П1-1090"]
["8.9.3",true,null,"3.5.1",351,null,null,null,"ОП 136-37 - Мали Крчимир – Три локве",null,null,null,null,"Гаџин Хан - Вука Караџића","Гркиња-Црква : П1-5245"]
["8.9.4",true,null,"3.5.2",352,null,null,null,"ОП 136-38 - Мали Крчимир – Велики Крчимир",null,null,null,null,"Гаџин Хан - Милоша Обилића","Доње Драговље-Задружни Дом: П1-1050"]
["8.10",true,null,4,4,null,null,null,"ОП 136-39 - Велики Крчимир- Штрбовац",null,null,null,null,"Гаџин Хан - 1. Мај","Доње Драговље-Црква, ФТ: П1-3850"]
["8.11",true,null,"4.1",41,null,null,null,"ОП 136-40 - Топоница - Грданица",null,null,null,null,"Гаџин Хан - Никола Тесла","Доње Драговље-Школа: П1-3130"]
["8.12",true,null,"4.2",42,null,null,null,null,null,null,null,null,"Гаџин Хан - Витка Раденковића","Доњи Барбеш-Задружни Дом, Крст: П1-3870"]
["8.13",true,null,"4.3",43,null,null,null,null,null,null,null,null,"Гаџин Хан - Светог Саве","Доњи Душник -Ветеринарска станица : П 1-300"]
["8.14",true,null,"4.4",44,null,null,null,null,null,null,null,null,"Гаџин Хан - Драгутина Матића","Доњи Душник -Ветеринарска станица : П 2-253"]
["8.15",true,null,"4.5",45,null,null,null,null,null,null,null,null,"Гаџин Хан - 12. Октобра","Доњи Душник -Задружни дом-Дом културе: П 1-1922"]
["8.16",true,null,"4.6",46,null,null,null,null,null,null,null,null,"Гаџин Хан - Дубравска","Доњи Душник-Туристичка организација: П 1-135"]
["8.17",true,null,"4.7",47,null,null,null,null,null,null,null,null,"Гаџин Хан - Венежица","Доњи Душник-Туристичка организација: П 2-176"]
["8.18",true,null,"4.8",48,null,null,null,null,null,null,null,null,"Гаџин Хан - Прокопова","Доњи Душник-Туристичка организација: П 3-337"]
["8.19",true,null,"4.9",49,null,null,null,null,null,null,null,null,"Гаџин Хан - Завојска","Доњи Душник-Туристичка организација: П 4-386"]
["8.20",true,null,"4.10",410,null,null,null,null,null,null,null,null,"Гаџин Хан - Засеок Конванлук","Доњи Душник-Туристичка организација: П 5-762"]
["8.21",true,null,"4.11",411,null,null,null,null,null,null,null,null,"Гаре - Некатегорисан пут","Доњи Душник-Туристичка организација: П 6-974"]
["8.22",true,null,"4.12",412,null,null,null,null,null,null,null,null,"Гаре - 7. Јули","Дукат-Црква : П1-8470"]
["8.23",true,null,"4.13",413,null,null,null,null,null,null,null,null,"Гаре - Добривоја Цветковића Ћире","Заплањска Топоница-Амбуланта: П1-633"]
["8.24",true,null,"4.14",414,null,null,null,null,null,null,null,null,"Гаре - Свете Шарковића","Заплањска Топоница-Вртић \"Прва радост\": П1-1493"]
["8.25",true,null,"4.15",415,null,null,null,null,null,null,null,null,"Гаре - Махала Манастириште","Заплањска Топоница-Месна канцелеларија: П1-529"]
["8.26",true,null,"4.16",416,null,null,null,null,null,null,null,null,"Горње Драговље - Некатегорисан пут","Заплањска Топоница-Пошта: П1-"]
["8.27",true,null,"4.17",417,null,null,null,null,null,null,null,null,"Горње Драговље - Никола Тесла","Заплањска Топоница-Школа: П1-4834"]
["8.28",true,null,"4.17.1",4171,null,null,null,null,null,null,null,null,"Горње Драговље - Новице Илића","Јагличје-Црква Светог Илије: П1-1115"]
["8.29",true,null,"4.17.2",4172,null,null,null,null,null,null,null,null,"Горње Драговље - Новице Илића","Јагличје-Црквено одмаралиште: П1-650"]
["8.30",true,null,"4.18",418,null,null,null,null,null,null,null,null,"Горње Драговље - 29. Новембар","Краставче-Задружни Дом/Споменик: П1-427"]
["8.31.1",true,null,"4.18.1",4181,null,null,null,null,null,null,null,null,"Горње Драговље - Солунска","Краставче-Основна Школа(стара): П1-892"]
["8.31.2",true,null,"4.18.2",4182,null,null,null,null,null,null,null,null,"Горње Драговље - Царице Милица","Краставче-Туристичко стајалиште: П1-296"]
["8.32",true,null,"4.18.3",4183,null,null,null,null,null,null,null,null,"Горње Драговље - Краљевића Марка","Краставче-Туристичко стајалиште: П2-782"]
["8.33",true,null,"4.19",419,null,null,null,null,null,null,null,null,"Горње Драговље - Патријарха Павла","Личје-Терен за мали фудбал: П2-1925"]
["8.34",true,null,"4.19.1",4191,null,null,null,null,null,null,null,null,"Горње Драговље - Југ Богдана","Личје-Ханови: П1-3440"]
["8.35",true,null,"4.19.2",4192,null,null,null,null,null,null,null,null,"Горње Драговље - Стефана Немање","Марина Кутина-Дечији Мобилијар: П1-660"]
["8.36",true,null,"4.20",420,null,null,null,null,null,null,null,null,"Горње Драговље - Краља Петра I","Марина Кутина-ЈЗП око Фудбалског Терена: П1-960"]
["8.37",true,null,"4.20.1",4201,null,null,null,null,null,null,null,null,"Горње Драговље - 1. Маја","Марина Кутина-Крст: П1-210"]
["8.38",true,null,"4.20.2",4202,null,null,null,null,null,null,null,null,"Горње Драговље - Соколска","Марина Кутина-Крст: П2-950"]
[9,true,null,"4.20.3",4203,null,null,null,null,null,null,null,null,"Горње Драговље - Свете Петке","Марина Кутина-Црква Св. Петке: П1-1100"]
["9.1.1",true,null,"4.20.4",4204,null,null,null,null,null,null,null,null,"Горње Драговље - Бранка Миљковића","Семче-Крст, Задружни Дом: П1-232"]
["9.1.2",true,null,"4.21",421,null,null,null,null,null,null,null,null,"Горње Драговље - Ружа","Семче-Одмаралиште: П1-105"]
["9.1.3",true,null,"4.21.1",4211,null,null,null,null,null,null,null,null,"Горње Власе - Некатегорисан пут","Семче-Основна Школа: П1-944"]
["9.2.1",true,null,"4.21.2",4212,null,null,null,null,null,null,null,null,"Горње Власе - Браће Јованчића","Семче-Спомен чесма: П1-477"]
["9.2.2",true,null,"4.21.3",4213,null,null,null,null,null,null,null,null,"Горње Власе - Ристе Миленковића","Сопотница-Задружни Дом: П1-668"]
["9.2.3",true,null,"4.22",422,null,null,null,null,null,null,null,null,"Горње Власе - Петронија Милошевића","Сопотница-Основна Школа: П1-2190"]
["9.3.1",true,null,"4.23",423,null,null,null,null,null,null,null,null,"Горње Власе - Милоша Обилића","Ћелије-Основна Школа: П1-1100"]
["9.3.2",true,null,"4.24",424,null,null,null,null,null,null,null,null,"Горње Власе - Насеље 29. Новембар","Ћелије-Црква Свете Тројице: П1-1380"]
["9.4.1",true,null,"4.25",425,null,null,null,null,null,null,null,null,"Горње Власе - 9. Мај"]
["9.4.2",true,null,"4.25.1",4251,null,null,null,null,null,null,null,null,"Горње Власе - Александра Великог"]
["9.5",true,null,"4.25.2",4252,null,null,null,null,null,null,null,null,"Горње Власе - Света Три Јерарха"]
["9.6",true,null,"4.26",426,null,null,null,null,null,null,null,null,"Горње Власе - Карађорђевића"]
["9.7",true,null,"5","5",null,null,null,null,null,null,null,null,"Горњи Барбеш - Некатегорисан пут"]
["9.8",true,null,"5.1",51,null,null,null,null,null,null,null,null,"Горњи Барбеш - Добросава Стојановића"]
["9.9.1.1",true,null,"5.2",52,null,null,null,null,null,null,null,null,"Горњи Барбеш - Браће Живковића"]
["9.9.1.2",true,null,"5.3",53,null,null,null,null,null,null,null,null,"Горњи Барбеш - Десете Бригаде"]
["9.9.1.3",true,null,"5.4",54,null,null,null,null,null,null,null,null,"Горњи Барбеш - Тодора Јованчића"]
["9.9.1.4",true,null,"5.4.1",541,null,null,null,null,null,null,null,null,"Горњи Барбеш - Тодора Јованчића прилаз"]
["9.9.1.5",true,null,"5.4.2",542,null,null,null,null,null,null,null,null,"Горњи Барбеш - Владимира Тасића"]
["9.9.1.6",true,null,"5.5",55,null,null,null,null,null,null,null,null,"Горњи Барбеш - Владимира Тасића прилаз"]
["9.9.1.7",true,null,"5.5.1",551,null,null,null,null,null,null,null,null,"Горњи Барбеш - Свете Петке"]
["9.9.2.1",true,null,"5.5.2",552,null,null,null,null,null,null,null,null,"Горњи Барбеш - Теслина"]
["9.9.2.2",true,null,"5.6",56,null,null,null,null,null,null,null,null,"Горњи Барбеш - Стефана Немање"]
["9.9.2.3",true,null,"5.6.1",561,null,null,null,null,null,null,null,null,"Горњи Барбеш - Браће Југовић"]
["9.9.2.4",true,null,"5.6.2",562,null,null,null,null,null,null,null,null,"Горњи Барбеш - Црквиште"]
["9.9.2.5",true,null,"5.6.3",563,null,null,null,null,null,null,null,null,"Горњи Душник - Некатегорисан пут"]
["9.9.2.6",true,null,"5.6.4",564,null,null,null,null,null,null,null,null,"Горњи Душник - Милоша Обилића"]
["9.9.2.7",true,null,"5.6.5",565,null,null,null,null,null,null,null,null,"Горњи Душник - 7. Јули"]
["9.9.2.8",true,null,"5.7",57,null,null,null,null,null,null,null,null,"Горњи Душник - 4. Јули"]
["9.10",true,null,"5.7.1",571,null,null,null,null,null,null,null,null,"Горњи Душник - Николе Поповића"]
["9.11",true,null,"5.7.2",572,null,null,null,null,null,null,null,null,"Горњи Душник - Пролетерска"]
["9.12.1",true,null,"5.7.3",573,null,null,null,null,null,null,null,null,"Горњи Душник - 29. Новембар"]
["9.12.2",true,null,"5.7.4",574,null,null,null,null,null,null,null,null,"Горњи Душник - 1. Мај"]
["9.13",true,null,"5.7.5",575,null,null,null,null,null,null,null,null,"Горњи Душник - 22. Децембар"]
["9.14",true,null,"5.8",58,null,null,null,null,null,null,null,null,"Горњи Душник - Ударничка"]
["9.15",true,null,"6","6",null,null,null,null,null,null,null,null,"Горњи Душник - Светог Саве"]
["9.16",true,null,"6.1",61,null,null,null,null,null,null,null,null,"Гркиња - Некатегорисан пут"]
["9.17.1",true,null,"6.1.1",611,null,null,null,null,null,null,null,null,"Гркиња - Милоша Обилића"]
["9.17.2",true,null,"6.1.2",612,null,null,null,null,null,null,null,null,"Гркиња - Милентија Поповића"]
["9.18",true,null,"6.2",62,null,null,null,null,null,null,null,null,"Гркиња - Видена Ранђеловића"]
["9.19",true,null,"6.2.1",621,null,null,null,null,null,null,null,null,"Гркиња - Јована Митића"]
["9.20",true,null,"6.2.2",622,null,null,null,null,null,null,null,null,"Гркиња - Ђуре Станковића"]
["9.21",true,null,"6.3",63,null,null,null,null,null,null,null,null,"Гркиња - Мике Аласа"]
["9.22",true,null,"6.3.1",631,null,null,null,null,null,null,null,null,"Гркиња - Боре Стојановића"]
["9.23",true,null,"6.3.2",632,null,null,null,null,null,null,null,null,"Гркиња - Владимира Јанковића"]
["9.24",true,null,"6.3.3",633,null,null,null,null,null,null,null,null,"Гркиња - Омладинска"]
["9.25",true,null,"6.3.4",634,null,null,null,null,null,null,null,null,"Гркиња - Душка Радовића"]
["9.26",true,null,"6.3.5",635,null,null,null,null,null,null,null,null,"Гркиња - 8. Март"]
["9.27",true,null,"6.4",64,null,null,null,null,null,null,null,null,"Гркиња - 1. Маја"]
["9.28",true,null,"6.4.1",641,null,null,null,null,null,null,null,null,"Гркиња - Стеријина"]
["9.29",true,null,"6.4.2",642,null,null,null,null,null,null,null,null,"Гркиња - Краља Петра И"]
["9.30",true,null,"6.4.3",643,null,null,null,null,null,null,null,null,"Гркиња - Мајке Југовића"]
["9.31",true,null,"6.5",65,null,null,null,null,null,null,null,null,"Гркиња - Петроније Милошевића"]
["9.32",true,null,"6.5.1",651,null,null,null,null,null,null,null,null,"Гркиња - Викенд насеље Ибровица"]
["9.33",true,null,"6.5.2.",652,null,null,null,null,null,null,null,null,"Јагличје - Некатегорисан пут"]
["9.34",true,null,"6.6",66,null,null,null,null,null,null,null,null,"Јагличје - Борачка"]
["9.35",true,null,"6.6.1",661,null,null,null,null,null,null,null,null,"Јагличје - 4. Јули"]
["9.36",true,null,"6.6.2",662,null,null,null,null,null,null,null,null,"Јагличје - 7. Јули"]
["9.37",true,null,"6.6.3",663,null,null,null,null,null,null,null,null,"Јагличје - Први Мај"]
["9.38",true,null,"6.6.4",664,null,null,null,null,null,null,null,null,"Калетинац - Некатегорисан пут"]
["9.39",true,null,"6.6.5",665,null,null,null,null,null,null,null,null,"Калетинац - Браће Милојковић"]
["9.40",true,null,"6.7",67,null,null,null,null,null,null,null,null,"Калетинац - 29. Новембар"]
["9.41",true,null,"6.8",68,null,null,null,null,null,null,null,null,"Калетинац - 7. Јули"]
["9.42",true,null,"6.9",69,null,null,null,null,null,null,null,null,"Калетинац - Милоша Обилића"]
["9.43",true,null,"6.10",610,null,null,null,null,null,null,null,null,"Калетинац - Драгутина Матића"]
["9.44",true,null,"6.11",611,null,null,null,null,null,null,null,null,"Калетинац - Солунска"]
["9.45",true,null,"6.12",612,null,null,null,null,null,null,null,null,"Копривница - Некатегорисан пут"]
["9.46",true,null,"6.13",613,null,null,null,null,null,null,null,null,"Копривница - Милоша Обилића"]
["9.47",true,null,"6.13.1",6131,null,null,null,null,null,null,null,null,"Копривница - 7. Јули"]
["9.48",true,null,"6.13.2",6132,null,null,null,null,null,null,null,null,"Копривница - Кнеза Лазара"]
["9.49",true,null,"6.13.3",6133,null,null,null,null,null,null,null,null,"Копривница - Насеље Штрковица"]
["9.50",true,null,"6.13.4",6134,null,null,null,null,null,null,null,null,"Копривница - Николе Тесле"]
["9.51",true,null,"6.13.5",6135,null,null,null,null,null,null,null,null,"Копривница - Брдска"]
["9.52",true,null,"6.14",614,null,null,null,null,null,null,null,null,"Копривница - Засеок Конванлук"]
["9.53",true,null,"6.15",615,null,null,null,null,null,null,null,null,"Краставче - Некатегорисан пут"]
["9.54",true,null,"6.15.1",6151,null,null,null,null,null,null,null,null,"Краставче - Милоша Обилића"]
["9.55",true,null,"6.15.2",6152,null,null,null,null,null,null,null,null,"Краставче - Кнеза Лазара"]
["9.56",true,null,"6.15.3",6153,null,null,null,null,null,null,null,null,"Краставче - Светозара Марковића"]
["9.57",true,null,"6.15.4",6154,null,null,null,null,null,null,null,null,"Краставче - Милентија Поповића"]
["9.58",true,null,"6.15.5",6155,null,null,null,null,null,null,null,null,"Краставче - 29. Новембар"]
["9.59",true,null,"6.15.6","6156",null,null,null,null,null,null,null,null,"Краставче - Ђурђевданска"]
["9.60",true,null,"6.16",616,null,null,null,null,null,null,null,null,"Краставче - Зеленгора"]
["9.61",true,null,"6.16.1",6161,null,null,null,null,null,null,null,null,"Личје - Некатегорисан пут"]
["9.62",true,null,"6.16.2",6162,null,null,null,null,null,null,null,null,"Личје - 4. Јули"]
["9.63",true,null,"6.16.3",6163,null,null,null,null,null,null,null,null,"Личје - 29. Новембар"]
["9.64",true,null,"6.16.4",6164,null,null,null,null,null,null,null,null,"Личје - 1. Мај"]
["9.65",true,null,"6.16.5",6165,null,null,null,null,null,null,null,null,"Личје - Зеле Вељковића"]
["9.66",true,null,"6.16.6",6166,null,null,null,null,null,null,null,null,"Личје - Вељка Влаховића"]
["9.67",true,null,"6.17",617,null,null,null,null,null,null,null,null,"Личје - 7. Јули"]
["9.68",true,null,"6.17.1",6171,null,null,null,null,null,null,null,null,"Личје - Моша Пијаде"]
["9.69",true,null,"6.17.1.1",61711,null,null,null,null,null,null,null,null,"Личје - Милоша Обилића"]
["9.70",true,null,"6.17.1.2",61712,null,null,null,null,null,null,null,null,"Личје - Вука Караџића"]
["9.71",true,null,"6.17.1.3",61713,null,null,null,null,null,null,null,null,"Личје - Јована Матића"]
["9.72",true,null,"6.17.1.4",61714,null,null,null,null,null,null,null,null,"Личје - Бранка Миљковића"]
["9.73",true,null,"6.17.1.5",61715,null,null,null,null,null,null,null,null,"Личје - Светог Николе"]
["9.74",true,null,"6.17.1.6",61716,null,null,null,null,null,null,null,null,"Личје - Омладинска"]
["9.75",true,null,"6.17.1.7",61717,null,null,null,null,null,null,null,null,"Личје - 9. Мај"]
["9.76",true,null,"6.17.2",6172,null,null,null,null,null,null,null,null,"Мали Крчимир - Некатегорисан пут"]
["9.77",true,null,"6.17.2.1",61721,null,null,null,null,null,null,null,null,"Мали Крчимир - Милоша Обилића"]
["9.78",true,null,"6.17.2.2",61722,null,null,null,null,null,null,null,null,"Мали Крчимир - 29. Новембар"]
["9.79",true,null,"6.17.2.3",61723,null,null,null,null,null,null,null,null,"Мали Крчимир - Насеље Милентија Поповића"]
["9.80",true,null,"6.17.2.4",61724,null,null,null,null,null,null,null,null,"Мали Крчимир - Насеље Милентија Поповића прилаз"]
["9.81",true,null,"6.17.2.5",61725,null,null,null,null,null,null,null,null,"Мали Вртоп - Некатегорисан пут"]
["9.82",true,null,"6.17.2.6",61726,null,null,null,null,null,null,null,null,"Мали Вртоп - 1. Мај"]
["9.83",true,null,"7","7",null,null,null,null,null,null,null,null,"Мали Вртоп - Милоша Обилића"]
["9.84",true,null,"7.1",71,null,null,null,null,null,null,null,null,"Мали Вртоп - 7. Јули"]
["9.85",true,null,"7.2",72,null,null,null,null,null,null,null,null,"Мали Вртоп - Јордана Ристића"]
["9.86",true,null,"7.3",73,null,null,null,null,null,null,null,null,"Мали Вртоп - Александра Миленковића"]
["9.87",true,null,"7.4",74,null,null,null,null,null,null,null,null,"Мали Вртоп - 1300 каплара"]
["9.88",true,null,"7.5",75,null,null,null,null,null,null,null,null,"Мали Вртоп - Изворска"]
["9.89",true,null,"7.6",76,null,null,null,null,null,null,null,null,"Марина Кутина - Некатегорисан пут"]
["9.90",true,null,"7.6.1",761,null,null,null,null,null,null,null,null,"Марина Кутина - Жике Милојковића"]
["9.91",true,null,"7.6.2",762,null,null,null,null,null,null,null,null,"Марина Кутина - Јакова Станковића"]
["9.92",true,null,"7.6.3",763,null,null,null,null,null,null,null,null,"Марина Кутина - Благоја Мирковића"]
["9.93",true,null,"7.6.4",764,null,null,null,null,null,null,null,null,"Марина Кутина - Вељка Миљковића"]
["9.94",true,null,"7.6.5",765,null,null,null,null,null,null,null,null,"Марина Кутина - Илије Стаменковића"]
["9.95",true,null,"8","8",null,null,null,null,null,null,null,null,"Миљковац - Некатегорисан пут"]
["9.96",true,null,"8.1",81,null,null,null,null,null,null,null,null,"Миљковац - Милоша Обилића"]
["9.97",true,null,"8.2",82,null,null,null,null,null,null,null,null,"Миљковац - Бранка Миљковића  -  викенд насеље"]
["9.98",true,null,"8.3",83,null,null,null,null,null,null,null,null,"Миљковац - Немањина"]
["9.99",true,null,"8.3.1",831,null,null,null,null,null,null,null,null,"Миљковац - Светог Саве"]
["9.100",true,null,"8.3.2",832,null,null,null,null,null,null,null,null,"Миљковац - Омладинска"]
["15.2.",true,null,"8.4",84,null,null,null,null,null,null,null,null,"Ново Село - Некатегорисан пут"]
["15.2.1.",true,null,"8.4.1",841,null,null,null,null,null,null,null,null,"Ново Село - Симе Илића"]
["15.2.1.1.",true,null,"8.4.2",842,null,null,null,null,null,null,null,null,"Ново Село - Видена Костића"]
["15.2.1.2.",true,null,"8.5",85,null,null,null,null,null,null,null,null,"Ново Село - Омладинска"]
["15.2.1.3.",true,null,"8.5.1",851,null,null,null,null,null,null,null,null,"Ново Село - Светог Саве"]
["15.2.2.",true,null,"8.5.2",852,null,null,null,null,null,null,null,null,"Овсињинац - Некатегорисан пут"]
["15.2.2.1.",true,null,"8.6",86,null,null,null,null,null,null,null,null,"Овсињинац - Браће Ранђеловић"]
["15.2.2.2.",true,null,"8.6.1",861,null,null,null,null,null,null,null,null,"Овсињинац - Први Мај"]
["15.2.2.3.",true,null,"8.6.2",862,null,null,null,null,null,null,null,null,"Овсињинац - Милоша Обилића"]
["15.2.3.",true,null,"8.7",87,null,null,null,null,null,null,null,null,"Овсињинац - 4. Јули"]
["15.2.3.1.",true,null,"8.8",88,null,null,null,null,null,null,null,null,"Овсињинац - Моша Пијаде"]
["15.2.3.2.",true,null,"8.9",89,null,null,null,null,null,null,null,null,"Овсињинац - Жика Милојковић"]
["15.2.3.4.",true,null,"8.9.1",891,null,null,null,null,null,null,null,null,"Овсињинац - 7. Јули"]
["15.2.3.5.",true,null,"8.10",810,null,null,null,null,null,null,null,null,"Овсињинац - Николе Тесле"]
["15.2.3.6.",true,null,"8.11",811,null,null,null,null,null,null,null,null,"Равна Дубрава - Некатегорисан пут"]
["15.2.3.7.",true,null,"8.12",812,null,null,null,null,null,null,null,null,"Равна Дубрава - Светог Саве"]
["15.2.3.8.",true,null,"8.13",813,null,null,null,null,null,null,null,null,"Равна Дубрава - Милентија Поповића"]
["15.2.3.9.",true,null,"8.14",814,null,null,null,null,null,null,null,null,"Равна Дубрава - Вељка Влаховића"]
["15.2.3.10.",true,null,"8.14.1",8141,null,null,null,null,null,null,null,null,"Равна Дубрава - Карађорђева"]
["16",true,null,"8.14.2",8142,null,null,null,null,null,null,null,null,"Равна Дубрава - Јована Живковића"]
["16.1",true,null,"8.15",815,null,null,null,null,null,null,null,null,"Равна Дубрава - 1. Мај"]
["16.1.1",true,null,"8.15.1",8151,null,null,null,null,null,null,null,null,"Равна Дубрава - Браће Тасковића"]
["16.1.2",true,null,"8.15.2",8152,null,null,null,null,null,null,null,null,"Равна Дубрава - 7. Јули"]
["16.1.3",true,null,"8.16",816,null,null,null,null,null,null,null,null,"Семче - Некатегорисан пут"]
["16.1.4.1",true,null,"8.16.1",8161,null,null,null,null,null,null,null,null,"Семче - Милоша Обилића"]
["16.1.4.2",true,null,"8.16.2",8162,null,null,null,null,null,null,null,null,"Семче - Свете Шарковића"]
["16.1.4.3",true,null,"8.17",817,null,null,null,null,null,null,null,null,"Семче - Стевана Синђелића"]
["16.1.4.4",true,null,"8.17.1",8171,null,null,null,null,null,null,null,null,"Семче - Жике Милојковића"]
["16.1.5.1",true,null,"8.17.2",8172,null,null,null,null,null,null,null,null,"Семче - Владислава Цветановића"]
["16.1.5.2",true,null,"8.18 ",818,null,null,null,null,null,null,null,null,"Семче - Пане Ђукића"]
["16.1.5.3",true,null,"8.19",819,null,null,null,null,null,null,null,null,"Семче - 7. Јули"]
["16.1.5.4",true,null,"8.19.1",8191,null,null,null,null,null,null,null,null,"Семче - Милентија Поповића"]
["16.1.6.1",true,null,"8.19.2",8192,null,null,null,null,null,null,null,null,"Семче - Вука Караџића"]
["16.1.6.2",true,null,"8.20",820,null,null,null,null,null,null,null,null,"Семче - Браће Тасковића"]
["16.1.6.3",true,null,"8.21",821,null,null,null,null,null,null,null,null,"Семче - Јована Митића"]
["16.1.6.4",true,null,"8.22",822,null,null,null,null,null,null,null,null,"Семче - Зеле Вељковића"]
["16.1.7.1",true,null,"8.23",823,null,null,null,null,null,null,null,null,"Семче - Засеок \"Лука\""]
["16.1.7.2",true,null,"8.24",824,null,null,null,null,null,null,null,null,"Семче - Станковић Владислава"]
["16.1.7.3",true,null,"8.25",825,null,null,null,null,null,null,null,null,"Семче - Партизанска"]
["16.1.7.4",true,null,"8.26",826,null,null,null,null,null,null,null,null,"Сопотница - Некатегорисан пут"]
["16.1.7.5",true,null,"8.27",827,null,null,null,null,null,null,null,null,"Сопотница - Браће Стојиљковића"]
["16.1.8",true,null,"8.28",828,null,null,null,null,null,null,null,null,"Сопотница - 7. Јули"]
["16.1.9",true,null,"8.28.1",8281,null,null,null,null,null,null,null,null,"Сопотница - 4. Јули"]
["16.1.10",true,null,"8.28.2",8282,null,null,null,null,null,null,null,null,"Сопотница - Милоша Обилића  - викенд насеље"]
["16.1.11",true,null,"8.29",829,null,null,null,null,null,null,null,null,"Сопотница - Миленковић Др Слободан"]
["16.1.12",true,null,"8.30",830,null,null,null,null,null,null,null,null,"Сопотница - Здравковић Светислава Тисе"]
["16.1.13",true,null,"9","9",null,null,null,null,null,null,null,null,"Сопотница - Миленковић Димитрија Мите"]
["16.1.14",true,null,"9.1",91,null,null,null,null,null,null,null,null,"Сопотница - Саве и Лазара Гроздановића"]
["16.1.15",true,null,"9.1.1",911,null,null,null,null,null,null,null,null,"Сопотница - Симоновић Никодија"]
["16.1.16.1",true,null,"9.1.2",912,null,null,null,null,null,null,null,null,"Тасковићи - Некатегорисан пут"]
["16.1.16.2",true,null,"9.1.3",913,null,null,null,null,null,null,null,null,"Тасковићи - Браће Тасковића"]
["16.1.17.1",true,null,"9.1.4",914,null,null,null,null,null,null,null,null,"Тасковићи - Милоша Обилића"]
["16.1.17.2",true,null,"9.1.5",915,null,null,null,null,null,null,null,null,"Тасковићи - Вељка Влаховића"]
["16.1.18.1",true,null,"9.1.6",916,null,null,null,null,null,null,null,null,"Тасковићи - Моша Пијаде"]
["16.1.18.2",true,null,"9.1.7",917,null,null,null,null,null,null,null,null,"Тасковићи - 1. Мај"]
["16.1.19.1",true,null,"9.1.8",918,null,null,null,null,null,null,null,null,"Тасковићи - 7. Јули"]
["16.1.19.2",true,null,"9.1.9",919,null,null,null,null,null,null,null,null,"Тасковићи - Иве Лоле Рибара"]
["16.1.20.1",true,null,"9.1.10",9110,null,null,null,null,null,null,null,null,"Тасковићи - Николе Тесле"]
["16.1.20.2",true,null,"9.1.11",9111,null,null,null,null,null,null,null,null,"Тасковићи - Николе Тесле прилаз"]
["16.1.21.1",true,null,"9.1.12",9112,null,null,null,null,null,null,null,null,"Тасковићи - Вука Караџића"]
["16.1.21.2",true,null,"9.1.13",9113,null,null,null,null,null,null,null,null,"Тасковићи - 4. Јули"]
["16.1.22.1.1",true,null,"9.1.14",9114,null,null,null,null,null,null,null,null,"Тасковићи - Светог Николе"]
["16.1.22.1.2",true,null,"9.2",92,null,null,null,null,null,null,null,null,"Топоница - Некатегорисан пут"]
["16.1.22.2.1",true,null,"9.2.1",921,null,null,null,null,null,null,null,null,"Топоница - Милоша Обилића"]
["16.1.22.2.2",true,null,"9.2.2",922,null,null,null,null,null,null,null,null,"Топоница - Браће Тасковића"]
["16.1.22.3.1",true,null,"9.2.3",923,null,null,null,null,null,null,null,null,"Топоница - Зеле Вељковића"]
["16.1.22.3.2",true,null,"9.2.4",924,null,null,null,null,null,null,null,null,"Топоница - Николе Тесле"]
["16.1.23",true,null,"9.2.5",925,null,null,null,null,null,null,null,null,"Топоница - Пане Ђукић"]
["16.1.24.1",true,null,10,10,null,null,null,null,null,null,null,null,"Топоница - Вука Караџића"]
["16.1.24.2",true,null,"10.1",101,null,null,null,null,null,null,null,null,"Топоница - 7. Јули"]
["16.1.25.1",true,null,"10.2",102,null,null,null,null,null,null,null,null,"Топоница - Филиповић Добривоја ДОДЕ"]
["16.1.25.2",true,null,"10.3",103,null,null,null,null,null,null,null,null,"Топоница - 29. Новембар"]
["16.1.26.1",true,null,"10.4",104,null,null,null,null,null,null,null,null,"Топоница - Првомајска"]
["16.1.26.2",true,null,"10.5",105,null,null,null,null,null,null,null,null,"Топоница - Устаничка"]
["16.1.27.1",true,null,"10.6",106,null,null,null,null,null,null,null,null,"Велики Крчимир - Некатегорисан пут"]
["16.1.27.2",true,null,"10.7",107,null,null,null,null,null,null,null,null,"Велики Крчимир - Милоша Обилића"]
["16.1.28.1",true,null,"10.8",108,null,null,null,null,null,null,null,null,"Велики Крчимир - Браће Крстића"]
["16.1.28.2",true,null,"10.9",109,null,null,null,null,null,null,null,null,"Велики Крчимир - Светог Саве"]
["16.1.29.1",true,null,"10.10",1010,null,null,null,null,null,null,null,null,"Велики Крчимир - 7. Јули"]
["16.1.29.2",true,null,"10.11",1011,null,null,null,null,null,null,null,null,"Велики Крчимир - Раде Савић"]
["16.1.30.1",true,null,"11","11",null,null,null,null,null,null,null,null,"Велики Крчимир - Сувопланинска"]
["16.1.30.2",true,null,"11.1",111,null,null,null,null,null,null,null,null,"Велики Крчимир - Стојана Чавдара"]
["16.1.31",true,null,"11.2",112,null,null,null,null,null,null,null,null,"Велики Крчимир - Витка Раденковића"]
["16.1.32",true,null,"11.3",113,null,null,null,null,null,null,null,null,"Велики Крчимир - Свете Шарковића"]
["16.1.33.1",true,null,"11.4",114,null,null,null,null,null,null,null,null,"Велики Крчимир - Засеок махала Росуља"]
["16.1.33.2",true,null,"11.5",115,null,null,null,null,null,null,null,null,"Велики Крчимир - Засеок махала Росуља прилаз"]
["16.1.33.3",true,null,"11.6",116,null,null,null,null,null,null,null,null,"Велики Крчимир - 6. Децембар"]
["16.1.33.4",true,null,"11.7",117,null,null,null,null,null,null,null,null,"Велики Крчимир - 4. Јули"]
["16.1.33.5",true,null,"11.8",118,null,null,null,null,null,null,null,null,"Велики Крчимир - Махала Шајигарина бара"]
["16.1.33.6",true,null,"11.8.1",1181,null,null,null,null,null,null,null,null,"Велики Вртоп - Некатегорисан пут"]
["16.1.34",true,null,"11.8.2",1182,null,null,null,null,null,null,null,null,"Велики Вртоп - Милорада Златановића"]
["16.1.35.1",true,null,"11.9",119,null,null,null,null,null,null,null,null,"Велики Вртоп - Љубомира Јовановића"]
["16.1.35.2",true,null,"11.9.1",1191,null,null,null,null,null,null,null,null,"Велики Вртоп - Драже Стоиљковића"]
["16.1.35.3",true,null,"11.9.2",1192,null,null,null,null,null,null,null,null,"Велики Вртоп - Светомора Анђелковића"]
["16.1.35.4",true,null,"11.10",1110,null,null,null,null,null,null,null,null,"Велики Вртоп - Милоша Обилића"]
["16.1.35.5",true,null,"11.11",1111,null,null,null,null,null,null,null,null,"Велики Вртоп - Милоша Обилића прилаз"]
["16.1.35.6",true,null,"11.12",1112,null,null,null,null,null,null,null,null,"Велики Вртоп - Руска Гроздановића"]
["16.1.36.1",true,null,"11.13",1113,null,null,null,null,null,null,null,null,"Велики Вртоп - Патријарха Павла"]
["16.1.36.2",true,null,"11.14",1114,null,null,null,null,null,null,null,null,"Велики Вртоп - 1. Маја"]
["16.1.37",true,null,"11.15",1115,null,null,null,null,null,null,null,null,"Велики Вртоп - Хајдучка"]
["16.2",true,null,"11.16",1116,null,null,null,null,null,null,null,null,"Велики Вртоп - Николе Тесле"]
["16.2.1.1",true,null,"11.17",1117,null,null,null,null,null,null,null,null,"Велики Вртоп - Липа"]
["16.2.1.2",true,null,"11.18",1118,null,null,null,null,null,null,null,null,"Велики Вртоп - Мајке Југовића"]
["16.2.1.3",true,null,"11.19",1119,null,null,null,null,null,null,null,null,"Виландрица - Некатегорисан пут"]
["16.2.1.4",true,null,"11.20",1120,null,null,null,null,null,null,null,null,"Виландрица - Добривоја Китановића"]
["16.2.2.1",true,null,"11.21",1121,null,null,null,null,null,null,null,null,"Виландрица - Милоша Обилића"]
["16.2.2.2",true,null,"11.22",1122,null,null,null,null,null,null,null,null,"Ћелије - Некатегорисан пут"]
["16.2.2.3",true,null,"11.23",1123,null,null,null,null,null,null,null,null,"Ћелије - Милоша Обилића"]
["16.2.2.4",true,null,"11.24",1124,null,null,null,null,null,null,null,null,"Ћелије - Милоша Обилића прилаз"]
["16.2.3.1",true,null,"11.25",1125,null,null,null,null,null,null,null,null,"Ћелије - Лоле Рибара"]
["16.2.3.2",true,null,"11.26",1126,null,null,null,null,null,null,null,null,"Ћелије - Моша Пијаде"]
["16.2.3.3",true,null,"11.27",1127,null,null,null,null,null,null,null,null,"Ћелије - Балканска"]
["16.2.4.1",true,null,"11.28",1128,null,null,null,null,null,null,null,null,"Ћелије - Браће Тасковић"]
["16.2.4.2",true,null,"11.29",1129,null,null,null,null,null,null,null,null,"Чагровац - Некатегорисан пут"]
["16.2.4.3",true,null,"11.30",1130,null,null,null,null,null,null,null,null,"Чагровац - Ђокић Станомира"]
["16.2.4.4",true,null,"11.31",1131,null,null,null,null,null,null,null,null,"Чагровац - Милошевић Владимира"]
["16.2.4.5",true,null,"11.32",1132,null,null,null,null,null,null,null,null,"Чагровац - Ђокић Милорада"]
["16.2.5.1",true,null,"11.33",1133,null,null,null,null,null,null,null,null,"Чагровац - Милошевић Светислава"]
["16.2.5.2",true,null,"11.34",1134,null,null,null,null,null,null,null,null,"Чагровац - Богдановић Владимира"]
["16.2.5.3",true,null,"11.35",1135,null,null,null,null,null,null,null,null,"Чагровац - Златковић Јована"]
["16.2.6.1",true,null,"11.36",1136,null,null,null,null,null,null,null,null,"Чагровац - Светог Саве"]
["16.2.6.2",true,null,"11.37",1137,null,null,null,null,null,null,null,null,"Шебет - Некатегорисан пут"]
["16.2.6.3",true,null,"11.37.1",11371,null,null,null,null,null,null,null,null,"Шебет - Божидара Илића"]
["16.2.7.1",true,null,"11.37.2",11372,null,null,null,null,null,null,null,null,"Шебет - Ненада Живковића"]
["16.2.7.2",true,null,"11.38",1138,null,null,null,null,null,null,null,null,"Шебет - 1300 каплара"]
["16.2.7.3",true,null,"11.38.1",11381,null,null,null,null,null,null,null,null,"Шебет - Солунских Хероја"]
["16.2.8.1",true,null,"11.38.2",11382]
["16.2.8.2",true,null,"11.39",1139]
["16.2.8.3",true,null,"12","12"]
["16.2.9.1",true,null,"12.1",121]
["16.2.9.2",true,null,"12.2",122]
["16.2.9.3",true,null,"12.3",123]
["16.2.9.4",true,null,"12.4",124]
["16.2.9.5",true,null,"12.5",125]
["16.2.10.1",true,null,"12.6",126]
["16.2.10.2",true,null,"13","13"]
["16.2.10.3",true,null,"13.1",131]
["16.2.10.4",true,null,"13.1.1",1311]
["16.2.10.5",true,null,"13.1.2",1312]
["16.2.11.1",true,null,"13.2",132]
["16.2.11.2",true,null,"13.2.1",1321]
["16.2.11.3",true,null,"13.2.2",1322]
["16.2.11.4",true,null,"13.3",133]
["16.2.11.5",true,null,"13.3.1",1331]
["16.2.11.6",true,null,"13.3.2",1332]
["16.2.12.1",true,null,"13.4",134]
["16.2.12.2",true,null,"13.4.1",1341]
["16.2.12.3",true,null,"13.4.2",1342]
["16.2.12.4",true,null,"13.5",135]
["16.2.12.5",true,null,"13.5.1",1351]
["16.2.12.6",true,null,"13.5.2",1352]
["16.2.13.1",true,null,"13.6",136]
["16.2.13.2",true,null,"13.6.1",1361]
["16.2.13.3",true,null,"13.6.2",1362]
["16.2.13.4",true,null,"13.7",137]
["16.2.13.5",true,null,"13.8",138]
["16.2.13.6",true,null,"13.9",139]
["16.2.14",true,null,"13.10",1310]
["16.2.15.1",true,null,"13.11",1311]
["16.2.15.2",true,null,"13.11.1",13111]
["16.2.15.3",true,null,"13.11.2",13112]
["16.2.15.4",true,null,"13.12",1312]
["16.2.16.1",true,null,"13.13",1313]
["16.2.16.2",true,null,"14","14"]
["16.2.16.3",true,null,"14.1",141]
["16.2.16.4",true,null,"14.2",142]
["16.2.16.5",true,null,"14.3",143]
["16.2.16.6",true,null,"14.4",144]
["16.2.16.7",true,null,"14.5",145]
["16.2.17.1",true,null,"14.6",146]
["16.2.17.2",true,null,"14.7",147]
["16.2.17.3",true,null,"14.8",148]
["16.2.17.4",true,null,"14.9",149]
["16.2.17.5",true,null,"14.10",1410]
["16.2.17.6",true,null,"14.11",1411]
["16.2.17.7",true,null,"14.12",1412]
["16.2.18.1",true,null,15,15]
["16.2.18.2",true,null,"15.1",151]
["16.2.18.3",true,null,"15.1.1",1511]
["16.2.18.4",true,null,"15.2",152]
["16.2.18.5",true,null,"15.2.1",1521]
["16.2.18.6",true,null,"15.2.2",1522]
["16.2.18.7",true,null,"15.3",153]
["16.2.19",true,null,"15.3.1",1531]
["16.2.20",true,null,"16","16"]
["16.2.21.1",true,null,"16.1",161]
["16.2.21.2",true,null,"16.2",162]
["16.2.22.1",true,null,"16.3",163]
["16.2.22.2",true,null,"16.4",164]
["16.2.23",true,null,"16.5",165]
["16.2.24",true,null,"16.6",166]
["16.2.25.1",true,null,"16.7",167]
["16.2.25.2",true,null,"16.8",168]
["16.2.25.3",true,null,"16.9",169]
["16.2.25.4",true,null,"16.10",1610]
["16.2.25.5",true,null,"16.11",1611]
["16.2.26",true,null,"16.12",1612]
["16.2.27",true,null,"16.13",1613]
["16.2.28.1",true,null,"16.14",1614]
["16.2.28.2",true,null,"16.15",1615]
["16.2.28.3",true,null,"16.16",1616]
["16.2.28.4",true,null,"16.17",1617]
["16.2.28.5",true,null,"16.18",1618]
["16.2.29.1",true,null,"16.19",1619]
["16.2.29.2",true,null,"16.20",1620]
["16.2.29.3",true,null,"16.21",1621]
["16.2.29.4",true,null,"16.22",1622]
["16.2.29.5",true,null,"16.23",1623]
["16.2.29.6",true,null,"16.24",1624]
["16.2.30.1",true,null,"16.25",1625]
["16.2.30.2",true,null,"16.26",1626]
["16.2.30.3",true,null,"16.27",1627]
["16.2.30.4",true,null,"16.28",1628]
["16.2.30.5",true,null,"16.29",1629]
["16.2.30.6",true,null,"16.30",1630]
["16.2.31.1",true,null,"16.31",1631]
["16.2.31.2",true,null,"16.32",1632]
["16.2.32.1",true,null,"16.33",1633]
["16.2.32.2",true,null,"16.34",1634]
["16.2.32.3",true,null,"16.35",1635]
["16.2.32.4",true,null,"16.36",1636]
["16.2.33.1",true,null,"16.37",1637]
["16.2.33.2",true,null,"16.38",1638]
["16.2.33.3",true,null,"16.39",1639]
["16.2.34.1",true,null,"16.40",1640]
["16.2.34.2",true,null,"16.41",1641]
["16.2.34.3",true,null,"16.42",1642]
["16.2.35.1",true,null,"16.43",1643]
["16.2.35.2",true,null,"16.44",1644]
["16.2.35.3",true,null,"16.45",1645]
["16.2.36.1",true,null,"16.46",1646]
["16.2.36.2",true,null,"16.47",1647]
["16.2.36.3",true,null,"16.48",1648]
["16.2.37.1",true,null,"16.49",1649]
["16.2.37.2",true,null,"16.50",1650]
["16.2.37.3",true,null,"16.51",1651]
["16.2.38",true,null,"16.52",1652]
["16.2.39",true,null,"16.53",1653]
["16.2.40",true,null,"16.54",1654]
["16.2.41.1",true,null,"16.55",1655]
["16.2.41.2",true,null,"16.56",1656]
["16.2.41.3",true,null,"16.57",1657]
["16.2.41.4",true,null,"16.58",1658]
["16.2.41.5",true,null,"16.59",1659]
["16.2.41.6",true,null,"16.60",1660]
["16.2.42.1",true,null,"16.61",1661]
["16.2.42.2",true,null,"16.62",1662]
["16.2.42.3",true,null,"16.63",1663]
["16.2.42.4",true,null,"16.64",1664]
["16.2.42.5",true,null,"16.65",1665]
["16.2.42.6",true,null,"16.66",1666]
["16.2.42.7",true,null,"16.67",1667]
["16.2.42.8",true,null,"16.68",1668]
["16.2.43.1.1",true,null,"16.69",1669]
["16.2.43.1.2",true,null,"16.70",1670]
["16.2.43.2.1",true,null,"16.71",1671]
["16.2.43.2.2",true,null,"16.72",1672]
["16.2.44",true,null,"16.73",1673]
["16.2.44.1",true,null,"16.74",1674]
["16.2.45",true,null,"16.75",1675]
["16.2.46.1",true,null,"16.76",1676]
["16.2.46.2",true,null,"16.77",1677]
["16.2.47",true,null,"16.78",1678]
["16.2.48",true,null,"16.79",1679]
["16.3",true,null,"16.80",1680]
["16.3.1.1",true,null,"16.81",1681]
["16.3.1.2",true,null,"16.82",1682]
["16.3.1.3",true,null,"16.83",1683]
["16.3.1.4",true,null,"16.84",1684]
["16.3.1.5",true,null,"16.85",1685]
["16.3.1.6",true,null,"16.86",1686]
["16.3.2",true,null,"16.87",1687]
["16.3.3",true,null,"16.88",1688]
["16.3.4.1",true,null,"16.89",1689]
["16.3.4.2",true,null,"16.90",1690]
["16.3.5.1",true,null,"16.91",1691]
["16.3.5.2",true,null,"16.92",1692]
["16.3.5.3",true,null,"16.93",1693]
["16.3.6.1",true,null,"16.94",1694]
["16.3.6.2",true,null,"16.95",1695]
["16.3.6.3",true,null,"16.96",1696]
["16.3.7.1",true,null,"16.97",1697]
["16.3.7.2",true,null,"16.98",1698]
["16.3.8",true,null,"16.99",1699]
["16.3.9.1",true,null,"16.100",16100]
["16.3.9.2",true,null,"16.101",16101]
["16.3.10",true,null,"16.102",16102]
["16.3.11.1",true,null,"16.103",16103]
["16.3.11.2",true,null,"16.104",16104]
["16.3.11.3",true,null,"16.105",16105]
["16.3.11.4",true,null,"16.106",16106]
["16.3.12.1",true,null,"16.107",16107]
["16.3.12.2",true,null,"16.108",16108]
["16.3.13.1",true,null,"16.109",16109]
["16.3.13.2",true,null,"16.110",16110]
["16.3.14.1",true,null,"16.111",16111]
["16.3.14.2",true,null,"16.112",16112]
["16.3.15.1",true,null,"16.113",16113]
["16.3.15.2",true,null,"16.114",16114]
["16.3.16.1",true,null,"16.115",16115]
["16.3.16.2",true,null,"16.116",16116]
["16.4",true,null,"16.117",16117]
["16.4.1.1",true,null,"16.118",16118]
["16.4.1.2",true,null,"16.119",16119]
["16.4.2.1",true,null,"16.120",16120]
["16.4.2.2",true,null,"16.121",16121]
["16.4.3.1",true,null,"16.122",16122]
["16.4.3.2",true,null,"16.123",16123]
["16.4.4.1",true,null,"16.124",16124]
["16.4.4.2",true,null,"16.125",16125]
["16.4.5.1",true,null,"16.126",16126]
["16.4.5.2",true,null,"16.127",16127]
["16.4.6",true,null,"16.128",16128]
["16.4.7.1",true,null,"16.129",16129]
["16.4.7.2",true,null,"16.130",16130]
["16.4.8.1",true,null,"16.131",16131]
["16.4.8.2",true,null,"16.132",16132]
["16.4.9.1",true,null,"16.133",16133]
["16.4.9.2",true,null,"16.134",16134]
["16.4.9.3",true,null,"16.135",16135]
["16.4.9.4",true,null,"16.136",16136]
["16.4.10",true,null,"16.137",16137]
["16.4.11",true,null,"16.138",16138]
["16.5",true,null,"16.139",16139]
["16.5.1.1",true,null,"16.140",16140]
["16.5.1.2",true,null,"16.141",16141]
["16.5.1.3",true,null,"16.142",16142]
["16.5.1.4",true,null,"16.143",16143]
["16.5.1.5",true,null,"16.144",16144]
["16.5.1.6",true,null,"16.145",16145]
["16.5.1.7",true,null,"16.146",16146]
["16.5.1.8",true,null,"16.147",16147]
["16.5.2.1",true,null,"16.148",16148]
["16.5.2.2",true,null,"16.149",16149]
["16.5.2.3",true,null,"16.150",16150]
["16.5.2.4",true,null,"16.151",16151]
["16.5.2.5",true,null,"16.152",16152]
["16.5.2.6",true,null,"16.153",16153]
["16.5.2.7",true,null,"16.154",16154]
["16.6",true,null,"16.155",16155]
["16.6.1.1",true,null,"16.156",16156]
["16.6.1.2",true,null,"16.157",16157]
["16.6.1.3",true,null,"16.158",16158]
["16.6.2.1",true,null,"16.159",16159]
["16.6.2.2",true,null,"16.160",16160]
["16.6.2.3",true,null,"16.161",16161]
["16.6.3.1",true,null,"16.162",16162]
["16.6.3.2",true,null,"16.163",16163]
["16.6.4.1",true,null,"16.164",16164]
["16.6.4.2",true,null,"16.165",16165]
["16.6.5",true,null,"16.166",16166]
["16.6.6",true,null,"16.167",16167]
["16.6.7",true,null,"16.168",16168]
["16.6.8",true,null,"16.169",16169]
["16.6.9.1",true,null,"16.170",16170]
["16.6.9.2",true,null,"16.171",16171]
["16.6.9.3",true,null,"16.172",16172]
["16.6.9.4",true,null,"16.173",16173]
["16.6.9.5",true,null,"16.174",16174]
["16.6.9.6",true,null,"16.175",16175]
["16.6.9.7",true,null,"16.176",16176]
["16.6.9.8",true,null,"16.177",16177]
["16.6.10.1",true,null,"16.178",16178]
["16.6.10.2",true,null,"16.179",16179]
["16.6.11",true,null,"16.180",16180]
["16.6.12.1",true,null,"16.181",16181]
["16.6.12.2",true,null,"16.182",16182]
["16.6.13",true,null,"16.183",16183]
["16.6.14",true,null,"16.184",16184]
["18.2",true,null,"16.185",16185]
["18.2.1",true,null,"16.186",16186]
["18.2.2",true,null,"16.187",16187]
["18.2.3",true,null,"16.188",16188]
["18.2.4",true,null,"16.189",16189]
["18.2.5",true,null,"16.190",16190]
["18.2.6",true,null,"16.191",16191]
["18.2.7",true,null,"16.192",16192]
["18.2.8",true,null,"16.193",16193]
["18.2.9",true,null,"16.194",16194]
["18.2.10",true,null,"16.195",16195]
["18.2.11",true,null,"16.196",16196]
["18.2.12",true,null,"16.197",16197]
["18.2.13",true,null,"16.198",16198]
["18.2.14",true,null,"16.199",16199]
["18.2.15",true,null,"16.200",16200]
["18.2.16",true,null,"16.201",16201]
["18.2.17",true,null,"16.202",16202]
["18.2.18",true,null,"16.203",16203]
["18.2.19",true,null,"16.204",16204]
["18.2.20",true,null,"16.205",16205]
["18.2.21",true,null,"16.206",16206]
["18.2.22",true,null,"16.207",16207]
["18.2.23",true,null,"16.208",16208]
["18.2.24",true,null,"16.209",16209]
["18.2.25",true,null,"16.210",16210]
["18.2.26",true,null,"16.211",16211]
["18.2.27",true,null,"16.212",16212]
["18.2.28",true,null,"16.213",16213]
["18.2.29",true,null,"16.214",16214]
["18.2.30",true,null,"16.215",16215]
["18.2.31",true,null,"16.216",16216]
["18.2.32",true,null,"16.217",16217]
["18.2.33",true,null,"16.218",16218]
["18.2.34",true,null,"16.219",16219]
["18.2.35",true,null,"16.220",16220]
["18.2.36",true,null,"16.221",16221]
["18.2.37",true,null,"16.222",16222]
["18.2.38",true,null,"16.223",16223]
["18.2.39",true,null,"16.224",16224]
["18.2.40",true,null,"16.225",16225]
["18.2.41",true,null,"16.226",16226]
["18.2.42",true,null,"16.227",16227]
["18.2.43",true,null,"16.228",16228]
["18.2.44",true,null,"16.229",16229]
["18.2.45",true,null,"16.230",16230]
["18.2.46",true,null,"16.231",16231]
["18.2.47",true,null,"16.232",16232]
["18.2.48",true,null,"16.233",16233]
["18.2.49",true,null,"16.234",16234]
["18.2.50",true,null,"16.235",16235]
["18.2.51",true,null,"16.236",16236]
["18.2.52",true,null,"16.237",16237]
["18.2.53",true,null,"16.238",16238]
["18.2.54",true,null,"16.239",16239]
["18.2.55",true,null,"16.240",16240]
["18.2.56",true,null,"16.241",16241]
["18.2.57",true,null,"16.242",16242]
["18.2.58",true,null,"16.243",16243]
["18.2.59",true,null,"16.244",16244]
["18.2.60",true,null,"16.245",16245]
["18.2.61",true,null,"16.246",16246]
["18.2.62",true,null,"16.247",16247]
["18.2.63",true,null,"16.248",16248]
["18.2.64",true,null,"16.249",16249]
["18.2.65",true,null,"16.250",16250]
["18.2.66",true,null,"16.251",16251]
["18.2.67",true,null,"16.252",16252]
["18.2.68",true,null,"16.253",16253]
["18.2.69",true,null,"16.254",16254]
["18.2.70",true,null,"16.255",16255]
["18.2.71",true,null,"16.256",16256]
["18.2.72",true,null,"16.257",16257]
["18.2.73",true,null,"16.258",16258]
["18.2.74",true,null,"16.259",16259]
["18.2.75",true,null,"16.260",16260]
["18.2.76",true,null,"16.261",16261]
["18.2.77",true,null,"16.262",16262]
["18.2.78",true,null,"16.263",16263]
["18.2.79",true,null,"16.264",16264]
["18.2.80",true,null,"16.265",16265]
["18.2.81",true,null,"16.266",16266]
["18.2.82",true,null,"16.267",16267]
["18.2.83",true,null,"16.268",16268]
["18.2.84",true,null,"16.269",16269]
["18.2.85",true,null,"16.270",16270]
["18.2.86",true,null,"16.271",16271]
["18.2.87",true,null,"16.272",16272]
["18.2.88",true,null,"16.273",16273]
["18.2.89",true,null,"16.274",16274]
["18.2.90",true,null,"16.275",16275]
["18.2.91",true,null,"16.276",16276]
["18.2.92",true,null,"16.277",16277]
["18.2.93",true,null,"16.278",16278]
["18.2.94",true,null,"16.279",16279]
["18.2.95",true,null,"16.280",16280]
["18.2.96",true,null,"16.281",16281]
["18.2.97",true,null,"16.282",16282]
["18.2.98",true,null,"16.283",16283]
["18.2.99",true,null,"16.284",16284]
["18.2.100",true,null,"16.285",16285]
["18.2.101",true,null,"16.286",16286]
["18.2.102",true,null,"16.287",16287]
["18.2.103",true,null,"16.288",16288]
["18.2.104",true,null,"16.289",16289]
["18.2.105",true,null,"16.290",16290]
["18.2.106",true,null,"16.291",16291]
["18.2.107",true,null,"16.292",16292]
["18.2.108",true,null,"16.293",16293]
["18.2.109",true,null,"16.294",16294]
["18.2.110",true,null,"16.295",16295]
["18.2.111",true,null,"16.296",16296]
["18.2.112",true,null,"16.297",16297]
["18.2.113",true,null,"16.298",16298]
["18.2.114",true,null,"16.299",16299]
["18.2.115",true,null,"16.300",16300]
["18.2.116",true,null,"16.301",16301]
["18.2.117",true,null,"16.302",16302]
["18.2.118",true,null,"16.303",16303]
["18.2.119",true,null,"16.304",16304]
["18.2.120",true,null,"16.305",16305]
["18.2.121",true,null,"16.306",16306]
["18.2.122",true,null,"16.307",16307]
["18.2.123",true,null,"16.308",16308]
["18.2.124",true,null,"16.309",16309]
["18.2.125",true,null,"16.310",16310]
["18.2.126",true,null,"16.311",16311]
["18.2.127",true,null,"16.312",16312]
["18.2.128",true,null,"16.313",16313]
["18.2.129",true,null,"16.314",16314]
["18.2.130",true,null,"16.315",16315]
["18.2.131",true,null,"16.316",16316]
["18.2.132",true,null,"16.317",16317]
["18.2.133",true,null,"16.318",16318]
["18.2.134",true,null,"16.319",16319]
["18.2.135",true,null,"16.320",16320]
["18.2.136",true,null,"16.321",16321]
["18.2.137",true,null,"16.322",16322]
["18.2.138",true,null,"16.323",16323]
["18.2.139",true,null,"16.324",16324]
["18.2.140",true,null,"16.325",16325]
["18.2.141",true,null,"16.326",16326]
["18.2.142",true,null,"16.327",16327]
["18.2.143",true,null,"16.328",16328]
["18.2.144",true,null,"16.329",16329]
["18.2.145",true,null,"16.330",16330]
["18.2.146",true,null,"16.331",16331]
["18.2.147",true,null,"16.332",16332]
["18.2.148",true,null,"16.333",16333]
["18.2.149",true,null,"16.334",16334]
["18.2.150",true,null,"16.335",16335]
["18.2.151",true,null,"16.336",16336]
["18.2.152",true,null,"16.337",16337]
["18.2.153",true,null,"16.338",16338]
["18.2.154",true,null,"16.339",16339]
["18.2.155",true,null,"16.340",16340]
["18.2.156",true,null,"16.341",16341]
["18.2.157",true,null,"16.342",16342]
["18.2.158",true,null,"16.343",16343]
["18.2.159",true,null,"16.344",16344]
["18.2.160",true,null,"16.345",16345]
["18.2.161",true,null,"16.346",16346]
["18.2.162",true,null,"16.347",16347]
["18.2.163",true,null,"16.348",16348]
["18.2.164",true,null,"16.349",16349]
["18.2.165",true,null,"16.350",16350]
["18.2.166",true,null,"16.351",16351]
["18.2.167",true,null,"16.352",16352]
["18.2.168",true,null,"16.353",16353]
["18.2.169",true,null,"16.354",16354]
["18.2.170",true,null,"16.355",16355]
["18.2.171",true,null,"16.356",16356]
["18.2.172",true,null,"16.357",16357]
["18.2.173",true,null,"16.358",16358]
["18.2.174",true,null,"16.359",16359]
["18.2.175",true,null,"16.360",16360]
["18.2.176",true,null,"16.361",16361]
["18.2.177",true,null,"16.362",16362]
["18.2.178",true,null,"16.363",16363]
["18.2.179",true,null,"16.364",16364]
["18.2.180",true,null,"16.365",16365]
["18.2.181",true,null,"16.366",16366]
["18.2.182",true,null,"16.367",16367]
["18.2.183",true,null,"16.368",16368]
["18.2.184",true,null,"16.369",16369]
["18.2.185",true,null,"16.370",16370]
["18.2.186",true,null,"16.371",16371]
["18.2.187",true,null,"16.372",16372]
["18.2.188",true,null,"16.373",16373]
["18.2.189",true,null,"16.374",16374]
["18.2.190",true,null,"16.375",16375]
["18.2.191",true,null,"16.376",16376]
["18.2.192",true,null,"16.377",16377]
["18.2.193",true,null,"16.378",16378]
["18.2.194",true,null,"16.379",16379]
["18.2.195",true,null,"16.380",16380]
["18.2.196",true,null,"16.381",16381]
["18.2.197",true,null,"16.382",16382]
["18.2.198",true,null,"16.383",16383]
["18.2.199",true,null,"16.384",16384]
["18.2.200",true,null,"16.385",16385]
["18.2.201",true,null,"16.386",16386]
["18.2.202",true,null,"16.387",16387]
["18.2.203",true,null,"16.388",16388]
["18.2.204",true,null,"16.389",16389]
["18.2.205",true,null,"16.390",16390]
["18.2.206",true,null,"16.391",16391]
["18.2.207",true,null,"16.392",16392]
["18.2.208",true,null,"16.393",16393]
["18.2.209",true,null,"16.394",16394]
["18.2.210",true,null,"16.395",16395]
["18.2.211",true,null,"16.396",16396]
["18.2.212",true,null,"16.397",16397]
["18.2.213",true,null,"16.398",16398]
["18.2.214",true,null,"16.399",16399]
["18.2.215",true,null,"16.400",16400]
["18.2.216",true,null,"16.401",16401]
["18.2.217",true,null,"16.402",16402]
["18.2.218",true,null,"16.403",16403]
["18.2.219",true,null,"16.404",16404]
["18.2.220",true,null,"16.405",16405]
["18.2.221",true,null,"16.406",16406]
["18.2.222",true,null,"16.407",16407]
["18.2.223",true,null,"16.408",16408]
["18.2.224",true,null,"16.409",16409]
["18.2.225",true,null,"16.410",16410]
["18.2.226",true,null,"16.411",16411]
["18.2.227",true,null,"16.412",16412]
["18.2.228",true,null,"16.413",16413]
["18.2.229",true,null,"16.414",16414]
["18.2.230",true,null,"16.415",16415]
["18.2.231",true,null,"16.416",16416]
["18.2.232",true,null,"16.417",16417]
["18.2.233",true,null,"16.418",16418]
["18.2.234",true,null,"16.419",16419]
["18.2.235",true,null,"16.420",16420]
["18.2.236",true,null,"16.421",16421]
["18.2.237",true,null,"16.422",16422]
["18.2.238",true,null,"16.423",16423]
["18.2.239",true,null,"16.424",16424]
["18.2.240",true,null,"16.425",16425]
["18.2.241",true,null,"16.426",16426]
["18.2.242",true,null,"16.427",16427]
["18.2.243",true,null,"16.428",16428]
["18.2.244",true,null,"16.429",16429]
["18.2.245",true,null,"16.430",16430]
["18.2.246",true,null,"16.431",16431]
["18.2.247",true,null,"16.432",16432]
["18.2.248",true,null,"16.433",16433]
["18.2.249",true,null,"16.434",16434]
["18.2.250",true,null,"16.435",16435]
["18.2.251",true,null,"16.436",16436]
["18.2.252",true,null,"16.437",16437]
["18.2.253",true,null,"16.438",16438]
["18.2.254",true,null,"16.439",16439]
["18.2.255",true,null,"16.440",16440]
["18.2.256",true,null,"16.441",16441]
["18.2.257",true,null,"16.442",16442]
["18.2.258",true,null,"16.443",16443]
["18.2.259",true,null,"16.444",16444]
["18.2.260",true,null,"16.445",16445]
["18.2.261",true,null,"16.446",16446]
["18.2.262",true,null,"16.447",16447]
["18.2.263",true,null,"16.448",16448]
["18.2.264",true,null,"16.449",16449]
["18.2.265",true,null,"16.450",16450]
["18.2.266",true,null,"16.451",16451]
["18.2.267",true,null,"16.452",16452]
["18.2.268",true,null,"16.453",16453]
["18.2.269",true,null,"16.454",16454]
["18.2.270",true,null,"16.455",16455]
["18.2.271",true,null,"16.456",16456]
["18.2.272",true,null,"16.457",16457]
["18.2.273",true,null,"16.458",16458]
["18.2.274",true,null,"16.459",16459]
["18.2.275",true,null,"16.460",16460]
["18.2.276",true,null,"16.461",16461]
["18.2.277",true,null,"16.462",16462]
["18.2.278",true,null,"16.463",16463]
["18.2.279",true,null,"16.464",16464]
["18.2.280",true,null,"16.465",16465]
["18.2.281",true,null,"16.466",16466]
["18.2.282",true,null,"16.467",16467]
["18.2.283",true,null,"16.468",16468]
["18.2.284",true,null,"16.469",16469]
["18.2.285",true,null,"16.470",16470]
["18.2.286",true,null,"16.471",16471]
["18.2.287",true,null,"16.472",16472]
["18.2.288",true,null,"16.473",16473]
["18.2.289",true,null,"16.474",16474]
["18.2.290",true,null,"16.475",16475]
["18.2.291",true,null,"16.476",16476]
["18.2.292",true,null,"16.477",16477]
["18.2.293",true,null,"16.478",16478]
["18.2.294",true,null,"16.479",16479]
["18.2.295",true,null,"16.480",16480]
["18.2.296",true,null,"16.481",16481]
["18.2.297",true,null,"16.482",16482]
["18.2.298",true,null,"16.483",16483]
["18.2.299",true,null,"16.484",16484]
["18.2.300",true,null,"16.485",16485]
["20.7.1.1",true,null,"16.486",16486]
["20.7.1.2",true,null,"16.487",16487]
["20.7.1.3",true,null,"16.488",16488]
["20.7.1.4",true,null,"16.489",16489]
["20.7.2.1",true,null,"16.490",16490]
["20.7.2.2",true,null,"16.491",16491]
["20.7.2.3",true,null,"16.492",16492]
["20.7.2.4",true,null,"16.493",16493]
["20.7.3",true,null,"16.494",16494]
["20.7.4",true,null,"16.495",16495]
["20.7.5",true,null,"16.496",16496]
["20.7.6",true,null,"16.497",16497]
["20.7.7.1",true,null,"16.498",16498]
["20.7.7.2",true,null,"16.499",16499]
["20.7.8.1",true,null,"16.500",16500]
["20.7.8.2",true,null,"16.501",16501]
["20.7.9.1",true,null,"16.502",16502]
["20.7.9.2",true,null,"16.503",16503]
["20.7.10.1",true,null,"16.504",16504]
["20.7.10.2",true,null,"16.505",16505]
["20.7.11.1",true,null,"16.506",16506]
["20.7.11.2",true,null,"16.507",16507]
["20.7.12.1",true,null,"16.508",16508]
["20.7.12.2",true,null,"16.509",16509]
["20.7.13.1",true,null,"16.510",16510]
["20.7.13.2",true,null,"16.511",16511]
["20.7.14.1",true,null,"16.512",16512]
["20.7.14.2",true,null,"16.513",16513]
["20.7.15.1",true,null,"16.514",16514]
["20.7.15.2",true,null,"16.515",16515]
["20.7.16.1",true,null,"16.516",16516]
["20.7.16.2",true,null,"16.517",16517]
["20.7.17.1",true,null,"16.518",16518]
["20.7.17.2",true,null,"16.519",16519]
["20.7.18.1",true,null,"16.520",16520]
["20.7.18.2",true,null,"16.521",16521]
["20.7.19.1",true,null,"16.522",16522]
["20.7.19.2",true,null,"16.523",16523]
["20.7.20.1",true,null,"16.524",16524]
["20.7.20.2",true,null,"16.525",16525]
["20.7.21.1",true,null,"16.526",16526]
["20.7.21.2",true,null,"16.527",16527]
["20.7.22.1",true,null,"16.528",16528]
["20.7.22.2",true,null,"16.529",16529]
["20.7.23",true,null,"16.530",16530]
["20.7.24",true,null,"16.531",16531]
["20.7.25",true,null,"16.532",16532]
["20.7.26",true,null,"16.533",16533]
["20.7.27",true,null,"16.534",16534]
["20.7.28",true,null,"16.535",16535]
["20.7.29",true,null,"16.536",16536]
["20.7.30",true,null,"16.537",16537]
["20.7.31",true,null,"16.538",16538]
["20.7.32",true,null,"16.539",16539]
["20.7.33",true,null,"16.540",16540]
["20.7.34",true,null,"16.541",16541]
["20.7.35",true,null,"16.542",16542]
["20.7.36",true,null,"16.543",16543]
["20.8",true,null,"16.544",16544]
["20.8.1.1",true,null,"16.545",16545]
["20.8.1.2",true,null,"16.546",16546]
["20.8.1.3",true,null,"16.547",16547]
["20.8.2.1",true,null,"16.548",16548]
["20.8.2.2",true,null,"16.549",16549]
["20.8.2.3",true,null,"16.550",16550]
["20.8.3.1",true,null,"16.551",16551]
["20.8.3.2",true,null,"16.552",16552]
["20.8.4.1",true,null,"16.553",16553]
["20.8.4.2",true,null,"16.554",16554]
["20.8.5",true,null,"16.555",16555]
["20.8.6",true,null,"16.556",16556]
["20.8.7",true,null,"16.557",16557]
["20.8.8",true,null,"16.558",16558]
["20.8.9.1",true,null,"16.559",16559]
["20.8.9.2",true,null,"16.560",16560]
["20.8.9.3",true,null,"16.561",16561]
["20.8.9.4",true,null,"16.562",16562]
["20.8.9.5",true,null,"16.563",16563]
["20.8.9.6",true,null,"16.564",16564]
["20.8.9.7",true,null,"16.565",16565]
["20.8.10.1",true,null,"16.566",16566]
["20.8.10.2",true,null,"16.567",16567]
["20.8.10.3",true,null,"16.568",16568]
["20.8.10.4",true,null,"16.569",16569]
["20.8.10.5",true,null,"16.570",16570]
["20.8.10.6",true,null,"16.571",16571]
["20.8.10.7",true,null,"16.572",16572]
["20.8.10.8",true,null,"16.573",16573]
["20.8.11.1",true,null,"16.574",16574]
["20.8.11.2",true,null,"16.575",16575]
["20.8.12",true,null,"16.576",16576]
["20.8.13",true,null,"16.577",16577]
["20.8.14",true,null,"16.578",16578]
["20.8.15",true,null,"16.579",16579]
["20.8.16.1",true,null,"16.580",16580]
["20.8.16.2",true,null,"16.581",16581]
["20.8.17",true,null,"16.582",16582]
["20.8.18",true,null,"16.583",16583]
["20.8.19",true,null,"16.584",16584]
["20.8.20",true,null,"16.585",16585]
["20.8.21",true,null,"16.586",16586]
["20.8.22",true,null,"16.587",16587]
["20.8.23",true,null,"16.588",16588]
["20.8.24",true,null,"16.589",16589]
["20.8.25.1",true,null,"16.590",16590]
["20.8.25.2",true,null,"16.591",16591]
["20.8.25.3",true,null,"16.592",16592]
["20.8.25.4",true,null,"16.593",16593]
["20.8.26.1",true,null,"16.594",16594]
["20.8.26.2",true,null,"16.595",16595]
["20.8.26.3",true,null,"16.596",16596]
["20.8.27",true,null,"16.597",16597]
["20.8.28",true,null,"16.598",16598]
["20.8.29",true,null,"16.599",16599]
["20.8.30",true,null,"16.600",16600]
["20.8.31",true,null,"16.601",16601]
["20.8.32",true,null,"16.602",16602]
[null,null,null,"16.603",16603]
[null,null,null,"16.604",16604]
[null,null,null,"16.605",16605]
[null,null,null,"16.606",16606]
[null,null,null,"16.607",16607]
[null,null,null,"16.608",16608]
[null,null,null,"16.609",16609]
[null,null,null,"16.610",16610]
[null,null,null,"16.611",16611]
[null,null,null,"16.612",16612]
[null,null,null,"16.613",16613]
[null,null,null,"16.614",16614]
[null,null,null,"16.615",16615]
[null,null,null,"16.616",16616]
[null,null,null,"16.617",16617]
[null,null,null,"16.618",16618]
[null,null,null,"16.619",16619]
[null,null,null,"16.620",16620]
[null,null,null,"16.621",16621]
[null,null,null,"16.622",16622]
[null,null,null,"16.623",16623]
[null,null,null,"16.624",16624]
[null,null,null,"16.625",16625]
[null,null,null,"16.626",16626]
[null,null,null,"16.627",16627]
[null,null,null,"16.628",16628]
[null,null,null,"16.629",16629]
[null,null,null,"16.630",16630]
[null,null,null,"16.631",16631]
[null,null,null,"16.632",16632]
[null,null,null,"16.633",16633]
[null,null,null,"16.634",16634]
[null,null,null,"16.635",16635]
[null,null,null,"16.636",16636]
[null,null,null,"16.637",16637]
[null,null,null,"16.638",16638]
[null,null,null,"16.639",16639]
[null,null,null,"16.640",16640]
[null,null,null,"16.641",16641]
[null,null,null,"16.642",16642]
[null,null,null,"16.643",16643]
[null,null,null,"16.644",16644]
[null,null,null,"16.645",16645]
[null,null,null,"16.646",16646]
[null,null,null,"16.647",16647]
[null,null,null,"16.648",16648]
[null,null,null,"16.649",16649]
[null,null,null,"16.650",16650]
[null,null,null,"16.651",16651]
[null,null,null,"16.652",16652]
[null,null,null,"16.653",16653]
[null,null,null,"16.654",16654]
[null,null,null,"16.655",16655]
[null,null,null,"16.656",16656]
[null,null,null,"16.657",16657]
[null,null,null,"16.658",16658]
[null,null,null,"16.659",16659]
[null,null,null,"16.660",16660]
[null,null,null,"16.661",16661]
[null,null,null,"16.662",16662]
[null,null,null,"16.663",16663]
[null,null,null,"16.664",16664]
[null,null,null,"16.665",16665]
[null,null,null,"16.666",16666]
[null,null,null,"16.667",16667]
[null,null,null,"16.668",16668]
[null,null,null,"16.669",16669]
[null,null,null,"16.670",16670]
[null,null,null,"16.671",16671]
[null,null,null,"16.672",16672]
[null,null,null,"16.673",16673]
[null,null,null,"16.674",16674]
[null,null,null,"16.675",16675]
[null,null,null,"16.676",16676]
[null,null,null,"16.677",16677]
[null,null,null,"16.678",16678]
[null,null,null,"16.679",16679]
[null,null,null,"16.680",16680]
[null,null,null,"16.681",16681]
[null,null,null,"16.682",16682]
[null,null,null,"16.683",16683]
[null,null,null,"16.684",16684]
[null,null,null,"16.685",16685]
[null,null,null,"16.686",16686]
[null,null,null,"16.687",16687]
[null,null,null,"16.688",16688]
[null,null,null,"16.689",16689]
[null,null,null,"16.690",16690]
[null,null,null,"16.691",16691]
[null,null,null,"16.692",16692]
[null,null,null,"16.693",16693]
[null,null,null,"16.694",16694]
[null,null,null,"16.695",16695]
[null,null,null,"16.696",16696]
[null,null,null,"16.697",16697]
[null,null,null,"16.698",16698]
[null,null,null,"16.699",16699]
[null,null,null,"16.700",16700]
[null,null,null,"16.701",16701]
[null,null,null,"16.702",16702]
[null,null,null,"16.703",16703]
[null,null,null,"16.704",16704]
[null,null,null,"16.705",16705]
[null,null,null,"16.706",16706]
[null,null,null,"16.707",16707]
[null,null,null,"16.708",16708]
[null,null,null,"16.709",16709]
[null,null,null,"16.710",16710]
[null,null,null,"16.711",16711]
[null,null,null,"16.712",16712]
[null,null,null,"16.713",16713]
[null,null,null,"16.714",16714]
[null,null,null,"16.715",16715]
[null,null,null,"16.716",16716]
[null,null,null,"16.717",16717]
[null,null,null,"16.718",16718]
[null,null,null,"16.719",16719]
[null,null,null,"16.720",16720]
[null,null,null,"16.721",16721]
[null,null,null,"16.722",16722]
[null,null,null,"16.723",16723]
[null,null,null,"16.724",16724]
[null,null,null,"16.725",16725]
[null,null,null,"16.726",16726]
[null,null,null,"16.727",16727]
[null,null,null,"16.728",16728]
[null,null,null,"16.729",16729]
[null,null,null,"16.730",16730]
[null,null,null,"16.731",16731]
[null,null,null,"16.732",16732]
[null,null,null,"16.733",16733]
[null,null,null,"16.734",16734]
[null,null,null,"16.735",16735]
[null,null,null,"16.736",16736]
[null,null,null,"16.737",16737]
[null,null,null,"16.738",16738]
[null,null,null,"16.739",16739]
[null,null,null,"16.740",16740]
[null,null,null,"16.741",16741]
[null,null,null,"16.742",16742]
[null,null,null,"16.743",16743]
[null,null,null,"16.744",16744]
[null,null,null,"16.745",16745]
[null,null,null,"16.746",16746]
[null,null,null,"16.747",16747]
[null,null,null,"16.748",16748]
[null,null,null,"16.749",16749]
[null,null,null,"16.750",16750]
[null,null,null,"16.751",16751]
[null,null,null,"16.752",16752]
[null,null,null,"16.753",16753]
[null,null,null,"16.754",16754]
[null,null,null,"16.755",16755]
[null,null,null,"16.756",16756]
[null,null,null,"16.757",16757]
[null,null,null,"16.758",16758]
[null,null,null,"16.759",16759]
[null,null,null,"16.760",16760]
[null,null,null,"16.761",16761]
[null,null,null,"16.762",16762]
[null,null,null,"16.763",16763]
[null,null,null,"16.764",16764]
[null,null,null,"16.765",16765]
[null,null,null,"16.766",16766]
[null,null,null,"16.767",16767]
[null,null,null,"16.768",16768]
[null,null,null,"16.769",16769]
[null,null,null,"16.770",16770]
[null,null,null,"16.771",16771]
[null,null,null,"16.772",16772]
[null,null,null,"16.773",16773]
[null,null,null,"16.774",16774]
[null,null,null,"16.775",16775]
[null,null,null,"16.776",16776]
[null,null,null,"16.777",16777]
[null,null,null,"16.778",16778]
[null,null,null,"16.779",16779]
[null,null,null,"16.780",16780]
[null,null,null,"16.781",16781]
[null,null,null,"16.782",16782]
[null,null,null,"16.783",16783]
[null,null,null,"16.784",16784]
[null,null,null,"16.785",16785]
[null,null,null,"16.786",16786]
[null,null,null,"16.787",16787]
[null,null,null,"16.788",16788]
[null,null,null,"16.789",16789]
[null,null,null,"16.790",16790]
[null,null,null,"16.791",16791]
[null,null,null,"16.792",16792]
[null,null,null,"16.793",16793]
[null,null,null,"16.794",16794]
[null,null,null,"16.795",16795]
[null,null,null,"16.796",16796]
[null,null,null,"16.797",16797]
[null,null,null,"16.798",16798]
[null,null,null,"16.799",16799]
[null,null,null,"16.800",16800]
[null,null,null,"16.801",16801]
[null,null,null,"16.802",16802]
[null,null,null,"16.803",16803]
[null,null,null,"16.804",16804]
[null,null,null,"16.805",16805]
[null,null,null,"16.806",16806]
[null,null,null,"16.807",16807]
[null,null,null,"16.808",16808]
[null,null,null,"16.809",16809]
[null,null,null,"16.810",16810]
[null,null,null,"16.811",16811]
[null,null,null,"16.812",16812]
[null,null,null,"16.813",16813]
[null,null,null,"16.814",16814]
[null,null,null,"16.815",16815]
[null,null,null,"16.816",16816]
[null,null,null,"16.817",16817]
[null,null,null,"16.818",16818]
[null,null,null,"16.819",16819]
[null,null,null,"16.820",16820]
[null,null,null,"16.821",16821]
[null,null,null,"16.822",16822]
[null,null,null,"16.823",16823]
[null,null,null,"16.824",16824]
[null,null,null,"16.825",16825]
[null,null,null,"16.826",16826]
[null,null,null,"16.827",16827]
[null,null,null,"16.828",16828]
[null,null,null,"16.829",16829]
[null,null,null,"16.830",16830]
[null,null,null,"16.831",16831]
[null,null,null,"16.832",16832]
[null,null,null,"16.833",16833]
[null,null,null,"16.834",16834]
[null,null,null,"16.835",16835]
[null,null,null,"16.836",16836]
[null,null,null,"16.837",16837]
[null,null,null,"16.838",16838]
[null,null,null,"16.839",16839]
[null,null,null,"16.840",16840]
[null,null,null,"16.841",16841]
[null,null,null,"16.842",16842]
[null,null,null,"16.843",16843]
[null,null,null,"16.844",16844]
[null,null,null,"16.845",16845]
[null,null,null,"16.846",16846]
[null,null,null,"16.847",16847]
[null,null,null,"16.848",16848]
[null,null,null,"16.849",16849]
[null,null,null,"16.850",16850]
[null,null,null,"16.851",16851]
[null,null,null,"16.852",16852]
[null,null,null,"16.853",16853]
[null,null,null,"16.854",16854]
[null,null,null,"16.855",16855]
[null,null,null,"16.856",16856]
[null,null,null,"16.857",16857]
[null,null,null,"16.858",16858]
[null,null,null,"16.859",16859]
[null,null,null,"16.860",16860]
[null,null,null,"16.861",16861]
[null,null,null,"16.862",16862]
[null,null,null,"16.863",16863]
[null,null,null,"16.864",16864]
[null,null,null,"16.865",16865]
[null,null,null,"16.866",16866]
[null,null,null,"16.867",16867]
[null,null,null,"16.868",16868]
[null,null,null,"16.869",16869]
[null,null,null,"16.870",16870]
[null,null,null,"16.871",16871]
[null,null,null,"16.872",16872]
[null,null,null,"16.873",16873]
[null,null,null,"16.874",16874]
[null,null,null,"16.875",16875]
[null,null,null,"16.876",16876]
[null,null,null,"16.877",16877]
[null,null,null,"16.878",16878]
[null,null,null,"16.879",16879]
[null,null,null,"16.880",16880]
[null,null,null,"16.881",16881]
[null,null,null,"16.882",16882]
[null,null,null,"16.883",16883]
[null,null,null,"16.884",16884]
[null,null,null,"16.885",16885]
[null,null,null,"16.886",16886]
[null,null,null,"16.887",16887]
[null,null,null,"16.888",16888]
[null,null,null,"16.889",16889]
[null,null,null,"16.890",16890]
[null,null,null,"16.891",16891]
[null,null,null,"16.892",16892]
[null,null,null,"16.893",16893]
[null,null,null,"16.894",16894]
[null,null,null,"16.895",16895]
[null,null,null,"16.896",16896]
[null,null,null,"16.897",16897]
[null,null,null,"16.898",16898]
[null,null,null,"16.899",16899]
[null,null,null,"16.900",16900]
[null,null,null,"16.901",16901]
[null,null,null,"16.902",16902]
[null,null,null,"16.903",16903]
[null,null,null,"16.904",16904]
[null,null,null,"16.905",16905]
[null,null,null,"16.906",16906]
[null,null,null,"16.907",16907]
[null,null,null,"16.908",16908]
[null,null,null,"16.909",16909]
[null,null,null,"16.910",16910]
[null,null,null,"16.911",16911]
[null,null,null,"16.912",16912]
[null,null,null,"16.913",16913]
[null,null,null,"16.914",16914]
[null,null,null,"16.915",16915]
[null,null,null,"16.916",16916]
[null,null,null,"16.917",16917]
[null,null,null,"16.918",16918]
[null,null,null,"16.919",16919]
[null,null,null,"16.920",16920]
[null,null,null,"16.921",16921]
[null,null,null,"16.922",16922]
[null,null,null,"16.923",16923]
[null,null,null,"16.924",16924]
[null,null,null,"16.925",16925]
[null,null,null,"16.926",16926]
[null,null,null,"16.927",16927]
[null,null,null,"16.928",16928]
[null,null,null,"16.929",16929]
[null,null,null,"16.930",16930]
[null,null,null,"16.931",16931]
[null,null,null,"16.932",16932]
[null,null,null,"16.933",16933]
[null,null,null,"16.934",16934]
[null,null,null,"16.935",16935]
[null,null,null,"16.936",16936]
[null,null,null,"16.937",16937]
[null,null,null,"16.938",16938]
[null,null,null,"16.939",16939]
[null,null,null,"16.940",16940]
[null,null,null,"16.941",16941]
[null,null,null,"16.942",16942]
[null,null,null,"16.943",16943]
[null,null,null,"16.944",16944]
[null,null,null,"16.945",16945]
[null,null,null,"16.946",16946]
[null,null,null,"16.947",16947]
[null,null,null,"16.948",16948]
[null,null,null,"16.949",16949]
[null,null,null,"16.950",16950]
[null,null,null,"16.951",16951]
[null,null,null,"16.952",16952]
[null,null,null,"16.953",16953]
[null,null,null,"16.954",16954]
[null,null,null,"16.955",16955]
[null,null,null,"16.956",16956]
[null,null,null,"16.957",16957]
[null,null,null,"16.958",16958]
[null,null,null,"16.959",16959]
[null,null,null,"16.960",16960]
[null,null,null,"16.961",16961]
[null,null,null,"16.962",16962]
[null,null,null,"16.963",16963]
[null,null,null,"16.964",16964]
[null,null,null,"16.965",16965]
[null,null,null,"16.966",16966]
[null,null,null,"16.967",16967]
[null,null,null,"16.968",16968]
[null,null,null,"16.969",16969]
[null,null,null,"16.970",16970]
[null,null,null,"16.971",16971]
[null,null,null,"16.972",16972]
[null,null,null,"16.973",16973]
[null,null,null,"16.974",16974]
[null,null,null,"16.975",16975]
[null,null,null,"16.976",16976]
[null,null,null,"16.977",16977]
[null,null,null,"16.978",16978]
[null,null,null,"16.979",16979]
[null,null,null,"16.980",16980]
[null,null,null,"16.981",16981]
[null,null,null,"16.982",16982]
[null,null,null,"16.983",16983]
[null,null,null,"16.984",16984]
[null,null,null,"16.985",16985]
[null,null,null,"16.986",16986]
[null,null,null,"16.987",16987]
[null,null,null,"16.988",16988]
[null,null,null,"16.989",16989]
[null,null,null,"16.990",16990]
[null,null,null,"16.991",16991]
[null,null,null,"16.992",16992]
[null,null,null,"16.993",16993]
[null,null,null,"16.994",16994]
[null,null,null,"16.995",16995]
[null,null,null,"16.996",16996]
[null,null,null,"16.997",16997]
[null,null,null,"16.998",16998]
[null,null,null,"16.999",16999]
[null,null,null,"16.1000",161000]

{"sheet":"UPUTSTVO","index":6,"n_rows":16,"n_cols":2,"rows_kept":16,"cut":false,"hidden":false,"merged":[]}
[]
[null,"Месечни план се попуњава у листу PLAN unos i pregled"]
[]
[null,"Неопходно је попунити колоне Година, План за месец, Објекти, Локација Радова и Број позиције из ценовника одабиром из падајуће листе или директним укуцавањем жељене ставке. Количину уносимо уносом броја. Ћелије у којима је омогућено попуњавање су беле боје."]
[null,"Рачуне попуњавамо у листовима Radovi po RACUNU попуњавањем описа рачуна,  јединице мере и цене. Након тога у листу PLAN unos i pregled можемо одабрати попуњени рачун одабиром његове позиције (нпр. 16.10) раврноправно са сваком другом позицијом из цевника."]
[]
[null,"Након попуњавања целог плана исти шаљемо Надзорним органима. Одобрење плана се врши одабиром Да или Не у колони Одобрење радова."]
[null,"Прилоком уноса могуће је користити функције copy/paste тако да није неопходно поново уносити податке који се понављају (није могуће применити на ред/колону већ само на ћелију или групу суседних ћелија)"]
[]
[null,"Преглед месечног плана могуће је вршити преко листова PLAN Rekapitulacija и PLAN unos i pregled."]
[null,"У листовима  PLAN Rekapitulacija  преглед се врши одабиром месеца и године за коју желимо да видимо план. Затим бирамо да ли желимо да погледамо радове који су одабрани или оне који су одбијени из падајуће листе. Применом филтера за штампу и одабиром Штампа приказујемо само редове са позицијама које имају неку количину."]
[null,"У листу PLAN unos i pregled постоје филтери за сваку колону и могуће је применом истог веома брзо доћи до жељеног податка. (нпр. Где се врши кресање грана? Одаберемо позицију за кресање грана у филтеру и прочитамо локацију)."]
[]
[null,"Укупна количина радова по позицији се приказује једино када је филтером одабрана само једна позиција."]
[]
[null,"У листу Cenovnik у сваком тренутку је могуће погледати ценовник радова JП Дирекција Гаџин Хан. \nОмогућена је и претрага истог преко команде Ctrl+F, треба обратити пажњу приликом претраге да је неопходно користити ћирилицу."]